{"text_format":"1","workbook":"xlsx","n_sheets":16,"sheets":["Data","Copy Results","Evaluation","Graph 20 to 52s","Sustained Graph","Bias Graph","Form 1 Summary Data","Instructions","Adj Graph JOU","Adj Graph NCL","Adj Graph PmpHyd","Adj Graph Spare","Adj Graph MWper0.1Hz","Adj Graph ContingentBA","BA LoadDampening","BA BiasSetting"],"not_rendered":{"charts":12,"images":0,"macros":1,"external_links":0,"defined_names":0,"comments":2,"pivot_tables":0},"unopened":[],"bounds":{"document_bytes":16777216,"sheet_cells":100000,"rows_first":2000,"rows_last":500,"rows_between":2000,"halvings":0,"cell_chars":16384,"cell_head_chars":4096},"cells_cut":0,"cells_raw":0,"read":"whole","date_system":"1900"}

{"sheet":"Data","index":0,"n_rows":1806,"n_cols":18,"rows_kept":1806,"cut":false,"hidden":false,"merged":[]}
[null,null,null,"JOU","Non-",null,null,"Transferred","Contingent",null,null,null,"Event Detection","Recovery Target Freq:","Max Absolute Delta Hz","Lowest Delta Hz","Highest Delta Hz","Rows of data to shift to align T(0)"]
[null,null,"Net","Dynamic","Conforming","Pumped","Not","Frequency","BA","BA","BA",null,"Row",{"$f":"IF(Evaluation!G6<0,MIN(Evaluation!G4,60),MAX(Evaluation!G4,60))","v":60},{"$f":"MAX(ABS(P7:P1643))","v":0.12599945068359375},{"$f":"MIN($P6:$P1806)","v":-0.12599945068359375},{"$f":"MAX($P6:$P1806)","v":3.3000946044921875E-2},{"$f":"'Graph 20 to 52s'!Q3","v":1}]
[null,null,"Actual","Schedules","Load","Hydro","Used","Response","Lost Generation","Bias","Load",null,{"$f":"IF('Copy Results'!E4=\"Auto\",MATCH(O$2,Q$7:Q$1806,0)+6-R2,'Copy Results'!E5)","v":306},{"$f":"INDEX(A:A,M3)","v":40098.102384259262},"t(0)"]
[null,null,"Interchange","Imp(-) Exp (+)","Load (-)","Load (-) Gen (+)",null,"Rec (-) Del (+)","Load (-) Gen (+)","Setting",null,null,{"$f":"IF('Copy Results'!$E$4=\"Auto\",MATCH(1,N7:N1806,0)+6,'Copy Results'!$E$6)","v":473},{"$f":"INDEX(A:A,M4)","v":40098.106249999997},"t(Recovery)","Delta","Absolute"]
["Time (T)","Hz","MW","MW","MW","MW",null,"MW/0.1 Hz","MW","MW/0.1 Hz","MW",null,{"$f":"MATCH(O$2,Q$7:Q$1806,0)+6","v":307},{"$f":"N4-N3","v":"00:05:34"},"Event Length mm:ss","Hz","Delta Hz"]
["2009-10-12T02:17:26",60.006999969482422,3679.946044921875,350,-331.85296630859375,0,81.5,10,15,-103,7553.79,null,null,0]
["2009-10-12T02:17:28",60.008998870849609,3679.43994140625,350,-331.85296630859375,0,82,10,15,-103,7554.12,null,{"$f":"IF(ROW()<$M$5,0,1)","v":0},{"$f":"IF((M7=1)*(B7>$N$2),1,0)","v":0},{"$f":"IF(ROW()<$M$3,0,1)","v":0},{"$f":"B7-B6","v":1.9989013671875E-3},{"$f":"ABS(P7)","v":1.9989013671875E-3}]
["2009-10-12T02:17:30",60.008998870849609,3679.911865234375,350,-331.85296630859375,0,82.5,10,15,-103,7554.45,null,{"$f":"IF(ROW()<$M$5,0,1)","v":0},{"$f":"IF((M8=1)*(B8>$N$2),1,0)","v":0},0,{"$f":"B8-B7","v":0},{"$f":"ABS(P8)","v":0}]
["2009-10-12T02:17:32",60.006000518798828,3679.5166015625,350,-331.85296630859375,0,83,10,15,-103,7554.78,null,0,0,0,-2.99835205078125E-3,2.99835205078125E-3]
["2009-10-12T02:17:34",60.006000518798828,3679.887939453125,350,-331.85296630859375,0,83.5,10,15,-103,7555.11,null,0,0,0,0,0,{"$f":"IF(Q10>(AVERAGE(Q6:Q9)+0.003),1,\" \")","v":" "}]
["2009-10-12T02:17:36",60.008998870849609,3679.608154296875,350,-329.98822021484375,0,84,10,15,-103,7555.44,null,0,0,0,2.99835205078125E-3,2.99835205078125E-3,{"$f":"IF(Q11>(AVERAGE(Q7:Q10)+R$2),1,\" \")","v":" "}]
["2009-10-12T02:17:38",60.008998870849609,3679.0595703125,350,-329.98822021484375,0,84.5,10,15,-103,7555.77,null,0,0,0,0,0," "]
["2009-10-12T02:17:40",60.007999420166016,3679.2607421875,350,-329.98822021484375,0,85,10,15,-103,7556.1,null,0,0,0,-9.9945068359375E-4,9.9945068359375E-4," "]
["2009-10-12T02:17:42",60.008998870849609,3679.1640625,350,-329.98822021484375,0,85.5,10,15,-103,7556.43,null,0,0,0,9.9945068359375E-4,9.9945068359375E-4," "]
["2009-10-12T02:17:44",60.008998870849609,3679.024658203125,350,-329.98822021484375,0,86,10,15,-103,7556.76,null,0,0,0,0,0," "]
["2009-10-12T02:17:46",60.005001068115234,3679.152099609375,350,-255.44416809082031,0,86.5,10,15,-103,7557.09,null,0,0,0,-3.997802734375E-3,3.997802734375E-3," "]
["2009-10-12T02:17:48",60.004001617431641,3678.572265625,350,-255.44416809082031,0,87,10,15,-103,7557.42,null,0,0,0,-9.9945068359375E-4,9.9945068359375E-4," "]
["2009-10-12T02:17:50",60.000999450683594,3678.295166015625,350,-255.44416809082031,0,87.5,10,15,-103,7557.75,null,0,0,0,-3.002166748046875E-3,3.002166748046875E-3," "]
["2009-10-12T02:17:52",59.999000549316406,3678.248779296875,350,-255.44416809082031,0,88,10,15,-103,7558.08,null,0,0,0,-1.9989013671875E-3,1.9989013671875E-3," "]
["2009-10-12T02:17:54",59.993000030517578,3678.23583984375,350,-255.44416809082031,0,88.5,10,15,-103,7558.41,null,0,0,0,-6.000518798828125E-3,6.000518798828125E-3," "]
["2009-10-12T02:17:56",59.991001129150391,3677.82958984375,350,-254.83830261230469,0,89,10,15,-103,7558.74,null,0,0,0,-1.9989013671875E-3,1.9989013671875E-3," "]
["2009-10-12T02:17:58",59.993999481201172,3677.954833984375,350,-254.83830261230469,0,89.5,10,15,-103,7559.07,null,0,0,0,2.99835205078125E-3,2.99835205078125E-3," "]
["2009-10-12T02:18:00",59.992000579833984,3677.772216796875,350,-254.83830261230469,0,90,10,15,-103,7559.4,null,0,0,0,-1.9989013671875E-3,1.9989013671875E-3," "]
["2009-10-12T02:18:02",59.993999481201172,3676.665771484375,350,-254.83830261230469,0,90.5,10,15,-103,7559.73,null,0,0,0,1.9989013671875E-3,1.9989013671875E-3," "]
["2009-10-12T02:18:04",59.992000579833984,3677.09326171875,350,-254.83830261230469,0,91,10,15,-103,7560.06,null,0,0,0,-1.9989013671875E-3,1.9989013671875E-3," "]
["2009-10-12T02:18:06",59.993999481201172,3677.140625,350,-257.14697265625,0,91.5,10,15,-103,7560.39,null,0,0,0,1.9989013671875E-3,1.9989013671875E-3," "]
["2009-10-12T02:18:08",59.994998931884766,3676.400634765625,350,-257.14697265625,0,92,10,15,-103,7560.72,null,0,0,0,9.9945068359375E-4,9.9945068359375E-4," "]
["2009-10-12T02:18:10",59.993000030517578,3678.515625,350,-257.14697265625,0,92.5,10,15,-103,7561.05,null,0,0,0,-1.9989013671875E-3,1.9989013671875E-3," "]
["2009-10-12T02:18:12",59.990001678466797,3679.8720703125,350,-257.14697265625,0,93,10,15,-103,7561.38,null,0,0,0,-2.99835205078125E-3,2.99835205078125E-3," "]
["2009-10-12T02:18:14",59.990001678466797,3680.196533203125,350,-257.14697265625,0,93.5,10,15,-103,7561.71,null,0,0,0,0,0," "]
["2009-10-12T02:18:16",59.98699951171875,3678.7431640625,350,-262.28936767578125,0,94,10,15,-103,7562.04,null,0,0,0,-3.002166748046875E-3,3.002166748046875E-3," "]
["2009-10-12T02:18:18",59.983001708984375,3678.427978515625,350,-262.28936767578125,0,94.5,10,15,-103,7562.37,null,0,0,0,-3.997802734375E-3,3.997802734375E-3," "]
["2009-10-12T02:18:20",59.977001190185547,3677.921142578125,350,-262.28936767578125,0,95,10,15,-103,7562.7,null,0,0,0,-6.000518798828125E-3,6.000518798828125E-3," "]
["2009-10-12T02:18:22",59.977001190185547,3680.253662109375,350,-262.28936767578125,0,95.5,10,15,-103,7563.03,null,0,0,0,0,0," "]
["2009-10-12T02:18:24",59.988998413085937,3682.070068359375,350,-262.28936767578125,0,96,10,15,-103,7563.36,null,0,0,0,1.1997222900390625E-2,1.1997222900390625E-2," "]
["2009-10-12T02:18:26",59.994998931884766,3681.329345703125,350,-256.64794921875,0,96.5,10,15,-103,7563.69,null,0,0,0,6.000518798828125E-3,6.000518798828125E-3," "]
["2009-10-12T02:18:28",59.999000549316406,3678.655517578125,350,-256.64794921875,0,97,10,15,-103,7564.02,null,0,0,0,4.001617431640625E-3,4.001617431640625E-3," "]
["2009-10-12T02:18:30",59.993999481201172,3678.07666015625,350,-256.64794921875,0,97.5,10,15,-103,7564.35,null,0,0,0,-5.001068115234375E-3,5.001068115234375E-3," "]
["2009-10-12T02:18:32",59.988998413085937,3677.780029296875,350,-256.64794921875,0,98,10,15,-103,7564.68,null,0,0,0,-5.001068115234375E-3,5.001068115234375E-3," "]
["2009-10-12T02:18:34",59.98699951171875,3678.4267578125,350,-256.64794921875,0,98.5,10,15,-103,7565.01,null,0,0,0,-1.9989013671875E-3,1.9989013671875E-3," "]
["2009-10-12T02:18:36",59.986000061035156,3678.47314453125,350,-256.3072509765625,0,99,10,15,-103,7565.34,null,0,0,0,-9.9945068359375E-4,9.9945068359375E-4," "]
["2009-10-12T02:18:38",59.984001159667969,3678.27783203125,350,-256.3072509765625,0,99.5,10,15,-103,7565.67,null,0,0,0,-1.9989013671875E-3,1.9989013671875E-3," "]
["2009-10-12T02:18:40",59.983001708984375,3677.822265625,350,-256.3072509765625,0,100,10,15,-103,7566,null,0,0,0,-9.9945068359375E-4,9.9945068359375E-4," "]
["2009-10-12T02:18:42",59.985000610351563,3676.614990234375,350,-256.3072509765625,0,100.5,10,15,-103,7566.33,null,0,0,0,1.9989013671875E-3,1.9989013671875E-3," "]
["2009-10-12T02:18:44",59.986000061035156,3677.3974609375,350,-256.3072509765625,0,101,10,15,-103,7566.66,null,0,0,0,9.9945068359375E-4,9.9945068359375E-4," "]
["2009-10-12T02:18:46",59.985000610351563,3677.9169921875,350,-249.08639526367187,0,101.5,10,15,-103,7566.99,null,0,0,0,-9.9945068359375E-4,9.9945068359375E-4," "]
["2009-10-12T02:18:48",59.986000061035156,3677.94970703125,350,-249.08639526367187,0,102,10,15,-103,7567.32,null,0,0,0,9.9945068359375E-4,9.9945068359375E-4," "]
["2009-10-12T02:18:50",59.979999542236328,3678.61669921875,350,-249.08639526367187,0,102.5,10,15,-103,7567.65,null,0,0,0,-6.000518798828125E-3,6.000518798828125E-3," "]
["2009-10-12T02:18:52",59.980998992919922,3678.962646484375,350,-249.08639526367187,0,103,10,15,-103,7567.98,null,0,0,0,9.9945068359375E-4,9.9945068359375E-4," "]
["2009-10-12T02:18:54",59.980998992919922,3681.252197265625,350,-249.08639526367187,0,103.5,10,15,-103,7568.31,null,0,0,0,0,0," "]
["2009-10-12T02:18:56",59.988998413085937,3680.7373046875,350,-253.74247741699219,0,104,10,15,-103,7568.64,null,0,0,0,7.999420166015625E-3,7.999420166015625E-3," "]
["2009-10-12T02:18:58",59.998001098632813,3680.044921875,350,-253.74247741699219,0,104.5,10,15,-103,7568.97,null,0,0,0,9.002685546875E-3,9.002685546875E-3," "]
["2009-10-12T02:19:00",60.006999969482422,3678.161376953125,350,-253.74247741699219,0,105,10,15,-103,7569.3,null,0,0,0,8.998870849609375E-3,8.998870849609375E-3," "]
["2009-10-12T02:19:02",60.006999969482422,3674.076171875,350,-253.74247741699219,0,105.5,10,15,-103,7569.63,null,0,0,0,0,0," "]
["2009-10-12T02:19:04",59.997001647949219,3676.22216796875,350,-253.74247741699219,0,106,10,15,-103,7569.96,null,0,0,0,-9.998321533203125E-3,9.998321533203125E-3," "]
["2009-10-12T02:19:06",59.986000061035156,3676.66943359375,350,-257.42120361328125,0,106.5,10,15,-103,7570.29,null,0,0,0,-1.10015869140625E-2,1.10015869140625E-2," "]
["2009-10-12T02:19:08",59.980998992919922,3677.4970703125,350,-257.42120361328125,0,107,10,15,-103,7570.62,null,0,0,0,-5.001068115234375E-3,5.001068115234375E-3," "]
["2009-10-12T02:19:10",59.977001190185547,3677.489990234375,350,-257.42120361328125,0,107.5,10,15,-103,7570.95,null,0,0,0,-3.997802734375E-3,3.997802734375E-3," "]
["2009-10-12T02:19:12",59.9739990234375,3675.185791015625,350,-257.42120361328125,0,108,10,15,-103,7571.28,null,0,0,0,-3.002166748046875E-3,3.002166748046875E-3," "]
["2009-10-12T02:19:14",59.976001739501953,3675.43701171875,350,-257.42120361328125,0,108.5,10,15,-103,7571.61,null,0,0,0,2.002716064453125E-3,2.002716064453125E-3," "]
["2009-10-12T02:19:16",59.9739990234375,3680.450927734375,350,-261.73822021484375,0,109,10,15,-103,7571.94,null,0,0,0,-2.002716064453125E-3,2.002716064453125E-3," "]
["2009-10-12T02:19:18",59.9739990234375,3682.03173828125,350,-261.73822021484375,0,109.5,10,15,-103,7572.27,null,0,0,0,0,0," "]
["2009-10-12T02:19:20",59.977001190185547,3683.82861328125,350,-261.73822021484375,0,110,10,15,-103,7572.6,null,0,0,0,3.002166748046875E-3,3.002166748046875E-3," "]
["2009-10-12T02:19:22",59.979000091552734,3682.84326171875,350,-261.73822021484375,0,110.5,10,15,-103,7572.93,null,0,0,0,1.9989013671875E-3,1.9989013671875E-3," "]
["2009-10-12T02:19:24",59.979000091552734,3681.1083984375,350,-261.73822021484375,0,111,10,15,-103,7573.26,null,0,0,0,0,0," "]
["2009-10-12T02:19:26",59.981998443603516,3680.565673828125,350,-271.8759765625,0,111.5,10,15,-103,7573.59,null,0,0,0,2.99835205078125E-3,2.99835205078125E-3," "]
["2009-10-12T02:19:28",59.984001159667969,3678.22900390625,350,-271.8759765625,0,112,10,15,-103,7573.92,null,0,0,0,2.002716064453125E-3,2.002716064453125E-3," "]
["2009-10-12T02:19:30",59.98699951171875,3676.751953125,350,-271.8759765625,0,112.5,10,15,-103,7574.25,null,0,0,0,2.99835205078125E-3,2.99835205078125E-3," "]
["2009-10-12T02:19:32",59.987998962402344,3675.75927734375,350,-271.8759765625,0,113,10,15,-103,7574.58,null,0,0,0,9.9945068359375E-4,9.9945068359375E-4," "]
["2009-10-12T02:19:34",59.987998962402344,3671.9423828125,350,-271.8759765625,0,113.5,10,15,-103,7574.91,null,0,0,0,0,0," "]
["2009-10-12T02:19:36",59.98699951171875,3671.16552734375,350,-262.073486328125,0,114,10,15,-103,7575.24,null,0,0,{"$f":"IF(ROW()<$M$3,0,1)","v":0},-9.9945068359375E-4,9.9945068359375E-4," "]
["2009-10-12T02:19:38",59.98699951171875,3670.475830078125,350,-262.073486328125,0,114.5,10,15,-103,7575.57,null,{"$f":"IF(ROW()<$M$5,0,1)","v":0},{"$f":"IF((M72=1)*(B72>$N$2),1,0)","v":0},0,{"$f":"B72-B71","v":0},{"$f":"ABS(P72)","v":0}," "]
["2009-10-12T02:19:40",59.98699951171875,3670.128662109375,350,-262.073486328125,0,115,10,15,-103,7575.9,null,0,0,0,0,0," "]
["2009-10-12T02:19:42",59.985000610351563,3671.54150390625,350,-262.073486328125,0,115.5,10,15,-103,7576.23,null,0,0,0,-1.9989013671875E-3,1.9989013671875E-3," "]
["2009-10-12T02:19:44",59.984001159667969,3672.0478515625,350,-262.073486328125,0,116,10,15,-103,7576.56,null,0,0,0,-9.9945068359375E-4,9.9945068359375E-4,{"$f":"IF(Q75>(AVERAGE(Q71:Q74)+R$2),1,\" \")","v":" "}]
["2009-10-12T02:19:46",59.981998443603516,3671.57568359375,350,-260.36441040039062,0,116.5,10,15,-103,7576.89,null,0,0,0,-2.002716064453125E-3,2.002716064453125E-3," "]
["2009-10-12T02:19:48",59.983001708984375,3672.103515625,350,-260.36441040039062,0,117,10,15,-103,7577.22,null,0,0,0,1.003265380859375E-3,1.003265380859375E-3," "]
["2009-10-12T02:19:50",59.988998413085937,3672.41357421875,350,-260.36441040039062,0,117.5,10,15,-103,7577.55,null,0,0,0,5.9967041015625E-3,5.9967041015625E-3," "]
["2009-10-12T02:19:52",59.988998413085937,3671.88232421875,350,-260.36441040039062,0,118,10,15,-103,7577.88,null,0,0,0,0,0," "]
["2009-10-12T02:19:54",59.987998962402344,3671.837158203125,350,-260.36441040039062,0,118.5,10,15,-103,7578.21,null,0,0,0,-9.9945068359375E-4,9.9945068359375E-4," "]
["2009-10-12T02:19:56",59.984001159667969,3671.3359375,350,-352.64437866210937,0,119,10,15,-103,7578.54,null,0,0,0,-3.997802734375E-3,3.997802734375E-3," "]
["2009-10-12T02:19:58",59.981998443603516,3670.725830078125,350,-352.64437866210937,0,119.5,10,15,-103,7578.87,null,0,0,0,-2.002716064453125E-3,2.002716064453125E-3," "]
["2009-10-12T02:20:00",59.983001708984375,3670.3720703125,350,-352.64437866210937,0,120,10,15,-103,7579.2,null,0,0,0,1.003265380859375E-3,1.003265380859375E-3," "]
["2009-10-12T02:20:02",59.980998992919922,3671.364013671875,350,-352.64437866210937,0,120.5,10,15,-103,7579.53,null,0,0,0,-2.002716064453125E-3,2.002716064453125E-3," "]
["2009-10-12T02:20:04",59.981998443603516,3671.40087890625,350,-352.64437866210937,0,121,10,15,-103,7579.86,null,0,0,0,9.9945068359375E-4,9.9945068359375E-4," "]
["2009-10-12T02:20:06",59.983001708984375,3672.15625,350,-354.89566040039062,0,121.5,10,15,-103,7580.19,null,0,0,0,1.003265380859375E-3,1.003265380859375E-3," "]
["2009-10-12T02:20:08",59.986000061035156,3672.181396484375,350,-354.89566040039062,0,122,10,15,-103,7580.52,null,0,0,0,2.99835205078125E-3,2.99835205078125E-3," "]
["2009-10-12T02:20:10",59.988998413085937,3670.29638671875,350,-354.89566040039062,0,122.5,10,15,-103,7580.85,null,0,0,0,2.99835205078125E-3,2.99835205078125E-3," "]
["2009-10-12T02:20:12",59.98699951171875,3668.07080078125,350,-354.89566040039062,0,123,10,15,-103,7581.18,null,0,0,0,-1.9989013671875E-3,1.9989013671875E-3," "]
["2009-10-12T02:20:14",59.985000610351563,3668.589599609375,350,-354.89566040039062,0,123.5,10,15,-103,7581.51,null,0,0,0,-1.9989013671875E-3,1.9989013671875E-3," "]
["2009-10-12T02:20:16",59.979999542236328,3669.908203125,350,-340.4693603515625,0,124,10,15,-103,7581.84,null,0,0,0,-5.001068115234375E-3,5.001068115234375E-3," "]
["2009-10-12T02:20:18",59.979999542236328,3670.3994140625,350,-340.4693603515625,0,124.5,10,15,-103,7582.17,null,0,0,0,0,0," "]
["2009-10-12T02:20:20",59.983001708984375,3670.2626953125,350,-340.4693603515625,0,125,10,15,-103,7582.5,null,0,0,0,3.002166748046875E-3,3.002166748046875E-3," "]
["2009-10-12T02:20:22",59.979999542236328,3669.38232421875,350,-340.4693603515625,0,125.5,10,15,-103,7582.83,null,0,0,0,-3.002166748046875E-3,3.002166748046875E-3," "]
["2009-10-12T02:20:24",59.979000091552734,3670.10205078125,350,-340.4693603515625,0,126,10,15,-103,7583.16,null,0,0,0,-9.9945068359375E-4,9.9945068359375E-4," "]
["2009-10-12T02:20:26",59.979000091552734,3670.4375,350,-337.64291381835937,0,126.5,10,15,-103,7583.49,null,0,0,0,0,0," "]
["2009-10-12T02:20:28",59.980998992919922,3671.402587890625,350,-337.64291381835937,0,127,10,15,-103,7583.82,null,0,0,0,1.9989013671875E-3,1.9989013671875E-3," "]
["2009-10-12T02:20:30",59.980998992919922,3672.4423828125,350,-337.64291381835937,0,127.5,10,15,-103,7584.15,null,0,0,0,0,0," "]
["2009-10-12T02:20:32",59.979999542236328,3672.371826171875,350,-337.64291381835937,0,128,10,15,-103,7584.48,null,0,0,0,-9.9945068359375E-4,9.9945068359375E-4," "]
["2009-10-12T02:20:34",59.979999542236328,3671.947021484375,350,-337.64291381835937,0,128.5,10,15,-103,7584.81,null,0,0,0,0,0," "]
["2009-10-12T02:20:36",59.980998992919922,3670.9375,350,-284.36083984375,0,129,10,15,-103,7585.14,null,0,0,0,9.9945068359375E-4,9.9945068359375E-4," "]
["2009-10-12T02:20:38",59.979999542236328,3670.70458984375,350,-284.36083984375,0,129.5,10,15,-103,7585.47,null,0,0,0,-9.9945068359375E-4,9.9945068359375E-4," "]
["2009-10-12T02:20:40",59.979999542236328,3670.13720703125,350,-284.36083984375,0,130,10,15,-103,7585.8,null,0,0,0,0,0," "]
["2009-10-12T02:20:42",59.977001190185547,3669.279296875,350,-284.36083984375,0,130.5,10,15,-103,7586.13,null,0,0,0,-2.99835205078125E-3,2.99835205078125E-3," "]
["2009-10-12T02:20:44",59.979000091552734,3672.390869140625,350,-284.36083984375,0,131,10,15,-103,7586.46,null,0,0,0,1.9989013671875E-3,1.9989013671875E-3," "]
["2009-10-12T02:20:46",59.980998992919922,3672.557861328125,350,-260.46798706054687,0,131.5,10,15,-103,7586.79,null,0,0,0,1.9989013671875E-3,1.9989013671875E-3," "]
["2009-10-12T02:20:48",59.979000091552734,3674.0517578125,350,-260.46798706054687,0,132,10,15,-103,7587.12,null,0,0,0,-1.9989013671875E-3,1.9989013671875E-3," "]
["2009-10-12T02:20:50",59.976001739501953,3672.62646484375,350,-260.46798706054687,0,132.5,10,15,-103,7587.45,null,0,0,0,-2.99835205078125E-3,2.99835205078125E-3," "]
["2009-10-12T02:20:52",59.977001190185547,3671.80029296875,350,-260.46798706054687,0,133,10,15,-103,7587.78,null,0,0,0,9.9945068359375E-4,9.9945068359375E-4," "]
["2009-10-12T02:20:54",59.972000122070313,3673.182861328125,350,-260.46798706054687,0,133.5,10,15,-103,7588.11,null,0,0,0,-5.001068115234375E-3,5.001068115234375E-3," "]
["2009-10-12T02:20:56",59.971000671386719,3673.87353515625,350,-253.14154052734375,0,134,10,15,-103,7588.44,null,0,0,0,-9.9945068359375E-4,9.9945068359375E-4," "]
["2009-10-12T02:20:58",59.972999572753906,3676.2626953125,350,-253.14154052734375,0,134.5,10,15,-103,7588.77,null,0,0,0,1.9989013671875E-3,1.9989013671875E-3," "]
["2009-10-12T02:21:00",59.972999572753906,3676.623291015625,350,-253.14154052734375,0,135,10,15,-103,7589.1,null,0,0,0,0,0," "]
["2009-10-12T02:21:02",59.972999572753906,3676.869873046875,350,-253.14154052734375,0,135.5,10,15,-103,7589.43,null,0,0,0,0,0," "]
["2009-10-12T02:21:04",59.9739990234375,3676.54296875,350,-253.14154052734375,0,136,10,15,-103,7589.76,null,0,0,0,9.9945068359375E-4,9.9945068359375E-4," "]
["2009-10-12T02:21:06",59.971000671386719,3675.464111328125,350,-251.92987060546875,0,136.5,10,15,-103,7590.09,null,0,0,0,-2.99835205078125E-3,2.99835205078125E-3," "]
["2009-10-12T02:21:08",59.974998474121094,3675.75244140625,350,-251.92987060546875,0,137,10,15,-103,7590.42,null,0,0,0,3.997802734375E-3,3.997802734375E-3," "]
["2009-10-12T02:21:10",59.977001190185547,3675.255859375,350,-251.92987060546875,0,137.5,10,15,-103,7590.75,null,0,0,0,2.002716064453125E-3,2.002716064453125E-3," "]
["2009-10-12T02:21:12",59.977001190185547,3674.86962890625,350,-251.92987060546875,0,138,10,15,-103,7591.08,null,0,0,0,0,0," "]
["2009-10-12T02:21:14",59.974998474121094,3671.27685546875,350,-251.92987060546875,0,138.5,10,15,-103,7591.41,null,0,0,0,-2.002716064453125E-3,2.002716064453125E-3," "]
["2009-10-12T02:21:16",59.976001739501953,3671.59326171875,350,-250.6741943359375,0,139,10,15,-103,7591.74,null,0,0,0,1.003265380859375E-3,1.003265380859375E-3," "]
["2009-10-12T02:21:18",59.979999542236328,3670.5869140625,350,-250.6741943359375,0,139.5,10,15,-103,7592.07,null,0,0,0,3.997802734375E-3,3.997802734375E-3," "]
["2009-10-12T02:21:20",59.979000091552734,3669.962890625,350,-250.6741943359375,0,140,10,15,-103,7592.4,null,0,0,0,-9.9945068359375E-4,9.9945068359375E-4," "]
["2009-10-12T02:21:22",59.980998992919922,3669.5400390625,350,-250.6741943359375,0,140.5,10,15,-103,7592.73,null,0,0,0,1.9989013671875E-3,1.9989013671875E-3," "]
["2009-10-12T02:21:24",59.981998443603516,3669.496826171875,350,-250.6741943359375,0,141,10,15,-103,7593.06,null,0,0,0,9.9945068359375E-4,9.9945068359375E-4," "]
["2009-10-12T02:21:26",59.981998443603516,3668.70556640625,350,-253.63186645507812,0,141.5,10,15,-103,7593.39,null,0,0,0,0,0," "]
["2009-10-12T02:21:28",59.981998443603516,3667.676513671875,350,-253.63186645507812,0,142,10,15,-103,7593.72,null,0,0,0,0,0," "]
["2009-10-12T02:21:30",59.981998443603516,3666.481689453125,350,-253.63186645507812,0,142.5,10,15,-103,7594.05,null,0,0,0,0,0," "]
["2009-10-12T02:21:32",59.980998992919922,3666.599365234375,350,-253.63186645507812,0,143,10,15,-103,7594.38,null,0,0,0,-9.9945068359375E-4,9.9945068359375E-4," "]
["2009-10-12T02:21:34",59.981998443603516,3666.91064453125,350,-253.63186645507812,0,143.5,10,15,-103,7594.71,null,0,0,0,9.9945068359375E-4,9.9945068359375E-4," "]
["2009-10-12T02:21:36",59.984001159667969,3666.441650390625,350,-246.95730590820312,0,144,10,15,-103,7595.04,null,0,0,0,2.002716064453125E-3,2.002716064453125E-3," "]
["2009-10-12T02:21:38",59.985000610351563,3666.40478515625,350,-246.95730590820312,0,144.5,10,15,-103,7595.37,null,0,0,0,9.9945068359375E-4,9.9945068359375E-4," "]
["2009-10-12T02:21:40",59.98699951171875,3667.456298828125,350,-246.95730590820312,0,145,10,15,-103,7595.7,null,0,0,0,1.9989013671875E-3,1.9989013671875E-3," "]
["2009-10-12T02:21:42",59.988998413085937,3666.38037109375,350,-246.95730590820312,0,145.5,10,15,-103,7596.03,null,0,0,0,1.9989013671875E-3,1.9989013671875E-3," "]
["2009-10-12T02:21:44",59.993000030517578,3665.26171875,350,-246.95730590820312,0,146,10,15,-103,7596.36,null,0,0,{"$f":"IF(ROW()<$M$3,0,1)","v":0},4.001617431640625E-3,4.001617431640625E-3," "]
["2009-10-12T02:21:46",59.995998382568359,3664.031005859375,350,-254.54177856445312,0,146.5,10,15,-103,7596.69,null,{"$f":"IF(ROW()<$M$5,0,1)","v":0},{"$f":"IF((M136=1)*(B136>$N$2),1,0)","v":0},0,{"$f":"B136-B135","v":2.99835205078125E-3},{"$f":"ABS(P136)","v":2.99835205078125E-3}," "]
["2009-10-12T02:21:48",59.998001098632813,3663.824951171875,350,-254.54177856445312,0,147,10,15,-103,7597.02,null,0,0,0,2.002716064453125E-3,2.002716064453125E-3," "]
["2009-10-12T02:21:50",59.998001098632813,3663.228759765625,350,-254.54177856445312,0,147.5,10,15,-103,7597.35,null,0,0,0,0,0," "]
["2009-10-12T02:21:52",60.004001617431641,3662.054931640625,350,-254.54177856445312,0,148,10,15,-103,7597.68,null,0,0,0,6.000518798828125E-3,6.000518798828125E-3,{"$f":"IF(Q139>(AVERAGE(Q135:Q138)+R$2),1,\" \")","v":" "}]
["2009-10-12T02:21:54",60.006999969482422,3661.6953125,350,-254.54177856445312,0,148.5,10,15,-103,7598.01,null,0,0,0,2.99835205078125E-3,2.99835205078125E-3," "]
["2009-10-12T02:21:56",60.009998321533203,3662.076171875,350,-256.57159423828125,0,149,10,15,-103,7598.34,null,0,0,0,2.99835205078125E-3,2.99835205078125E-3," "]
["2009-10-12T02:21:58",60.01300048828125,3662.223876953125,350,-256.57159423828125,0,149.5,10,15,-103,7598.67,null,0,0,0,3.002166748046875E-3,3.002166748046875E-3," "]
["2009-10-12T02:22:00",60.013999938964844,3662.95947265625,350,-256.57159423828125,0,150,10,15,-103,7599,null,0,0,0,9.9945068359375E-4,9.9945068359375E-4," "]
["2009-10-12T02:22:02",60.01300048828125,3663.79443359375,350,-256.57159423828125,0,150.5,10,15,-103,7599.33,null,0,0,0,-9.9945068359375E-4,9.9945068359375E-4," "]
["2009-10-12T02:22:04",60.007999420166016,3664.13916015625,350,-256.57159423828125,0,151,10,15,-103,7599.66,null,0,0,0,-5.001068115234375E-3,5.001068115234375E-3," "]
["2009-10-12T02:22:06",60.007999420166016,3665.27783203125,350,-258.37261962890625,0,151.5,10,15,-103,7599.99,null,0,0,0,0,0," "]
["2009-10-12T02:22:08",60.009998321533203,3664.15869140625,350,-258.37261962890625,0,152,10,15,-103,7600.32,null,0,0,0,1.9989013671875E-3,1.9989013671875E-3," "]
["2009-10-12T02:22:10",60.019001007080078,3663.2646484375,350,-258.37261962890625,0,152.5,10,15,-103,7600.65,null,0,0,0,9.002685546875E-3,9.002685546875E-3," "]
["2009-10-12T02:22:12",60.019001007080078,3663.18359375,350,-258.37261962890625,0,153,10,15,-103,7600.98,null,0,0,0,0,0," "]
["2009-10-12T02:22:14",60.022998809814453,3661.92919921875,350,-258.37261962890625,0,153.5,10,15,-103,7601.31,null,0,0,0,3.997802734375E-3,3.997802734375E-3," "]
["2009-10-12T02:22:16",60.020999908447266,3661.51220703125,350,-263.04736328125,0,154,10,15,-103,7601.64,null,0,0,0,-1.9989013671875E-3,1.9989013671875E-3," "]
["2009-10-12T02:22:18",60.020000457763672,3659.17236328125,350,-263.04736328125,0,154.5,10,15,-103,7601.97,null,0,0,0,-9.9945068359375E-4,9.9945068359375E-4," "]
["2009-10-12T02:22:20",60.020999908447266,3658.661376953125,350,-263.04736328125,0,155,10,15,-103,7602.3,null,0,0,0,9.9945068359375E-4,9.9945068359375E-4," "]
["2009-10-12T02:22:22",60.020999908447266,3656.785400390625,350,-263.04736328125,0,155.5,10,15,-103,7602.63,null,0,0,0,0,0," "]
["2009-10-12T02:22:24",60.020000457763672,3657.571044921875,350,-263.04736328125,0,156,10,15,-103,7602.96,null,0,0,0,-9.9945068359375E-4,9.9945068359375E-4," "]
["2009-10-12T02:22:26",60.019001007080078,3658.1259765625,350,-260.984375,0,156.5,10,15,-103,7603.29,null,0,0,0,-9.9945068359375E-4,9.9945068359375E-4," "]
["2009-10-12T02:22:28",60.019001007080078,3657.71044921875,350,-260.984375,0,157,10,15,-103,7603.62,null,0,0,0,0,0," "]
["2009-10-12T02:22:30",60.021999359130859,3658.0146484375,350,-260.984375,0,157.5,10,15,-103,7603.95,null,0,0,0,2.99835205078125E-3,2.99835205078125E-3," "]
["2009-10-12T02:22:32",60.025001525878906,3660.2275390625,350,-260.984375,0,158,10,15,-103,7604.28,null,0,0,0,3.002166748046875E-3,3.002166748046875E-3," "]
["2009-10-12T02:22:34",60.025001525878906,3659.2236328125,350,-260.984375,0,158.5,10,15,-103,7604.61,null,0,0,0,0,0," "]
["2009-10-12T02:22:36",60.0260009765625,3658.6982421875,350,-261.31832885742187,0,159,10,15,-103,7604.94,null,0,0,0,9.9945068359375E-4,9.9945068359375E-4," "]
["2009-10-12T02:22:38",60.020000457763672,3658.668701171875,350,-261.31832885742187,0,159.5,10,15,-103,7605.27,null,0,0,0,-6.000518798828125E-3,6.000518798828125E-3," "]
["2009-10-12T02:22:40",60.020000457763672,3658.154541015625,350,-261.31832885742187,0,160,10,15,-103,7605.6,null,0,0,0,0,0," "]
["2009-10-12T02:22:42",60.018001556396484,3659.129638671875,350,-261.31832885742187,0,160.5,10,15,-103,7605.93,null,0,0,0,-1.9989013671875E-3,1.9989013671875E-3," "]
["2009-10-12T02:22:44",60.018001556396484,3659.777587890625,350,-261.31832885742187,0,161,10,15,-103,7606.26,null,0,0,0,0,0," "]
["2009-10-12T02:22:46",60.020000457763672,3660.819580078125,350,-262.10260009765625,0,161.5,10,15,-103,7606.59,null,0,0,0,1.9989013671875E-3,1.9989013671875E-3," "]
["2009-10-12T02:22:48",60.019001007080078,3662.531494140625,350,-262.10260009765625,0,162,10,15,-103,7606.92,null,0,0,0,-9.9945068359375E-4,9.9945068359375E-4," "]
["2009-10-12T02:22:50",60.019001007080078,3662.38720703125,350,-262.10260009765625,0,162.5,10,15,-103,7607.25,null,0,0,0,0,0," "]
["2009-10-12T02:22:52",60.022998809814453,3662.078857421875,350,-262.10260009765625,0,163,10,15,-103,7607.58,null,0,0,0,3.997802734375E-3,3.997802734375E-3," "]
["2009-10-12T02:22:54",60.021999359130859,3662.39013671875,350,-262.10260009765625,0,163.5,10,15,-103,7607.91,null,0,0,0,-9.9945068359375E-4,9.9945068359375E-4," "]
["2009-10-12T02:22:56",60.021999359130859,3662.67822265625,350,-262.71701049804687,0,164,10,15,-103,7608.24,null,0,0,0,0,0," "]
["2009-10-12T02:22:58",60.025001525878906,3663.57666015625,350,-262.71701049804687,0,164.5,10,15,-103,7608.57,null,0,0,0,3.002166748046875E-3,3.002166748046875E-3," "]
["2009-10-12T02:23:00",60.020000457763672,3663.53857421875,350,-262.71701049804687,0,165,10,15,-103,7608.9,null,0,0,0,-5.001068115234375E-3,5.001068115234375E-3," "]
["2009-10-12T02:23:02",60.020000457763672,3662.959228515625,350,-262.71701049804687,0,165.5,10,15,-103,7609.23,null,0,0,0,0,0," "]
["2009-10-12T02:23:04",60.020000457763672,3662.552490234375,350,-262.71701049804687,0,166,10,15,-103,7609.56,null,0,0,0,0,0," "]
["2009-10-12T02:23:06",60.020000457763672,3662.54296875,350,-260.0164794921875,0,166.5,10,15,-103,7609.89,null,0,0,0,0,0," "]
["2009-10-12T02:23:08",60.020000457763672,3663.6005859375,350,-260.0164794921875,0,167,10,15,-103,7610.22,null,0,0,0,0,0," "]
["2009-10-12T02:23:10",60.020999908447266,3663.90966796875,350,-260.0164794921875,0,167.5,10,15,-103,7610.55,null,0,0,0,9.9945068359375E-4,9.9945068359375E-4," "]
["2009-10-12T02:23:12",60.020999908447266,3663.68994140625,350,-260.0164794921875,0,168,10,15,-103,7610.88,null,0,0,0,0,0," "]
["2009-10-12T02:23:14",60.018001556396484,3662.791259765625,350,-260.0164794921875,0,168.5,10,15,-103,7611.21,null,0,0,0,-2.99835205078125E-3,2.99835205078125E-3," "]
["2009-10-12T02:23:16",60.013999938964844,3663.395751953125,350,-263.87322998046875,0,169,10,15,-103,7611.54,null,0,0,0,-4.001617431640625E-3,4.001617431640625E-3," "]
["2009-10-12T02:23:18",60.013999938964844,3663.69775390625,350,-263.87322998046875,0,169.5,10,15,-103,7611.87,null,0,0,0,0,0," "]
["2009-10-12T02:23:20",60.013999938964844,3664.3154296875,350,-263.87322998046875,0,170,10,15,-103,7612.2,null,0,0,0,0,0," "]
["2009-10-12T02:23:22",60.01300048828125,3665.31298828125,350,-263.87322998046875,0,170.5,10,15,-103,7612.53,null,0,0,0,-9.9945068359375E-4,9.9945068359375E-4," "]
["2009-10-12T02:23:24",60.01300048828125,3665.797607421875,350,-263.87322998046875,0,171,10,15,-103,7612.86,null,0,0,0,0,0," "]
["2009-10-12T02:23:26",60.009998321533203,3666.14111328125,350,-264.597900390625,0,171.5,10,15,-103,7613.19,null,0,0,0,-3.002166748046875E-3,3.002166748046875E-3," "]
["2009-10-12T02:23:28",60.007999420166016,3666.725830078125,350,-264.597900390625,0,172,10,15,-103,7613.52,null,0,0,0,-1.9989013671875E-3,1.9989013671875E-3," "]
["2009-10-12T02:23:30",60.011001586914063,3667.6767578125,350,-264.597900390625,0,172.5,10,15,-103,7613.85,null,0,0,0,3.002166748046875E-3,3.002166748046875E-3," "]
["2009-10-12T02:23:32",60.011001586914063,3667.54541015625,350,-264.597900390625,0,173,10,15,-103,7614.18,null,0,0,0,0,0," "]
["2009-10-12T02:23:34",60.012001037597656,3666.688232421875,350,-264.597900390625,0,173.5,10,15,-103,7614.51,null,0,0,0,9.9945068359375E-4,9.9945068359375E-4," "]
["2009-10-12T02:23:36",60.012001037597656,3666.44873046875,350,-262.41592407226562,0,174,10,15,-103,7614.84,null,0,0,0,0,0," "]
["2009-10-12T02:23:38",60.008998870849609,3666.71044921875,350,-262.41592407226562,0,174.5,10,15,-103,7615.17,null,0,0,0,-3.002166748046875E-3,3.002166748046875E-3," "]
["2009-10-12T02:23:40",60.008998870849609,3667.696044921875,350,-262.41592407226562,0,175,10,15,-103,7615.5,null,0,0,0,0,0," "]
["2009-10-12T02:23:42",60.008998870849609,3667.398193359375,350,-262.41592407226562,0,175.5,10,15,-103,7615.83,null,0,0,0,0,0," "]
["2009-10-12T02:23:44",60.008998870849609,3667.04296875,350,-262.41592407226562,0,176,10,15,-103,7616.16,null,0,0,0,0,0," "]
["2009-10-12T02:23:46",60.005001068115234,3666.62353515625,350,-259.68524169921875,0,176.5,10,15,-103,7616.49,null,0,0,0,-3.997802734375E-3,3.997802734375E-3," "]
["2009-10-12T02:23:48",60.001998901367188,3666.22265625,350,-259.68524169921875,0,177,10,15,-103,7616.82,null,0,0,0,-3.002166748046875E-3,3.002166748046875E-3," "]
["2009-10-12T02:23:50",59.999000549316406,3665.879638671875,350,-259.68524169921875,0,177.5,10,15,-103,7617.15,null,0,0,0,-2.99835205078125E-3,2.99835205078125E-3," "]
["2009-10-12T02:23:52",59.995998382568359,3665.4033203125,350,-259.68524169921875,0,178,10,15,-103,7617.48,null,0,0,{"$f":"IF(ROW()<$M$3,0,1)","v":0},-3.002166748046875E-3,3.002166748046875E-3," "]
["2009-10-12T02:23:54",59.994998931884766,3665.801513671875,350,-259.68524169921875,0,178.5,10,15,-103,7617.81,null,{"$f":"IF(ROW()<$M$5,0,1)","v":0},{"$f":"IF((M200=1)*(B200>$N$2),1,0)","v":0},0,{"$f":"B200-B199","v":-9.9945068359375E-4},{"$f":"ABS(P200)","v":9.9945068359375E-4}," "]
["2009-10-12T02:23:56",59.997001647949219,3665.6796875,350,-255.9110107421875,0,179,10,15,-103,7618.14,null,0,0,0,2.002716064453125E-3,2.002716064453125E-3," "]
["2009-10-12T02:23:58",59.998001098632813,3665.35205078125,350,-255.9110107421875,0,179.5,10,15,-103,7618.47,null,0,0,0,9.9945068359375E-4,9.9945068359375E-4," "]
["2009-10-12T02:24:00",59.998001098632813,3664.947509765625,350,-255.9110107421875,0,180,10,15,-103,7618.8,null,0,0,0,0,0,{"$f":"IF(Q203>(AVERAGE(Q199:Q202)+R$2),1,\" \")","v":" "}]
["2009-10-12T02:24:02",59.998001098632813,3665.06494140625,350,-255.9110107421875,0,180.5,10,15,-103,7619.13,null,0,0,0,0,0," "]
["2009-10-12T02:24:04",59.998001098632813,3666.13330078125,350,-255.9110107421875,0,181,10,15,-103,7619.46,null,0,0,0,0,0," "]
["2009-10-12T02:24:06",59.994998931884766,3666.6396484375,350,-258.148193359375,0,181.5,10,15,-103,7619.79,null,0,0,0,-3.002166748046875E-3,3.002166748046875E-3," "]
["2009-10-12T02:24:08",59.994998931884766,3666.734619140625,350,-258.148193359375,0,182,10,15,-103,7620.12,null,0,0,0,0,0," "]
["2009-10-12T02:24:10",59.992000579833984,3667.083984375,350,-258.148193359375,0,182.5,10,15,-103,7620.45,null,0,0,0,-2.99835205078125E-3,2.99835205078125E-3," "]
["2009-10-12T02:24:12",59.993000030517578,3667.557373046875,350,-258.148193359375,0,183,10,15,-103,7620.78,null,0,0,0,9.9945068359375E-4,9.9945068359375E-4," "]
["2009-10-12T02:24:14",59.987998962402344,3667.336669921875,350,-258.148193359375,0,183.5,10,15,-103,7621.11,null,0,0,0,-5.001068115234375E-3,5.001068115234375E-3," "]
["2009-10-12T02:24:16",59.987998962402344,3667.853271484375,350,-258.87359619140625,0,184,10,15,-103,7621.44,null,0,0,0,0,0," "]
["2009-10-12T02:24:18",59.981998443603516,3668.116455078125,350,-258.87359619140625,0,184.5,10,15,-103,7621.77,null,0,0,0,-6.000518798828125E-3,6.000518798828125E-3," "]
["2009-10-12T02:24:20",59.981998443603516,3668.69091796875,350,-258.87359619140625,0,185,10,15,-103,7622.1,null,0,0,0,0,0," "]
["2009-10-12T02:24:22",59.981998443603516,3669.399169921875,350,-258.87359619140625,0,185.5,10,15,-103,7622.43,null,0,0,0,0,0," "]
["2009-10-12T02:24:24",59.981998443603516,3669.606201171875,350,-258.87359619140625,0,186,10,15,-103,7622.76,null,0,0,0,0,0," "]
["2009-10-12T02:24:26",59.984001159667969,3671.22802734375,350,-249.33757019042969,0,186.5,10,15,-103,7623.09,null,0,0,0,2.002716064453125E-3,2.002716064453125E-3," "]
["2009-10-12T02:24:28",59.981998443603516,3670.25,350,-249.33757019042969,0,187,10,15,-103,7623.42,null,0,0,0,-2.002716064453125E-3,2.002716064453125E-3," "]
["2009-10-12T02:24:30",59.978000640869141,3670.2646484375,350,-249.33757019042969,0,187.5,10,15,-103,7623.75,null,0,0,0,-3.997802734375E-3,3.997802734375E-3," "]
["2009-10-12T02:24:32",59.978000640869141,3671.548828125,350,-249.33757019042969,0,188,10,15,-103,7624.08,null,0,0,0,0,0," "]
["2009-10-12T02:24:34",59.976001739501953,3673.2431640625,350,-249.33757019042969,0,188.5,10,15,-103,7624.41,null,0,0,0,-1.9989013671875E-3,1.9989013671875E-3," "]
["2009-10-12T02:24:36",59.974998474121094,3674.262939453125,350,-258.27816772460937,0,189,10,15,-103,7624.74,null,0,0,0,-1.003265380859375E-3,1.003265380859375E-3," "]
["2009-10-12T02:24:38",59.9739990234375,3675.824462890625,350,-258.27816772460937,0,189.5,10,15,-103,7625.07,null,0,0,0,-9.9945068359375E-4,9.9945068359375E-4," "]
["2009-10-12T02:24:40",59.9739990234375,3676.418212890625,350,-258.27816772460937,0,190,10,15,-103,7625.4,null,0,0,0,0,0," "]
["2009-10-12T02:24:42",59.979000091552734,3676.3056640625,350,-258.27816772460937,0,190.5,10,15,-103,7625.73,null,0,0,0,5.001068115234375E-3,5.001068115234375E-3," "]
["2009-10-12T02:24:44",59.979999542236328,3674.637451171875,350,-258.27816772460937,0,191,10,15,-103,7626.06,null,0,0,0,9.9945068359375E-4,9.9945068359375E-4," "]
["2009-10-12T02:24:46",59.980998992919922,3675.328857421875,350,-258.4063720703125,0,191.5,10,15,-103,7626.39,null,0,0,0,9.9945068359375E-4,9.9945068359375E-4," "]
["2009-10-12T02:24:48",59.979999542236328,3675.22607421875,350,-258.4063720703125,0,192,10,15,-103,7626.72,null,0,0,0,-9.9945068359375E-4,9.9945068359375E-4," "]
["2009-10-12T02:24:50",59.984001159667969,3674.76806640625,350,-258.4063720703125,0,192.5,10,15,-103,7627.05,null,0,0,0,4.001617431640625E-3,4.001617431640625E-3," "]
["2009-10-12T02:24:52",59.98699951171875,3674.3994140625,350,-258.4063720703125,0,193,10,15,-103,7627.38,null,0,0,0,2.99835205078125E-3,2.99835205078125E-3," "]
["2009-10-12T02:24:54",59.987998962402344,3673.51416015625,350,-258.4063720703125,0,193.5,10,15,-103,7627.71,null,0,0,0,9.9945068359375E-4,9.9945068359375E-4," "]
["2009-10-12T02:24:56",59.987998962402344,3673.03955078125,350,-260.53887939453125,0,194,10,15,-103,7628.04,null,0,0,0,0,0," "]
["2009-10-12T02:24:58",59.990001678466797,3672.441650390625,350,-260.53887939453125,0,194.5,10,15,-103,7628.37,null,0,0,0,2.002716064453125E-3,2.002716064453125E-3," "]
["2009-10-12T02:25:00",59.992000579833984,3673.056396484375,350,-260.53887939453125,0,195,10,15,-103,7628.7,null,0,0,0,1.9989013671875E-3,1.9989013671875E-3," "]
["2009-10-12T02:25:02",59.991001129150391,3671.68017578125,350,-260.53887939453125,0,195.5,10,15,-103,7629.03,null,0,0,0,-9.9945068359375E-4,9.9945068359375E-4," "]
["2009-10-12T02:25:04",59.991001129150391,3671.4931640625,350,-260.53887939453125,0,196,10,15,-103,7629.36,null,0,0,0,0,0," "]
["2009-10-12T02:25:06",59.991001129150391,3669.530029296875,350,-257.882080078125,0,196.5,10,15,-103,7629.69,null,0,0,0,0,0," "]
["2009-10-12T02:25:08",59.993000030517578,3670.066162109375,350,-257.882080078125,0,197,10,15,-103,7630.02,null,0,0,0,1.9989013671875E-3,1.9989013671875E-3," "]
["2009-10-12T02:25:10",59.993000030517578,3670.02783203125,350,-257.882080078125,0,197.5,10,15,-103,7630.35,null,0,0,0,0,0," "]
["2009-10-12T02:25:12",59.995998382568359,3671.744140625,350,-257.882080078125,0,198,10,15,-103,7630.68,null,0,0,0,2.99835205078125E-3,2.99835205078125E-3," "]
["2009-10-12T02:25:14",60.001998901367188,3671.578125,350,-257.882080078125,0,198.5,10,15,-103,7631.01,null,0,0,0,6.000518798828125E-3,6.000518798828125E-3," "]
["2009-10-12T02:25:16",60.001998901367188,3672.62548828125,350,-258.58865356445313,0,199,10,15,-103,7631.34,null,0,0,0,0,0," "]
["2009-10-12T02:25:18",60.002998352050781,3672.674072265625,350,-258.58865356445313,0,199.5,10,15,-103,7631.67,null,0,0,0,9.9945068359375E-4,9.9945068359375E-4," "]
["2009-10-12T02:25:20",60.004001617431641,3673.818603515625,350,-258.58865356445313,0,200,10,15,-103,7632,null,0,0,0,1.003265380859375E-3,1.003265380859375E-3," "]
["2009-10-12T02:25:22",60.005001068115234,3673.24951171875,350,-258.58865356445313,0,200.5,10,15,-103,7632.33,null,0,0,0,9.9945068359375E-4,9.9945068359375E-4," "]
["2009-10-12T02:25:24",60.004001617431641,3673.18212890625,350,-258.58865356445313,0,201,10,15,-103,7632.66,null,0,0,0,-9.9945068359375E-4,9.9945068359375E-4," "]
["2009-10-12T02:25:26",60.001998901367188,3673.496337890625,350,-261.90615844726562,0,201.5,10,15,-103,7632.99,null,0,0,0,-2.002716064453125E-3,2.002716064453125E-3," "]
["2009-10-12T02:25:28",60.004001617431641,3672.41796875,350,-261.90615844726562,0,202,10,15,-103,7633.32,null,0,0,0,2.002716064453125E-3,2.002716064453125E-3," "]
["2009-10-12T02:25:30",60.007999420166016,3672.363037109375,350,-261.90615844726562,0,202.5,10,15,-103,7633.65,null,0,0,0,3.997802734375E-3,3.997802734375E-3," "]
["2009-10-12T02:25:32",60.009998321533203,3672.216796875,350,-261.90615844726562,0,203,10,15,-103,7633.98,null,0,0,0,1.9989013671875E-3,1.9989013671875E-3," "]
["2009-10-12T02:25:34",60.009998321533203,3672.2607421875,350,-261.90615844726562,0,203.5,10,15,-103,7634.31,null,0,0,0,0,0," "]
["2009-10-12T02:25:36",60.009998321533203,3673.18212890625,350,-256.747802734375,0,204,10,15,-103,7634.64,null,0,0,0,0,0," "]
["2009-10-12T02:25:38",60.011001586914063,3673.603271484375,350,-256.747802734375,0,204.5,10,15,-103,7634.97,null,0,0,0,1.003265380859375E-3,1.003265380859375E-3," "]
["2009-10-12T02:25:40",60.01300048828125,3673.553466796875,350,-256.747802734375,0,205,10,15,-103,7635.3,null,0,0,0,1.9989013671875E-3,1.9989013671875E-3," "]
["2009-10-12T02:25:42",60.013999938964844,3674.31201171875,350,-256.747802734375,0,205.5,10,15,-103,7635.63,null,0,0,0,9.9945068359375E-4,9.9945068359375E-4," "]
["2009-10-12T02:25:44",60.01300048828125,3674.537109375,350,-256.747802734375,0,206,10,15,-103,7635.96,null,0,0,0,-9.9945068359375E-4,9.9945068359375E-4," "]
["2009-10-12T02:25:46",60.012001037597656,3673.8125,350,-167.43197631835937,0,206.5,10,15,-103,7636.29,null,0,0,0,-9.9945068359375E-4,9.9945068359375E-4," "]
["2009-10-12T02:25:48",60.011001586914063,3673.20361328125,350,-167.43197631835937,0,207,10,15,-103,7636.62,null,0,0,0,-9.9945068359375E-4,9.9945068359375E-4," "]
["2009-10-12T02:25:50",60.011001586914063,3672.563232421875,350,-167.43197631835937,0,207.5,10,15,-103,7636.95,null,0,0,0,0,0," "]
["2009-10-12T02:25:52",60.016998291015625,3673.067626953125,350,-167.43197631835937,0,208,10,15,-103,7637.28,null,0,0,0,5.9967041015625E-3,5.9967041015625E-3," "]
["2009-10-12T02:25:54",60.021999359130859,3672.38818359375,350,-167.43197631835937,0,208.5,10,15,-103,7637.61,null,0,0,0,5.001068115234375E-3,5.001068115234375E-3," "]
["2009-10-12T02:25:56",60.016998291015625,3672.51953125,350,-164.97340393066406,0,209,10,15,-103,7637.94,null,0,0,0,-5.001068115234375E-3,5.001068115234375E-3," "]
["2009-10-12T02:25:58",60.013999938964844,3671.25,350,-164.97340393066406,0,209.5,10,15,-103,7638.27,null,0,0,0,-2.99835205078125E-3,2.99835205078125E-3," "]
["2009-10-12T02:26:00",60.01300048828125,3671.2880859375,350,-164.97340393066406,0,210,10,15,-103,7638.6,null,0,0,{"$f":"IF(ROW()<$M$3,0,1)","v":0},-9.9945068359375E-4,9.9945068359375E-4," "]
["2009-10-12T02:26:02",60.013999938964844,3672.989013671875,350,-164.97340393066406,0,210.5,10,15,-103,7638.93,null,{"$f":"IF(ROW()<$M$5,0,1)","v":0},{"$f":"IF((M264=1)*(B264>$N$2),1,0)","v":0},0,{"$f":"B264-B263","v":9.9945068359375E-4},{"$f":"ABS(P264)","v":9.9945068359375E-4}," "]
["2009-10-12T02:26:04",60.016998291015625,3672.981689453125,350,-164.97340393066406,0,211,10,15,-103,7639.26,null,0,0,0,2.99835205078125E-3,2.99835205078125E-3," "]
["2009-10-12T02:26:06",60.016998291015625,3672.915283203125,350,-157.62808227539062,0,211.5,10,15,-103,7639.59,null,0,0,0,0,0," "]
["2009-10-12T02:26:08",60.019001007080078,3671.95166015625,350,-157.62808227539062,0,212,10,15,-103,7639.92,null,0,0,0,2.002716064453125E-3,2.002716064453125E-3,{"$f":"IF(Q267>(AVERAGE(Q263:Q266)+R$2),1,\" \")","v":" "}]
["2009-10-12T02:26:10",60.019001007080078,3671.193115234375,350,-157.62808227539062,0,212.5,10,15,-103,7640.25,null,0,0,0,0,0," "]
["2009-10-12T02:26:12",60.019001007080078,3671.627197265625,350,-157.62808227539062,0,213,10,15,-103,7640.58,null,0,0,0,0,0," "]
["2009-10-12T02:26:14",60.027000427246094,3671.18896484375,350,-157.62808227539062,0,213.5,10,15,-103,7640.91,null,0,0,0,7.999420166015625E-3,7.999420166015625E-3," "]
["2009-10-12T02:26:16",60.0260009765625,3668.610595703125,350,-155.53170776367187,0,214,10,15,-103,7641.24,null,0,0,0,-9.9945068359375E-4,9.9945068359375E-4," "]
["2009-10-12T02:26:18",60.0260009765625,3665.232177734375,350,-155.53170776367187,0,214.5,10,15,-103,7641.57,null,0,0,0,0,0," "]
["2009-10-12T02:26:20",60.021999359130859,3664.4951171875,350,-155.53170776367187,0,215,10,15,-103,7641.9,null,0,0,0,-4.001617431640625E-3,4.001617431640625E-3," "]
["2009-10-12T02:26:22",60.019001007080078,3666.061767578125,350,-155.53170776367187,0,215.5,10,15,-103,7642.23,null,0,0,0,-2.99835205078125E-3,2.99835205078125E-3," "]
["2009-10-12T02:26:24",60.016998291015625,3666.82080078125,350,-155.53170776367187,0,216,10,15,-103,7642.56,null,0,0,0,-2.002716064453125E-3,2.002716064453125E-3," "]
["2009-10-12T02:26:26",60.019001007080078,3666.787353515625,350,-160.44723510742187,0,216.5,10,15,-103,7642.89,null,0,0,0,2.002716064453125E-3,2.002716064453125E-3," "]
["2009-10-12T02:26:28",60.020000457763672,3670.45361328125,350,-160.44723510742187,0,217,10,15,-103,7643.22,null,0,0,0,9.9945068359375E-4,9.9945068359375E-4," "]
["2009-10-12T02:26:30",60.019001007080078,3670.266845703125,350,-160.44723510742187,0,217.5,10,15,-103,7643.55,null,0,0,0,-9.9945068359375E-4,9.9945068359375E-4," "]
["2009-10-12T02:26:32",60.020999908447266,3671.66796875,350,-160.44723510742187,0,218,10,15,-103,7643.88,null,0,0,0,1.9989013671875E-3,1.9989013671875E-3," "]
["2009-10-12T02:26:34",60.020999908447266,3672.4931640625,350,-160.44723510742187,0,218.5,10,15,-103,7644.21,null,0,0,0,0,0," "]
["2009-10-12T02:26:36",60.020999908447266,3672.68505859375,350,-163.95860290527344,0,219,10,15,-103,7644.54,null,0,0,0,0,0," "]
["2009-10-12T02:26:38",60.019001007080078,3672.857421875,350,-163.95860290527344,0,219.5,10,15,-103,7644.87,null,0,0,0,-1.9989013671875E-3,1.9989013671875E-3," "]
["2009-10-12T02:26:40",60.018001556396484,3672.1640625,350,-163.95860290527344,0,220,10,15,-103,7645.2,null,0,0,0,-9.9945068359375E-4,9.9945068359375E-4," "]
["2009-10-12T02:26:42",60.021999359130859,3671.4130859375,350,-163.95860290527344,0,220.5,10,15,-103,7645.53,null,0,0,0,3.997802734375E-3,3.997802734375E-3," "]
["2009-10-12T02:26:44",60.030998229980469,3669.98291015625,350,-163.95860290527344,0,221,10,15,-103,7645.86,null,0,0,0,8.998870849609375E-3,8.998870849609375E-3," "]
["2009-10-12T02:26:46",60.036998748779297,3666.46728515625,350,-166.07244873046875,0,221.5,10,15,-103,7646.19,null,0,0,0,6.000518798828125E-3,6.000518798828125E-3," "]
["2009-10-12T02:26:48",60.036998748779297,3663.758056640625,350,-166.07244873046875,0,222,10,15,-103,7646.52,null,0,0,0,0,0," "]
["2009-10-12T02:26:50",60.035999298095703,3661.59912109375,350,-166.07244873046875,0,222.5,10,15,-103,7646.85,null,0,0,0,-9.9945068359375E-4,9.9945068359375E-4," "]
["2009-10-12T02:26:52",60.036998748779297,3660.67236328125,350,-166.07244873046875,0,223,10,15,-103,7647.18,null,0,0,0,9.9945068359375E-4,9.9945068359375E-4," "]
["2009-10-12T02:26:54",60.046001434326172,3651.49169921875,350,-166.07244873046875,0,223.5,10,15,-103,7647.51,null,0,0,0,9.002685546875E-3,9.002685546875E-3," "]
["2009-10-12T02:26:56",60.048000335693359,3649.1904296875,350,-163.76658630371094,0,224,10,15,-103,7647.84,null,0,0,0,1.9989013671875E-3,1.9989013671875E-3," "]
["2009-10-12T02:26:58",60.048000335693359,3650.025146484375,350,-163.76658630371094,0,224.5,10,15,-103,7648.17,null,0,0,0,0,0," "]
["2009-10-12T02:27:00",60.042999267578125,3648.246337890625,350,-163.76658630371094,0,225,10,15,-103,7648.5,null,0,0,0,-5.001068115234375E-3,5.001068115234375E-3," "]
["2009-10-12T02:27:02",60.041000366210938,3649.511962890625,350,-163.76658630371094,0,225.5,10,15,-103,7648.83,null,0,0,0,-1.9989013671875E-3,1.9989013671875E-3," "]
["2009-10-12T02:27:04",60.041000366210938,3654.29443359375,350,-163.76658630371094,0,226,10,15,-103,7649.16,null,0,0,0,0,0," "]
["2009-10-12T02:27:06",60.041000366210938,3655.0068359375,350,-165.1016845703125,0,226.5,10,15,-103,7649.49,null,0,0,0,0,0," "]
["2009-10-12T02:27:08",60.03900146484375,3651.874267578125,350,-165.1016845703125,0,227,10,15,-103,7649.82,null,0,0,0,-1.9989013671875E-3,1.9989013671875E-3," "]
["2009-10-12T02:27:10",60.041000366210938,3651.059326171875,350,-165.1016845703125,0,227.5,10,15,-103,7650.15,null,0,0,0,1.9989013671875E-3,1.9989013671875E-3," "]
["2009-10-12T02:27:12",60.042999267578125,3649.18701171875,350,-165.1016845703125,0,228,10,15,-103,7650.48,null,0,0,0,1.9989013671875E-3,1.9989013671875E-3," "]
["2009-10-12T02:27:14",60.044998168945313,3648.236328125,350,-165.1016845703125,0,228.5,10,15,-103,7650.81,null,0,0,0,1.9989013671875E-3,1.9989013671875E-3," "]
["2009-10-12T02:27:16",60.046001434326172,3645.386962890625,350,-165.47639465332031,0,229,10,15,-103,7651.14,null,0,0,0,1.003265380859375E-3,1.003265380859375E-3," "]
["2009-10-12T02:27:18",60.041000366210938,3644.627685546875,350,-165.47639465332031,0,229.5,10,15,-103,7651.47,null,0,0,0,-5.001068115234375E-3,5.001068115234375E-3," "]
["2009-10-12T02:27:20",60.041000366210938,3645.44580078125,350,-165.47639465332031,0,230,10,15,-103,7651.8,null,0,0,0,0,0," "]
["2009-10-12T02:27:22",60.041000366210938,3640.68212890625,350,-165.47639465332031,0,230.5,10,15,-103,7652.13,null,0,0,0,0,0," "]
["2009-10-12T02:27:24",60.03900146484375,3641.191162109375,350,-165.47639465332031,0,231,10,15,-103,7652.46,null,0,0,0,-1.9989013671875E-3,1.9989013671875E-3," "]
["2009-10-12T02:27:26",59.978000640869141,3659.46484375,350,-206.4591064453125,0,231.5,10,15,-103,7652.79,null,0,0,1,-6.1000823974609375E-2,6.1000823974609375E-2," "]
["2009-10-12T02:27:28",59.852001190185547,3696.3623046875,350,-206.4591064453125,0,232,10,0,-103,7616,null,1,{"$f":"IF((M307=1)*(B307>$N$2),1,0)","v":0},1,-0.12599945068359375,{"$f":"ABS(P307)","v":0.12599945068359375},{"$f":"IF(Q307>(AVERAGE(Q303:Q306)+R$2),1,\" \")","v":" "}]
["2009-10-12T02:27:30",59.83599853515625,3734.904296875,335,-206.4591064453125,0,232.5,10,0,-103,7626,null,1,0,1,-1.6002655029296875E-2,1.6002655029296875E-2," "]
["2009-10-12T02:27:32",59.868999481201172,3734.672607421875,335,-206.4591064453125,0,233,10,0,-103,7632,null,1,0,1,3.3000946044921875E-2,3.3000946044921875E-2," "]
["2009-10-12T02:27:34",59.891998291015625,3737.15673828125,335,-206.4591064453125,0,233.5,10,0,-103,7632,null,1,0,1,2.2998809814453125E-2,2.2998809814453125E-2," "]
["2009-10-12T02:27:36",59.890998840332031,3761.24951171875,335,-211.25604248046875,0,234,10,0,-103,7632,null,1,0,1,-9.9945068359375E-4,9.9945068359375E-4," "]
["2009-10-12T02:27:38",59.880001068115234,3766.113037109375,335,-211.25604248046875,1,234.5,10,0,-103,7632,null,1,0,1,-1.0997772216796875E-2,1.0997772216796875E-2," "]
["2009-10-12T02:27:40",59.875999450683594,3766.19384765625,335,-211.25604248046875,1,235,10,0,-103,7632,null,1,0,1,-4.001617431640625E-3,4.001617431640625E-3," "]
["2009-10-12T02:27:42",59.875,3768.876953125,335,-211.25604248046875,1,235.5,10,0,-103,7632,null,1,0,1,-9.9945068359375E-4,9.9945068359375E-4," "]
["2009-10-12T02:27:44",59.882999420166016,3769.925048828125,335,-211.25604248046875,1,236,10,0,-103,7632,null,1,0,1,7.999420166015625E-3,7.999420166015625E-3," "]
["2009-10-12T02:27:46",59.887001037597656,3780.62060546875,335,-214.34669494628906,1,236.5,10,0,-103,7632,null,1,0,1,4.001617431640625E-3,4.001617431640625E-3," "]
["2009-10-12T02:27:48",59.886001586914063,3781.591796875,335,-214.34669494628906,1,237,10,0,-103,7632,null,1,0,1,-9.9945068359375E-4,9.9945068359375E-4," "]
["2009-10-12T02:27:50",59.884998321533203,3782.49951171875,335,-214.34669494628906,1,237.5,10,0,-103,7632,null,1,0,1,-1.003265380859375E-3,1.003265380859375E-3," "]
["2009-10-12T02:27:52",59.887001037597656,3784.9619140625,335,-214.34669494628906,2,238,10,0,-103,7632,null,1,0,1,2.002716064453125E-3,2.002716064453125E-3," "]
["2009-10-12T02:27:54",59.88800048828125,3784.729736328125,335,-214.34669494628906,3,238.5,10,0,-103,7632,null,1,0,1,9.9945068359375E-4,9.9945068359375E-4," "]
["2009-10-12T02:27:56",59.889999389648437,3784.4189453125,335,-212.17269897460937,4,239,10,0,-103,7632,null,1,0,1,1.9989013671875E-3,1.9989013671875E-3," "]
["2009-10-12T02:27:58",59.895000457763672,3788.072265625,335,-212.17269897460937,5,239.5,10,0,-103,7632,null,1,0,1,5.001068115234375E-3,5.001068115234375E-3," "]
["2009-10-12T02:28:00",59.894001007080078,3788.32763671875,335,-212.17269897460937,6,240,10,0,-103,7632,null,1,0,1,-9.9945068359375E-4,9.9945068359375E-4," "]
["2009-10-12T02:28:02",59.893001556396484,3788.868408203125,335,-212.17269897460937,7,240.5,10,0,-103,7632,null,1,0,1,-9.9945068359375E-4,9.9945068359375E-4," "]
["2009-10-12T02:28:04",59.894001007080078,3788.471923828125,335,-212.17269897460937,8,241,10,0,-103,7632,null,1,0,1,9.9945068359375E-4,9.9945068359375E-4," "]
["2009-10-12T02:28:06",59.894001007080078,3792.275634765625,335,-215.59817504882812,9,241.5,10,0,-103,7632,null,1,0,1,0,0," "]
["2009-10-12T02:28:08",59.890998840332031,3793.074462890625,335,-215.59817504882812,10,242,10,0,-103,7632,null,1,0,{"$f":"IF(ROW()<$M$3,0,1)","v":1},-3.002166748046875E-3,3.002166748046875E-3," "]
["2009-10-12T02:28:10",59.889999389648437,3794.374267578125,335,-215.59817504882812,11,242.5,10,0,-103,7632,null,{"$f":"IF(ROW()<$M$5,0,1)","v":1},0,1,{"$f":"B328-B327","v":-9.9945068359375E-4},9.9945068359375E-4," "]
["2009-10-12T02:28:12",59.884998321533203,3799.427734375,335,-215.59817504882812,12,243,10,0,-103,7632,null,1,0,1,-5.001068115234375E-3,5.001068115234375E-3," "]
["2009-10-12T02:28:14",59.884998321533203,3800.427490234375,335,-215.59817504882812,13,243.5,10,0,-103,7632,null,1,0,1,0,0," "]
["2009-10-12T02:28:16",59.88800048828125,3799.959228515625,335,-218.32725524902344,14,244,10,0,-103,7632,null,1,0,1,3.002166748046875E-3,3.002166748046875E-3," "]
["2009-10-12T02:28:18",59.887001037597656,3803.625,335,-218.32725524902344,15,244.5,10,0,-103,7632,null,1,0,1,-9.9945068359375E-4,9.9945068359375E-4," "]
["2009-10-12T02:28:20",59.88800048828125,3802.925048828125,335,-218.32725524902344,16,245,10,0,-103,7632,null,1,0,1,9.9945068359375E-4,9.9945068359375E-4," "]
["2009-10-12T02:28:22",59.88800048828125,3802.950927734375,335,-218.32725524902344,16,245.5,10,0,-103,7632,null,1,0,1,0,0," "]
["2009-10-12T02:28:24",59.889999389648437,3804.387939453125,335,-218.32725524902344,16,246,10,0,-103,7632,null,1,0,1,1.9989013671875E-3,1.9989013671875E-3," "]
["2009-10-12T02:28:26",59.889000000000003,3805.49609375,335,-217.37942504882812,16,246.5,10,0,-103,7632,null,1,0,1,-9.9938964843460099E-4,9.9938964843460099E-4," "]
["2009-10-12T02:28:28",59.881999999999998,3805.61669921875,335,-217.37942504882812,16,247,10,0,-103,7632,null,1,0,1,-7.0000000000050022E-3,7.0000000000050022E-3," "]
["2009-10-12T02:28:30",59.873001098632813,3809.2373046875,335,-217.37942504882812,16,247.5,10,0,-103,7631,null,1,0,1,-8.9989013671853968E-3,8.9989013671853968E-3," "]
["2009-10-12T02:28:32",59.856998443603516,3811.5029296875,335,-217.37942504882812,16,248,10,0,-103,7625,null,1,0,1,-1.6002655029296875E-2,1.6002655029296875E-2," "]
["2009-10-12T02:28:34",59.8489990234375,3814.8623046875,335,-217.37942504882812,16,248.5,10,0,-103,7623,null,1,0,1,-7.999420166015625E-3,7.999420166015625E-3," "]
["2009-10-12T02:28:36",59.852001190185547,3815.888916015625,335,-214.83035278320312,16,249,10,0,-103,7621,null,1,0,1,3.002166748046875E-3,3.002166748046875E-3," "]
["2009-10-12T02:28:38",59.858001708984375,3825.642578125,335,-214.83035278320312,16,249.5,10,0,-103,7623,null,1,0,1,6.000518798828125E-3,6.000518798828125E-3," "]
["2009-10-12T02:28:40",59.862998962402344,3826.05322265625,335,-214.83035278320312,16,250,10,0,-103,7625,null,1,0,1,4.99725341796875E-3,4.99725341796875E-3," "]
["2009-10-12T02:28:42",59.866001129150391,3826.00244140625,335,-214.83035278320312,16,250.5,10,0,-103,7627,null,1,0,1,3.002166748046875E-3,3.002166748046875E-3," "]
["2009-10-12T02:28:44",59.865001678466797,3827.52392578125,335,-214.83035278320312,16,251,10,0,-103,7628,null,1,0,1,-9.9945068359375E-4,9.9945068359375E-4," "]
["2009-10-12T02:28:46",59.867000579833984,3826.753173828125,335,-227.65591430664062,16,251.5,10,0,-103,7628,null,1,0,1,1.9989013671875E-3,1.9989013671875E-3," "]
["2009-10-12T02:28:48",59.866001129150391,3826.783447265625,335,-227.65591430664062,16,252,10,0,-103,7629,null,1,0,1,-9.9945068359375E-4,9.9945068359375E-4," "]
["2009-10-12T02:28:50",59.870998382568359,3826.45361328125,335,-227.65591430664062,16,252.5,10,0,-103,7630,null,1,0,1,4.99725341796875E-3,4.99725341796875E-3," "]
["2009-10-12T02:28:52",59.874000549316406,3825.71337890625,335,-227.65591430664062,16,253,10,0,-103,7631,null,1,0,1,3.002166748046875E-3,3.002166748046875E-3," "]
["2009-10-12T02:28:54",59.879001617431641,3823.82568359375,335,-227.65591430664062,16,253.5,10,0,-103,7635,null,1,0,1,5.001068115234375E-3,5.001068115234375E-3," "]
["2009-10-12T02:28:56",59.880001068115234,3822.50537109375,335,-225.01808166503906,16,254,10,0,-103,7638,null,1,0,1,9.9945068359375E-4,9.9945068359375E-4," "]
["2009-10-12T02:28:58",59.882999420166016,3819.0810546875,335,-225.01808166503906,16,254.5,10,0,-103,7639,null,1,0,1,2.99835205078125E-3,2.99835205078125E-3," "]
["2009-10-12T02:29:00",59.886001586914063,3818.05517578125,335,-225.01808166503906,16,255,10,0,-103,7642,null,1,0,1,3.002166748046875E-3,3.002166748046875E-3," "]
["2009-10-12T02:29:02",59.889999389648437,3816.814697265625,335,-225.01808166503906,16,255.5,10,0,-103,7644,null,1,0,1,3.997802734375E-3,3.997802734375E-3," "]
["2009-10-12T02:29:04",59.891998291015625,3815.009765625,335,-225.01808166503906,16,256,10,0,-103,7645,null,1,0,1,1.9989013671875E-3,1.9989013671875E-3," "]
["2009-10-12T02:29:06",59.888999938964844,3813.78271484375,335,-228.36515808105469,16,256.5,10,0,-103,7647,null,1,0,1,-2.99835205078125E-3,2.99835205078125E-3," "]
["2009-10-12T02:29:08",59.893001556396484,3811.83837890625,335,-228.36515808105469,16,257,10,0,-103,7648,null,1,0,1,4.001617431640625E-3,4.001617431640625E-3," "]
["2009-10-12T02:29:10",59.898998260498047,3809.65185546875,335,-228.36515808105469,16,257.5,10,0,-103,7649,null,1,0,1,5.9967041015625E-3,5.9967041015625E-3," "]
["2009-10-12T02:29:12",59.902999877929688,3806.97216796875,335,-228.36515808105469,16,258,10,0,-103,7650,null,1,0,1,4.001617431640625E-3,4.001617431640625E-3," "]
["2009-10-12T02:29:14",59.902000427246094,3805.59326171875,335,-228.36515808105469,16,258.5,10,0,-103,7651,null,1,0,1,-9.9945068359375E-4,9.9945068359375E-4," "]
["2009-10-12T02:29:16",59.902000427246094,3804.1884765625,335,-234.07533264160156,16,259,10,0,-103,7652,null,1,0,1,0,0," "]
["2009-10-12T02:29:18",59.903999328613281,3796.07763671875,335,-234.07533264160156,16,259.5,10,0,-103,7653,null,1,0,1,1.9989013671875E-3,1.9989013671875E-3," "]
["2009-10-12T02:29:20",59.907001495361328,3793.97509765625,335,-234.07533264160156,16,260,10,0,-103,7654,null,1,0,1,3.002166748046875E-3,3.002166748046875E-3," "]
["2009-10-12T02:29:22",59.910999298095703,3792.16943359375,335,-234.07533264160156,16,260.5,10,0,-103,7655,null,1,0,1,3.997802734375E-3,3.997802734375E-3," "]
["2009-10-12T02:29:24",59.916000366210938,3791.501953125,335,-234.07533264160156,16,261,10,0,-103,7655,null,1,0,1,5.001068115234375E-3,5.001068115234375E-3," "]
["2009-10-12T02:29:26",59.916000366210938,3789.53369140625,335,-228.79815673828125,16,261.5,10,0,-103,7656,null,1,0,1,0,0," "]
["2009-10-12T02:29:28",59.916999816894531,3788.132080078125,335,-228.79815673828125,16,262,10,0,-103,7656,null,1,0,1,9.9945068359375E-4,9.9945068359375E-4," "]
["2009-10-12T02:29:30",59.917999267578125,3784.5634765625,335,-228.79815673828125,16,262.5,10,0,-103,7657,null,1,0,1,9.9945068359375E-4,9.9945068359375E-4," "]
["2009-10-12T02:29:32",59.919998168945313,3783.0283203125,335,-228.79815673828125,16,263,10,0,-103,7657,null,1,0,1,1.9989013671875E-3,1.9989013671875E-3," "]
["2009-10-12T02:29:34",59.921001434326172,3781.701171875,335,-228.79815673828125,16,263.5,10,0,-103,7658,null,1,0,1,1.003265380859375E-3,1.003265380859375E-3," "]
["2009-10-12T02:29:36",59.919998168945313,3776.3583984375,335,-229.46696472167969,16,264,10,0,-103,7658,null,1,{"$f":"IF((M371=1)*(B371>$N$2),1,0)","v":0},1,-1.003265380859375E-3,{"$f":"ABS(P371)","v":1.003265380859375E-3},{"$f":"IF(Q371>(AVERAGE(Q367:Q370)+R$2),1,\" \")","v":" "}]
["2009-10-12T02:29:38",59.916999816894531,3775.635498046875,335,-229.46696472167969,16,264.5,10,0,-103,7659,null,1,0,1,-2.99835205078125E-3,2.99835205078125E-3," "]
["2009-10-12T02:29:40",59.919998168945313,3774.604248046875,335,-229.46696472167969,16,265,10,0,-103,7659,null,1,0,1,2.99835205078125E-3,2.99835205078125E-3," "]
["2009-10-12T02:29:42",59.921001434326172,3773.333740234375,335,-229.46696472167969,16,265.5,10,0,-103,7659,null,1,0,1,1.003265380859375E-3,1.003265380859375E-3," "]
["2009-10-12T02:29:44",59.923000335693359,3773.957763671875,335,-229.46696472167969,16,266,10,0,-103,7660,null,1,0,1,1.9989013671875E-3,1.9989013671875E-3," "]
["2009-10-12T02:29:46",59.925998687744141,3772.722412109375,335,-228.98016357421875,16,266.5,10,0,-103,7660,null,1,0,1,2.99835205078125E-3,2.99835205078125E-3," "]
["2009-10-12T02:29:48",59.924999237060547,3771.67041015625,335,-228.98016357421875,16,267,10,0,-103,7661,null,1,0,1,-9.9945068359375E-4,9.9945068359375E-4," "]
["2009-10-12T02:29:50",59.928001403808594,3769.629638671875,335,-228.98016357421875,16,267.5,10,0,-103,7661,null,1,0,1,3.002166748046875E-3,3.002166748046875E-3," "]
["2009-10-12T02:29:52",59.926998138427734,3768.70703125,335,-228.98016357421875,16,268,10,0,-103,7662,null,1,0,1,-1.003265380859375E-3,1.003265380859375E-3," "]
["2009-10-12T02:29:54",59.931999206542969,3767.642822265625,335,-228.98016357421875,16,268.5,10,0,-103,7662,null,1,0,1,5.001068115234375E-3,5.001068115234375E-3," "]
["2009-10-12T02:29:56",59.926998138427734,3767.02099609375,335,-219.97555541992187,16,269,10,0,-103,7663,null,1,0,1,-5.001068115234375E-3,5.001068115234375E-3," "]
["2009-10-12T02:29:58",59.928001403808594,3767.407958984375,335,-219.97555541992187,16,269.5,10,0,-103,7663,null,1,0,1,1.003265380859375E-3,1.003265380859375E-3," "]
["2009-10-12T02:30:00",59.930999755859375,3766.7880859375,335,-219.97555541992187,16,270,10,0,-103,7664,null,1,0,1,2.99835205078125E-3,2.99835205078125E-3," "]
["2009-10-12T02:30:02",59.929000854492187,3766.259033203125,335,-219.97555541992187,16,270.5,10,0,-103,7664,null,1,0,1,-1.9989013671875E-3,1.9989013671875E-3," "]
["2009-10-12T02:30:04",59.930999755859375,3765.671630859375,335,-219.97555541992187,16,271,10,0,-103,7665,null,1,0,1,1.9989013671875E-3,1.9989013671875E-3," "]
["2009-10-12T02:30:06",59.932998657226562,3766.12255859375,335,-229.08924865722656,16,271.5,10,0,-103,7666,null,1,0,1,1.9989013671875E-3,1.9989013671875E-3," "]
["2009-10-12T02:30:08",59.937000274658203,3764.24267578125,335,-229.08924865722656,16,272,10,0,-103,7666,null,1,0,1,4.001617431640625E-3,4.001617431640625E-3," "]
["2009-10-12T02:30:10",59.937000274658203,3765.10498046875,335,-229.08924865722656,16,272.5,10,0,-103,7667,null,1,0,1,0,0," "]
["2009-10-12T02:30:12",59.944999694824219,3762.935302734375,335,-229.08924865722656,16,273,10,0,-103,7668,null,1,0,1,7.999420166015625E-3,7.999420166015625E-3," "]
["2009-10-12T02:30:14",59.949001312255859,3758.38720703125,335,-229.08924865722656,16,273.5,10,0,-103,7668,null,1,0,1,4.001617431640625E-3,4.001617431640625E-3," "]
["2009-10-12T02:30:16",59.946998596191406,3753.92236328125,335,-229.66326904296875,16,274,10,0,-103,7669,null,1,0,{"$f":"IF(ROW()<$M$3,0,1)","v":1},-2.002716064453125E-3,2.002716064453125E-3," "]
["2009-10-12T02:30:18",59.942001342773438,3749.8671875,335,-229.66326904296875,16,274.5,10,0,-103,7669,null,{"$f":"IF(ROW()<$M$5,0,1)","v":1},0,1,{"$f":"B392-B391","v":-4.99725341796875E-3},4.99725341796875E-3," "]
["2009-10-12T02:30:20",59.941001892089844,3746.888671875,335,-229.66326904296875,16,275,10,0,-103,7670,null,1,0,1,-9.9945068359375E-4,9.9945068359375E-4," "]
["2009-10-12T02:30:22",59.942001342773438,3747.87548828125,335,-229.66326904296875,16,275.5,10,0,-103,7670,null,1,0,1,9.9945068359375E-4,9.9945068359375E-4," "]
["2009-10-12T02:30:24",59.944999694824219,3749.59326171875,335,-229.66326904296875,16,276,10,0,-103,7671,null,1,0,1,2.99835205078125E-3,2.99835205078125E-3," "]
["2009-10-12T02:30:26",59.948001861572266,3748.6611328125,335,-229.23385620117187,16,276.5,10,0,-103,7671,null,1,0,1,3.002166748046875E-3,3.002166748046875E-3," "]
["2009-10-12T02:30:28",59.946998596191406,3746.7060546875,335,-229.23385620117187,16,277,10,0,-103,7672,null,1,0,1,-1.003265380859375E-3,1.003265380859375E-3," "]
["2009-10-12T02:30:30",59.949001312255859,3749.076904296875,335,-229.23385620117187,16,277.5,10,0,-103,7673,null,1,0,1,2.002716064453125E-3,2.002716064453125E-3," "]
["2009-10-12T02:30:32",59.951000213623047,3742.741455078125,335,-229.23385620117187,16,278,10,0,-103,7673,null,1,0,1,1.9989013671875E-3,1.9989013671875E-3," "]
["2009-10-12T02:30:34",59.951999664306641,3740.259033203125,350,-229.23385620117187,16,278.5,10,0,-103,7673,null,1,0,1,9.9945068359375E-4,9.9945068359375E-4," "]
["2009-10-12T02:30:36",59.952999114990234,3736.13916015625,350,-231.40988159179687,16,279,10,0,-103,7673,null,1,0,1,9.9945068359375E-4,9.9945068359375E-4," "]
["2009-10-12T02:30:38",59.951000213623047,3731.382080078125,350,-231.40988159179687,16,279.5,10,0,-103,7673,null,1,0,1,-1.9989013671875E-3,1.9989013671875E-3," "]
["2009-10-12T02:30:40",59.951999664306641,3727.83837890625,350,-231.40988159179687,16,280,10,0,-103,7673,null,1,0,1,9.9945068359375E-4,9.9945068359375E-4," "]
["2009-10-12T02:30:42",59.951999664306641,3725.95166015625,350,-231.40988159179687,16,280.5,10,0,-103,7673,null,1,0,1,0,0," "]
["2009-10-12T02:30:44",59.951999664306641,3722.64892578125,350,-231.40988159179687,16,281,10,0,-103,7673,null,1,0,1,0,0," "]
["2009-10-12T02:30:46",59.955001831054688,3720.578125,350,-218.62228393554687,16,281.5,10,0,-103,7673,null,1,0,1,3.002166748046875E-3,3.002166748046875E-3," "]
["2009-10-12T02:30:48",59.951999664306641,3717.99609375,350,-218.62228393554687,16,282,10,0,-103,7673,null,1,0,1,-3.002166748046875E-3,3.002166748046875E-3," "]
["2009-10-12T02:30:50",59.953998565673828,3718.141845703125,350,-218.62228393554687,16,282.5,10,0,-103,7673,null,1,0,1,1.9989013671875E-3,1.9989013671875E-3," "]
["2009-10-12T02:30:52",59.951999664306641,3715.752685546875,350,-218.62228393554687,16,283,10,0,-103,7673,null,1,0,1,-1.9989013671875E-3,1.9989013671875E-3," "]
["2009-10-12T02:30:54",59.952999114990234,3713.69384765625,350,-218.62228393554687,16,283.5,10,0,-103,7673,null,1,0,1,9.9945068359375E-4,9.9945068359375E-4," "]
["2009-10-12T02:30:56",59.952999114990234,3713.483642578125,350,-213.53585815429687,16,284,10,0,-103,7673,null,1,0,1,0,0," "]
["2009-10-12T02:30:58",59.951999664306641,3710.84814453125,350,-213.53585815429687,16,284.5,10,0,-103,7673,null,1,0,1,-9.9945068359375E-4,9.9945068359375E-4," "]
["2009-10-12T02:31:00",59.953998565673828,3710.81005859375,350,-213.53585815429687,16,285,10,0,-103,7673,null,1,0,1,1.9989013671875E-3,1.9989013671875E-3," "]
["2009-10-12T02:31:02",59.953998565673828,3712.091796875,350,-213.53585815429687,16,285.5,10,0,-103,7674,null,1,0,1,0,0," "]
["2009-10-12T02:31:04",59.958999633789063,3714.62255859375,350,-213.53585815429687,16,286,10,0,-103,7675,null,1,0,1,5.001068115234375E-3,5.001068115234375E-3," "]
["2009-10-12T02:31:06",59.957000732421875,3715.129638671875,350,-225.65185546875,16,286.5,10,0,-103,7676,null,1,0,1,-1.9989013671875E-3,1.9989013671875E-3," "]
["2009-10-12T02:31:08",59.956001281738281,3716.168212890625,350,-225.65185546875,16,287,10,0,-103,7677,null,1,0,1,-9.9945068359375E-4,9.9945068359375E-4," "]
["2009-10-12T02:31:10",59.953998565673828,3716.46142578125,350,-225.65185546875,16,287.5,10,0,-103,7678,null,1,0,1,-2.002716064453125E-3,2.002716064453125E-3," "]
["2009-10-12T02:31:12",59.956001281738281,3716.97998046875,350,-225.65185546875,16,288,10,0,-103,7679,null,1,0,1,2.002716064453125E-3,2.002716064453125E-3," "]
["2009-10-12T02:31:14",59.955001831054688,3717.759033203125,350,-225.65185546875,16,288.5,10,0,-103,7680,null,1,0,1,-9.9945068359375E-4,9.9945068359375E-4," "]
["2009-10-12T02:31:16",59.958000183105469,3722.361328125,350,-212.57363891601562,16,289,10,0,-103,7681,null,1,0,1,2.99835205078125E-3,2.99835205078125E-3," "]
["2009-10-12T02:31:18",59.96099853515625,3721.97314453125,350,-212.57363891601562,16,289.5,10,0,-103,7682,null,1,0,1,2.99835205078125E-3,2.99835205078125E-3," "]
["2009-10-12T02:31:20",59.962001800537109,3722.657958984375,350,-212.57363891601562,16,290,10,0,-103,7684,null,1,0,1,1.003265380859375E-3,1.003265380859375E-3," "]
["2009-10-12T02:31:22",59.962001800537109,3722.2666015625,350,-212.57363891601562,16,290.5,10,0,-103,7685,null,1,0,1,0,0," "]
["2009-10-12T02:31:24",59.967998504638672,3722.277587890625,350,-212.57363891601562,16,291,10,0,-103,7687,null,1,0,1,5.9967041015625E-3,5.9967041015625E-3," "]
["2009-10-12T02:31:26",59.965999603271484,3721.78662109375,350,-219.89729309082031,16,291.5,10,0,-103,7689,null,1,0,1,-1.9989013671875E-3,1.9989013671875E-3," "]
["2009-10-12T02:31:28",59.965999603271484,3723.0908203125,350,-219.89729309082031,16,292,10,0,-103,7690,null,1,0,1,0,0," "]
["2009-10-12T02:31:30",59.967998504638672,3723.98388671875,350,-219.89729309082031,16,292.5,10,0,-103,7692,null,1,0,1,1.9989013671875E-3,1.9989013671875E-3," "]
["2009-10-12T02:31:32",59.970001220703125,3723.4345703125,350,-219.89729309082031,16,293,10,0,-103,7692,null,1,0,1,2.002716064453125E-3,2.002716064453125E-3," "]
["2009-10-12T02:31:34",59.9739990234375,3723.89306640625,350,-219.89729309082031,16,293.5,10,0,-103,7693,null,1,0,1,3.997802734375E-3,3.997802734375E-3," "]
["2009-10-12T02:31:36",59.970001220703125,3725.40283203125,350,-231.17539978027344,16,294,10,0,-103,7693,null,1,0,1,-3.997802734375E-3,3.997802734375E-3," "]
["2009-10-12T02:31:38",59.969001770019531,3727.12109375,350,-231.17539978027344,16,294.5,10,0,-103,7694,null,1,0,1,-9.9945068359375E-4,9.9945068359375E-4," "]
["2009-10-12T02:31:40",59.969001770019531,3728.052978515625,350,-231.17539978027344,16,295,10,0,-103,7694,null,1,0,1,0,0," "]
["2009-10-12T02:31:42",59.970001220703125,3731.1298828125,350,-231.17539978027344,16,295.5,10,0,-103,7695,null,1,0,1,9.9945068359375E-4,9.9945068359375E-4," "]
["2009-10-12T02:31:44",59.971000671386719,3732.530029296875,350,-231.17539978027344,16,296,10,0,-103,7695,null,1,{"$f":"IF((M435=1)*(B435>$N$2),1,0)","v":0},1,9.9945068359375E-4,{"$f":"ABS(P435)","v":9.9945068359375E-4},{"$f":"IF(Q435>(AVERAGE(Q431:Q434)+R$2),1,\" \")","v":" "}]
["2009-10-12T02:31:46",59.972999572753906,3733.3271484375,350,-226.63412475585937,16,296.5,10,0,-103,7695,null,1,0,1,1.9989013671875E-3,1.9989013671875E-3," "]
["2009-10-12T02:31:48",59.972999572753906,3736.53515625,350,-226.63412475585937,16,297,10,0,-103,7696,null,1,0,1,0,0," "]
["2009-10-12T02:31:50",59.976001739501953,3736.907470703125,350,-226.63412475585937,16,297.5,10,0,-103,7696,null,1,0,1,3.002166748046875E-3,3.002166748046875E-3," "]
["2009-10-12T02:31:52",59.978000640869141,3736.82177734375,350,-226.63412475585937,16,298,10,0,-103,7697,null,1,0,1,1.9989013671875E-3,1.9989013671875E-3," "]
["2009-10-12T02:31:54",59.978000640869141,3738.69921875,350,-226.63412475585937,16,298.5,10,0,-103,7697,null,1,0,1,0,0," "]
["2009-10-12T02:31:56",59.976001739501953,3739.94384765625,350,-227.25506591796875,16,299,10,0,-103,7697,null,1,0,1,-1.9989013671875E-3,1.9989013671875E-3," "]
["2009-10-12T02:31:58",59.978000640869141,3740.876953125,350,-227.25506591796875,16,299.5,10,0,-103,7698,null,1,0,1,1.9989013671875E-3,1.9989013671875E-3," "]
["2009-10-12T02:32:00",59.976001739501953,3741.793701171875,350,-227.25506591796875,16,300,10,0,-103,7698,null,1,0,1,-1.9989013671875E-3,1.9989013671875E-3," "]
["2009-10-12T02:32:02",59.978000640869141,3745.233642578125,350,-227.25506591796875,16,300.5,10,0,-103,7698.33,null,1,0,1,1.9989013671875E-3,1.9989013671875E-3," "]
["2009-10-12T02:32:04",59.977001190185547,3746.60791015625,350,-227.25506591796875,16,301,10,0,-103,7698.66,null,1,0,1,-9.9945068359375E-4,9.9945068359375E-4," "]
["2009-10-12T02:32:06",59.979999542236328,3748.2998046875,350,-229.29022216796875,16,301.5,10,0,-103,7698.99,null,1,0,1,2.99835205078125E-3,2.99835205078125E-3," "]
["2009-10-12T02:32:08",59.981998443603516,3750.71630859375,350,-229.29022216796875,16,302,10,0,-103,7699.32,null,1,0,1,1.9989013671875E-3,1.9989013671875E-3," "]
["2009-10-12T02:32:10",59.980998992919922,3751.5576171875,350,-229.29022216796875,16,302.5,10,0,-103,7699.65,null,1,0,1,-9.9945068359375E-4,9.9945068359375E-4," "]
["2009-10-12T02:32:12",59.979999542236328,3752.74755859375,350,-229.29022216796875,16,303,10,0,-103,7699.98,null,1,0,1,-9.9945068359375E-4,9.9945068359375E-4," "]
["2009-10-12T02:32:14",59.979000091552734,3755.5986328125,350,-229.29022216796875,16,303.5,10,0,-103,7700.31,null,1,0,1,-9.9945068359375E-4,9.9945068359375E-4," "]
["2009-10-12T02:32:16",59.979999542236328,3756.4072265625,350,-221.46136474609375,16,304,10,0,-103,7700.64,null,1,0,1,9.9945068359375E-4,9.9945068359375E-4," "]
["2009-10-12T02:32:18",59.979000091552734,3756.975341796875,350,-221.46136474609375,16,304.5,10,0,-103,7700.97,null,1,0,1,-9.9945068359375E-4,9.9945068359375E-4," "]
["2009-10-12T02:32:20",59.983001708984375,3760.4052734375,350,-221.46136474609375,16,305,10,0,-103,7701.3,null,1,0,1,4.001617431640625E-3,4.001617431640625E-3," "]
["2009-10-12T02:32:22",59.983001708984375,3760.982177734375,350,-221.46136474609375,16,305.5,10,0,-103,7701.63,null,1,0,1,0,0," "]
["2009-10-12T02:32:24",59.984001159667969,3761.406982421875,350,-221.46136474609375,16,306,10,0,-103,7701.96,null,1,0,{"$f":"IF(ROW()<$M$3,0,1)","v":1},9.9945068359375E-4,9.9945068359375E-4," "]
["2009-10-12T02:32:26",59.987998962402344,3762.7373046875,350,-241.27436828613281,16,306.5,10,0,-103,7702.29,null,{"$f":"IF(ROW()<$M$5,0,1)","v":1},0,1,{"$f":"B456-B455","v":3.997802734375E-3},3.997802734375E-3," "]
["2009-10-12T02:32:28",59.988998413085937,3763.212158203125,350,-241.27436828613281,16,307,10,0,-103,7702.62,null,1,0,1,9.9945068359375E-4,9.9945068359375E-4," "]
["2009-10-12T02:32:30",59.98699951171875,3764.95751953125,350,-241.27436828613281,16,307.5,10,0,-103,7702.95,null,1,0,1,-1.9989013671875E-3,1.9989013671875E-3," "]
["2009-10-12T02:32:32",59.98699951171875,3766.085205078125,350,-241.27436828613281,16,308,10,0,-103,7703.28,null,1,0,1,0,0," "]
["2009-10-12T02:32:34",59.991001129150391,3766.43310546875,350,-241.27436828613281,16,308.5,10,0,-103,7703.61,null,1,0,1,4.001617431640625E-3,4.001617431640625E-3," "]
["2009-10-12T02:32:36",59.993000030517578,3767.2509765625,350,-243.07185363769531,16,309,10,0,-103,7703.94,null,1,0,1,1.9989013671875E-3,1.9989013671875E-3," "]
["2009-10-12T02:32:38",59.992000579833984,3767.79248046875,350,-243.07185363769531,16,309.5,10,0,-103,7704.27,null,1,0,1,-9.9945068359375E-4,9.9945068359375E-4," "]
["2009-10-12T02:32:40",59.991001129150391,3768.633544921875,350,-243.07185363769531,16,310,10,0,-103,7704.6,null,1,0,1,-9.9945068359375E-4,9.9945068359375E-4," "]
["2009-10-12T02:32:42",59.988998413085937,3771.146484375,350,-243.07185363769531,16,310.5,10,0,-103,7704.93,null,1,0,1,-2.002716064453125E-3,2.002716064453125E-3," "]
["2009-10-12T02:32:44",59.986000061035156,3772.444580078125,350,-243.07185363769531,16,311,10,0,-103,7705.26,null,1,0,1,-2.99835205078125E-3,2.99835205078125E-3," "]
["2009-10-12T02:32:46",59.983001708984375,3773.69482421875,350,-241.67021179199219,16,311.5,10,0,-103,7705.59,null,1,0,1,-2.99835205078125E-3,2.99835205078125E-3," "]
["2009-10-12T02:32:48",59.983001708984375,3774.66845703125,350,-241.67021179199219,16,312,10,0,-103,7705.92,null,1,0,1,0,0," "]
["2009-10-12T02:32:50",59.987998962402344,3775.8408203125,350,-241.67021179199219,16,312.5,10,0,-103,7706.25,null,1,0,1,4.99725341796875E-3,4.99725341796875E-3," "]
["2009-10-12T02:32:52",59.993000030517578,3775.36328125,350,-241.67021179199219,16,313,10,0,-103,7706.58,null,1,0,1,5.001068115234375E-3,5.001068115234375E-3," "]
["2009-10-12T02:32:54",59.995998382568359,3774.8662109375,350,-241.67021179199219,16,313.5,10,0,-103,7706.91,null,1,0,1,2.99835205078125E-3,2.99835205078125E-3," "]
["2009-10-12T02:32:56",59.998001098632813,3775.49169921875,350,-228.14930725097656,16,314,10,0,-103,7707.24,null,1,0,1,2.002716064453125E-3,2.002716064453125E-3," "]
["2009-10-12T02:32:58",59.999000549316406,3776.420166015625,350,-228.14930725097656,16,314.5,10,0,-103,7707.57,null,1,0,1,9.9945068359375E-4,9.9945068359375E-4," "]
["2009-10-12T02:33:00",60.000999450683594,3778.5537109375,350,-228.14930725097656,16,315,10,0,-103,7707.9,null,1,1,1,1.9989013671875E-3,1.9989013671875E-3," "]
["2009-10-12T02:33:02",59.999000549316406,3779.69189453125,350,-228.14930725097656,16,315.5,10,0,-103,7708.23,null,1,0,1,-1.9989013671875E-3,1.9989013671875E-3," "]
["2009-10-12T02:33:04",59.999000549316406,3781.255859375,350,-228.14930725097656,16,316,10,0,-103,7708.56,null,1,0,1,0,0," "]
["2009-10-12T02:33:06",59.999000549316406,3780.594970703125,350,-235.12898254394531,16,316.5,10,0,-103,7708.89,null,1,0,1,0,0," "]
["2009-10-12T02:33:08",60.001998901367188,3783.092041015625,350,-235.12898254394531,16,317,10,0,-103,7709.22,null,1,1,1,2.99835205078125E-3,2.99835205078125E-3," "]
["2009-10-12T02:33:10",60.005001068115234,3783.8955078125,350,-235.12898254394531,16,317.5,10,0,-103,7709.55,null,1,1,1,3.002166748046875E-3,3.002166748046875E-3," "]
["2009-10-12T02:33:12",60.006999969482422,3784.4208984375,350,-235.12898254394531,16,318,10,0,-103,7709.88,null,1,1,1,1.9989013671875E-3,1.9989013671875E-3," "]
["2009-10-12T02:33:14",60.007999420166016,3785.76806640625,350,-235.12898254394531,16,318.5,10,0,-103,7710.21,null,1,1,1,9.9945068359375E-4,9.9945068359375E-4," "]
["2009-10-12T02:33:16",60.011001586914063,3785.462646484375,350,-246.43313598632812,16,319,10,0,-103,7710.54,null,1,1,1,3.002166748046875E-3,3.002166748046875E-3," "]
["2009-10-12T02:33:18",60.013999938964844,3786.850341796875,350,-246.43313598632812,16,319.5,10,0,-103,7710.87,null,1,1,1,2.99835205078125E-3,2.99835205078125E-3," "]
["2009-10-12T02:33:20",60.016998291015625,3786.30419921875,350,-246.43313598632812,16,320,10,0,-103,7711.2,null,1,1,1,2.99835205078125E-3,2.99835205078125E-3," "]
["2009-10-12T02:33:22",60.019001007080078,3787.25927734375,350,-246.43313598632812,16,320.5,10,0,-103,7711.53,null,1,1,1,2.002716064453125E-3,2.002716064453125E-3," "]
["2009-10-12T02:33:24",60.020999908447266,3787.515869140625,350,-246.43313598632812,16,321,10,0,-103,7711.86,null,1,1,1,1.9989013671875E-3,1.9989013671875E-3," "]
["2009-10-12T02:33:26",60.016998291015625,3787.955078125,350,-236.55354309082031,16,321.5,10,0,-103,7712.19,null,1,1,1,-4.001617431640625E-3,4.001617431640625E-3," "]
["2009-10-12T02:33:28",60.016998291015625,3788.0302734375,350,-236.55354309082031,16,322,10,0,-103,7712.52,null,1,1,1,0,0," "]
["2009-10-12T02:33:30",60.019001007080078,3788.606689453125,350,-236.55354309082031,16,322.5,10,0,-103,7712.85,null,1,1,1,2.002716064453125E-3,2.002716064453125E-3," "]
["2009-10-12T02:33:32",60.022998809814453,3789.2158203125,350,-236.55354309082031,16,323,10,0,-103,7713.18,null,1,1,1,3.997802734375E-3,3.997802734375E-3," "]
["2009-10-12T02:33:34",60.023998260498047,3787.53662109375,350,-236.55354309082031,16,323.5,10,0,-103,7713.51,null,1,1,1,9.9945068359375E-4,9.9945068359375E-4," "]
["2009-10-12T02:33:36",60.025001525878906,3785.841796875,350,-230.29756164550781,16,324,10,0,-103,7713.84,null,1,1,1,1.003265380859375E-3,1.003265380859375E-3," "]
["2009-10-12T02:33:38",60.020999908447266,3786.07666015625,350,-230.29756164550781,16,324.5,10,0,-103,7714.17,null,1,1,1,-4.001617431640625E-3,4.001617431640625E-3," "]
["2009-10-12T02:33:40",60.019001007080078,3787.930419921875,350,-230.29756164550781,16,325,10,0,-103,7714.5,null,1,1,1,-1.9989013671875E-3,1.9989013671875E-3," "]
["2009-10-12T02:33:42",60.023998260498047,3788.76025390625,350,-230.29756164550781,16,325.5,10,0,-103,7714.83,null,1,1,1,4.99725341796875E-3,4.99725341796875E-3," "]
["2009-10-12T02:33:44",60.023998260498047,3786.874755859375,350,-230.29756164550781,16,326,10,0,-103,7715.16,null,1,1,1,0,0," "]
["2009-10-12T02:33:46",60.020999908447266,3786.5498046875,350,-231.175537109375,16,326.5,10,0,-103,7715.49,null,1,1,1,-2.99835205078125E-3,2.99835205078125E-3," "]
["2009-10-12T02:33:48",60.020000457763672,3787.357666015625,350,-231.175537109375,16,327,10,0,-103,7715.82,null,1,1,1,-9.9945068359375E-4,9.9945068359375E-4," "]
["2009-10-12T02:33:50",60.025001525878906,3785.01806640625,350,-231.175537109375,16,327.5,10,0,-103,7716.15,null,1,1,1,5.001068115234375E-3,5.001068115234375E-3," "]
["2009-10-12T02:33:52",60.023998260498047,3785.614013671875,350,-231.175537109375,16,328,10,0,-103,7716.48,null,1,{"$f":"IF((M499=1)*(B499>$N$2),1,0)","v":1},1,-1.003265380859375E-3,{"$f":"ABS(P499)","v":1.003265380859375E-3},{"$f":"IF(Q499>(AVERAGE(Q495:Q498)+R$2),1,\" \")","v":" "}]
["2009-10-12T02:33:54",60.020000457763672,3785.94921875,350,-231.175537109375,16,328.5,10,0,-103,7716.81,null,1,1,1,-3.997802734375E-3,3.997802734375E-3," "]
["2009-10-12T02:33:56",60.020000457763672,3785.8037109375,350,-225.61763000488281,16,329,10,0,-103,7717.14,null,1,1,1,0,0," "]
["2009-10-12T02:33:58",60.021999359130859,3786.8642578125,350,-225.61763000488281,16,329.5,10,0,-103,7717.47,null,1,1,1,1.9989013671875E-3,1.9989013671875E-3," "]
["2009-10-12T02:34:00",60.021999359130859,3786.877197265625,350,-225.61763000488281,16,330,10,0,-103,7717.8,null,1,1,1,0,0," "]
["2009-10-12T02:34:02",60.021999359130859,3785.25390625,350,-225.61763000488281,16,330.5,10,0,-103,7718.13,null,1,1,1,0,0," "]
["2009-10-12T02:34:04",60.020999908447266,3785.72607421875,350,-225.61763000488281,16,331,10,0,-103,7718.46,null,1,1,1,-9.9945068359375E-4,9.9945068359375E-4," "]
["2009-10-12T02:34:06",60.020999908447266,3786.346923828125,350,-230.73442077636719,16,331.5,10,0,-103,7718.79,null,1,1,1,0,0," "]
["2009-10-12T02:34:08",60.022998809814453,3785.821044921875,350,-230.73442077636719,16,332,10,0,-103,7719.12,null,1,1,1,1.9989013671875E-3,1.9989013671875E-3," "]
["2009-10-12T02:34:10",60.022998809814453,3785.79833984375,350,-230.73442077636719,16,332.5,10,0,-103,7719.45,null,1,1,1,0,0," "]
["2009-10-12T02:34:12",60.021999359130859,3786.2841796875,350,-230.73442077636719,16,333,10,0,-103,7719.78,null,1,1,1,-9.9945068359375E-4,9.9945068359375E-4," "]
["2009-10-12T02:34:14",60.019001007080078,3786.939208984375,350,-230.73442077636719,16,333.5,10,0,-103,7720.11,null,1,1,1,-2.99835205078125E-3,2.99835205078125E-3," "]
["2009-10-12T02:34:16",60.015998840332031,3787.62744140625,350,-234.84710693359375,16,334,10,0,-103,7720.44,null,1,1,1,-3.002166748046875E-3,3.002166748046875E-3," "]
["2009-10-12T02:34:18",60.018001556396484,3789.4443359375,350,-234.84710693359375,16,334.5,10,0,-103,7720.77,null,1,1,1,2.002716064453125E-3,2.002716064453125E-3," "]
["2009-10-12T02:34:20",60.018001556396484,3789.67333984375,350,-234.84710693359375,16,335,10,0,-103,7721.1,null,1,1,1,0,0," "]
["2009-10-12T02:34:22",60.018001556396484,3789.404296875,350,-234.84710693359375,16,335.5,10,0,-103,7721.43,null,1,1,1,0,0," "]
["2009-10-12T02:34:24",60.019001007080078,3788.478759765625,350,-234.84710693359375,16,336,10,0,-103,7721.76,null,1,1,1,9.9945068359375E-4,9.9945068359375E-4," "]
["2009-10-12T02:34:26",60.019001007080078,3789.183349609375,350,-228.96092224121094,16,336.5,10,0,-103,7722.09,null,1,1,1,0,0," "]
["2009-10-12T02:34:28",60.015998840332031,3789.368896484375,350,-228.96092224121094,16,337,10,0,-103,7722.42,null,1,1,1,-3.002166748046875E-3,3.002166748046875E-3," "]
["2009-10-12T02:34:30",60.014999389648438,3789.0048828125,350,-228.96092224121094,16,337.5,10,0,-103,7722.75,null,1,1,1,-9.9945068359375E-4,9.9945068359375E-4," "]
["2009-10-12T02:34:32",60.015998840332031,3788.66455078125,350,-228.96092224121094,16,338,10,0,-103,7723.08,null,1,1,{"$f":"IF(ROW()<$M$3,0,1)","v":1},9.9945068359375E-4,9.9945068359375E-4," "]
["2009-10-12T02:34:34",60.013999938964844,3788.932861328125,350,-228.96092224121094,16,338.5,10,0,-103,7723.41,null,{"$f":"IF(ROW()<$M$5,0,1)","v":1},1,1,{"$f":"B520-B519","v":-1.9989013671875E-3},1.9989013671875E-3," "]
["2009-10-12T02:34:36",60.01300048828125,3790.6669921875,350,-231.17791748046875,16,339,10,0,-103,7723.74,null,1,1,1,-9.9945068359375E-4,9.9945068359375E-4," "]
["2009-10-12T02:34:38",60.012001037597656,3790.80517578125,350,-231.17791748046875,16,339.5,10,0,-103,7724.07,null,1,1,1,-9.9945068359375E-4,9.9945068359375E-4," "]
["2009-10-12T02:34:40",60.012001037597656,3790.4111328125,350,-231.17791748046875,16,340,10,0,-103,7724.4,null,1,1,1,0,0," "]
["2009-10-12T02:34:42",60.009998321533203,3789.7685546875,350,-231.17791748046875,16,340.5,10,0,-103,7724.73,null,1,1,1,-2.002716064453125E-3,2.002716064453125E-3," "]
["2009-10-12T02:34:44",60.006999969482422,3791.539794921875,350,-231.17791748046875,16,341,10,0,-103,7725.06,null,1,1,1,-2.99835205078125E-3,2.99835205078125E-3," "]
["2009-10-12T02:34:46",60.006999969482422,3792.9453125,350,-236.48928833007812,16,341.5,10,0,-103,7725.39,null,1,1,1,0,0," "]
["2009-10-12T02:34:48",60.008998870849609,3791.027099609375,350,-236.48928833007812,16,342,10,0,-103,7725.72,null,1,1,1,1.9989013671875E-3,1.9989013671875E-3," "]
["2009-10-12T02:34:50",60.008998870849609,3791.443115234375,350,-236.48928833007812,16,342.5,10,0,-103,7726.05,null,1,1,1,0,0," "]
["2009-10-12T02:34:52",60.009998321533203,3791.426025390625,350,-236.48928833007812,16,343,10,0,-103,7726.38,null,1,1,1,9.9945068359375E-4,9.9945068359375E-4," "]
["2009-10-12T02:34:54",60.002998352050781,3790.60302734375,350,-236.48928833007812,16,343.5,10,0,-103,7726.71,null,1,1,1,-6.999969482421875E-3,6.999969482421875E-3," "]
["2009-10-12T02:34:56",59.999000549316406,3790.457275390625,350,-245.03892517089844,16,344,10,0,-103,7727.04,null,1,0,1,-3.997802734375E-3,3.997802734375E-3," "]
["2009-10-12T02:34:58",59.994998931884766,3790.21630859375,350,-245.03892517089844,16,344.5,10,0,-103,7727.37,null,1,0,1,-4.001617431640625E-3,4.001617431640625E-3," "]
["2009-10-12T02:35:00",59.992000579833984,3789.5849609375,350,-245.03892517089844,16,345,10,0,-103,7727.7,null,1,0,1,-2.99835205078125E-3,2.99835205078125E-3," "]
["2009-10-12T02:35:02",59.991001129150391,3788.45703125,350,-245.03892517089844,16,345.5,10,0,-103,7728.03,null,1,0,1,-9.9945068359375E-4,9.9945068359375E-4," "]
["2009-10-12T02:35:04",59.992000579833984,3788.10498046875,350,-245.03892517089844,16,346,10,0,-103,7728.36,null,1,0,1,9.9945068359375E-4,9.9945068359375E-4," "]
["2009-10-12T02:35:06",59.992000579833984,3788.05712890625,350,-223.60568237304687,16,346.5,10,0,-103,7728.69,null,1,0,1,0,0," "]
["2009-10-12T02:35:08",59.987998962402344,3788.189453125,350,-223.60568237304687,16,347,10,0,-103,7729.02,null,1,0,1,-4.001617431640625E-3,4.001617431640625E-3," "]
["2009-10-12T02:35:10",59.986000061035156,3788.497314453125,350,-223.60568237304687,16,347.5,10,0,-103,7729.35,null,1,0,1,-1.9989013671875E-3,1.9989013671875E-3," "]
["2009-10-12T02:35:12",59.985000610351563,3788.5400390625,350,-223.60568237304687,16,348,10,0,-103,7729.68,null,1,0,1,-9.9945068359375E-4,9.9945068359375E-4," "]
["2009-10-12T02:35:14",59.984001159667969,3788.57080078125,350,-223.60568237304687,16,348.5,10,0,-103,7730.01,null,1,0,1,-9.9945068359375E-4,9.9945068359375E-4," "]
["2009-10-12T02:35:16",59.985000610351563,3788.10107421875,350,-231.11935424804687,16,349,10,0,-103,7730.34,null,1,0,1,9.9945068359375E-4,9.9945068359375E-4," "]
["2009-10-12T02:35:18",59.984001159667969,3787.13330078125,350,-231.11935424804687,16,349.5,10,0,-103,7730.67,null,1,0,1,-9.9945068359375E-4,9.9945068359375E-4," "]
["2009-10-12T02:35:20",59.981998443603516,3786.452880859375,350,-231.11935424804687,16,350,10,0,-103,7731,null,1,0,1,-2.002716064453125E-3,2.002716064453125E-3," "]
["2009-10-12T02:35:22",59.980998992919922,3787.732421875,350,-231.11935424804687,16,350.5,10,0,-103,7731.33,null,1,0,1,-9.9945068359375E-4,9.9945068359375E-4," "]
["2009-10-12T02:35:24",59.981998443603516,3788.8134765625,350,-231.11935424804687,16,351,10,0,-103,7731.66,null,1,0,1,9.9945068359375E-4,9.9945068359375E-4," "]
["2009-10-12T02:35:26",59.979000091552734,3789.28515625,350,-237.20664978027344,16,351.5,10,0,-103,7731.99,null,1,0,1,-2.99835205078125E-3,2.99835205078125E-3," "]
["2009-10-12T02:35:28",59.977001190185547,3788.25634765625,350,-237.20664978027344,16,352,10,0,-103,7732.32,null,1,0,1,-1.9989013671875E-3,1.9989013671875E-3," "]
["2009-10-12T02:35:30",59.976001739501953,3788.40966796875,350,-237.20664978027344,16,352.5,10,0,-103,7732.65,null,1,0,1,-9.9945068359375E-4,9.9945068359375E-4," "]
["2009-10-12T02:35:32",59.976001739501953,3790.46728515625,350,-237.20664978027344,16,353,10,0,-103,7732.98,null,1,0,1,0,0," "]
["2009-10-12T02:35:34",59.979000091552734,3790.66455078125,350,-237.20664978027344,16,353.5,10,0,-103,7733.31,null,1,0,1,2.99835205078125E-3,2.99835205078125E-3," "]
["2009-10-12T02:35:36",59.981998443603516,3790.42041015625,350,-240.51637268066406,16,354,10,0,-103,7733.64,null,1,0,1,2.99835205078125E-3,2.99835205078125E-3," "]
["2009-10-12T02:35:38",59.978000640869141,3789.673828125,350,-240.51637268066406,16,354.5,10,0,-103,7733.97,null,1,0,1,-3.997802734375E-3,3.997802734375E-3," "]
["2009-10-12T02:35:40",59.976001739501953,3789.26708984375,350,-240.51637268066406,16,355,10,0,-103,7734.3,null,1,0,1,-1.9989013671875E-3,1.9989013671875E-3," "]
["2009-10-12T02:35:42",59.9739990234375,3789.14794921875,350,-240.51637268066406,16,355.5,10,0,-103,7734.63,null,1,0,1,-2.002716064453125E-3,2.002716064453125E-3," "]
["2009-10-12T02:35:44",59.976001739501953,3790.430419921875,350,-240.51637268066406,16,356,10,0,-103,7734.96,null,1,0,1,2.002716064453125E-3,2.002716064453125E-3," "]
["2009-10-12T02:35:46",59.977001190185547,3789.914306640625,350,-237.56605529785156,16,356.5,10,0,-103,7735.29,null,1,0,1,9.9945068359375E-4,9.9945068359375E-4," "]
["2009-10-12T02:35:48",59.977001190185547,3786.2431640625,350,-237.56605529785156,16,357,10,0,-103,7735.62,null,1,0,1,0,0," "]
["2009-10-12T02:35:50",59.974998474121094,3787.442138671875,350,-237.56605529785156,16,357.5,10,0,-103,7735.95,null,1,0,1,-2.002716064453125E-3,2.002716064453125E-3," "]
["2009-10-12T02:35:52",59.972999572753906,3788.962890625,350,-237.56605529785156,16,358,10,0,-103,7736.28,null,1,0,1,-1.9989013671875E-3,1.9989013671875E-3," "]
["2009-10-12T02:35:54",59.969001770019531,3790.6015625,350,-237.56605529785156,16,358.5,10,0,-103,7736.61,null,1,0,1,-3.997802734375E-3,3.997802734375E-3," "]
["2009-10-12T02:35:56",59.970001220703125,3791.876953125,350,-231.5814208984375,16,359,10,0,-103,7736.94,null,1,0,1,9.9945068359375E-4,9.9945068359375E-4," "]
["2009-10-12T02:35:58",59.971000671386719,3792.91064453125,350,-231.5814208984375,16,359.5,10,0,-103,7737.27,null,1,0,1,9.9945068359375E-4,9.9945068359375E-4," "]
["2009-10-12T02:36:00",59.972999572753906,3792.311279296875,350,-231.5814208984375,16,360,10,0,-103,7737.6,null,1,{"$f":"IF((M563=1)*(B563>$N$2),1,0)","v":0},1,1.9989013671875E-3,{"$f":"ABS(P563)","v":1.9989013671875E-3},{"$f":"IF(Q563>(AVERAGE(Q559:Q562)+R$2),1,\" \")","v":" "}]
["2009-10-12T02:36:02",59.978000640869141,3789.125,350,-231.5814208984375,16,360.5,10,0,-103,7737.93,null,1,0,1,5.001068115234375E-3,5.001068115234375E-3," "]
["2009-10-12T02:36:04",59.980998992919922,3788.07958984375,350,-231.5814208984375,16,361,10,0,-103,7738.26,null,1,0,1,2.99835205078125E-3,2.99835205078125E-3," "]
["2009-10-12T02:36:06",59.978000640869141,3787.843994140625,350,-235.85084533691406,16,361.5,10,0,-103,7738.59,null,1,0,1,-2.99835205078125E-3,2.99835205078125E-3," "]
["2009-10-12T02:36:08",59.974998474121094,3787.135009765625,350,-235.85084533691406,16,362,10,0,-103,7738.92,null,1,0,1,-3.002166748046875E-3,3.002166748046875E-3," "]
["2009-10-12T02:36:10",59.972000122070313,3787.164306640625,350,-235.85084533691406,16,362.5,10,0,-103,7739.25,null,1,0,1,-2.99835205078125E-3,2.99835205078125E-3," "]
["2009-10-12T02:36:12",59.976001739501953,3786.99609375,350,-235.85084533691406,16,363,10,0,-103,7739.58,null,1,0,1,4.001617431640625E-3,4.001617431640625E-3," "]
["2009-10-12T02:36:14",59.974998474121094,3787.40478515625,350,-235.85084533691406,16,363.5,10,0,-103,7739.91,null,1,0,1,-1.003265380859375E-3,1.003265380859375E-3," "]
["2009-10-12T02:36:16",59.972999572753906,3786.48681640625,350,-233.55998229980469,16,364,10,0,-103,7740.24,null,1,0,1,-1.9989013671875E-3,1.9989013671875E-3," "]
["2009-10-12T02:36:18",59.969001770019531,3787.0791015625,350,-233.55998229980469,16,364.5,10,0,-103,7740.57,null,1,0,1,-3.997802734375E-3,3.997802734375E-3," "]
["2009-10-12T02:36:20",59.965999603271484,3789.2138671875,350,-233.55998229980469,16,365,10,0,-103,7740.9,null,1,0,1,-3.002166748046875E-3,3.002166748046875E-3," "]
["2009-10-12T02:36:22",59.965000152587891,3790.51171875,350,-233.55998229980469,16,365.5,10,0,-103,7741.23,null,1,0,1,-9.9945068359375E-4,9.9945068359375E-4," "]
["2009-10-12T02:36:24",59.965999603271484,3791.22119140625,350,-233.55998229980469,16,366,10,0,-103,7741.56,null,1,0,1,9.9945068359375E-4,9.9945068359375E-4," "]
["2009-10-12T02:36:26",59.969001770019531,3792.21826171875,350,-219.00999450683594,16,366.5,10,0,-103,7741.89,null,1,0,1,3.002166748046875E-3,3.002166748046875E-3," "]
["2009-10-12T02:36:28",59.970001220703125,3790.95947265625,350,-219.00999450683594,16,367,10,0,-103,7742.22,null,1,0,1,9.9945068359375E-4,9.9945068359375E-4," "]
["2009-10-12T02:36:30",59.967998504638672,3788.82421875,350,-219.00999450683594,16,367.5,10,0,-103,7742.55,null,1,0,1,-2.002716064453125E-3,2.002716064453125E-3," "]
["2009-10-12T02:36:32",59.965000152587891,3789.0263671875,350,-219.00999450683594,16,368,10,0,-103,7742.88,null,1,0,1,-2.99835205078125E-3,2.99835205078125E-3," "]
["2009-10-12T02:36:34",59.964000701904297,3789.16748046875,350,-219.00999450683594,16,368.5,10,0,-103,7743.21,null,1,0,1,-9.9945068359375E-4,9.9945068359375E-4," "]
["2009-10-12T02:36:36",59.970001220703125,3787.39404296875,350,-205.33891296386719,16,369,10,0,-103,7743.54,null,1,0,1,6.000518798828125E-3,6.000518798828125E-3," "]
["2009-10-12T02:36:38",59.972000122070313,3785.68994140625,350,-205.33891296386719,16,369.5,10,0,-103,7743.87,null,1,0,1,1.9989013671875E-3,1.9989013671875E-3," "]
["2009-10-12T02:36:40",59.966999053955078,3784.83056640625,350,-205.33891296386719,16,370,10,0,-103,7744.2,null,1,0,{"$f":"IF(ROW()<$M$3,0,1)","v":1},-5.001068115234375E-3,5.001068115234375E-3," "]
["2009-10-12T02:36:42",59.966999053955078,3785.009521484375,350,-205.33891296386719,16,370.5,10,0,-103,7744.53,null,{"$f":"IF(ROW()<$M$5,0,1)","v":1},0,1,{"$f":"B584-B583","v":0},0," "]
["2009-10-12T02:36:44",59.969001770019531,3784.3203125,350,-205.33891296386719,16,371,10,0,-103,7744.86,null,1,0,1,2.002716064453125E-3,2.002716064453125E-3," "]
["2009-10-12T02:36:46",59.967998504638672,3782.80859375,350,-236.28535461425781,16,371.5,10,0,-103,7745.19,null,1,0,1,-1.003265380859375E-3,1.003265380859375E-3," "]
["2009-10-12T02:36:48",59.969001770019531,3782.10986328125,350,-236.28535461425781,16,372,10,0,-103,7745.52,null,1,0,1,1.003265380859375E-3,1.003265380859375E-3," "]
["2009-10-12T02:36:50",59.966999053955078,3779.3515625,350,-236.28535461425781,16,372.5,10,0,-103,7745.85,null,1,0,1,-2.002716064453125E-3,2.002716064453125E-3," "]
["2009-10-12T02:36:52",59.966999053955078,3779.05615234375,350,-236.28535461425781,16,373,10,0,-103,7746.18,null,1,0,1,0,0," "]
["2009-10-12T02:36:54",59.965999603271484,3778.63330078125,350,-236.28535461425781,16,373.5,10,0,-103,7746.51,null,1,0,1,-9.9945068359375E-4,9.9945068359375E-4," "]
["2009-10-12T02:36:56",59.965000152587891,3779.211669921875,350,-223.01573181152344,16,374,10,0,-103,7746.84,null,1,0,1,-9.9945068359375E-4,9.9945068359375E-4," "]
["2009-10-12T02:36:58",59.971000671386719,3779.334716796875,350,-223.01573181152344,16,374.5,10,0,-103,7747.17,null,1,0,1,6.000518798828125E-3,6.000518798828125E-3," "]
["2009-10-12T02:37:00",59.966999053955078,3776.42919921875,350,-223.01573181152344,16,375,10,0,-103,7747.5,null,1,0,1,-4.001617431640625E-3,4.001617431640625E-3," "]
["2009-10-12T02:37:02",59.965000152587891,3775.646728515625,350,-223.01573181152344,16,375.5,10,0,-103,7747.83,null,1,0,1,-1.9989013671875E-3,1.9989013671875E-3," "]
["2009-10-12T02:37:04",59.962001800537109,3776.5966796875,350,-223.01573181152344,16,376,10,0,-103,7748.16,null,1,0,1,-2.99835205078125E-3,2.99835205078125E-3," "]
["2009-10-12T02:37:06",59.964000701904297,3776.55908203125,350,-223.01573181152344,16,376.5,10,0,-103,7748.49,null,1,0,1,1.9989013671875E-3,1.9989013671875E-3," "]
["2009-10-12T02:37:08",59.970001220703125,3776.02294921875,350,-223.01573181152344,16,377,10,0,-103,7748.82,null,1,0,1,6.000518798828125E-3,6.000518798828125E-3," "]
["2009-10-12T02:37:10",59.966999053955078,3773.169921875,350,-223.01573181152344,16,377.5,10,0,-103,7749.15,null,1,0,1,-3.002166748046875E-3,3.002166748046875E-3," "]
["2009-10-12T02:37:12",59.969001770019531,3771.73046875,350,-223.01573181152344,16,378,10,0,-103,7749.48,null,1,0,1,2.002716064453125E-3,2.002716064453125E-3," "]
["2009-10-12T02:37:14",59.967998504638672,3768.79296875,350,-223.01573181152344,16,378.5,10,0,-103,7749.81,null,1,0,1,-1.003265380859375E-3,1.003265380859375E-3," "]
["2009-10-12T02:37:16",59.963001251220703,3768.5029296875,350,-223.01573181152344,16,379,10,0,-103,7750.14,null,1,0,1,-4.99725341796875E-3,4.99725341796875E-3," "]
["2009-10-12T02:37:18",59.965000152587891,3768.91748046875,350,-223.01573181152344,16,379.5,10,0,-103,7750.47,null,1,0,1,1.9989013671875E-3,1.9989013671875E-3," "]
["2009-10-12T02:37:20",59.970001220703125,3767.3662109375,350,-223.01573181152344,16,380,10,0,-103,7750.8,null,1,0,1,5.001068115234375E-3,5.001068115234375E-3," "]
["2009-10-12T02:37:22",59.972999572753906,3764.7861328125,350,-223.01573181152344,16,380.5,10,0,-103,7751.13,null,1,0,1,2.99835205078125E-3,2.99835205078125E-3," "]
["2009-10-12T02:37:24",59.967998504638672,3760.29541015625,350,-223.01573181152344,16,381,10,0,-103,7751.46,null,1,0,1,-5.001068115234375E-3,5.001068115234375E-3," "]
["2009-10-12T02:37:26",59.965000152587891,3759.591796875,350,-223.01573181152344,16,381.5,10,0,-103,7751.79,null,1,0,1,-2.99835205078125E-3,2.99835205078125E-3," "]
["2009-10-12T02:37:28",59.967998504638672,3761.893798828125,350,-223.01573181152344,16,382,10,0,-103,7752.12,null,1,0,1,2.99835205078125E-3,2.99835205078125E-3," "]
["2009-10-12T02:37:30",59.969001770019531,3761.776611328125,350,-223.01573181152344,16,382.5,10,0,-103,7752.45,null,1,0,1,1.003265380859375E-3,1.003265380859375E-3," "]
["2009-10-12T02:37:32",59.966999053955078,3760.58251953125,350,-223.01573181152344,16,383,10,0,-103,7752.78,null,1,0,1,-2.002716064453125E-3,2.002716064453125E-3," "]
["2009-10-12T02:37:34",59.964000701904297,3760.157470703125,350,-223.01573181152344,16,383.5,10,0,-103,7753.11,null,1,0,1,-2.99835205078125E-3,2.99835205078125E-3," "]
["2009-10-12T02:37:36",59.965999603271484,3759.781005859375,350,-223.01573181152344,16,384,10,0,-103,7753.44,null,1,0,1,1.9989013671875E-3,1.9989013671875E-3," "]
["2009-10-12T02:37:38",59.979000091552734,3759.494873046875,350,-223.01573181152344,16,384.5,10,0,-103,7753.77,null,1,0,1,1.300048828125E-2,1.300048828125E-2," "]
["2009-10-12T02:37:40",59.990001678466797,3757.77294921875,350,-223.01573181152344,16,385,10,0,-103,7754.1,null,1,0,1,1.10015869140625E-2,1.10015869140625E-2," "]
["2009-10-12T02:37:42",59.983001708984375,3753.277099609375,350,-223.01573181152344,16,385.5,10,0,-103,7754.43,null,1,0,1,-6.999969482421875E-3,6.999969482421875E-3," "]
["2009-10-12T02:37:44",59.9739990234375,3753.08740234375,350,-223.01573181152344,16,386,10,0,-103,7754.76,null,1,0,1,-9.002685546875E-3,9.002685546875E-3," "]
["2009-10-12T02:37:46",59.966999053955078,3751.63671875,350,-223.01573181152344,16,386.5,10,0,-103,7755.09,null,1,0,1,-6.999969482421875E-3,6.999969482421875E-3," "]
["2009-10-12T02:37:48",59.965000152587891,3753.7509765625,350,-223.01573181152344,16,387,10,0,-103,7755.42,null,1,0,1,-1.9989013671875E-3,1.9989013671875E-3," "]
["2009-10-12T02:37:50",59.962001800537109,3758.224609375,350,-223.01573181152344,16,387.5,10,0,-103,7755.75,null,1,0,1,-2.99835205078125E-3,2.99835205078125E-3," "]
["2009-10-12T02:37:52",59.962001800537109,3759.249755859375,350,-223.01573181152344,16,388,10,0,-103,7756.08,null,1,0,1,0,0," "]
["2009-10-12T02:37:54",59.96099853515625,3758.041015625,350,-223.01573181152344,16,388.5,10,0,-103,7756.41,null,1,0,1,-1.003265380859375E-3,1.003265380859375E-3," "]
["2009-10-12T02:37:56",59.96099853515625,3760.96484375,350,-223.01573181152344,16,389,10,0,-103,7756.74,null,1,0,1,0,0," "]
["2009-10-12T02:37:58",59.959999084472656,3762.022216796875,350,-223.01573181152344,16,389.5,10,0,-103,7757.07,null,1,0,1,-9.9945068359375E-4,9.9945068359375E-4," "]
["2009-10-12T02:38:00",59.963001251220703,3763.822265625,350,-223.01573181152344,16,390,10,0,-103,7757.4,null,1,0,1,3.002166748046875E-3,3.002166748046875E-3," "]
["2009-10-12T02:38:02",59.958999633789063,3763.10009765625,350,-223.01573181152344,16,390.5,10,0,-103,7757.73,null,1,0,1,-4.001617431640625E-3,4.001617431640625E-3," "]
["2009-10-12T02:38:04",59.956001281738281,3763.858154296875,350,-223.01573181152344,16,391,10,0,-103,7758.06,null,1,0,1,-2.99835205078125E-3,2.99835205078125E-3," "]
["2009-10-12T02:38:06",59.951000213623047,3764.15771484375,350,-223.01573181152344,16,391.5,10,0,-103,7758.39,null,1,0,1,-5.001068115234375E-3,5.001068115234375E-3," "]
["2009-10-12T02:38:08",59.952999114990234,3766.126708984375,350,-223.01573181152344,16,392,10,0,-103,7758.72,null,1,{"$f":"IF((M627=1)*(B627>$N$2),1,0)","v":0},1,1.9989013671875E-3,{"$f":"ABS(P627)","v":1.9989013671875E-3},{"$f":"IF(Q627>(AVERAGE(Q623:Q626)+R$2),1,\" \")","v":" "}]
["2009-10-12T02:38:10",59.953998565673828,3768.3388671875,350,-223.01573181152344,16,392.5,10,0,-103,7759.05,null,1,0,1,9.9945068359375E-4,9.9945068359375E-4," "]
["2009-10-12T02:38:12",59.957000732421875,3767.97216796875,350,-223.01573181152344,16,393,10,0,-103,7759.38,null,1,0,1,3.002166748046875E-3,3.002166748046875E-3," "]
["2009-10-12T02:38:14",59.956001281738281,3767.4375,350,-223.01573181152344,16,393.5,10,0,-103,7759.71,null,1,0,1,-9.9945068359375E-4,9.9945068359375E-4," "]
["2009-10-12T02:38:16",59.96099853515625,3765.6064453125,350,-223.01573181152344,16,394,10,0,-103,7760.04,null,1,0,1,4.99725341796875E-3,4.99725341796875E-3," "]
["2009-10-12T02:38:18",59.963001251220703,3762.68798828125,350,-223.01573181152344,16,394.5,10,0,-103,7760.37,null,1,0,1,2.002716064453125E-3,2.002716064453125E-3," "]
["2009-10-12T02:38:20",59.96099853515625,3761.5703125,350,-223.01573181152344,16,395,10,0,-103,7760.7,null,1,0,1,-2.002716064453125E-3,2.002716064453125E-3," "]
["2009-10-12T02:38:22",59.958999633789063,3761.919921875,350,-223.01573181152344,16,395.5,10,0,-103,7761.03,null,1,0,1,-1.9989013671875E-3,1.9989013671875E-3," "]
["2009-10-12T02:38:24",59.963001251220703,3759.626953125,350,-223.01573181152344,16,396,10,0,-103,7761.36,null,1,0,1,4.001617431640625E-3,4.001617431640625E-3," "]
["2009-10-12T02:38:26",59.963001251220703,3758.52197265625,350,-223.01573181152344,16,396.5,10,0,-103,7761.69,null,1,0,1,0,0," "]
["2009-10-12T02:38:28",59.965000152587891,3752.4287109375,350,-223.01573181152344,16,397,10,0,-103,7762.02,null,1,0,1,1.9989013671875E-3,1.9989013671875E-3," "]
["2009-10-12T02:38:30",59.967998504638672,3750.1015625,350,-223.01573181152344,16,397.5,10,0,-103,7762.35,null,1,0,1,2.99835205078125E-3,2.99835205078125E-3," "]
["2009-10-12T02:38:32",59.967998504638672,3753.82958984375,350,-223.01573181152344,16,398,10,0,-103,7762.68,null,1,0,1,0,0," "]
["2009-10-12T02:38:34",59.967998504638672,3753.51025390625,350,-223.01573181152344,16,398.5,10,0,-103,7763.01,null,1,0,1,0,0," "]
["2009-10-12T02:38:36",59.970001220703125,3753.52294921875,350,-223.01573181152344,16,399,10,0,-103,7763.34,null,1,0,1,2.002716064453125E-3,2.002716064453125E-3," "]
["2009-10-12T02:38:38",59.972999572753906,3752.74072265625,350,-223.01573181152344,16,399.5,10,0,-103,7763.67,null,1,0,1,2.99835205078125E-3,2.99835205078125E-3," "]
["2009-10-12T02:38:40",59.971000671386719,3753.17822265625,350,-223.01573181152344,16,400,10,0,-103,7764,null,1,0,1,-1.9989013671875E-3,1.9989013671875E-3," "]
["2009-10-12T02:38:42",59.965000152587891,3752.72900390625,350,-223.01573181152344,16,400.5,10,0,-103,7764.33,null,1,0,1,-6.000518798828125E-3,6.000518798828125E-3," "]
["2009-10-12T02:38:44",59.966999053955078,3753.29052734375,350,-223.01573181152344,16,401,10,0,-103,7764.66,null,1,0,1,1.9989013671875E-3,1.9989013671875E-3," "]
["2009-10-12T02:38:46",59.966999053955078,3752.87158203125,350,-223.01573181152344,16,401.5,10,0,-103,7764.99,null,1,0,1,0,0," "]
["2009-10-12T02:38:48",59.972000122070313,3752.358642578125,350,-223.01573181152344,16,402,10,0,-103,7765.32,null,1,0,{"$f":"IF(ROW()<$M$3,0,1)","v":1},5.001068115234375E-3,5.001068115234375E-3," "]
["2009-10-12T02:38:50",59.976001739501953,3749.39794921875,350,-223.01573181152344,16,402.5,10,0,-103,7765.65,null,{"$f":"IF(ROW()<$M$5,0,1)","v":1},0,1,{"$f":"B648-B647","v":4.001617431640625E-3},4.001617431640625E-3," "]
["2009-10-12T02:38:52",59.974998474121094,3747.475830078125,350,-223.01573181152344,16,403,10,0,-103,7765.98,null,1,0,1,-1.003265380859375E-3,1.003265380859375E-3," "]
["2009-10-12T02:38:54",59.969001770019531,3740.370361328125,350,-223.01573181152344,16,403.5,10,0,-103,7766.31,null,1,0,1,-5.9967041015625E-3,5.9967041015625E-3," "]
["2009-10-12T02:38:56",59.972999572753906,3741.28515625,350,-223.01573181152344,16,404,10,0,-103,7766.64,null,1,0,1,3.997802734375E-3,3.997802734375E-3," "]
["2009-10-12T02:38:58",59.9739990234375,3746.65087890625,350,-223.01573181152344,16,404.5,10,0,-103,7766.97,null,1,0,1,9.9945068359375E-4,9.9945068359375E-4," "]
["2009-10-12T02:39:00",59.978000640869141,3745.73828125,350,-223.01573181152344,16,405,10,0,-103,7767.3,null,1,0,1,4.001617431640625E-3,4.001617431640625E-3," "]
["2009-10-12T02:39:02",59.980998992919922,3743.3505859375,350,-223.01573181152344,16,405.5,10,0,-103,7767.63,null,1,0,1,2.99835205078125E-3,2.99835205078125E-3," "]
["2009-10-12T02:39:04",59.980998992919922,3741.6181640625,350,-223.01573181152344,16,406,10,0,-103,7767.96,null,1,0,1,0,0," "]
["2009-10-12T02:39:06",59.980998992919922,3740.306396484375,350,-223.01573181152344,16,406.5,10,0,-103,7768.29,null,1,0,1,0,0," "]
["2009-10-12T02:39:08",59.981998443603516,3738.484375,350,-223.01573181152344,16,407,10,0,-103,7768.62,null,1,0,1,9.9945068359375E-4,9.9945068359375E-4," "]
["2009-10-12T02:39:10",59.981998443603516,3738.9013671875,350,-223.01573181152344,16,407.5,10,0,-103,7768.95,null,1,0,1,0,0," "]
["2009-10-12T02:39:12",59.984001159667969,3737.403564453125,350,-223.01573181152344,16,408,10,0,-103,7769.28,null,1,0,1,2.002716064453125E-3,2.002716064453125E-3," "]
["2009-10-12T02:39:14",59.981998443603516,3737.273193359375,350,-223.01573181152344,16,408.5,10,0,-103,7769.61,null,1,0,1,-2.002716064453125E-3,2.002716064453125E-3," "]
["2009-10-12T02:39:16",59.980998992919922,3736.308349609375,350,-223.01573181152344,16,409,10,0,-103,7769.94,null,1,0,1,-9.9945068359375E-4,9.9945068359375E-4," "]
["2009-10-12T02:39:18",59.979000091552734,3736.27197265625,350,-223.01573181152344,16,409.5,10,0,-103,7770.27,null,1,0,1,-1.9989013671875E-3,1.9989013671875E-3," "]
["2009-10-12T02:39:20",59.979999542236328,3735.4482421875,350,-223.01573181152344,16,410,10,0,-103,7770.6,null,1,0,1,9.9945068359375E-4,9.9945068359375E-4," "]
["2009-10-12T02:39:22",59.978000640869141,3735.649658203125,350,-223.01573181152344,16,410.5,10,0,-103,7770.93,null,1,0,1,-1.9989013671875E-3,1.9989013671875E-3," "]
["2009-10-12T02:39:24",59.978000640869141,3737.54052734375,350,-223.01573181152344,16,411,10,0,-103,7771.26,null,1,0,1,0,0," "]
["2009-10-12T02:39:26",59.979999542236328,3738.011962890625,350,-223.01573181152344,16,411.5,10,0,-103,7771.59,null,1,0,1,1.9989013671875E-3,1.9989013671875E-3," "]
["2009-10-12T02:39:28",59.980998992919922,3736.74755859375,350,-223.01573181152344,16,412,10,0,-103,7771.92,null,1,0,1,9.9945068359375E-4,9.9945068359375E-4," "]
["2009-10-12T02:39:30",59.979999542236328,3736.693115234375,350,-223.01573181152344,16,412.5,10,0,-103,7772.25,null,1,0,1,-9.9945068359375E-4,9.9945068359375E-4," "]
["2009-10-12T02:39:32",59.978000640869141,3736.0673828125,350,-223.01573181152344,16,413,10,0,-103,7772.58,null,1,0,1,-1.9989013671875E-3,1.9989013671875E-3," "]
["2009-10-12T02:39:34",59.976001739501953,3736.09423828125,350,-223.01573181152344,16,413.5,10,0,-103,7772.91,null,1,0,1,-1.9989013671875E-3,1.9989013671875E-3," "]
["2009-10-12T02:39:36",59.972000122070313,3736.574951171875,350,-223.01573181152344,16,414,10,0,-103,7773.24,null,1,0,1,-4.001617431640625E-3,4.001617431640625E-3," "]
["2009-10-12T02:39:38",59.971000671386719,3738.571044921875,350,-223.01573181152344,16,414.5,10,0,-103,7773.57,null,1,0,1,-9.9945068359375E-4,9.9945068359375E-4," "]
["2009-10-12T02:39:40",59.969001770019531,3738.874755859375,350,-223.01573181152344,16,415,10,0,-103,7773.9,null,1,0,1,-1.9989013671875E-3,1.9989013671875E-3," "]
["2009-10-12T02:39:42",59.9739990234375,3738.9345703125,350,-223.01573181152344,16,415.5,10,0,-103,7774.23,null,1,0,1,4.99725341796875E-3,4.99725341796875E-3," "]
["2009-10-12T02:39:44",59.974998474121094,3738.64697265625,350,-223.01573181152344,16,416,10,0,-103,7774.56,null,1,0,1,9.9945068359375E-4,9.9945068359375E-4," "]
["2009-10-12T02:39:46",59.976001739501953,3737.68408203125,350,-223.01573181152344,16,416.5,10,0,-103,7774.89,null,1,0,1,1.003265380859375E-3,1.003265380859375E-3," "]
["2009-10-12T02:39:48",59.972000122070313,3737.382080078125,350,-223.01573181152344,16,417,10,0,-103,7775.22,null,1,0,1,-4.001617431640625E-3,4.001617431640625E-3," "]
["2009-10-12T02:39:50",59.969001770019531,3737.89208984375,350,-223.01573181152344,16,417.5,10,0,-103,7775.55,null,1,0,1,-2.99835205078125E-3,2.99835205078125E-3," "]
["2009-10-12T02:39:52",59.971000671386719,3740.016845703125,350,-223.01573181152344,16,418,10,0,-103,7775.88,null,1,0,1,1.9989013671875E-3,1.9989013671875E-3," "]
["2009-10-12T02:39:54",59.9739990234375,3740.328857421875,350,-223.01573181152344,16,418.5,10,0,-103,7776.21,null,1,0,1,2.99835205078125E-3,2.99835205078125E-3," "]
["2009-10-12T02:39:56",59.972000122070313,3742.052734375,350,-223.01573181152344,16,419,10,0,-103,7776.54,null,1,0,1,-1.9989013671875E-3,1.9989013671875E-3," "]
["2009-10-12T02:39:58",59.972000122070313,3742.423828125,350,-223.01573181152344,16,419.5,10,0,-103,7776.87,null,1,0,1,0,0," "]
["2009-10-12T02:40:00",59.972000122070313,3742.5244140625,350,-223.01573181152344,16,420,10,0,-103,7777.2,null,1,0,1,0,0," "]
["2009-10-12T02:40:02",59.977001190185547,3742.2451171875,350,-223.01573181152344,16,420.5,10,0,-103,7777.53,null,1,0,1,5.001068115234375E-3,5.001068115234375E-3," "]
["2009-10-12T02:40:04",59.981998443603516,3741.72314453125,350,-223.01573181152344,16,421,10,0,-103,7777.86,null,1,0,1,4.99725341796875E-3,4.99725341796875E-3," "]
["2009-10-12T02:40:06",59.978000640869141,3740.08544921875,350,-223.01573181152344,16,421.5,10,0,-103,7778.19,null,1,0,1,-3.997802734375E-3,3.997802734375E-3," "]
["2009-10-12T02:40:08",59.976001739501953,3740.629150390625,350,-223.01573181152344,16,422,10,0,-103,7778.52,null,1,0,1,-1.9989013671875E-3,1.9989013671875E-3," "]
["2009-10-12T02:40:10",59.972999572753906,3739.96435546875,350,-223.01573181152344,16,422.5,10,0,-103,7778.85,null,1,0,1,-3.002166748046875E-3,3.002166748046875E-3," "]
["2009-10-12T02:40:12",59.9739990234375,3740.775146484375,350,-223.01573181152344,16,423,10,0,-103,7779.18,null,1,0,1,9.9945068359375E-4,9.9945068359375E-4," "]
["2009-10-12T02:40:14",59.977001190185547,3742.83251953125,350,-223.01573181152344,16,423.5,10,0,-103,7779.51,null,1,0,1,3.002166748046875E-3,3.002166748046875E-3," "]
["2009-10-12T02:40:16",59.977001190185547,3741.267822265625,350,-223.01573181152344,16,424,10,0,-103,7779.84,null,1,{"$f":"IF((M691=1)*(B691>$N$2),1,0)","v":0},1,0,{"$f":"ABS(P691)","v":0},{"$f":"IF(Q691>(AVERAGE(Q687:Q690)+R$2),1,\" \")","v":" "}]
["2009-10-12T02:40:18",59.978000640869141,3739.776123046875,350,-223.01573181152344,16,424.5,10,0,-103,7780.17,null,1,0,1,9.9945068359375E-4,9.9945068359375E-4," "]
["2009-10-12T02:40:20",59.979000091552734,3738.9658203125,350,-223.01573181152344,16,425,10,0,-103,7780.5,null,1,0,1,9.9945068359375E-4,9.9945068359375E-4," "]
["2009-10-12T02:40:22",59.980998992919922,3738.7060546875,350,-223.01573181152344,16,425.5,10,0,-103,7780.83,null,1,0,1,1.9989013671875E-3,1.9989013671875E-3," "]
["2009-10-12T02:40:24",59.977001190185547,3738.878662109375,350,-223.01573181152344,16,426,10,0,-103,7781.16,null,1,0,1,-3.997802734375E-3,3.997802734375E-3," "]
["2009-10-12T02:40:26",59.9739990234375,3739.859619140625,350,-223.01573181152344,16,426.5,10,0,-103,7781.49,null,1,0,1,-3.002166748046875E-3,3.002166748046875E-3," "]
["2009-10-12T02:40:28",59.971000671386719,3738.1015625,350,-223.01573181152344,16,427,10,0,-103,7781.82,null,1,0,1,-2.99835205078125E-3,2.99835205078125E-3," "]
["2009-10-12T02:40:30",59.971000671386719,3738.557861328125,350,-223.01573181152344,16,427.5,10,0,-103,7782.15,null,1,0,1,0,0," "]
["2009-10-12T02:40:32",59.971000671386719,3743.5068359375,350,-223.01573181152344,16,428,10,0,-103,7782.48,null,1,0,1,0,0," "]
["2009-10-12T02:40:34",59.972000122070313,3743.418701171875,350,-223.01573181152344,16,428.5,10,0,-103,7782.81,null,1,0,1,9.9945068359375E-4,9.9945068359375E-4," "]
["2009-10-12T02:40:36",59.967998504638672,3745.250732421875,350,-223.01573181152344,16,429,10,0,-103,7783.14,null,1,0,1,-4.001617431640625E-3,4.001617431640625E-3," "]
["2009-10-12T02:40:38",59.965999603271484,3745.744140625,350,-223.01573181152344,16,429.5,10,0,-103,7783.47,null,1,0,1,-1.9989013671875E-3,1.9989013671875E-3," "]
["2009-10-12T02:40:40",59.965999603271484,3747.339599609375,350,-223.01573181152344,16,430,10,0,-103,7783.8,null,1,0,1,0,0," "]
["2009-10-12T02:40:42",59.971000671386719,3750.7001953125,350,-223.01573181152344,16,430.5,10,0,-103,7784.13,null,1,0,1,5.001068115234375E-3,5.001068115234375E-3," "]
["2009-10-12T02:40:44",59.972999572753906,3749.75,350,-223.01573181152344,16,431,10,0,-103,7784.46,null,1,0,1,1.9989013671875E-3,1.9989013671875E-3," "]
["2009-10-12T02:40:46",59.972000122070313,3746.216552734375,350,-223.01573181152344,16,431.5,10,0,-103,7784.79,null,1,0,1,-9.9945068359375E-4,9.9945068359375E-4," "]
["2009-10-12T02:40:48",59.969001770019531,3744.6826171875,350,-223.01573181152344,16,432,10,0,-103,7785.12,null,1,0,1,-2.99835205078125E-3,2.99835205078125E-3," "]
["2009-10-12T02:40:50",59.972000122070313,3743.7451171875,350,-223.01573181152344,16,432.5,10,0,-103,7785.45,null,1,0,1,2.99835205078125E-3,2.99835205078125E-3," "]
["2009-10-12T02:40:52",59.9739990234375,3743.14892578125,350,-223.01573181152344,16,433,10,0,-103,7785.78,null,1,0,1,1.9989013671875E-3,1.9989013671875E-3," "]
["2009-10-12T02:40:54",59.972999572753906,3740.298583984375,350,-223.01573181152344,16,433.5,10,0,-103,7786.11,null,1,0,1,-9.9945068359375E-4,9.9945068359375E-4," "]
["2009-10-12T02:40:56",59.970001220703125,3739.45263671875,350,-223.01573181152344,16,434,10,0,-103,7786.44,null,1,0,{"$f":"IF(ROW()<$M$3,0,1)","v":1},-2.99835205078125E-3,2.99835205078125E-3," "]
["2009-10-12T02:40:58",59.971000671386719,3733.3759765625,350,-223.01573181152344,16,434.5,10,0,-103,7786.77,null,{"$f":"IF(ROW()<$M$5,0,1)","v":1},0,1,{"$f":"B712-B711","v":9.9945068359375E-4},9.9945068359375E-4," "]
["2009-10-12T02:41:00",59.9739990234375,3731.82958984375,350,-223.01573181152344,16,435,10,0,-103,7787.1,null,1,0,1,2.99835205078125E-3,2.99835205078125E-3," "]
["2009-10-12T02:41:02",59.981998443603516,3737.58251953125,350,-223.01573181152344,16,435.5,10,0,-103,7787.43,null,1,0,1,7.999420166015625E-3,7.999420166015625E-3," "]
["2009-10-12T02:41:04",59.985000610351563,3736.2294921875,350,-223.01573181152344,16,436,10,0,-103,7787.76,null,1,0,1,3.002166748046875E-3,3.002166748046875E-3," "]
["2009-10-12T02:41:06",59.985000610351563,3734.896728515625,350,-223.01573181152344,16,436.5,10,0,-103,7788.09,null,1,0,1,0,0," "]
["2009-10-12T02:41:08",59.985000610351563,3733.433837890625,350,-223.01573181152344,16,437,10,0,-103,7788.42,null,1,0,1,0,0," "]
["2009-10-12T02:41:10",59.98699951171875,3733.115234375,350,-223.01573181152344,16,437.5,10,0,-103,7788.75,null,1,0,1,1.9989013671875E-3,1.9989013671875E-3," "]
["2009-10-12T02:41:12",59.988998413085937,3730.509765625,350,-223.01573181152344,16,438,10,0,-103,7789.08,null,1,0,1,1.9989013671875E-3,1.9989013671875E-3," "]
["2009-10-12T02:41:14",59.988998413085937,3729.18017578125,350,-223.01573181152344,16,438.5,10,0,-103,7789.41,null,1,0,1,0,0," "]
["2009-10-12T02:41:16",59.986000061035156,3725.458740234375,350,-223.01573181152344,16,439,10,0,-103,7789.74,null,1,0,1,-2.99835205078125E-3,2.99835205078125E-3," "]
["2009-10-12T02:41:18",59.98699951171875,3724.78466796875,350,-223.01573181152344,16,439.5,10,0,-103,7790.07,null,1,0,1,9.9945068359375E-4,9.9945068359375E-4," "]
["2009-10-12T02:41:20",59.990001678466797,3720.10791015625,350,-223.01573181152344,16,440,10,0,-103,7790.4,null,1,0,1,3.002166748046875E-3,3.002166748046875E-3," "]
["2009-10-12T02:41:22",59.993999481201172,3720.938232421875,350,-223.01573181152344,16,440.5,10,0,-103,7790.73,null,1,0,1,3.997802734375E-3,3.997802734375E-3," "]
["2009-10-12T02:41:24",59.995998382568359,3725.661376953125,350,-223.01573181152344,16,441,10,0,-103,7791.06,null,1,0,1,1.9989013671875E-3,1.9989013671875E-3," "]
["2009-10-12T02:41:26",60.000999450683594,3725.6767578125,350,-223.01573181152344,16,441.5,10,0,-103,7791.39,null,1,1,1,5.001068115234375E-3,5.001068115234375E-3," "]
["2009-10-12T02:41:28",60.002998352050781,3727.754150390625,350,-223.01573181152344,16,442,10,0,-103,7791.72,null,1,1,1,1.9989013671875E-3,1.9989013671875E-3," "]
["2009-10-12T02:41:30",60.004001617431641,3727.82470703125,350,-223.01573181152344,16,442.5,10,0,-103,7792.05,null,1,1,1,1.003265380859375E-3,1.003265380859375E-3," "]
["2009-10-12T02:41:32",60.006000518798828,3727.683349609375,350,-223.01573181152344,16,443,10,0,-103,7792.38,null,1,1,1,1.9989013671875E-3,1.9989013671875E-3," "]
["2009-10-12T02:41:34",60.012001037597656,3727.2314453125,350,-223.01573181152344,16,443.5,10,0,-103,7792.71,null,1,1,1,6.000518798828125E-3,6.000518798828125E-3," "]
["2009-10-12T02:41:36",60.013999938964844,3725.01220703125,350,-223.01573181152344,16,444,10,0,-103,7793.04,null,1,1,1,1.9989013671875E-3,1.9989013671875E-3," "]
["2009-10-12T02:41:38",60.019001007080078,3726.4462890625,350,-223.01573181152344,16,444.5,10,0,-103,7793.37,null,1,1,1,5.001068115234375E-3,5.001068115234375E-3," "]
["2009-10-12T02:41:40",60.020999908447266,3726.015625,350,-223.01573181152344,16,445,10,0,-103,7793.7,null,1,1,1,1.9989013671875E-3,1.9989013671875E-3," "]
["2009-10-12T02:41:42",60.025001525878906,3719.123046875,350,-223.01573181152344,16,445.5,10,0,-103,7794.03,null,1,1,1,4.001617431640625E-3,4.001617431640625E-3," "]
["2009-10-12T02:41:44",60.0260009765625,3716.37451171875,350,-223.01573181152344,16,446,10,0,-103,7794.36,null,1,1,1,9.9945068359375E-4,9.9945068359375E-4," "]
["2009-10-12T02:41:46",60.027000427246094,3717.33251953125,350,-223.01573181152344,16,446.5,10,0,-103,7794.69,null,1,1,1,9.9945068359375E-4,9.9945068359375E-4," "]
["2009-10-12T02:41:48",60.028999328613281,3717.559814453125,350,-223.01573181152344,16,447,10,0,-103,7795.02,null,1,1,1,1.9989013671875E-3,1.9989013671875E-3," "]
["2009-10-12T02:41:50",60.028999328613281,3717.14208984375,350,-223.01573181152344,16,447.5,10,0,-103,7795.35,null,1,1,1,0,0," "]
["2009-10-12T02:41:52",60.036998748779297,3715.166015625,350,-223.01573181152344,16,448,10,0,-103,7795.68,null,1,1,1,7.999420166015625E-3,7.999420166015625E-3," "]
["2009-10-12T02:41:54",60.035999298095703,3713.6318359375,350,-223.01573181152344,16,448.5,10,0,-103,7796.01,null,1,1,1,-9.9945068359375E-4,9.9945068359375E-4," "]
["2009-10-12T02:41:56",60.036998748779297,3710.283447265625,350,-223.01573181152344,16,449,10,0,-103,7796.34,null,1,1,1,9.9945068359375E-4,9.9945068359375E-4," "]
["2009-10-12T02:41:58",60.036998748779297,3710.15771484375,350,-223.01573181152344,16,449.5,10,0,-103,7796.67,null,1,1,1,0,0," "]
["2009-10-12T02:42:00",60.035999298095703,3699.355712890625,350,-223.01573181152344,16,450,10,0,-103,7797,null,1,1,1,-9.9945068359375E-4,9.9945068359375E-4," "]
["2009-10-12T02:42:02",60.041000366210938,3698.591064453125,350,-223.01573181152344,16,450.5,10,0,-103,7797.33,null,1,1,1,5.001068115234375E-3,5.001068115234375E-3," "]
["2009-10-12T02:42:04",60.042999267578125,3704.59130859375,350,-223.01573181152344,16,451,10,0,-103,7797.66,null,1,1,1,1.9989013671875E-3,1.9989013671875E-3," "]
["2009-10-12T02:42:06",60.043998718261719,3703.275390625,350,-223.01573181152344,16,451.5,10,0,-103,7797.99,null,1,1,1,9.9945068359375E-4,9.9945068359375E-4," "]
["2009-10-12T02:42:08",60.042999267578125,3702.482421875,350,-223.01573181152344,16,452,10,0,-103,7798.32,null,1,1,1,-9.9945068359375E-4,9.9945068359375E-4," "]
["2009-10-12T02:42:10",60.046001434326172,3701.31640625,350,-223.01573181152344,16,452.5,10,0,-103,7798.65,null,1,1,1,3.002166748046875E-3,3.002166748046875E-3," "]
["2009-10-12T02:42:12",60.048000335693359,3700.825927734375,350,-223.01573181152344,16,453,10,0,-103,7798.98,null,1,1,1,1.9989013671875E-3,1.9989013671875E-3," "]
["2009-10-12T02:42:14",60.046001434326172,3699.528564453125,350,-223.01573181152344,16,453.5,10,0,-103,7799.31,null,1,1,1,-1.9989013671875E-3,1.9989013671875E-3," "]
["2009-10-12T02:42:16",60.046001434326172,3699.72607421875,350,-223.01573181152344,16,454,10,0,-103,7799.64,null,1,1,1,0,0," "]
["2009-10-12T02:42:18",60.042999267578125,3690.099609375,350,-223.01573181152344,16,454.5,10,0,-103,7799.97,null,1,1,1,-3.002166748046875E-3,3.002166748046875E-3," "]
["2009-10-12T02:42:20",60.042999267578125,3690.477294921875,350,-223.01573181152344,16,455,10,0,-103,7800.3,null,1,1,1,0,0," "]
["2009-10-12T02:42:22",60.043998718261719,3696.864501953125,350,-223.01573181152344,16,455.5,10,0,-103,7800.63,null,1,1,1,9.9945068359375E-4,9.9945068359375E-4," "]
["2009-10-12T02:42:24",60.042999267578125,3696.877197265625,350,-223.01573181152344,16,456,10,0,-103,7800.96,null,1,{"$f":"IF((M755=1)*(B755>$N$2),1,0)","v":1},1,-9.9945068359375E-4,{"$f":"ABS(P755)","v":9.9945068359375E-4},{"$f":"IF(Q755>(AVERAGE(Q751:Q754)+R$2),1,\" \")","v":" "}]
["2009-10-12T02:42:26",60.042999267578125,3696.181884765625,350,-223.01573181152344,16,456.5,10,0,-103,7801.29,null,1,1,1,0,0," "]
["2009-10-12T02:42:28",60.044998168945313,3696.541259765625,350,-223.01573181152344,16,457,10,0,-103,7801.62,null,1,1,1,1.9989013671875E-3,1.9989013671875E-3," "]
["2009-10-12T02:42:30",60.040000915527344,3696.9677734375,350,-223.01573181152344,16,457.5,10,0,-103,7801.95,null,1,1,1,-4.99725341796875E-3,4.99725341796875E-3," "]
["2009-10-12T02:42:32",60.041000366210938,3698.68603515625,350,-223.01573181152344,16,458,10,0,-103,7802.28,null,1,1,1,9.9945068359375E-4,9.9945068359375E-4," "]
["2009-10-12T02:42:34",60.03900146484375,3699.630615234375,350,-223.01573181152344,16,458.5,10,0,-103,7802.61,null,1,1,1,-1.9989013671875E-3,1.9989013671875E-3," "]
["2009-10-12T02:42:36",60.03900146484375,3698.786865234375,350,-223.01573181152344,16,459,10,0,-103,7802.94,null,1,1,1,0,0," "]
["2009-10-12T02:42:38",60.035999298095703,3699.712158203125,350,-223.01573181152344,16,459.5,10,0,-103,7803.27,null,1,1,1,-3.002166748046875E-3,3.002166748046875E-3," "]
["2009-10-12T02:42:40",60.037998199462891,3700.105712890625,350,-223.01573181152344,16,460,10,0,-103,7803.6,null,1,1,1,1.9989013671875E-3,1.9989013671875E-3," "]
["2009-10-12T02:42:42",60.033000946044922,3699.968017578125,350,-223.01573181152344,16,460.5,10,0,-103,7803.93,null,1,1,1,-4.99725341796875E-3,4.99725341796875E-3," "]
["2009-10-12T02:42:44",60.034000396728516,3701.121826171875,350,-223.01573181152344,16,461,10,0,-103,7804.26,null,1,1,1,9.9945068359375E-4,9.9945068359375E-4," "]
["2009-10-12T02:42:46",60.036998748779297,3701.865234375,350,-223.01573181152344,16,461.5,10,0,-103,7804.59,null,1,1,1,2.99835205078125E-3,2.99835205078125E-3," "]
["2009-10-12T02:42:48",60.036998748779297,3701.61376953125,350,-223.01573181152344,16,462,10,0,-103,7804.92,null,1,1,1,0,0," "]
["2009-10-12T02:42:50",60.034999847412109,3701.997802734375,350,-223.01573181152344,16,462.5,10,0,-103,7805.25,null,1,1,1,-1.9989013671875E-3,1.9989013671875E-3," "]
["2009-10-12T02:42:52",60.029998779296875,3702.91259765625,350,-223.01573181152344,16,463,10,0,-103,7805.58,null,1,1,1,-5.001068115234375E-3,5.001068115234375E-3," "]
["2009-10-12T02:42:54",60.033000946044922,3703.9091796875,350,-223.01573181152344,16,463.5,10,0,-103,7805.91,null,1,1,1,3.002166748046875E-3,3.002166748046875E-3," "]
["2009-10-12T02:42:56",60.035999298095703,3705.5224609375,350,-223.01573181152344,16,464,10,0,-103,7806.24,null,1,1,1,2.99835205078125E-3,2.99835205078125E-3," "]
["2009-10-12T02:42:58",60.033000946044922,3704.966796875,350,-223.01573181152344,16,464.5,10,0,-103,7806.57,null,1,1,1,-2.99835205078125E-3,2.99835205078125E-3," "]
["2009-10-12T02:43:00",60.034000396728516,3704.08740234375,350,-223.01573181152344,16,465,10,0,-103,7806.9,null,1,1,1,9.9945068359375E-4,9.9945068359375E-4," "]
["2009-10-12T02:43:02",60.032001495361328,3702.770751953125,350,-223.01573181152344,16,465.5,10,0,-103,7807.23,null,1,1,1,-1.9989013671875E-3,1.9989013671875E-3," "]
["2009-10-12T02:43:04",60.032001495361328,3703.706298828125,350,-223.01573181152344,16,466,10,0,-103,7807.56,null,1,1,{"$f":"IF(ROW()<$M$3,0,1)","v":1},0,0," "]
["2009-10-12T02:43:06",60.034000396728516,3704.9052734375,350,-223.01573181152344,16,466.5,10,0,-103,7807.89,null,{"$f":"IF(ROW()<$M$5,0,1)","v":1},1,1,{"$f":"B776-B775","v":1.9989013671875E-3},1.9989013671875E-3," "]
["2009-10-12T02:43:08",60.033000946044922,3705.435302734375,350,-223.01573181152344,16,467,10,0,-103,7808.22,null,1,1,1,-9.9945068359375E-4,9.9945068359375E-4," "]
["2009-10-12T02:43:10",60.036998748779297,3704.360107421875,350,-223.01573181152344,16,467.5,10,0,-103,7808.55,null,1,1,1,3.997802734375E-3,3.997802734375E-3," "]
["2009-10-12T02:43:12",60.034999847412109,3702.587890625,350,-223.01573181152344,16,468,10,0,-103,7808.88,null,1,1,1,-1.9989013671875E-3,1.9989013671875E-3," "]
["2009-10-12T02:43:14",60.034999847412109,3702.204345703125,350,-223.01573181152344,16,468.5,10,0,-103,7809.21,null,1,1,1,0,0," "]
["2009-10-12T02:43:16",60.035999298095703,3701.94189453125,350,-223.01573181152344,16,469,10,0,-103,7809.54,null,1,1,1,9.9945068359375E-4,9.9945068359375E-4," "]
["2009-10-12T02:43:18",60.03900146484375,3702.25048828125,350,-223.01573181152344,16,469.5,10,0,-103,7809.87,null,1,1,1,3.002166748046875E-3,3.002166748046875E-3," "]
["2009-10-12T02:43:20",60.036998748779297,3703.31787109375,350,-223.01573181152344,16,470,10,0,-103,7810.2,null,1,1,1,-2.002716064453125E-3,2.002716064453125E-3," "]
["2009-10-12T02:43:22",60.03900146484375,3702.45703125,350,-223.01573181152344,16,470.5,10,0,-103,7810.53,null,1,1,1,2.002716064453125E-3,2.002716064453125E-3," "]
["2009-10-12T02:43:24",60.035999298095703,3702.52490234375,350,-223.01573181152344,16,471,10,0,-103,7810.86,null,1,1,1,-3.002166748046875E-3,3.002166748046875E-3," "]
["2009-10-12T02:43:26",60.034000396728516,3703.2685546875,350,-223.01573181152344,16,471.5,10,0,-103,7811.19,null,1,1,1,-1.9989013671875E-3,1.9989013671875E-3," "]
["2009-10-12T02:43:28",60.037998199462891,3703.843505859375,350,-223.01573181152344,16,472,10,0,-103,7811.52,null,1,1,1,3.997802734375E-3,3.997802734375E-3," "]
["2009-10-12T02:43:30",60.036998748779297,3702.865234375,350,-223.01573181152344,16,472.5,10,0,-103,7811.85,null,1,1,1,-9.9945068359375E-4,9.9945068359375E-4," "]
["2009-10-12T02:43:32",60.036998748779297,3702.517578125,350,-223.01573181152344,16,473,10,0,-103,7812.18,null,1,1,1,0,0," "]
["2009-10-12T02:43:34",60.036998748779297,3702.279541015625,350,-223.01573181152344,16,473.5,10,0,-103,7812.51,null,1,1,1,0,0," "]
["2009-10-12T02:43:36",60.037998199462891,3692.427001953125,350,-223.01573181152344,16,474,10,0,-103,7812.84,null,1,1,1,9.9945068359375E-4,9.9945068359375E-4," "]
["2009-10-12T02:43:38",60.040000915527344,3692.177978515625,350,-223.01573181152344,16,474.5,10,0,-103,7813.17,null,1,1,1,2.002716064453125E-3,2.002716064453125E-3," "]
["2009-10-12T02:43:40",60.042999267578125,3700.27587890625,350,-223.01573181152344,16,475,10,0,-103,7813.5,null,1,1,1,2.99835205078125E-3,2.99835205078125E-3," "]
["2009-10-12T02:43:42",60.044998168945313,3698.75537109375,350,-223.01573181152344,16,475.5,10,0,-103,7813.83,null,1,1,1,1.9989013671875E-3,1.9989013671875E-3," "]
["2009-10-12T02:43:44",60.044998168945313,3697.728515625,350,-223.01573181152344,16,476,10,0,-103,7814.16,null,1,1,1,0,0," "]
["2009-10-12T02:43:46",60.041999816894531,3696.916015625,350,-223.01573181152344,16,476.5,10,0,-103,7814.49,null,1,1,1,-2.99835205078125E-3,2.99835205078125E-3," "]
["2009-10-12T02:43:48",60.042999267578125,3697.368408203125,350,-223.01573181152344,16,477,10,0,-103,7814.82,null,1,1,1,9.9945068359375E-4,9.9945068359375E-4," "]
["2009-10-12T02:43:50",60.040000915527344,3697.345947265625,350,-223.01573181152344,16,477.5,10,0,-103,7815.15,null,1,1,1,-2.99835205078125E-3,2.99835205078125E-3," "]
["2009-10-12T02:43:52",60.043998718261719,3698.42919921875,350,-223.01573181152344,16,478,10,0,-103,7815.48,null,1,1,1,3.997802734375E-3,3.997802734375E-3," "]
["2009-10-12T02:43:54",60.046001434326172,3694.762939453125,350,-223.01573181152344,16,478.5,10,0,-103,7815.81,null,1,1,1,2.002716064453125E-3,2.002716064453125E-3," "]
["2009-10-12T02:43:56",60.041999816894531,3693.583740234375,350,-223.01573181152344,16,479,10,0,-103,7816.14,null,1,1,1,-4.001617431640625E-3,4.001617431640625E-3," "]
["2009-10-12T02:43:58",60.034000396728516,3693.24072265625,350,-223.01573181152344,16,479.5,10,0,-103,7816.47,null,1,1,1,-7.999420166015625E-3,7.999420166015625E-3," "]
["2009-10-12T02:44:00",60.03900146484375,3696.79833984375,350,-223.01573181152344,16,480,10,0,-103,7816.8,null,1,1,1,5.001068115234375E-3,5.001068115234375E-3," "]
["2009-10-12T02:44:02",60.03900146484375,3699.3642578125,350,-223.01573181152344,16,480.5,10,0,-103,7817.13,null,1,1,1,0,0," "]
["2009-10-12T02:44:04",60.035999298095703,3701.791015625,350,-223.01573181152344,16,481,10,0,-103,7817.46,null,1,1,1,-3.002166748046875E-3,3.002166748046875E-3," "]
["2009-10-12T02:44:06",60.036998748779297,3700.708251953125,350,-223.01573181152344,16,481.5,10,0,-103,7817.79,null,1,1,1,9.9945068359375E-4,9.9945068359375E-4," "]
["2009-10-12T02:44:08",60.034000396728516,3700.75341796875,350,-223.01573181152344,16,482,10,0,-103,7818.12,null,1,1,1,-2.99835205078125E-3,2.99835205078125E-3," "]
["2009-10-12T02:44:10",60.033000946044922,3702.14794921875,350,-223.01573181152344,16,482.5,10,0,-103,7818.45,null,1,1,1,-9.9945068359375E-4,9.9945068359375E-4," "]
["2009-10-12T02:44:12",60.032001495361328,3705.212646484375,350,-223.01573181152344,16,483,10,0,-103,7818.78,null,1,1,1,-9.9945068359375E-4,9.9945068359375E-4," "]
["2009-10-12T02:44:14",60.030998229980469,3707.52099609375,350,-223.01573181152344,16,483.5,10,0,-103,7819.11,null,1,1,1,-1.003265380859375E-3,1.003265380859375E-3," "]
["2009-10-12T02:44:16",60.033000946044922,3707.28662109375,350,-223.01573181152344,16,484,10,0,-103,7819.44,null,1,1,1,2.002716064453125E-3,2.002716064453125E-3," "]
["2009-10-12T02:44:18",60.027000427246094,3706.988037109375,350,-223.01573181152344,16,484.5,10,0,-103,7819.77,null,1,1,1,-6.000518798828125E-3,6.000518798828125E-3," "]
["2009-10-12T02:44:20",60.030998229980469,3707.34033203125,350,-223.01573181152344,16,485,10,0,-103,7820.1,null,1,1,1,3.997802734375E-3,3.997802734375E-3," "]
["2009-10-12T02:44:22",60.032001495361328,3707.91650390625,350,-223.01573181152344,16,485.5,10,0,-103,7820.43,null,1,1,1,1.003265380859375E-3,1.003265380859375E-3," "]
["2009-10-12T02:44:24",60.030998229980469,3707.3837890625,350,-223.01573181152344,16,486,10,0,-103,7820.76,null,1,1,1,-1.003265380859375E-3,1.003265380859375E-3," "]
["2009-10-12T02:44:26",60.030998229980469,3706.857421875,350,-223.01573181152344,16,486.5,10,0,-103,7821.09,null,1,1,1,0,0," "]
["2009-10-12T02:44:28",60.033000946044922,3707.615234375,350,-223.01573181152344,16,487,10,0,-103,7821.42,null,1,1,1,2.002716064453125E-3,2.002716064453125E-3," "]
["2009-10-12T02:44:30",60.03900146484375,3706.8232421875,350,-223.01573181152344,16,487.5,10,0,-103,7821.75,null,1,1,1,6.000518798828125E-3,6.000518798828125E-3," "]
["2009-10-12T02:44:32",60.03900146484375,3703.74609375,350,-223.01573181152344,16,488,10,0,-103,7822.08,null,1,{"$f":"IF((M819=1)*(B819>$N$2),1,0)","v":1},1,0,{"$f":"ABS(P819)","v":0},{"$f":"IF(Q819>(AVERAGE(Q815:Q818)+R$2),1,\" \")","v":" "}]
["2009-10-12T02:44:34",60.037998199462891,3701.58203125,350,-223.01573181152344,16,488.5,10,0,-103,7822.41,null,1,1,1,-1.003265380859375E-3,1.003265380859375E-3," "]
["2009-10-12T02:44:36",60.036998748779297,3700.847412109375,350,-223.01573181152344,16,489,10,0,-103,7822.74,null,1,1,1,-9.9945068359375E-4,9.9945068359375E-4," "]
["2009-10-12T02:44:38",60.034999847412109,3701.20751953125,350,-223.01573181152344,16,489.5,10,0,-103,7823.07,null,1,1,1,-1.9989013671875E-3,1.9989013671875E-3," "]
["2009-10-12T02:44:40",60.036998748779297,3702.212158203125,350,-223.01573181152344,16,490,10,0,-103,7823.4,null,1,1,1,1.9989013671875E-3,1.9989013671875E-3," "]
["2009-10-12T02:44:42",60.040000915527344,3701.686279296875,350,-223.01573181152344,16,490.5,10,0,-103,7823.73,null,1,1,1,3.002166748046875E-3,3.002166748046875E-3," "]
["2009-10-12T02:44:44",60.041999816894531,3700.3974609375,350,-223.01573181152344,16,491,10,0,-103,7824.06,null,1,1,1,1.9989013671875E-3,1.9989013671875E-3," "]
["2009-10-12T02:44:46",60.034999847412109,3699.689697265625,350,-223.01573181152344,16,491.5,10,0,-103,7824.39,null,1,1,1,-6.999969482421875E-3,6.999969482421875E-3," "]
["2009-10-12T02:44:48",60.035999298095703,3700.366455078125,350,-223.01573181152344,16,492,10,0,-103,7824.72,null,1,1,1,9.9945068359375E-4,9.9945068359375E-4," "]
["2009-10-12T02:44:50",60.040000915527344,3700.8271484375,350,-223.01573181152344,16,492.5,10,0,-103,7825.05,null,1,1,1,4.001617431640625E-3,4.001617431640625E-3," "]
["2009-10-12T02:44:52",60.044998168945313,3700.66162109375,350,-223.01573181152344,16,493,10,0,-103,7825.38,null,1,1,1,4.99725341796875E-3,4.99725341796875E-3," "]
["2009-10-12T02:44:54",60.044998168945313,3696.93505859375,350,-223.01573181152344,16,493.5,10,0,-103,7825.71,null,1,1,1,0,0," "]
["2009-10-12T02:44:56",60.048000335693359,3695.688232421875,350,-223.01573181152344,16,494,10,0,-103,7826.04,null,1,1,1,3.002166748046875E-3,3.002166748046875E-3," "]
["2009-10-12T02:44:58",60.041999816894531,3695.818603515625,350,-223.01573181152344,16,494.5,10,0,-103,7826.37,null,1,1,1,-6.000518798828125E-3,6.000518798828125E-3," "]
["2009-10-12T02:45:00",60.043998718261719,3693.82421875,350,-223.01573181152344,16,495,10,0,-103,7826.7,null,1,1,1,1.9989013671875E-3,1.9989013671875E-3," "]
["2009-10-12T02:45:02",60.043998718261719,3694.799072265625,350,-223.01573181152344,16,495.5,10,0,-103,7827.03,null,1,1,1,0,0," "]
["2009-10-12T02:45:04",60.043998718261719,3696.89697265625,350,-223.01573181152344,16,496,10,0,-103,7827.36,null,1,1,1,0,0," "]
["2009-10-12T02:45:06",60.041000366210938,3696.022705078125,350,-223.01573181152344,16,496.5,10,0,-103,7827.69,null,1,1,1,-2.99835205078125E-3,2.99835205078125E-3," "]
["2009-10-12T02:45:08",60.040000915527344,3697.50244140625,350,-223.01573181152344,16,497,10,0,-103,7828.02,null,1,1,1,-9.9945068359375E-4,9.9945068359375E-4," "]
["2009-10-12T02:45:10",60.040000915527344,3698.42431640625,350,-223.01573181152344,16,497.5,10,0,-103,7828.35,null,1,1,1,0,0," "]
["2009-10-12T02:45:12",60.044998168945313,3699.4267578125,350,-223.01573181152344,16,498,10,0,-103,7828.68,null,1,1,{"$f":"IF(ROW()<$M$3,0,1)","v":1},4.99725341796875E-3,4.99725341796875E-3," "]
["2009-10-12T02:45:14",60.043998718261719,3700.1767578125,350,-223.01573181152344,16,498.5,10,0,-103,7829.01,null,{"$f":"IF(ROW()<$M$5,0,1)","v":1},1,1,{"$f":"B840-B839","v":-9.9945068359375E-4},9.9945068359375E-4," "]
["2009-10-12T02:45:16",60.041999816894531,3699.806396484375,350,-223.01573181152344,16,499,10,0,-103,7829.34,null,1,1,1,-1.9989013671875E-3,1.9989013671875E-3," "]
["2009-10-12T02:45:18",60.03900146484375,3697.577392578125,350,-223.01573181152344,16,499.5,10,0,-103,7829.67,null,1,1,1,-2.99835205078125E-3,2.99835205078125E-3," "]
["2009-10-12T02:45:20",60.041999816894531,3697.6806640625,350,-223.01573181152344,16,500,10,0,-103,7830,null,1,1,1,2.99835205078125E-3,2.99835205078125E-3," "]
["2009-10-12T02:45:22",60.041999816894531,3698.50732421875,350,-223.01573181152344,16,500.5,10,0,-103,7830.33,null,1,1,1,0,0," "]
["2009-10-12T02:45:24",60.041000366210938,3698.35888671875,350,-223.01573181152344,16,501,10,0,-103,7830.66,null,1,1,1,-9.9945068359375E-4,9.9945068359375E-4," "]
["2009-10-12T02:45:26",60.037998199462891,3698.4658203125,350,-223.01573181152344,16,501.5,10,0,-103,7830.99,null,1,1,1,-3.002166748046875E-3,3.002166748046875E-3," "]
["2009-10-12T02:45:28",60.035999298095703,3699.0771484375,350,-223.01573181152344,16,502,10,0,-103,7831.32,null,1,1,1,-1.9989013671875E-3,1.9989013671875E-3," "]
["2009-10-12T02:45:30",60.036998748779297,3700.26220703125,350,-223.01573181152344,16,502.5,10,0,-103,7831.65,null,1,1,1,9.9945068359375E-4,9.9945068359375E-4," "]
["2009-10-12T02:45:32",60.03900146484375,3701.591796875,350,-223.01573181152344,16,503,10,0,-103,7831.98,null,1,1,1,2.002716064453125E-3,2.002716064453125E-3," "]
["2009-10-12T02:45:34",60.037998199462891,3700.90234375,350,-223.01573181152344,16,503.5,10,0,-103,7832.31,null,1,1,1,-1.003265380859375E-3,1.003265380859375E-3," "]
["2009-10-12T02:45:36",60.040000915527344,3700.142822265625,350,-223.01573181152344,16,504,10,0,-103,7832.64,null,1,1,1,2.002716064453125E-3,2.002716064453125E-3," "]
["2009-10-12T02:45:38",60.03900146484375,3700.27001953125,350,-223.01573181152344,16,504.5,10,0,-103,7832.97,null,1,1,1,-9.9945068359375E-4,9.9945068359375E-4," "]
["2009-10-12T02:45:40",60.036998748779297,3701.139404296875,350,-223.01573181152344,16,505,10,0,-103,7833.3,null,1,1,1,-2.002716064453125E-3,2.002716064453125E-3," "]
["2009-10-12T02:45:42",60.037998199462891,3701.585693359375,350,-223.01573181152344,16,505.5,10,0,-103,7833.63,null,1,1,1,9.9945068359375E-4,9.9945068359375E-4," "]
["2009-10-12T02:45:44",60.03900146484375,3700.264404296875,350,-223.01573181152344,16,506,10,0,-103,7833.96,null,1,1,1,1.003265380859375E-3,1.003265380859375E-3," "]
["2009-10-12T02:45:46",60.040000915527344,3699.45849609375,350,-223.01573181152344,16,506.5,10,0,-103,7834.29,null,1,1,1,9.9945068359375E-4,9.9945068359375E-4," "]
["2009-10-12T02:45:48",60.036998748779297,3699.72119140625,350,-223.01573181152344,16,507,10,0,-103,7834.62,null,1,1,1,-3.002166748046875E-3,3.002166748046875E-3," "]
["2009-10-12T02:45:50",60.036998748779297,3700.45751953125,350,-223.01573181152344,16,507.5,10,0,-103,7834.95,null,1,1,1,0,0," "]
["2009-10-12T02:45:52",60.036998748779297,3699.505126953125,350,-223.01573181152344,16,508,10,0,-103,7835.28,null,1,1,1,0,0," "]
["2009-10-12T02:45:54",60.03900146484375,3698.79443359375,350,-223.01573181152344,16,508.5,10,0,-103,7835.61,null,1,1,1,2.002716064453125E-3,2.002716064453125E-3," "]
["2009-10-12T02:45:56",60.037998199462891,3699.216064453125,350,-223.01573181152344,16,509,10,0,-103,7835.94,null,1,1,1,-1.003265380859375E-3,1.003265380859375E-3," "]
["2009-10-12T02:45:58",60.035999298095703,3699.400390625,350,-223.01573181152344,16,509.5,10,0,-103,7836.27,null,1,1,1,-1.9989013671875E-3,1.9989013671875E-3," "]
["2009-10-12T02:46:00",60.034999847412109,3700.661376953125,350,-223.01573181152344,16,510,10,0,-103,7836.6,null,1,1,1,-9.9945068359375E-4,9.9945068359375E-4," "]
["2009-10-12T02:46:02",60.033000946044922,3702.173095703125,350,-223.01573181152344,16,510.5,10,0,-103,7836.93,null,1,1,1,-1.9989013671875E-3,1.9989013671875E-3," "]
["2009-10-12T02:46:04",60.030998229980469,3702.967529296875,350,-223.01573181152344,16,511,10,0,-103,7837.26,null,1,1,1,-2.002716064453125E-3,2.002716064453125E-3," "]
["2009-10-12T02:46:06",60.029998779296875,3705.195068359375,350,-223.01573181152344,16,511.5,10,0,-103,7837.59,null,1,1,1,-9.9945068359375E-4,9.9945068359375E-4," "]
["2009-10-12T02:46:08",60.032001495361328,3704.95166015625,350,-223.01573181152344,16,512,10,0,-103,7837.92,null,1,1,1,2.002716064453125E-3,2.002716064453125E-3," "]
["2009-10-12T02:46:10",60.032001495361328,3705.775146484375,350,-223.01573181152344,16,512.5,10,0,-103,7838.25,null,1,1,1,0,0," "]
["2009-10-12T02:46:12",60.036998748779297,3705.621337890625,350,-223.01573181152344,16,513,10,0,-103,7838.58,null,1,1,1,4.99725341796875E-3,4.99725341796875E-3," "]
["2009-10-12T02:46:14",60.041999816894531,3703.744140625,350,-223.01573181152344,16,513.5,10,0,-103,7838.91,null,1,1,1,5.001068115234375E-3,5.001068115234375E-3," "]
["2009-10-12T02:46:16",60.041000366210938,3701.981201171875,350,-223.01573181152344,16,514,10,0,-103,7839.24,null,1,1,1,-9.9945068359375E-4,9.9945068359375E-4," "]
["2009-10-12T02:46:18",60.035999298095703,3700.75634765625,350,-223.01573181152344,16,514.5,10,0,-103,7839.57,null,1,1,1,-5.001068115234375E-3,5.001068115234375E-3," "]
["2009-10-12T02:46:20",60.030998229980469,3700.7470703125,350,-223.01573181152344,16,515,10,0,-103,7839.9,null,1,1,1,-5.001068115234375E-3,5.001068115234375E-3," "]
["2009-10-12T02:46:22",60.032001495361328,3702.212646484375,350,-223.01573181152344,16,515.5,10,0,-103,7840.23,null,1,1,1,1.003265380859375E-3,1.003265380859375E-3," "]
["2009-10-12T02:46:24",60.030998229980469,3705.059326171875,350,-223.01573181152344,16,516,10,0,-103,7840.56,null,1,1,1,-1.003265380859375E-3,1.003265380859375E-3," "]
["2009-10-12T02:46:26",60.034000396728516,3705.513671875,350,-223.01573181152344,16,516.5,10,0,-103,7840.89,null,1,1,1,3.002166748046875E-3,3.002166748046875E-3," "]
["2009-10-12T02:46:28",60.034000396728516,3704.44873046875,350,-223.01573181152344,16,517,10,0,-103,7841.22,null,1,1,1,0,0," "]
["2009-10-12T02:46:30",60.032001495361328,3703.830810546875,350,-223.01573181152344,16,517.5,10,0,-103,7841.55,null,1,1,1,-1.9989013671875E-3,1.9989013671875E-3," "]
["2009-10-12T02:46:32",60.037998199462891,3703.61962890625,350,-223.01573181152344,16,518,10,0,-103,7841.88,null,1,1,1,5.9967041015625E-3,5.9967041015625E-3," "]
["2009-10-12T02:46:34",60.042999267578125,3702.79541015625,350,-223.01573181152344,16,518.5,10,0,-103,7842.21,null,1,1,1,5.001068115234375E-3,5.001068115234375E-3," "]
["2009-10-12T02:46:36",60.043998718261719,3701.431640625,350,-223.01573181152344,16,519,10,0,-103,7842.54,null,1,1,1,9.9945068359375E-4,9.9945068359375E-4," "]
["2009-10-12T02:46:38",60.041999816894531,3697.38037109375,350,-223.01573181152344,16,519.5,10,0,-103,7842.87,null,1,1,1,-1.9989013671875E-3,1.9989013671875E-3," "]
["2009-10-12T02:46:40",60.044998168945313,3696.24951171875,350,-223.01573181152344,16,520,10,0,-103,7843.2,null,1,{"$f":"IF((M883=1)*(B883>$N$2),1,0)","v":1},1,2.99835205078125E-3,{"$f":"ABS(P883)","v":2.99835205078125E-3},{"$f":"IF(Q883>(AVERAGE(Q879:Q882)+R$2),1,\" \")","v":" "}]
["2009-10-12T02:46:42",60.040000915527344,3696.302001953125,350,-223.01573181152344,16,520.5,10,0,-103,7843.53,null,1,1,1,-4.99725341796875E-3,4.99725341796875E-3," "]
["2009-10-12T02:46:44",60.040000915527344,3693.51806640625,350,-223.01573181152344,16,521,10,0,-103,7843.86,null,1,1,1,0,0," "]
["2009-10-12T02:46:46",60.042999267578125,3693.5771484375,350,-223.01573181152344,16,521.5,10,0,-103,7844.19,null,1,1,1,2.99835205078125E-3,2.99835205078125E-3," "]
["2009-10-12T02:46:48",60.042999267578125,3695.197021484375,350,-223.01573181152344,16,522,10,0,-103,7844.52,null,1,1,1,0,0," "]
["2009-10-12T02:46:50",60.041000366210938,3695.185546875,350,-223.01573181152344,16,522.5,10,0,-103,7844.85,null,1,1,1,-1.9989013671875E-3,1.9989013671875E-3," "]
["2009-10-12T02:46:52",60.040000915527344,3693.7861328125,350,-223.01573181152344,16,523,10,0,-103,7845.18,null,1,1,1,-9.9945068359375E-4,9.9945068359375E-4," "]
["2009-10-12T02:46:54",60.037998199462891,3694.75341796875,350,-223.01573181152344,16,523.5,10,0,-103,7845.51,null,1,1,1,-2.002716064453125E-3,2.002716064453125E-3," "]
["2009-10-12T02:46:56",60.042999267578125,3694.92626953125,350,-223.01573181152344,16,524,10,0,-103,7845.84,null,1,1,1,5.001068115234375E-3,5.001068115234375E-3," "]
["2009-10-12T02:46:58",60.043998718261719,3694.937744140625,350,-223.01573181152344,16,524.5,10,0,-103,7846.17,null,1,1,1,9.9945068359375E-4,9.9945068359375E-4," "]
["2009-10-12T02:47:00",60.041999816894531,3694.159423828125,350,-223.01573181152344,16,525,10,0,-103,7846.5,null,1,1,1,-1.9989013671875E-3,1.9989013671875E-3," "]
["2009-10-12T02:47:02",60.035999298095703,3691.330078125,350,-223.01573181152344,16,525.5,10,0,-103,7846.83,null,1,1,1,-6.000518798828125E-3,6.000518798828125E-3," "]
["2009-10-12T02:47:04",60.042999267578125,3692.686279296875,350,-223.01573181152344,16,526,10,0,-103,7847.16,null,1,1,1,6.999969482421875E-3,6.999969482421875E-3," "]
["2009-10-12T02:47:06",60.041000366210938,3693.23828125,350,-223.01573181152344,16,526.5,10,0,-103,7847.49,null,1,1,1,-1.9989013671875E-3,1.9989013671875E-3," "]
["2009-10-12T02:47:08",60.041999816894531,3693.39013671875,350,-223.01573181152344,16,527,10,0,-103,7847.82,null,1,1,1,9.9945068359375E-4,9.9945068359375E-4," "]
["2009-10-12T02:47:10",60.042999267578125,3692.35693359375,350,-223.01573181152344,16,527.5,10,0,-103,7848.15,null,1,1,1,9.9945068359375E-4,9.9945068359375E-4," "]
["2009-10-12T02:47:12",60.042999267578125,3690.951416015625,350,-223.01573181152344,16,528,10,0,-103,7848.48,null,1,1,1,0,0," "]
["2009-10-12T02:47:14",60.035999298095703,3690.836181640625,350,-223.01573181152344,16,528.5,10,0,-103,7848.81,null,1,1,1,-6.999969482421875E-3,6.999969482421875E-3," "]
["2009-10-12T02:47:16",60.03900146484375,3692.042236328125,350,-223.01573181152344,16,529,10,0,-103,7849.14,null,1,1,1,3.002166748046875E-3,3.002166748046875E-3," "]
["2009-10-12T02:47:18",60.03900146484375,3693.1142578125,350,-223.01573181152344,16,529.5,10,0,-103,7849.47,null,1,1,1,0,0," "]
["2009-10-12T02:47:20",60.036998748779297,3694.1171875,350,-223.01573181152344,16,530,10,0,-103,7849.8,null,1,1,{"$f":"IF(ROW()<$M$3,0,1)","v":1},-2.002716064453125E-3,2.002716064453125E-3," "]
["2009-10-12T02:47:22",60.034000396728516,3695.25830078125,350,-223.01573181152344,16,530.5,10,0,-103,7850.13,null,{"$f":"IF(ROW()<$M$5,0,1)","v":1},1,1,{"$f":"B904-B903","v":-2.99835205078125E-3},2.99835205078125E-3," "]
["2009-10-12T02:47:24",60.034999847412109,3695.580810546875,350,-223.01573181152344,16,531,10,0,-103,7850.46,null,1,1,1,9.9945068359375E-4,9.9945068359375E-4," "]
["2009-10-12T02:47:26",60.034999847412109,3695.94921875,350,-223.01573181152344,16,531.5,10,0,-103,7850.79,null,1,1,1,0,0," "]
["2009-10-12T02:47:28",60.034999847412109,3695.4912109375,350,-223.01573181152344,16,532,10,0,-103,7851.12,null,1,1,1,0,0," "]
["2009-10-12T02:47:30",60.035999298095703,3696.304931640625,350,-223.01573181152344,16,532.5,10,0,-103,7851.45,null,1,1,1,9.9945068359375E-4,9.9945068359375E-4," "]
["2009-10-12T02:47:32",60.029998779296875,3696.486328125,350,-223.01573181152344,16,533,10,0,-103,7851.78,null,1,1,1,-6.000518798828125E-3,6.000518798828125E-3," "]
["2009-10-12T02:47:34",60.029998779296875,3697.335693359375,350,-223.01573181152344,16,533.5,10,0,-103,7852.11,null,1,1,1,0,0," "]
["2009-10-12T02:47:36",60.029998779296875,3699.1708984375,350,-223.01573181152344,16,534,10,0,-103,7852.44,null,1,1,1,0,0," "]
["2009-10-12T02:47:38",60.030998229980469,3699.35693359375,350,-223.01573181152344,16,534.5,10,0,-103,7852.77,null,1,1,1,9.9945068359375E-4,9.9945068359375E-4," "]
["2009-10-12T02:47:40",60.030998229980469,3699.251220703125,350,-223.01573181152344,16,535,10,0,-103,7853.1,null,1,1,1,0,0," "]
["2009-10-12T02:47:42",60.032001495361328,3699.1171875,350,-223.01573181152344,16,535.5,10,0,-103,7853.43,null,1,1,1,1.003265380859375E-3,1.003265380859375E-3," "]
["2009-10-12T02:47:44",60.030998229980469,3699.105224609375,350,-223.01573181152344,16,536,10,0,-103,7853.76,null,1,1,1,-1.003265380859375E-3,1.003265380859375E-3," "]
["2009-10-12T02:47:46",60.032001495361328,3699.12646484375,350,-223.01573181152344,16,536.5,10,0,-103,7854.09,null,1,1,1,1.003265380859375E-3,1.003265380859375E-3," "]
["2009-10-12T02:47:48",60.032001495361328,3698.954345703125,350,-223.01573181152344,16,537,10,0,-103,7854.42,null,1,1,1,0,0," "]
["2009-10-12T02:47:50",60.032001495361328,3698.135986328125,350,-223.01573181152344,16,537.5,10,0,-103,7854.75,null,1,1,1,0,0," "]
["2009-10-12T02:47:52",60.033000946044922,3698.27734375,350,-223.01573181152344,16,538,10,0,-103,7855.08,null,1,1,1,9.9945068359375E-4,9.9945068359375E-4," "]
["2009-10-12T02:47:54",60.036998748779297,3697.411865234375,350,-223.01573181152344,16,538.5,10,0,-103,7855.41,null,1,1,1,3.997802734375E-3,3.997802734375E-3," "]
["2009-10-12T02:47:56",60.040000915527344,3695.9404296875,350,-223.01573181152344,16,539,10,0,-103,7855.74,null,1,1,1,3.002166748046875E-3,3.002166748046875E-3," "]
["2009-10-12T02:47:58",60.03900146484375,3693.73583984375,350,-223.01573181152344,16,539.5,10,0,-103,7856.07,null,1,1,1,-9.9945068359375E-4,9.9945068359375E-4," "]
["2009-10-12T02:48:00",60.041999816894531,3693.2236328125,350,-223.01573181152344,16,540,10,0,-103,7856.4,null,1,1,1,2.99835205078125E-3,2.99835205078125E-3," "]
["2009-10-12T02:48:02",60.035999298095703,3691.758544921875,350,-223.01573181152344,16,540.5,10,0,-103,7856.73,null,1,1,1,-6.000518798828125E-3,6.000518798828125E-3," "]
["2009-10-12T02:48:04",60.03900146484375,3691.9189453125,350,-223.01573181152344,16,541,10,0,-103,7857.06,null,1,1,1,3.002166748046875E-3,3.002166748046875E-3," "]
["2009-10-12T02:48:06",60.041000366210938,3692.79833984375,350,-223.01573181152344,16,541.5,10,0,-103,7857.39,null,1,1,1,1.9989013671875E-3,1.9989013671875E-3," "]
["2009-10-12T02:48:08",60.040000915527344,3691.58154296875,350,-223.01573181152344,16,542,10,0,-103,7857.72,null,1,1,1,-9.9945068359375E-4,9.9945068359375E-4," "]
["2009-10-12T02:48:10",60.034999847412109,3692.37353515625,350,-223.01573181152344,16,542.5,10,0,-103,7858.05,null,1,1,1,-5.001068115234375E-3,5.001068115234375E-3," "]
["2009-10-12T02:48:12",60.035999298095703,3693.3017578125,350,-223.01573181152344,16,543,10,0,-103,7858.38,null,1,1,1,9.9945068359375E-4,9.9945068359375E-4," "]
["2009-10-12T02:48:14",60.037998199462891,3694.710205078125,350,-223.01573181152344,16,543.5,10,0,-103,7858.71,null,1,1,1,1.9989013671875E-3,1.9989013671875E-3," "]
["2009-10-12T02:48:16",60.036998748779297,3694.331298828125,350,-223.01573181152344,16,544,10,0,-103,7859.04,null,1,1,1,-9.9945068359375E-4,9.9945068359375E-4," "]
["2009-10-12T02:48:18",60.041000366210938,3693.814697265625,350,-223.01573181152344,16,544.5,10,0,-103,7859.37,null,1,1,1,4.001617431640625E-3,4.001617431640625E-3," "]
["2009-10-12T02:48:20",60.040000915527344,3693.6171875,350,-223.01573181152344,16,545,10,0,-103,7859.7,null,1,1,1,-9.9945068359375E-4,9.9945068359375E-4," "]
["2009-10-12T02:48:22",60.035999298095703,3694.323974609375,350,-223.01573181152344,16,545.5,10,0,-103,7860.03,null,1,1,1,-4.001617431640625E-3,4.001617431640625E-3," "]
["2009-10-12T02:48:24",60.033000946044922,3694.27001953125,350,-223.01573181152344,16,546,10,0,-103,7860.36,null,1,1,1,-2.99835205078125E-3,2.99835205078125E-3," "]
["2009-10-12T02:48:26",60.034000396728516,3694.660400390625,350,-223.01573181152344,16,546.5,10,0,-103,7860.69,null,1,1,1,9.9945068359375E-4,9.9945068359375E-4," "]
["2009-10-12T02:48:28",60.037998199462891,3693.74755859375,350,-223.01573181152344,16,547,10,0,-103,7861.02,null,1,1,1,3.997802734375E-3,3.997802734375E-3," "]
["2009-10-12T02:48:30",60.040000915527344,3692.5322265625,350,-223.01573181152344,16,547.5,10,0,-103,7861.35,null,1,1,1,2.002716064453125E-3,2.002716064453125E-3," "]
["2009-10-12T02:48:32",60.041000366210938,3691.4453125,350,-223.01573181152344,16,548,10,0,-103,7861.68,null,1,1,1,9.9945068359375E-4,9.9945068359375E-4," "]
["2009-10-12T02:48:34",60.036998748779297,3691.01171875,350,-223.01573181152344,16,548.5,10,0,-103,7862.01,null,1,1,1,-4.001617431640625E-3,4.001617431640625E-3," "]
["2009-10-12T02:48:36",60.036998748779297,3691.798828125,350,-223.01573181152344,16,549,10,0,-103,7862.34,null,1,1,1,0,0," "]
["2009-10-12T02:48:38",60.035999298095703,3693.07666015625,350,-223.01573181152344,16,549.5,10,0,-103,7862.67,null,1,1,1,-9.9945068359375E-4,9.9945068359375E-4," "]
["2009-10-12T02:48:40",60.036998748779297,3693.72705078125,350,-223.01573181152344,16,550,10,0,-103,7863,null,1,1,1,9.9945068359375E-4,9.9945068359375E-4," "]
["2009-10-12T02:48:42",60.037998199462891,3693.1171875,350,-223.01573181152344,16,550.5,10,0,-103,7863.33,null,1,1,1,9.9945068359375E-4,9.9945068359375E-4," "]
["2009-10-12T02:48:44",60.03900146484375,3692.640625,350,-223.01573181152344,16,551,10,0,-103,7863.66,null,1,1,1,1.003265380859375E-3,1.003265380859375E-3," "]
["2009-10-12T02:48:46",60.037998199462891,3688.159423828125,350,-223.01573181152344,16,551.5,10,0,-103,7863.99,null,1,1,1,-1.003265380859375E-3,1.003265380859375E-3," "]
["2009-10-12T02:48:48",60.034000396728516,3689.01953125,350,-223.01573181152344,16,552,10,0,-103,7864.32,null,1,{"$f":"IF((M947=1)*(B947>$N$2),1,0)","v":1},1,-3.997802734375E-3,{"$f":"ABS(P947)","v":3.997802734375E-3},{"$f":"IF(Q947>(AVERAGE(Q943:Q946)+R$2),1,\" \")","v":" "}]
["2009-10-12T02:48:50",60.033000946044922,3688.20849609375,350,-223.01573181152344,16,552.5,10,0,-103,7864.65,null,1,1,1,-9.9945068359375E-4,9.9945068359375E-4," "]
["2009-10-12T02:48:52",60.030998229980469,3690.091796875,350,-223.01573181152344,16,553,10,0,-103,7864.98,null,1,1,1,-2.002716064453125E-3,2.002716064453125E-3," "]
["2009-10-12T02:48:54",60.034000396728516,3693.17236328125,350,-223.01573181152344,16,553.5,10,0,-103,7865.31,null,1,1,1,3.002166748046875E-3,3.002166748046875E-3," "]
["2009-10-12T02:48:56",60.028999328613281,3693.32080078125,350,-223.01573181152344,16,554,10,0,-103,7865.64,null,1,1,1,-5.001068115234375E-3,5.001068115234375E-3," "]
["2009-10-12T02:48:58",60.028999328613281,3694.59326171875,350,-223.01573181152344,16,554.5,10,0,-103,7865.97,null,1,1,1,0,0," "]
["2009-10-12T02:49:00",60.030998229980469,3695.224853515625,350,-223.01573181152344,16,555,10,0,-103,7866.3,null,1,1,1,1.9989013671875E-3,1.9989013671875E-3," "]
["2009-10-12T02:49:02",60.029998779296875,3694.60888671875,350,-223.01573181152344,16,555.5,10,0,-103,7866.63,null,1,1,1,-9.9945068359375E-4,9.9945068359375E-4," "]
["2009-10-12T02:49:04",60.029998779296875,3693.41162109375,350,-223.01573181152344,16,556,10,0,-103,7866.96,null,1,1,1,0,0," "]
["2009-10-12T02:49:06",60.0260009765625,3693.508544921875,350,-223.01573181152344,16,556.5,10,0,-103,7867.29,null,1,1,1,-3.997802734375E-3,3.997802734375E-3," "]
["2009-10-12T02:49:08",60.021999359130859,3696.02587890625,350,-223.01573181152344,16,557,10,0,-103,7867.62,null,1,1,1,-4.001617431640625E-3,4.001617431640625E-3," "]
["2009-10-12T02:49:10",60.020999908447266,3698.01220703125,350,-223.01573181152344,16,557.5,10,0,-103,7867.95,null,1,1,1,-9.9945068359375E-4,9.9945068359375E-4," "]
["2009-10-12T02:49:12",60.023998260498047,3699.0615234375,350,-223.01573181152344,16,558,10,0,-103,7868.28,null,1,1,1,2.99835205078125E-3,2.99835205078125E-3," "]
["2009-10-12T02:49:14",60.022998809814453,3699.414306640625,350,-223.01573181152344,16,558.5,10,0,-103,7868.61,null,1,1,1,-9.9945068359375E-4,9.9945068359375E-4," "]
["2009-10-12T02:49:16",60.020000457763672,3698.93505859375,350,-223.01573181152344,16,559,10,0,-103,7868.94,null,1,1,1,-2.99835205078125E-3,2.99835205078125E-3," "]
["2009-10-12T02:49:18",60.020999908447266,3700.083740234375,350,-223.01573181152344,16,559.5,10,0,-103,7869.27,null,1,1,1,9.9945068359375E-4,9.9945068359375E-4," "]
["2009-10-12T02:49:20",60.022998809814453,3700.544189453125,350,-223.01573181152344,16,560,10,0,-103,7869.6,null,1,1,1,1.9989013671875E-3,1.9989013671875E-3," "]
["2009-10-12T02:49:22",60.025001525878906,3700.48583984375,350,-223.01573181152344,16,560.5,10,0,-103,7869.93,null,1,1,1,2.002716064453125E-3,2.002716064453125E-3," "]
["2009-10-12T02:49:24",60.0260009765625,3698.595703125,350,-223.01573181152344,16,561,10,0,-103,7870.26,null,1,1,1,9.9945068359375E-4,9.9945068359375E-4," "]
["2009-10-12T02:49:26",60.0260009765625,3697.960693359375,350,-223.01573181152344,16,561.5,10,0,-103,7870.59,null,1,1,1,0,0," "]
["2009-10-12T02:49:28",60.025001525878906,3699.913818359375,350,-223.01573181152344,16,562,10,0,-103,7870.92,null,1,1,{"$f":"IF(ROW()<$M$3,0,1)","v":1},-9.9945068359375E-4,9.9945068359375E-4," "]
["2009-10-12T02:49:30",60.023998260498047,3700.802490234375,350,-223.01573181152344,16,562.5,10,0,-103,7871.25,null,{"$f":"IF(ROW()<$M$5,0,1)","v":1},1,1,{"$f":"B968-B967","v":-1.003265380859375E-3},1.003265380859375E-3," "]
["2009-10-12T02:49:32",60.023998260498047,3701.30126953125,350,-223.01573181152344,16,563,10,0,-103,7871.58,null,1,1,1,0,0," "]
["2009-10-12T02:49:34",60.025001525878906,3701.4501953125,350,-223.01573181152344,16,563.5,10,0,-103,7871.91,null,1,1,1,1.003265380859375E-3,1.003265380859375E-3," "]
["2009-10-12T02:49:36",60.022998809814453,3701.3486328125,350,-223.01573181152344,16,564,10,0,-103,7872.24,null,1,1,1,-2.002716064453125E-3,2.002716064453125E-3," "]
["2009-10-12T02:49:38",60.022998809814453,3701.09375,350,-223.01573181152344,16,564.5,10,0,-103,7872.57,null,1,1,1,0,0," "]
["2009-10-12T02:49:40",60.021999359130859,3701.70166015625,350,-223.01573181152344,16,565,10,0,-103,7872.9,null,1,1,1,-9.9945068359375E-4,9.9945068359375E-4," "]
["2009-10-12T02:49:42",60.0260009765625,3702.0703125,350,-223.01573181152344,16,565.5,10,0,-103,7873.23,null,1,1,1,4.001617431640625E-3,4.001617431640625E-3," "]
["2009-10-12T02:49:44",60.028999328613281,3701.96484375,350,-223.01573181152344,16,566,10,0,-103,7873.56,null,1,1,1,2.99835205078125E-3,2.99835205078125E-3," "]
["2009-10-12T02:49:46",60.0260009765625,3700.268798828125,350,-223.01573181152344,16,566.5,10,0,-103,7873.89,null,1,1,1,-2.99835205078125E-3,2.99835205078125E-3," "]
["2009-10-12T02:49:48",60.023998260498047,3700.2412109375,350,-223.01573181152344,16,567,10,0,-103,7874.22,null,1,1,1,-2.002716064453125E-3,2.002716064453125E-3," "]
["2009-10-12T02:49:50",60.020999908447266,3701.08984375,350,-223.01573181152344,16,567.5,10,0,-103,7874.55,null,1,1,1,-2.99835205078125E-3,2.99835205078125E-3," "]
["2009-10-12T02:49:52",60.025001525878906,3701.26806640625,350,-223.01573181152344,16,568,10,0,-103,7874.88,null,1,1,1,4.001617431640625E-3,4.001617431640625E-3," "]
["2009-10-12T02:49:54",60.025001525878906,3701.20458984375,350,-223.01573181152344,16,568.5,10,0,-103,7875.21,null,1,1,1,0,0," "]
["2009-10-12T02:49:56",60.025001525878906,3700.58740234375,350,-223.01573181152344,16,569,10,0,-103,7875.54,null,1,1,1,0,0," "]
["2009-10-12T02:49:58",60.022998809814453,3700.53173828125,350,-223.01573181152344,16,569.5,10,0,-103,7875.87,null,1,1,1,-2.002716064453125E-3,2.002716064453125E-3," "]
["2009-10-12T02:50:00",60.0260009765625,3700.1767578125,350,-223.01573181152344,16,570,10,0,-103,7876.2,null,1,1,1,3.002166748046875E-3,3.002166748046875E-3," "]
["2009-10-12T02:50:02",60.023998260498047,3700.29541015625,350,-223.01573181152344,16,570.5,10,0,-103,7876.53,null,1,1,1,-2.002716064453125E-3,2.002716064453125E-3," "]
["2009-10-12T02:50:04",60.021999359130859,3700.27734375,350,-223.01573181152344,16,571,10,0,-103,7876.86,null,1,1,1,-1.9989013671875E-3,1.9989013671875E-3," "]
["2009-10-12T02:50:06",60.022998809814453,3700.8408203125,350,-223.01573181152344,16,571.5,10,0,-103,7877.19,null,1,1,1,9.9945068359375E-4,9.9945068359375E-4," "]
["2009-10-12T02:50:08",60.0260009765625,3700.86279296875,350,-223.01573181152344,16,572,10,0,-103,7877.52,null,1,1,1,3.002166748046875E-3,3.002166748046875E-3," "]
["2009-10-12T02:50:10",60.025001525878906,3700.26025390625,350,-223.01573181152344,16,572.5,10,0,-103,7877.85,null,1,1,1,-9.9945068359375E-4,9.9945068359375E-4," "]
["2009-10-12T02:50:12",60.020000457763672,3700.052490234375,350,-223.01573181152344,16,573,10,0,-103,7878.18,null,1,1,1,-5.001068115234375E-3,5.001068115234375E-3," "]
["2009-10-12T02:50:14",60.020000457763672,3699.925537109375,350,-223.01573181152344,16,573.5,10,0,-103,7878.51,null,1,1,1,0,0," "]
["2009-10-12T02:50:16",60.019001007080078,3700.96484375,350,-223.01573181152344,16,574,10,0,-103,7878.84,null,1,1,1,-9.9945068359375E-4,9.9945068359375E-4," "]
["2009-10-12T02:50:18",60.014999389648438,3702.5810546875,350,-223.01573181152344,16,574.5,10,0,-103,7879.17,null,1,1,1,-4.001617431640625E-3,4.001617431640625E-3," "]
["2009-10-12T02:50:20",60.015998840332031,3703.51611328125,350,-223.01573181152344,16,575,10,0,-103,7879.5,null,1,1,1,9.9945068359375E-4,9.9945068359375E-4," "]
["2009-10-12T02:50:22",60.016998291015625,3703.82373046875,350,-223.01573181152344,16,575.5,10,0,-103,7879.83,null,1,1,1,9.9945068359375E-4,9.9945068359375E-4," "]
["2009-10-12T02:50:24",60.014999389648438,3703.67236328125,350,-223.01573181152344,16,576,10,0,-103,7880.16,null,1,1,1,-1.9989013671875E-3,1.9989013671875E-3," "]
["2009-10-12T02:50:26",60.014999389648438,3703.689453125,350,-223.01573181152344,16,576.5,10,0,-103,7880.49,null,1,1,1,0,0," "]
["2009-10-12T02:50:28",60.016998291015625,3703.00341796875,350,-223.01573181152344,16,577,10,0,-103,7880.82,null,1,1,1,1.9989013671875E-3,1.9989013671875E-3," "]
["2009-10-12T02:50:30",60.016998291015625,3702.92138671875,350,-223.01573181152344,16,577.5,10,0,-103,7881.15,null,1,1,1,0,0," "]
["2009-10-12T02:50:32",60.012001037597656,3702.99951171875,350,-223.01573181152344,16,578,10,0,-103,7881.48,null,1,1,1,-4.99725341796875E-3,4.99725341796875E-3," "]
["2009-10-12T02:50:34",60.009998321533203,3703.166748046875,350,-223.01573181152344,16,578.5,10,0,-103,7881.81,null,1,1,1,-2.002716064453125E-3,2.002716064453125E-3," "]
["2009-10-12T02:50:36",60.007999420166016,3703.918212890625,350,-223.01573181152344,16,579,10,0,-103,7882.14,null,1,1,1,-1.9989013671875E-3,1.9989013671875E-3," "]
["2009-10-12T02:50:38",60.001998901367188,3703.61572265625,350,-223.01573181152344,16,579.5,10,0,-103,7882.47,null,1,1,1,-6.000518798828125E-3,6.000518798828125E-3," "]
["2009-10-12T02:50:40",59.999000549316406,3703.775390625,350,-223.01573181152344,16,580,10,0,-103,7882.8,null,1,0,1,-2.99835205078125E-3,2.99835205078125E-3," "]
["2009-10-12T02:50:42",59.999000549316406,3703.7509765625,350,-223.01573181152344,16,580.5,10,0,-103,7883.13,null,1,0,1,0,0," "]
["2009-10-12T02:50:44",60.001998901367188,3701.53369140625,350,-223.01573181152344,16,581,10,0,-103,7883.46,null,1,1,1,2.99835205078125E-3,2.99835205078125E-3," "]
["2009-10-12T02:50:46",60.002998352050781,3700.61669921875,350,-223.01573181152344,16,581.5,10,0,-103,7883.79,null,1,1,1,9.9945068359375E-4,9.9945068359375E-4," "]
["2009-10-12T02:50:48",60.004001617431641,3700.88037109375,350,-223.01573181152344,16,582,10,0,-103,7884.12,null,1,1,1,1.003265380859375E-3,1.003265380859375E-3," "]
["2009-10-12T02:50:50",60.000999450683594,3700.625244140625,350,-223.01573181152344,16,582.5,10,0,-103,7884.45,null,1,1,1,-3.002166748046875E-3,3.002166748046875E-3," "]
["2009-10-12T02:50:52",59.995998382568359,3701.388916015625,350,-223.01573181152344,16,583,10,0,-103,7884.78,null,1,0,1,-5.001068115234375E-3,5.001068115234375E-3," "]
["2009-10-12T02:50:54",59.993000030517578,3701.736572265625,350,-223.01573181152344,16,583.5,10,0,-103,7885.11,null,1,0,1,-2.99835205078125E-3,2.99835205078125E-3," "]
["2009-10-12T02:50:56",59.992000579833984,3700.67138671875,350,-223.01573181152344,16,584,10,0,-103,7885.44,null,1,{"$f":"IF((M1011=1)*(B1011>$N$2),1,0)","v":0},1,-9.9945068359375E-4,{"$f":"ABS(P1011)","v":9.9945068359375E-4},{"$f":"IF(Q1011>(AVERAGE(Q1007:Q1010)+R$2),1,\" \")","v":" "}]
["2009-10-12T02:50:58",59.988998413085937,3700.826416015625,350,-223.01573181152344,16,584.5,10,0,-103,7885.77,null,1,0,1,-3.002166748046875E-3,3.002166748046875E-3," "]
["2009-10-12T02:51:00",59.98699951171875,3700.97705078125,350,-223.01573181152344,16,585,10,0,-103,7886.1,null,1,0,1,-1.9989013671875E-3,1.9989013671875E-3," "]
["2009-10-12T02:51:02",59.985000610351563,3700.699951171875,350,-223.01573181152344,16,585.5,10,0,-103,7886.43,null,1,0,1,-1.9989013671875E-3,1.9989013671875E-3," "]
["2009-10-12T02:51:04",59.985000610351563,3699.853759765625,350,-223.01573181152344,16,586,10,0,-103,7886.76,null,1,0,1,0,0," "]
["2009-10-12T02:51:06",59.986000061035156,3700.2373046875,350,-223.01573181152344,16,586.5,10,0,-103,7887.09,null,1,0,1,9.9945068359375E-4,9.9945068359375E-4," "]
["2009-10-12T02:51:08",59.984001159667969,3700.34228515625,350,-223.01573181152344,16,587,10,0,-103,7887.42,null,1,0,1,-1.9989013671875E-3,1.9989013671875E-3," "]
["2009-10-12T02:51:10",59.980998992919922,3700.769775390625,350,-223.01573181152344,16,587.5,10,0,-103,7887.75,null,1,0,1,-3.002166748046875E-3,3.002166748046875E-3," "]
["2009-10-12T02:51:12",59.979999542236328,3700.789306640625,350,-223.01573181152344,16,588,10,0,-103,7888.08,null,1,0,1,-9.9945068359375E-4,9.9945068359375E-4," "]
["2009-10-12T02:51:14",59.977001190185547,3701.625244140625,350,-223.01573181152344,16,588.5,10,0,-103,7888.41,null,1,0,1,-2.99835205078125E-3,2.99835205078125E-3," "]
["2009-10-12T02:51:16",59.974998474121094,3703.165771484375,350,-223.01573181152344,16,589,10,0,-103,7888.74,null,1,0,1,-2.002716064453125E-3,2.002716064453125E-3," "]
["2009-10-12T02:51:18",59.976001739501953,3704.18701171875,350,-223.01573181152344,16,589.5,10,0,-103,7889.07,null,1,0,1,1.003265380859375E-3,1.003265380859375E-3," "]
["2009-10-12T02:51:20",59.972000122070313,3704.78466796875,350,-223.01573181152344,16,590,10,0,-103,7889.4,null,1,0,1,-4.001617431640625E-3,4.001617431640625E-3," "]
["2009-10-12T02:51:22",59.9739990234375,3705.810546875,350,-223.01573181152344,16,590.5,10,0,-103,7889.73,null,1,0,1,1.9989013671875E-3,1.9989013671875E-3," "]
["2009-10-12T02:51:24",59.977001190185547,3706.9580078125,350,-223.01573181152344,16,591,10,0,-103,7890.06,null,1,0,1,3.002166748046875E-3,3.002166748046875E-3," "]
["2009-10-12T02:51:26",59.974998474121094,3706.68798828125,350,-223.01573181152344,16,591.5,10,0,-103,7890.39,null,1,0,1,-2.002716064453125E-3,2.002716064453125E-3," "]
["2009-10-12T02:51:28",59.972999572753906,3706.54296875,350,-223.01573181152344,16,592,10,0,-103,7890.72,null,1,0,1,-1.9989013671875E-3,1.9989013671875E-3," "]
["2009-10-12T02:51:30",59.971000671386719,3706.257080078125,350,-223.01573181152344,16,592.5,10,0,-103,7891.05,null,1,0,1,-1.9989013671875E-3,1.9989013671875E-3," "]
["2009-10-12T02:51:32",59.971000671386719,3707.026611328125,350,-223.01573181152344,16,593,10,0,-103,7891.38,null,1,0,1,0,0," "]
["2009-10-12T02:51:34",59.976001739501953,3710.1181640625,350,-223.01573181152344,16,593.5,10,0,-103,7891.71,null,1,0,1,5.001068115234375E-3,5.001068115234375E-3," "]
["2009-10-12T02:51:36",59.979000091552734,3710.53125,350,-223.01573181152344,16,594,10,0,-103,7892.04,null,1,0,{"$f":"IF(ROW()<$M$3,0,1)","v":1},2.99835205078125E-3,2.99835205078125E-3," "]
["2009-10-12T02:51:38",59.979999542236328,3708.70068359375,350,-223.01573181152344,16,594.5,10,0,-103,7892.37,null,{"$f":"IF(ROW()<$M$5,0,1)","v":1},0,1,{"$f":"B1032-B1031","v":9.9945068359375E-4},9.9945068359375E-4," "]
["2009-10-12T02:51:40",59.979000091552734,3708.01806640625,350,-223.01573181152344,16,595,10,0,-103,7892.7,null,1,0,1,-9.9945068359375E-4,9.9945068359375E-4," "]
["2009-10-12T02:51:42",59.981998443603516,3706.9423828125,350,-223.01573181152344,16,595.5,10,0,-103,7893.03,null,1,0,1,2.99835205078125E-3,2.99835205078125E-3," "]
["2009-10-12T02:51:44",59.981998443603516,3706.342529296875,350,-223.01573181152344,16,596,10,0,-103,7893.36,null,1,0,1,0,0," "]
["2009-10-12T02:51:46",59.983001708984375,3706.12548828125,350,-223.01573181152344,16,596.5,10,0,-103,7893.69,null,1,0,1,1.003265380859375E-3,1.003265380859375E-3," "]
["2009-10-12T02:51:48",59.980998992919922,3706.310546875,350,-223.01573181152344,16,597,10,0,-103,7894.02,null,1,0,1,-2.002716064453125E-3,2.002716064453125E-3," "]
["2009-10-12T02:51:50",59.979000091552734,3706.11865234375,350,-223.01573181152344,16,597.5,10,0,-103,7894.35,null,1,0,1,-1.9989013671875E-3,1.9989013671875E-3," "]
["2009-10-12T02:51:52",59.978000640869141,3706.1904296875,350,-223.01573181152344,16,598,10,0,-103,7894.68,null,1,0,1,-9.9945068359375E-4,9.9945068359375E-4," "]
["2009-10-12T02:51:54",59.976001739501953,3707.720947265625,350,-223.01573181152344,16,598.5,10,0,-103,7895.01,null,1,0,1,-1.9989013671875E-3,1.9989013671875E-3," "]
["2009-10-12T02:51:56",59.978000640869141,3709.408935546875,350,-223.01573181152344,16,599,10,0,-103,7895.34,null,1,0,1,1.9989013671875E-3,1.9989013671875E-3," "]
["2009-10-12T02:51:58",59.977001190185547,3708.971435546875,350,-223.01573181152344,16,599.5,10,0,-103,7895.67,null,1,0,1,-9.9945068359375E-4,9.9945068359375E-4," "]
["2009-10-12T02:52:00",59.976001739501953,3708.530517578125,350,-223.01573181152344,16,600,10,0,-103,7896,null,1,0,1,-9.9945068359375E-4,9.9945068359375E-4," "]
["2009-10-12T02:52:02",59.978000640869141,3708.07080078125,350,-223.01573181152344,16,600.5,10,0,-103,7896.33,null,1,0,1,1.9989013671875E-3,1.9989013671875E-3," "]
["2009-10-12T02:52:04",59.974998474121094,3707.239990234375,350,-223.01573181152344,16,601,10,0,-103,7896.66,null,1,0,1,-3.002166748046875E-3,3.002166748046875E-3," "]
["2009-10-12T02:52:06",59.971000671386719,3709.212646484375,350,-223.01573181152344,16,601.5,10,0,-103,7896.99,null,1,0,1,-3.997802734375E-3,3.997802734375E-3," "]
["2009-10-12T02:52:08",59.970001220703125,3709.961181640625,350,-223.01573181152344,16,602,10,0,-103,7897.32,null,1,0,1,-9.9945068359375E-4,9.9945068359375E-4," "]
["2009-10-12T02:52:10",59.970001220703125,3711.75,350,-223.01573181152344,16,602.5,10,0,-103,7897.65,null,1,0,1,0,0," "]
["2009-10-12T02:52:12",59.971000671386719,3711.98046875,350,-223.01573181152344,16,603,10,0,-103,7897.98,null,1,0,1,9.9945068359375E-4,9.9945068359375E-4," "]
["2009-10-12T02:52:14",59.990001678466797,3710.6953125,350,-223.01573181152344,16,603.5,10,0,-103,7898.31,null,1,0,1,1.9001007080078125E-2,1.9001007080078125E-2," "]
["2009-10-12T02:52:16",59.998001098632813,3707.86669921875,350,-223.01573181152344,16,604,10,0,-103,7898.64,null,1,0,1,7.999420166015625E-3,7.999420166015625E-3," "]
["2009-10-12T02:52:18",59.999000549316406,3704.911865234375,350,-223.01573181152344,16,604.5,10,0,-103,7898.97,null,1,0,1,9.9945068359375E-4,9.9945068359375E-4," "]
["2009-10-12T02:52:20",59.999000549316406,3705.63916015625,350,-223.01573181152344,16,605,10,0,-103,7899.3,null,1,0,1,0,0," "]
["2009-10-12T02:52:22",59.998001098632813,3703.786865234375,350,-223.01573181152344,16,605.5,10,0,-103,7899.63,null,1,0,1,-9.9945068359375E-4,9.9945068359375E-4," "]
["2009-10-12T02:52:24",59.999000549316406,3703.19091796875,350,-223.01573181152344,16,606,10,0,-103,7899.96,null,1,0,1,9.9945068359375E-4,9.9945068359375E-4," "]
["2009-10-12T02:52:26",60.002998352050781,3702.070556640625,350,-223.01573181152344,16,606.5,10,0,-103,7900.29,null,1,1,1,3.997802734375E-3,3.997802734375E-3," "]
["2009-10-12T02:52:28",60.005001068115234,3699.510009765625,350,-223.01573181152344,16,607,10,0,-103,7900.62,null,1,1,1,2.002716064453125E-3,2.002716064453125E-3," "]
["2009-10-12T02:52:30",60.005001068115234,3698.657958984375,350,-223.01573181152344,16,607.5,10,0,-103,7900.95,null,1,1,1,0,0," "]
["2009-10-12T02:52:32",60.009998321533203,3698.13671875,350,-223.01573181152344,16,608,10,0,-103,7901.28,null,1,1,1,4.99725341796875E-3,4.99725341796875E-3," "]
["2009-10-12T02:52:34",60.01300048828125,3697.882080078125,350,-223.01573181152344,16,608.5,10,0,-103,7901.61,null,1,1,1,3.002166748046875E-3,3.002166748046875E-3," "]
["2009-10-12T02:52:36",60.020000457763672,3698.668212890625,350,-223.01573181152344,16,609,10,0,-103,7901.94,null,1,1,1,6.999969482421875E-3,6.999969482421875E-3," "]
["2009-10-12T02:52:38",60.021999359130859,3698.6044921875,350,-223.01573181152344,16,609.5,10,0,-103,7902.27,null,1,1,1,1.9989013671875E-3,1.9989013671875E-3," "]
["2009-10-12T02:52:40",60.023998260498047,3697.868408203125,350,-223.01573181152344,16,610,10,0,-103,7902.6,null,1,1,1,1.9989013671875E-3,1.9989013671875E-3," "]
["2009-10-12T02:52:42",60.025001525878906,3694.671875,350,-223.01573181152344,16,610.5,10,0,-103,7902.93,null,1,1,1,1.003265380859375E-3,1.003265380859375E-3," "]
["2009-10-12T02:52:44",60.025001525878906,3693.912109375,350,-223.01573181152344,16,611,10,0,-103,7903.26,null,1,1,1,0,0," "]
["2009-10-12T02:52:46",60.023998260498047,3693.417724609375,350,-223.01573181152344,16,611.5,10,0,-103,7903.59,null,1,1,1,-1.003265380859375E-3,1.003265380859375E-3," "]
["2009-10-12T02:52:48",60.022998809814453,3688.30126953125,350,-223.01573181152344,16,612,10,0,-103,7903.92,null,1,1,1,-9.9945068359375E-4,9.9945068359375E-4," "]
["2009-10-12T02:52:50",60.028999328613281,3688.02099609375,350,-223.01573181152344,16,612.5,10,0,-103,7904.25,null,1,1,1,6.000518798828125E-3,6.000518798828125E-3," "]
["2009-10-12T02:52:52",60.028999328613281,3689.14306640625,350,-223.01573181152344,16,613,10,0,-103,7904.58,null,1,1,1,0,0," "]
["2009-10-12T02:52:54",60.028999328613281,3688.23681640625,350,-223.01573181152344,16,613.5,10,0,-103,7904.91,null,1,1,1,0,0," "]
["2009-10-12T02:52:56",60.027999877929687,3687.8779296875,350,-223.01573181152344,16,614,10,0,-103,7905.24,null,1,1,1,-9.9945068359375E-4,9.9945068359375E-4," "]
["2009-10-12T02:52:58",60.027999877929687,3687.0263671875,350,-223.01573181152344,16,614.5,10,0,-103,7905.57,null,1,1,1,0,0," "]
["2009-10-12T02:53:00",60.030998229980469,3686.68310546875,350,-223.01573181152344,16,615,10,0,-103,7905.9,null,1,1,1,2.99835205078125E-3,2.99835205078125E-3," "]
["2009-10-12T02:53:02",60.032001495361328,3685.275634765625,350,-223.01573181152344,16,615.5,10,0,-103,7906.23,null,1,1,1,1.003265380859375E-3,1.003265380859375E-3," "]
["2009-10-12T02:53:04",60.033000946044922,3685.576171875,350,-223.01573181152344,16,616,10,0,-103,7906.56,null,1,{"$f":"IF((M1075=1)*(B1075>$N$2),1,0)","v":1},1,9.9945068359375E-4,{"$f":"ABS(P1075)","v":9.9945068359375E-4},{"$f":"IF(Q1075>(AVERAGE(Q1071:Q1074)+R$2),1,\" \")","v":" "}]
["2009-10-12T02:53:06",60.030998229980469,3685.98486328125,350,-223.01573181152344,16,616.5,10,0,-103,7906.89,null,1,1,1,-2.002716064453125E-3,2.002716064453125E-3," "]
["2009-10-12T02:53:08",60.029998779296875,3686.41796875,350,-223.01573181152344,16,617,10,0,-103,7907.22,null,1,1,1,-9.9945068359375E-4,9.9945068359375E-4," "]
["2009-10-12T02:53:10",60.021999359130859,3687.158935546875,350,-223.01573181152344,16,617.5,10,0,-103,7907.55,null,1,1,1,-7.999420166015625E-3,7.999420166015625E-3," "]
["2009-10-12T02:53:12",60.020999908447266,3687.873046875,350,-223.01573181152344,16,618,10,0,-103,7907.88,null,1,1,1,-9.9945068359375E-4,9.9945068359375E-4," "]
["2009-10-12T02:53:14",60.019001007080078,3688.9970703125,350,-223.01573181152344,16,618.5,10,0,-103,7908.21,null,1,1,1,-1.9989013671875E-3,1.9989013671875E-3," "]
["2009-10-12T02:53:16",60.016998291015625,3690.42578125,350,-223.01573181152344,16,619,10,0,-103,7908.54,null,1,1,1,-2.002716064453125E-3,2.002716064453125E-3," "]
["2009-10-12T02:53:18",60.016998291015625,3690.775634765625,350,-223.01573181152344,16,619.5,10,0,-103,7908.87,null,1,1,1,0,0," "]
["2009-10-12T02:53:20",60.016998291015625,3692.71533203125,350,-223.01573181152344,16,620,10,0,-103,7909.2,null,1,1,1,0,0," "]
["2009-10-12T02:53:22",60.015998840332031,3692.57763671875,350,-223.01573181152344,16,620.5,10,0,-103,7909.53,null,1,1,1,-9.9945068359375E-4,9.9945068359375E-4," "]
["2009-10-12T02:53:24",60.014999389648438,3692.461669921875,350,-223.01573181152344,16,621,10,0,-103,7909.86,null,1,1,1,-9.9945068359375E-4,9.9945068359375E-4," "]
["2009-10-12T02:53:26",60.014999389648438,3693.173095703125,350,-223.01573181152344,16,621.5,10,0,-103,7910.19,null,1,1,1,0,0," "]
["2009-10-12T02:53:28",60.012001037597656,3693.248779296875,350,-223.01573181152344,16,622,10,0,-103,7910.52,null,1,1,1,-2.99835205078125E-3,2.99835205078125E-3," "]
["2009-10-12T02:53:30",60.008998870849609,3693.743408203125,350,-223.01573181152344,16,622.5,10,0,-103,7910.85,null,1,1,1,-3.002166748046875E-3,3.002166748046875E-3," "]
["2009-10-12T02:53:32",60.007999420166016,3695.124267578125,350,-223.01573181152344,16,623,10,0,-103,7911.18,null,1,1,1,-9.9945068359375E-4,9.9945068359375E-4," "]
["2009-10-12T02:53:34",60.007999420166016,3694.6806640625,350,-223.01573181152344,16,623.5,10,0,-103,7911.51,null,1,1,1,0,0," "]
["2009-10-12T02:53:36",60.005001068115234,3694.74072265625,350,-223.01573181152344,16,624,10,0,-103,7911.84,null,1,1,1,-2.99835205078125E-3,2.99835205078125E-3," "]
["2009-10-12T02:53:38",60.005001068115234,3694.19873046875,350,-223.01573181152344,16,624.5,10,0,-103,7912.17,null,1,1,1,0,0," "]
["2009-10-12T02:53:40",60.002998352050781,3693.74951171875,350,-223.01573181152344,16,625,10,0,-103,7912.5,null,1,1,1,-2.002716064453125E-3,2.002716064453125E-3," "]
["2009-10-12T02:53:42",59.999000549316406,3693.6240234375,350,-223.01573181152344,16,625.5,10,0,-103,7912.83,null,1,0,1,-3.997802734375E-3,3.997802734375E-3," "]
["2009-10-12T02:53:44",59.997001647949219,3692.80615234375,350,-223.01573181152344,16,626,10,0,-103,7913.16,null,1,0,{"$f":"IF(ROW()<$M$3,0,1)","v":1},-1.9989013671875E-3,1.9989013671875E-3," "]
["2009-10-12T02:53:46",59.999000549316406,3691.14990234375,350,-223.01573181152344,16,626.5,10,0,-103,7913.49,null,{"$f":"IF(ROW()<$M$5,0,1)","v":1},0,1,{"$f":"B1096-B1095","v":1.9989013671875E-3},1.9989013671875E-3," "]
["2009-10-12T02:53:48",60,3691.40673828125,350,-223.01573181152344,16,627,10,0,-103,7913.82,null,1,0,1,9.9945068359375E-4,9.9945068359375E-4," "]
["2009-10-12T02:53:50",59.998001098632813,3691.076904296875,350,-223.01573181152344,16,627.5,10,0,-103,7914.15,null,1,0,1,-1.9989013671875E-3,1.9989013671875E-3," "]
["2009-10-12T02:53:52",59.994998931884766,3690.587646484375,350,-223.01573181152344,16,628,10,0,-103,7914.48,null,1,0,1,-3.002166748046875E-3,3.002166748046875E-3," "]
["2009-10-12T02:53:54",59.993999481201172,3689.79736328125,350,-223.01573181152344,16,628.5,10,0,-103,7914.81,null,1,0,1,-9.9945068359375E-4,9.9945068359375E-4," "]
["2009-10-12T02:53:56",59.992000579833984,3688.482666015625,350,-223.01573181152344,16,629,10,0,-103,7915.14,null,1,0,1,-1.9989013671875E-3,1.9989013671875E-3," "]
["2009-10-12T02:53:58",59.993000030517578,3689.4453125,350,-223.01573181152344,16,629.5,10,0,-103,7915.47,null,1,0,1,9.9945068359375E-4,9.9945068359375E-4," "]
["2009-10-12T02:54:00",59.987998962402344,3689.553466796875,350,-223.01573181152344,16,630,10,0,-103,7915.8,null,1,0,1,-5.001068115234375E-3,5.001068115234375E-3," "]
["2009-10-12T02:54:02",59.985000610351563,3689.52490234375,350,-223.01573181152344,16,630.5,10,0,-103,7916.13,null,1,0,1,-2.99835205078125E-3,2.99835205078125E-3," "]
["2009-10-12T02:54:04",59.986000061035156,3689.735595703125,350,-223.01573181152344,16,631,10,0,-103,7916.46,null,1,0,1,9.9945068359375E-4,9.9945068359375E-4," "]
["2009-10-12T02:54:06",59.987998962402344,3688.852783203125,350,-223.01573181152344,16,631.5,10,0,-103,7916.79,null,1,0,1,1.9989013671875E-3,1.9989013671875E-3," "]
["2009-10-12T02:54:08",59.987998962402344,3688.240234375,350,-223.01573181152344,16,632,10,0,-103,7917.12,null,1,0,1,0,0," "]
["2009-10-12T02:54:10",59.985000610351563,3687.49365234375,350,-223.01573181152344,16,632.5,10,0,-103,7917.45,null,1,0,1,-2.99835205078125E-3,2.99835205078125E-3," "]
["2009-10-12T02:54:12",59.983001708984375,3687.475341796875,350,-223.01573181152344,16,633,10,0,-103,7917.78,null,1,0,1,-1.9989013671875E-3,1.9989013671875E-3," "]
["2009-10-12T02:54:14",59.983001708984375,3686.707275390625,350,-223.01573181152344,16,633.5,10,0,-103,7918.11,null,1,0,1,0,0," "]
["2009-10-12T02:54:16",59.985000610351563,3685.65966796875,350,-223.01573181152344,16,634,10,0,-103,7918.44,null,1,0,1,1.9989013671875E-3,1.9989013671875E-3," "]
["2009-10-12T02:54:18",59.986000061035156,3684.509765625,350,-223.01573181152344,16,634.5,10,0,-103,7918.77,null,1,0,1,9.9945068359375E-4,9.9945068359375E-4," "]
["2009-10-12T02:54:20",59.98699951171875,3684.33349609375,350,-223.01573181152344,16,635,10,0,-103,7919.1,null,1,0,1,9.9945068359375E-4,9.9945068359375E-4," "]
["2009-10-12T02:54:22",59.990001678466797,3683.910888671875,350,-223.01573181152344,16,635.5,10,0,-103,7919.43,null,1,0,1,3.002166748046875E-3,3.002166748046875E-3," "]
["2009-10-12T02:54:24",59.986000061035156,3683.73486328125,350,-223.01573181152344,16,636,10,0,-103,7919.76,null,1,0,1,-4.001617431640625E-3,4.001617431640625E-3," "]
["2009-10-12T02:54:26",59.985000610351563,3684.208251953125,350,-223.01573181152344,16,636.5,10,0,-103,7920.09,null,1,0,1,-9.9945068359375E-4,9.9945068359375E-4," "]
["2009-10-12T02:54:28",59.984001159667969,3683.81103515625,350,-223.01573181152344,16,637,10,0,-103,7920.42,null,1,0,1,-9.9945068359375E-4,9.9945068359375E-4," "]
["2009-10-12T02:54:30",59.983001708984375,3683.47314453125,350,-223.01573181152344,16,637.5,10,0,-103,7920.75,null,1,0,1,-9.9945068359375E-4,9.9945068359375E-4," "]
["2009-10-12T02:54:32",59.981998443603516,3684.2578125,350,-223.01573181152344,16,638,10,0,-103,7921.08,null,1,0,1,-1.003265380859375E-3,1.003265380859375E-3," "]
["2009-10-12T02:54:34",59.981998443603516,3684.88427734375,350,-223.01573181152344,16,638.5,10,0,-103,7921.41,null,1,0,1,0,0," "]
["2009-10-12T02:54:36",59.979999542236328,3685.091796875,350,-223.01573181152344,16,639,10,0,-103,7921.74,null,1,0,1,-1.9989013671875E-3,1.9989013671875E-3," "]
["2009-10-12T02:54:38",59.978000640869141,3685.654296875,350,-223.01573181152344,16,639.5,10,0,-103,7922.07,null,1,0,1,-1.9989013671875E-3,1.9989013671875E-3," "]
["2009-10-12T02:54:40",59.977001190185547,3685.0869140625,350,-223.01573181152344,16,640,10,0,-103,7922.4,null,1,0,1,-9.9945068359375E-4,9.9945068359375E-4," "]
["2009-10-12T02:54:42",59.974998474121094,3685.4912109375,350,-223.01573181152344,16,640.5,10,0,-103,7922.73,null,1,0,1,-2.002716064453125E-3,2.002716064453125E-3," "]
["2009-10-12T02:54:44",59.972999572753906,3685.196044921875,350,-223.01573181152344,16,641,10,0,-103,7923.06,null,1,0,1,-1.9989013671875E-3,1.9989013671875E-3," "]
["2009-10-12T02:54:46",59.974998474121094,3687.412353515625,350,-223.01573181152344,16,641.5,10,0,-103,7923.39,null,1,0,1,1.9989013671875E-3,1.9989013671875E-3," "]
["2009-10-12T02:54:48",59.976001739501953,3688.4169921875,350,-223.01573181152344,16,642,10,0,-103,7923.72,null,1,0,1,1.003265380859375E-3,1.003265380859375E-3," "]
["2009-10-12T02:54:50",59.976001739501953,3688.5986328125,350,-223.01573181152344,16,642.5,10,0,-103,7924.05,null,1,0,1,0,0," "]
["2009-10-12T02:54:52",59.979000091552734,3687.84765625,350,-223.01573181152344,16,643,10,0,-103,7924.38,null,1,0,1,2.99835205078125E-3,2.99835205078125E-3," "]
["2009-10-12T02:54:54",59.981998443603516,3686.67822265625,350,-223.01573181152344,16,643.5,10,0,-103,7924.71,null,1,0,1,2.99835205078125E-3,2.99835205078125E-3," "]
["2009-10-12T02:54:56",59.979000091552734,3685.7822265625,350,-223.01573181152344,16,644,10,0,-103,7925.04,null,1,0,1,-2.99835205078125E-3,2.99835205078125E-3," "]
["2009-10-12T02:54:58",59.979000091552734,3684.89013671875,350,-223.01573181152344,16,644.5,10,0,-103,7925.37,null,1,0,1,0,0," "]
["2009-10-12T02:55:00",59.977001190185547,3685.142578125,350,-223.01573181152344,16,645,10,0,-103,7925.7,null,1,0,1,-1.9989013671875E-3,1.9989013671875E-3," "]
["2009-10-12T02:55:02",59.977001190185547,3684.54931640625,350,-223.01573181152344,16,645.5,10,0,-103,7926.03,null,1,0,1,0,0," "]
["2009-10-12T02:55:04",59.978000640869141,3684.09326171875,350,-223.01573181152344,16,646,10,0,-103,7926.36,null,1,0,1,9.9945068359375E-4,9.9945068359375E-4," "]
["2009-10-12T02:55:06",59.978000640869141,3684.5546875,350,-223.01573181152344,16,646.5,10,0,-103,7926.69,null,1,0,1,0,0," "]
["2009-10-12T02:55:08",59.978000640869141,3682.814208984375,350,-223.01573181152344,16,647,10,0,-103,7927.02,null,1,0,1,0,0," "]
["2009-10-12T02:55:10",59.979000091552734,3682.317626953125,350,-223.01573181152344,16,647.5,10,0,-103,7927.35,null,1,0,1,9.9945068359375E-4,9.9945068359375E-4," "]
["2009-10-12T02:55:12",59.983001708984375,3682.36572265625,350,-223.01573181152344,16,648,10,0,-103,7927.68,null,1,{"$f":"IF((M1139=1)*(B1139>$N$2),1,0)","v":0},1,4.001617431640625E-3,{"$f":"ABS(P1139)","v":4.001617431640625E-3},{"$f":"IF(Q1139>(AVERAGE(Q1135:Q1138)+R$2),1,\" \")","v":" "}]
["2009-10-12T02:55:14",59.980998992919922,3682.6474609375,350,-223.01573181152344,16,648.5,10,0,-103,7928.01,null,1,0,1,-2.002716064453125E-3,2.002716064453125E-3," "]
["2009-10-12T02:55:16",59.979999542236328,3682.85546875,350,-223.01573181152344,16,649,10,0,-103,7928.34,null,1,0,1,-9.9945068359375E-4,9.9945068359375E-4," "]
["2009-10-12T02:55:18",59.978000640869141,3683.556640625,350,-223.01573181152344,16,649.5,10,0,-103,7928.67,null,1,0,1,-1.9989013671875E-3,1.9989013671875E-3," "]
["2009-10-12T02:55:20",59.979000091552734,3684.0517578125,350,-223.01573181152344,16,650,10,0,-103,7929,null,1,0,1,9.9945068359375E-4,9.9945068359375E-4," "]
["2009-10-12T02:55:22",59.978000640869141,3684.318359375,350,-223.01573181152344,16,650.5,10,0,-103,7929.33,null,1,0,1,-9.9945068359375E-4,9.9945068359375E-4," "]
["2009-10-12T02:55:24",59.979000091552734,3686.048828125,350,-223.01573181152344,16,651,10,0,-103,7929.66,null,1,0,1,9.9945068359375E-4,9.9945068359375E-4," "]
["2009-10-12T02:55:26",59.983001708984375,3686.62939453125,350,-223.01573181152344,16,651.5,10,0,-103,7929.99,null,1,0,1,4.001617431640625E-3,4.001617431640625E-3," "]
["2009-10-12T02:55:28",59.98699951171875,3685.286376953125,350,-223.01573181152344,16,652,10,0,-103,7930.32,null,1,0,1,3.997802734375E-3,3.997802734375E-3," "]
["2009-10-12T02:55:30",59.990001678466797,3683.41455078125,350,-223.01573181152344,16,652.5,10,0,-103,7930.65,null,1,0,1,3.002166748046875E-3,3.002166748046875E-3," "]
["2009-10-12T02:55:32",59.992000579833984,3682.416015625,350,-223.01573181152344,16,653,10,0,-103,7930.98,null,1,0,1,1.9989013671875E-3,1.9989013671875E-3," "]
["2009-10-12T02:55:34",59.993000030517578,3681.402587890625,350,-223.01573181152344,16,653.5,10,0,-103,7931.31,null,1,0,1,9.9945068359375E-4,9.9945068359375E-4," "]
["2009-10-12T02:55:36",59.990001678466797,3679.012451171875,350,-223.01573181152344,16,654,10,0,-103,7931.64,null,1,0,1,-2.99835205078125E-3,2.99835205078125E-3," "]
["2009-10-12T02:55:38",59.987998962402344,3679.435791015625,350,-223.01573181152344,16,654.5,10,0,-103,7931.97,null,1,0,1,-2.002716064453125E-3,2.002716064453125E-3," "]
["2009-10-12T02:55:40",59.987998962402344,3671.76123046875,350,-223.01573181152344,16,655,10,0,-103,7932.3,null,1,0,1,0,0," "]
["2009-10-12T02:55:42",59.990001678466797,3670.716796875,350,-223.01573181152344,16,655.5,10,0,-103,7932.63,null,1,0,1,2.002716064453125E-3,2.002716064453125E-3," "]
["2009-10-12T02:55:44",59.993000030517578,3670.159423828125,350,-223.01573181152344,16,656,10,0,-103,7932.96,null,1,0,1,2.99835205078125E-3,2.99835205078125E-3," "]
["2009-10-12T02:55:46",59.993999481201172,3679.00048828125,350,-223.01573181152344,16,656.5,10,0,-103,7933.29,null,1,0,1,9.9945068359375E-4,9.9945068359375E-4," "]
["2009-10-12T02:55:48",59.993000030517578,3680.17626953125,350,-223.01573181152344,16,657,10,0,-103,7933.62,null,1,0,1,-9.9945068359375E-4,9.9945068359375E-4," "]
["2009-10-12T02:55:50",59.993999481201172,3681.798828125,350,-223.01573181152344,16,657.5,10,0,-103,7933.95,null,1,0,1,9.9945068359375E-4,9.9945068359375E-4," "]
["2009-10-12T02:55:52",59.993999481201172,3682.700439453125,350,-223.01573181152344,16,658,10,0,-103,7934.28,null,1,0,{"$f":"IF(ROW()<$M$3,0,1)","v":1},0,0," "]
["2009-10-12T02:55:54",59.993000030517578,3684.11572265625,350,-223.01573181152344,16,658.5,10,0,-103,7934.61,null,{"$f":"IF(ROW()<$M$5,0,1)","v":1},0,1,{"$f":"B1160-B1159","v":-9.9945068359375E-4},9.9945068359375E-4," "]
["2009-10-12T02:55:56",59.988998413085937,3685.0302734375,350,-223.01573181152344,16,659,10,0,-103,7934.94,null,1,0,1,-4.001617431640625E-3,4.001617431640625E-3," "]
["2009-10-12T02:55:58",59.984001159667969,3684.87841796875,350,-223.01573181152344,16,659.5,10,0,-103,7935.27,null,1,0,1,-4.99725341796875E-3,4.99725341796875E-3," "]
["2009-10-12T02:56:00",59.986000061035156,3684.1650390625,350,-223.01573181152344,16,660,10,0,-103,7935.6,null,1,0,1,1.9989013671875E-3,1.9989013671875E-3," "]
["2009-10-12T02:56:02",59.985000610351563,3684.47802734375,350,-223.01573181152344,16,660.5,10,0,-103,7935.93,null,1,0,1,-9.9945068359375E-4,9.9945068359375E-4," "]
["2009-10-12T02:56:04",59.987998962402344,3685.583740234375,350,-223.01573181152344,16,661,10,0,-103,7936.26,null,1,0,1,2.99835205078125E-3,2.99835205078125E-3," "]
["2009-10-12T02:56:06",59.98699951171875,3685.1484375,350,-223.01573181152344,16,661.5,10,0,-103,7936.59,null,1,0,1,-9.9945068359375E-4,9.9945068359375E-4," "]
["2009-10-12T02:56:08",59.986000061035156,3684.586669921875,350,-223.01573181152344,16,662,10,0,-103,7936.92,null,1,0,1,-9.9945068359375E-4,9.9945068359375E-4," "]
["2009-10-12T02:56:10",59.98699951171875,3684.97607421875,350,-223.01573181152344,16,662.5,10,0,-103,7937.25,null,1,0,1,9.9945068359375E-4,9.9945068359375E-4," "]
["2009-10-12T02:56:12",59.985000610351563,3683.67431640625,350,-223.01573181152344,16,663,10,0,-103,7937.58,null,1,0,1,-1.9989013671875E-3,1.9989013671875E-3," "]
["2009-10-12T02:56:14",59.981998443603516,3684.8720703125,350,-223.01573181152344,16,663.5,10,0,-103,7937.91,null,1,0,1,-3.002166748046875E-3,3.002166748046875E-3," "]
["2009-10-12T02:56:16",59.980998992919922,3684.24462890625,350,-223.01573181152344,16,664,10,0,-103,7938.24,null,1,0,1,-9.9945068359375E-4,9.9945068359375E-4," "]
["2009-10-12T02:56:18",59.981998443603516,3684.71142578125,350,-223.01573181152344,16,664.5,10,0,-103,7938.57,null,1,0,1,9.9945068359375E-4,9.9945068359375E-4," "]
["2009-10-12T02:56:20",59.98699951171875,3685.589111328125,350,-223.01573181152344,16,665,10,0,-103,7938.9,null,1,0,1,5.001068115234375E-3,5.001068115234375E-3," "]
["2009-10-12T02:56:22",59.992000579833984,3683.73583984375,350,-223.01573181152344,16,665.5,10,0,-103,7939.23,null,1,0,1,5.001068115234375E-3,5.001068115234375E-3," "]
["2009-10-12T02:56:24",59.997001647949219,3682.578857421875,350,-223.01573181152344,16,666,10,0,-103,7939.56,null,1,0,1,5.001068115234375E-3,5.001068115234375E-3," "]
["2009-10-12T02:56:26",60,3682.234130859375,350,-223.01573181152344,16,666.5,10,0,-103,7939.89,null,1,0,1,2.99835205078125E-3,2.99835205078125E-3," "]
["2009-10-12T02:56:28",60.002998352050781,3682.1376953125,350,-223.01573181152344,16,667,10,0,-103,7940.22,null,1,1,1,2.99835205078125E-3,2.99835205078125E-3," "]
["2009-10-12T02:56:30",60.002998352050781,3682.223876953125,350,-223.01573181152344,16,667.5,10,0,-103,7940.55,null,1,1,1,0,0," "]
["2009-10-12T02:56:32",60.002998352050781,3681.68896484375,350,-223.01573181152344,16,668,10,0,-103,7940.88,null,1,1,1,0,0," "]
["2009-10-12T02:56:34",60.001998901367188,3681.45849609375,350,-223.01573181152344,16,668.5,10,0,-103,7941.21,null,1,1,1,-9.9945068359375E-4,9.9945068359375E-4," "]
["2009-10-12T02:56:36",60.002998352050781,3681.650390625,350,-223.01573181152344,16,669,10,0,-103,7941.54,null,1,1,1,9.9945068359375E-4,9.9945068359375E-4," "]
["2009-10-12T02:56:38",60.001998901367188,3681.012939453125,350,-223.01573181152344,16,669.5,10,0,-103,7941.87,null,1,1,1,-9.9945068359375E-4,9.9945068359375E-4," "]
["2009-10-12T02:56:40",60.002998352050781,3680.1669921875,350,-223.01573181152344,16,670,10,0,-103,7942.2,null,1,1,1,9.9945068359375E-4,9.9945068359375E-4," "]
["2009-10-12T02:56:42",60.004001617431641,3679.94287109375,350,-223.01573181152344,16,670.5,10,0,-103,7942.53,null,1,1,1,1.003265380859375E-3,1.003265380859375E-3," "]
["2009-10-12T02:56:44",60.005001068115234,3679.42919921875,350,-223.01573181152344,16,671,10,0,-103,7942.86,null,1,1,1,9.9945068359375E-4,9.9945068359375E-4," "]
["2009-10-12T02:56:46",60.006000518798828,3679.669189453125,350,-223.01573181152344,16,671.5,10,0,-103,7943.19,null,1,1,1,9.9945068359375E-4,9.9945068359375E-4," "]
["2009-10-12T02:56:48",60.008998870849609,3678.981201171875,350,-223.01573181152344,16,672,10,0,-103,7943.52,null,1,1,1,2.99835205078125E-3,2.99835205078125E-3," "]
["2009-10-12T02:56:50",60.012001037597656,3678.267333984375,350,-223.01573181152344,16,672.5,10,0,-103,7943.85,null,1,1,1,3.002166748046875E-3,3.002166748046875E-3," "]
["2009-10-12T02:56:52",60.016998291015625,3676.796142578125,350,-223.01573181152344,16,673,10,0,-103,7944.18,null,1,1,1,4.99725341796875E-3,4.99725341796875E-3," "]
["2009-10-12T02:56:54",60.020999908447266,3676.8095703125,350,-223.01573181152344,16,673.5,10,0,-103,7944.51,null,1,1,1,4.001617431640625E-3,4.001617431640625E-3," "]
["2009-10-12T02:56:56",60.021999359130859,3674.797607421875,350,-223.01573181152344,16,674,10,0,-103,7944.84,null,1,1,1,9.9945068359375E-4,9.9945068359375E-4," "]
["2009-10-12T02:56:58",60.020999908447266,3673.906005859375,350,-223.01573181152344,16,674.5,10,0,-103,7945.17,null,1,1,1,-9.9945068359375E-4,9.9945068359375E-4," "]
["2009-10-12T02:57:00",60.020000457763672,3671.14501953125,350,-223.01573181152344,16,675,10,0,-103,7945.5,null,1,1,1,-9.9945068359375E-4,9.9945068359375E-4," "]
["2009-10-12T02:57:02",60.018001556396484,3670.509765625,350,-223.01573181152344,16,675.5,10,0,-103,7945.83,null,1,1,1,-1.9989013671875E-3,1.9989013671875E-3," "]
["2009-10-12T02:57:04",60.020999908447266,3673.64794921875,350,-223.01573181152344,16,676,10,0,-103,7946.16,null,1,1,1,2.99835205078125E-3,2.99835205078125E-3," "]
["2009-10-12T02:57:06",60.020000457763672,3673.683837890625,350,-223.01573181152344,16,676.5,10,0,-103,7946.49,null,1,1,1,-9.9945068359375E-4,9.9945068359375E-4," "]
["2009-10-12T02:57:08",60.020000457763672,3675.86474609375,350,-223.01573181152344,16,677,10,0,-103,7946.82,null,1,1,1,0,0," "]
["2009-10-12T02:57:10",60.018001556396484,3676.67578125,350,-223.01573181152344,16,677.5,10,0,-103,7947.15,null,1,1,1,-1.9989013671875E-3,1.9989013671875E-3," "]
["2009-10-12T02:57:12",60.018001556396484,3676.40380859375,350,-223.01573181152344,16,678,10,0,-103,7947.48,null,1,1,1,0,0," "]
["2009-10-12T02:57:14",60.019001007080078,3676.43701171875,350,-223.01573181152344,16,678.5,10,0,-103,7947.81,null,1,1,1,9.9945068359375E-4,9.9945068359375E-4," "]
["2009-10-12T02:57:16",60.019001007080078,3677.184814453125,350,-223.01573181152344,16,679,10,0,-103,7948.14,null,1,1,1,0,0," "]
["2009-10-12T02:57:18",60.018001556396484,3677.658935546875,350,-223.01573181152344,16,679.5,10,0,-103,7948.47,null,1,1,1,-9.9945068359375E-4,9.9945068359375E-4," "]
["2009-10-12T02:57:20",60.016998291015625,3678.828369140625,350,-223.01573181152344,16,680,10,0,-103,7948.8,null,1,{"$f":"IF((M1203=1)*(B1203>$N$2),1,0)","v":1},1,-1.003265380859375E-3,{"$f":"ABS(P1203)","v":1.003265380859375E-3},{"$f":"IF(Q1203>(AVERAGE(Q1199:Q1202)+R$2),1,\" \")","v":" "}]
["2009-10-12T02:57:22",60.015998840332031,3679.288818359375,350,-223.01573181152344,16,680.5,10,0,-103,7949.13,null,1,1,1,-9.9945068359375E-4,9.9945068359375E-4," "]
["2009-10-12T02:57:24",60.015998840332031,3678.91455078125,350,-223.01573181152344,16,681,10,0,-103,7949.46,null,1,1,1,0,0," "]
["2009-10-12T02:57:26",60.015998840332031,3679.275634765625,350,-223.01573181152344,16,681.5,10,0,-103,7949.79,null,1,1,1,0,0," "]
["2009-10-12T02:57:28",60.014999389648438,3678.5986328125,350,-223.01573181152344,16,682,10,0,-103,7950.12,null,1,1,1,-9.9945068359375E-4,9.9945068359375E-4," "]
["2009-10-12T02:57:30",60.013999938964844,3678.366943359375,350,-223.01573181152344,16,682.5,10,0,-103,7950.45,null,1,1,1,-9.9945068359375E-4,9.9945068359375E-4," "]
["2009-10-12T02:57:32",60.013999938964844,3678.25048828125,350,-223.01573181152344,16,683,10,0,-103,7950.78,null,1,1,1,0,0," "]
["2009-10-12T02:57:34",60.01300048828125,3678.58935546875,350,-223.01573181152344,16,683.5,10,0,-103,7951.11,null,1,1,1,-9.9945068359375E-4,9.9945068359375E-4," "]
["2009-10-12T02:57:36",60.01300048828125,3677.2509765625,350,-223.01573181152344,16,684,10,0,-103,7951.44,null,1,1,1,0,0," "]
["2009-10-12T02:57:38",60.014999389648438,3675.69775390625,350,-223.01573181152344,16,684.5,10,0,-103,7951.77,null,1,1,1,1.9989013671875E-3,1.9989013671875E-3," "]
["2009-10-12T02:57:40",60.016998291015625,3674.66943359375,350,-223.01573181152344,16,685,10,0,-103,7952.1,null,1,1,1,1.9989013671875E-3,1.9989013671875E-3," "]
["2009-10-12T02:57:42",60.015998840332031,3674.8701171875,350,-223.01573181152344,16,685.5,10,0,-103,7952.43,null,1,1,1,-9.9945068359375E-4,9.9945068359375E-4," "]
["2009-10-12T02:57:44",60.019001007080078,3674.40185546875,350,-223.01573181152344,16,686,10,0,-103,7952.76,null,1,1,1,3.002166748046875E-3,3.002166748046875E-3," "]
["2009-10-12T02:57:46",60.020999908447266,3674.546142578125,350,-223.01573181152344,16,686.5,10,0,-103,7953.09,null,1,1,1,1.9989013671875E-3,1.9989013671875E-3," "]
["2009-10-12T02:57:48",60.020999908447266,3672.96875,350,-223.01573181152344,16,687,10,0,-103,7953.42,null,1,1,1,0,0," "]
["2009-10-12T02:57:50",60.020000457763672,3671.91357421875,350,-223.01573181152344,16,687.5,10,0,-103,7953.75,null,1,1,1,-9.9945068359375E-4,9.9945068359375E-4," "]
["2009-10-12T02:57:52",60.021999359130859,3671.98193359375,350,-223.01573181152344,16,688,10,0,-103,7954.08,null,1,1,1,1.9989013671875E-3,1.9989013671875E-3," "]
["2009-10-12T02:57:54",60.023998260498047,3670.945556640625,350,-223.01573181152344,16,688.5,10,0,-103,7954.41,null,1,1,1,1.9989013671875E-3,1.9989013671875E-3," "]
["2009-10-12T02:57:56",60.0260009765625,3670.821044921875,350,-223.01573181152344,16,689,10,0,-103,7954.74,null,1,1,1,2.002716064453125E-3,2.002716064453125E-3," "]
["2009-10-12T02:57:58",60.025001525878906,3671.0595703125,350,-223.01573181152344,16,689.5,10,0,-103,7955.07,null,1,1,1,-9.9945068359375E-4,9.9945068359375E-4," "]
["2009-10-12T02:58:00",60.0260009765625,3671.53857421875,350,-223.01573181152344,16,690,10,0,-103,7955.4,null,1,1,{"$f":"IF(ROW()<$M$3,0,1)","v":1},9.9945068359375E-4,9.9945068359375E-4," "]
["2009-10-12T02:58:02",60.021999359130859,3673.793701171875,350,-223.01573181152344,16,690.5,10,0,-103,7955.73,null,{"$f":"IF(ROW()<$M$5,0,1)","v":1},1,1,{"$f":"B1224-B1223","v":-4.001617431640625E-3},4.001617431640625E-3," "]
["2009-10-12T02:58:04",60.020999908447266,3674.009521484375,350,-223.01573181152344,16,691,10,0,-103,7956.06,null,1,1,1,-9.9945068359375E-4,9.9945068359375E-4," "]
["2009-10-12T02:58:06",60.021999359130859,3675.1015625,350,-223.01573181152344,16,691.5,10,0,-103,7956.39,null,1,1,1,9.9945068359375E-4,9.9945068359375E-4," "]
["2009-10-12T02:58:08",60.023998260498047,3675.2841796875,350,-223.01573181152344,16,692,10,0,-103,7956.72,null,1,1,1,1.9989013671875E-3,1.9989013671875E-3," "]
["2009-10-12T02:58:10",60.027000427246094,3676.05126953125,350,-223.01573181152344,16,692.5,10,0,-103,7957.05,null,1,1,1,3.002166748046875E-3,3.002166748046875E-3," "]
["2009-10-12T02:58:12",60.028999328613281,3675.70361328125,350,-223.01573181152344,16,693,10,0,-103,7957.38,null,1,1,1,1.9989013671875E-3,1.9989013671875E-3," "]
["2009-10-12T02:58:14",60.027999877929687,3672.58349609375,350,-223.01573181152344,16,693.5,10,0,-103,7957.71,null,1,1,1,-9.9945068359375E-4,9.9945068359375E-4," "]
["2009-10-12T02:58:16",60.027999877929687,3671.3427734375,350,-223.01573181152344,16,694,10,0,-103,7958.04,null,1,1,1,0,0," "]
["2009-10-12T02:58:18",60.032001495361328,3670.231689453125,350,-223.01573181152344,16,694.5,10,0,-103,7958.37,null,1,1,1,4.001617431640625E-3,4.001617431640625E-3," "]
["2009-10-12T02:58:20",60.034999847412109,3668.65380859375,350,-223.01573181152344,16,695,10,0,-103,7958.7,null,1,1,1,2.99835205078125E-3,2.99835205078125E-3," "]
["2009-10-12T02:58:22",60.029998779296875,3668.76708984375,350,-223.01573181152344,16,695.5,10,0,-103,7959.03,null,1,1,1,-5.001068115234375E-3,5.001068115234375E-3," "]
["2009-10-12T02:58:24",60.027999877929687,3666.312255859375,350,-223.01573181152344,16,696,10,0,-103,7959.36,null,1,1,1,-1.9989013671875E-3,1.9989013671875E-3," "]
["2009-10-12T02:58:26",60.020999908447266,3667.32177734375,350,-223.01573181152344,16,696.5,10,0,-103,7959.69,null,1,1,1,-6.999969482421875E-3,6.999969482421875E-3," "]
["2009-10-12T02:58:28",60.020999908447266,3657.1640625,350,-223.01573181152344,16,697,10,0,-103,7960.02,null,1,1,1,0,0," "]
["2009-10-12T02:58:30",60.023998260498047,3657.714111328125,350,-223.01573181152344,16,697.5,10,0,-103,7960.35,null,1,1,1,2.99835205078125E-3,2.99835205078125E-3," "]
["2009-10-12T02:58:32",60.025001525878906,3668.637451171875,350,-223.01573181152344,16,698,10,0,-103,7960.68,null,1,1,1,1.003265380859375E-3,1.003265380859375E-3," "]
["2009-10-12T02:58:34",60.023998260498047,3669.308837890625,350,-223.01573181152344,16,698.5,10,0,-103,7961.01,null,1,1,1,-1.003265380859375E-3,1.003265380859375E-3," "]
["2009-10-12T02:58:36",60.021999359130859,3670.1123046875,350,-223.01573181152344,16,699,10,0,-103,7961.34,null,1,1,1,-1.9989013671875E-3,1.9989013671875E-3," "]
["2009-10-12T02:58:38",60.022998809814453,3670.7353515625,350,-223.01573181152344,16,699.5,10,0,-103,7961.67,null,1,1,1,9.9945068359375E-4,9.9945068359375E-4," "]
["2009-10-12T02:58:40",60.020999908447266,3671.33203125,350,-223.01573181152344,16,700,10,0,-103,7962,null,1,1,1,-1.9989013671875E-3,1.9989013671875E-3," "]
["2009-10-12T02:58:42",60.020000457763672,3672.095458984375,350,-223.01573181152344,16,700.5,10,0,-103,7962.33,null,1,1,1,-9.9945068359375E-4,9.9945068359375E-4," "]
["2009-10-12T02:58:44",60.020000457763672,3672.68310546875,350,-223.01573181152344,16,701,10,0,-103,7962.66,null,1,1,1,0,0," "]
["2009-10-12T02:58:46",60.020000457763672,3673.83251953125,350,-223.01573181152344,16,701.5,10,0,-103,7962.99,null,1,1,1,0,0," "]
["2009-10-12T02:58:48",60.020000457763672,3674.644775390625,350,-223.01573181152344,16,702,10,0,-103,7963.32,null,1,1,1,0,0," "]
["2009-10-12T02:58:50",60.016998291015625,3675.640625,350,-223.01573181152344,16,702.5,10,0,-103,7963.65,null,1,1,1,-3.002166748046875E-3,3.002166748046875E-3," "]
["2009-10-12T02:58:52",60.013999938964844,3675.970703125,350,-223.01573181152344,16,703,10,0,-103,7963.98,null,1,1,1,-2.99835205078125E-3,2.99835205078125E-3," "]
["2009-10-12T02:58:54",60.012001037597656,3677.00927734375,350,-223.01573181152344,16,703.5,10,0,-103,7964.31,null,1,1,1,-1.9989013671875E-3,1.9989013671875E-3," "]
["2009-10-12T02:58:56",60.009998321533203,3678.313720703125,350,-223.01573181152344,16,704,10,0,-103,7964.64,null,1,1,1,-2.002716064453125E-3,2.002716064453125E-3," "]
["2009-10-12T02:58:58",60.011001586914063,3679.392822265625,350,-223.01573181152344,16,704.5,10,0,-103,7964.97,null,1,1,1,1.003265380859375E-3,1.003265380859375E-3," "]
["2009-10-12T02:59:00",60.009998321533203,3680.020263671875,350,-223.01573181152344,16,705,10,0,-103,7965.3,null,1,1,1,-1.003265380859375E-3,1.003265380859375E-3," "]
["2009-10-12T02:59:02",60.009998321533203,3679.79150390625,350,-223.01573181152344,16,705.5,10,0,-103,7965.63,null,1,1,1,0,0," "]
["2009-10-12T02:59:04",60.009998321533203,3679.5966796875,350,-223.01573181152344,16,706,10,0,-103,7965.96,null,1,1,1,0,0," "]
["2009-10-12T02:59:06",60.012001037597656,3680.31494140625,350,-223.01573181152344,16,706.5,10,0,-103,7966.29,null,1,1,1,2.002716064453125E-3,2.002716064453125E-3," "]
["2009-10-12T02:59:08",60.012001037597656,3680.1103515625,350,-223.01573181152344,16,707,10,0,-103,7966.62,null,1,1,1,0,0," "]
["2009-10-12T02:59:10",60.01300048828125,3679.0615234375,350,-223.01573181152344,16,707.5,10,0,-103,7966.95,null,1,1,1,9.9945068359375E-4,9.9945068359375E-4," "]
["2009-10-12T02:59:12",60.013999938964844,3679.127197265625,350,-223.01573181152344,16,708,10,0,-103,7967.28,null,1,1,1,9.9945068359375E-4,9.9945068359375E-4," "]
["2009-10-12T02:59:14",60.01300048828125,3679.5869140625,350,-223.01573181152344,16,708.5,10,0,-103,7967.61,null,1,1,1,-9.9945068359375E-4,9.9945068359375E-4," "]
["2009-10-12T02:59:16",60.012001037597656,3679.63671875,350,-223.01573181152344,16,709,10,0,-103,7967.94,null,1,1,1,-9.9945068359375E-4,9.9945068359375E-4," "]
["2009-10-12T02:59:18",60.011001586914063,3679.02001953125,350,-223.01573181152344,16,709.5,10,0,-103,7968.27,null,1,1,1,-9.9945068359375E-4,9.9945068359375E-4," "]
["2009-10-12T02:59:20",60.009998321533203,3678.417724609375,350,-223.01573181152344,16,710,10,0,-103,7968.6,null,1,1,1,-1.003265380859375E-3,1.003265380859375E-3," "]
["2009-10-12T02:59:22",60.007999420166016,3679.383056640625,350,-223.01573181152344,16,710.5,10,0,-103,7968.93,null,1,1,1,-1.9989013671875E-3,1.9989013671875E-3," "]
["2009-10-12T02:59:24",60.009998321533203,3679.680908203125,350,-223.01573181152344,16,711,10,0,-103,7969.26,null,1,1,1,1.9989013671875E-3,1.9989013671875E-3," "]
["2009-10-12T02:59:26",60.011001586914063,3679.932373046875,350,-223.01573181152344,16,711.5,10,0,-103,7969.59,null,1,1,1,1.003265380859375E-3,1.003265380859375E-3," "]
["2009-10-12T02:59:28",60.01300048828125,3679.13818359375,350,-223.01573181152344,16,712,10,0,-103,7969.92,null,1,{"$f":"IF((M1267=1)*(B1267>$N$2),1,0)","v":1},1,1.9989013671875E-3,{"$f":"ABS(P1267)","v":1.9989013671875E-3},{"$f":"IF(Q1267>(AVERAGE(Q1263:Q1266)+R$2),1,\" \")","v":" "}]
["2009-10-12T02:59:30",60.015998840332031,3678.46875,350,-223.01573181152344,16,712.5,10,0,-103,7970.25,null,1,1,1,2.99835205078125E-3,2.99835205078125E-3," "]
["2009-10-12T02:59:32",60.018001556396484,3678.49853515625,350,-223.01573181152344,16,713,10,0,-103,7970.58,null,1,1,1,2.002716064453125E-3,2.002716064453125E-3," "]
["2009-10-12T02:59:34",60.019001007080078,3678.45556640625,350,-223.01573181152344,16,713.5,10,0,-103,7970.91,null,1,1,1,9.9945068359375E-4,9.9945068359375E-4," "]
["2009-10-12T02:59:36",60.019001007080078,3677.615234375,350,-223.01573181152344,16,714,10,0,-103,7971.24,null,1,1,1,0,0," "]
["2009-10-12T02:59:38",60.019001007080078,3677.4462890625,350,-223.01573181152344,16,714.5,10,0,-103,7971.57,null,1,1,1,0,0," "]
["2009-10-12T02:59:40",60.020000457763672,3677.431396484375,350,-223.01573181152344,16,715,10,0,-103,7971.9,null,1,1,1,9.9945068359375E-4,9.9945068359375E-4," "]
["2009-10-12T02:59:42",60.020000457763672,3677.450927734375,350,-223.01573181152344,16,715.5,10,0,-103,7972.23,null,1,1,1,0,0," "]
["2009-10-12T02:59:44",60.018001556396484,3677.3154296875,350,-223.01573181152344,16,716,10,0,-103,7972.56,null,1,1,1,-1.9989013671875E-3,1.9989013671875E-3," "]
["2009-10-12T02:59:46",60.018001556396484,3678.151123046875,350,-223.01573181152344,16,716.5,10,0,-103,7972.89,null,1,1,1,0,0," "]
["2009-10-12T02:59:48",60.015998840332031,3678.362060546875,350,-223.01573181152344,16,717,10,0,-103,7973.22,null,1,1,1,-2.002716064453125E-3,2.002716064453125E-3," "]
["2009-10-12T02:59:50",60.015998840332031,3678.87353515625,350,-223.01573181152344,16,717.5,10,0,-103,7973.55,null,1,1,1,0,0," "]
["2009-10-12T02:59:52",60.019001007080078,3680.770751953125,350,-223.01573181152344,16,718,10,0,-103,7973.88,null,1,1,1,3.002166748046875E-3,3.002166748046875E-3," "]
["2009-10-12T02:59:54",60.022998809814453,3681.05810546875,350,-223.01573181152344,16,718.5,10,0,-103,7974.21,null,1,1,1,3.997802734375E-3,3.997802734375E-3," "]
["2009-10-12T02:59:56",60.021999359130859,3680.35302734375,350,-223.01573181152344,16,719,10,0,-103,7974.54,null,1,1,1,-9.9945068359375E-4,9.9945068359375E-4," "]
["2009-10-12T02:59:58",60.018001556396484,3679.16650390625,350,-223.01573181152344,16,719.5,10,0,-103,7974.87,null,1,1,1,-3.997802734375E-3,3.997802734375E-3," "]
["2009-10-12T03:00:00",60.014999389648438,3679.55322265625,350,-223.01573181152344,16,720,10,0,-103,7975.2,null,1,1,1,-3.002166748046875E-3,3.002166748046875E-3," "]
["2009-10-12T03:00:02",60.015998840332031,3680.67236328125,350,-223.01573181152344,16,720.5,10,0,-103,7975.53,null,1,1,1,9.9945068359375E-4,9.9945068359375E-4," "]
["2009-10-12T03:00:04",60.016998291015625,3682.729736328125,350,-223.01573181152344,16,721,10,0,-103,7975.86,null,1,1,1,9.9945068359375E-4,9.9945068359375E-4," "]
["2009-10-12T03:00:06",60.014999389648438,3682.713623046875,350,-223.01573181152344,16,721.5,10,0,-103,7976.19,null,1,1,1,-1.9989013671875E-3,1.9989013671875E-3," "]
["2009-10-12T03:00:08",60.009998321533203,3681.91455078125,350,-223.01573181152344,16,722,10,0,-103,7976.52,null,1,1,{"$f":"IF(ROW()<$M$3,0,1)","v":1},-5.001068115234375E-3,5.001068115234375E-3," "]
["2009-10-12T03:00:10",60.004001617431641,3682.01025390625,350,-223.01573181152344,16,722.5,10,0,-103,7976.85,null,{"$f":"IF(ROW()<$M$5,0,1)","v":1},1,1,{"$f":"B1288-B1287","v":-5.9967041015625E-3},5.9967041015625E-3," "]
["2009-10-12T03:00:12",59.999000549316406,3682.4833984375,350,-223.01573181152344,16,723,10,0,-103,7977.18,null,1,0,1,-5.001068115234375E-3,5.001068115234375E-3," "]
["2009-10-12T03:00:14",59.994998931884766,3683.8134765625,350,-223.01573181152344,16,723.5,10,0,-103,7977.51,null,1,0,1,-4.001617431640625E-3,4.001617431640625E-3," "]
["2009-10-12T03:00:16",59.990001678466797,3685.306396484375,350,-223.01573181152344,16,724,10,0,-103,7977.84,null,1,0,1,-4.99725341796875E-3,4.99725341796875E-3," "]
["2009-10-12T03:00:18",59.981998443603516,3684.845703125,350,-223.01573181152344,16,724.5,10,0,-103,7978.17,null,1,0,1,-8.00323486328125E-3,8.00323486328125E-3," "]
["2009-10-12T03:00:20",59.9739990234375,3684.642578125,350,-223.01573181152344,16,725,10,0,-103,7978.5,null,1,0,1,-7.999420166015625E-3,7.999420166015625E-3," "]
["2009-10-12T03:00:22",59.970001220703125,3687.527099609375,350,-223.01573181152344,16,725.5,10,0,-103,7978.83,null,1,0,1,-3.997802734375E-3,3.997802734375E-3," "]
["2009-10-12T03:00:24",59.970001220703125,3689.40380859375,350,-223.01573181152344,16,726,10,0,-103,7979.16,null,1,0,1,0,0," "]
["2009-10-12T03:00:26",59.967998504638672,3692.287353515625,350,-223.01573181152344,16,726.5,10,0,-103,7979.49,null,1,0,1,-2.002716064453125E-3,2.002716064453125E-3," "]
["2009-10-12T03:00:28",59.967998504638672,3692.96630859375,350,-223.01573181152344,16,727,10,0,-103,7979.82,null,1,0,1,0,0," "]
["2009-10-12T03:00:30",59.967998504638672,3693.793212890625,350,-223.01573181152344,16,727.5,10,0,-103,7980.15,null,1,0,1,0,0," "]
["2009-10-12T03:00:32",59.972000122070313,3694.397216796875,350,-223.01573181152344,16,728,10,0,-103,7980.48,null,1,0,1,4.001617431640625E-3,4.001617431640625E-3," "]
["2009-10-12T03:00:34",59.966999053955078,3694.9736328125,350,-223.01573181152344,16,728.5,10,0,-103,7980.81,null,1,0,1,-5.001068115234375E-3,5.001068115234375E-3," "]
["2009-10-12T03:00:36",59.965999603271484,3697.406982421875,350,-223.01573181152344,16,729,10,0,-103,7981.14,null,1,0,1,-9.9945068359375E-4,9.9945068359375E-4," "]
["2009-10-12T03:00:38",59.964000701904297,3698.501953125,350,-223.01573181152344,16,729.5,10,0,-103,7981.47,null,1,0,1,-1.9989013671875E-3,1.9989013671875E-3," "]
["2009-10-12T03:00:40",59.965000152587891,3698.616943359375,350,-223.01573181152344,16,730,10,0,-103,7981.8,null,1,0,1,9.9945068359375E-4,9.9945068359375E-4," "]
["2009-10-12T03:00:42",59.965999603271484,3698.992431640625,350,-223.01573181152344,16,730.5,10,0,-103,7982.13,null,1,0,1,9.9945068359375E-4,9.9945068359375E-4," "]
["2009-10-12T03:00:44",59.963001251220703,3699.85009765625,350,-223.01573181152344,16,731,10,0,-103,7982.46,null,1,0,1,-2.99835205078125E-3,2.99835205078125E-3," "]
["2009-10-12T03:00:46",59.963001251220703,3702.644775390625,350,-223.01573181152344,16,731.5,10,0,-103,7982.79,null,1,0,1,0,0," "]
["2009-10-12T03:00:48",59.965000152587891,3701.988525390625,350,-223.01573181152344,16,732,10,0,-103,7983.12,null,1,0,1,1.9989013671875E-3,1.9989013671875E-3," "]
["2009-10-12T03:00:50",59.967998504638672,3702.218017578125,350,-223.01573181152344,16,732.5,10,0,-103,7983.45,null,1,0,1,2.99835205078125E-3,2.99835205078125E-3," "]
["2009-10-12T03:00:52",59.970001220703125,3704.0234375,350,-223.01573181152344,16,733,10,0,-103,7983.78,null,1,0,1,2.002716064453125E-3,2.002716064453125E-3," "]
["2009-10-12T03:00:54",59.970001220703125,3703.365478515625,350,-223.01573181152344,16,733.5,10,0,-103,7984.11,null,1,0,1,0,0," "]
["2009-10-12T03:00:56",59.970001220703125,3702.98828125,350,-223.01573181152344,16,734,10,0,-103,7984.44,null,1,0,1,0,0," "]
["2009-10-12T03:00:58",59.972999572753906,3703.813720703125,350,-223.01573181152344,16,734.5,10,0,-103,7984.77,null,1,0,1,2.99835205078125E-3,2.99835205078125E-3," "]
["2009-10-12T03:01:00",59.972000122070313,3704.8994140625,350,-223.01573181152344,16,735,10,0,-103,7985.1,null,1,0,1,-9.9945068359375E-4,9.9945068359375E-4," "]
["2009-10-12T03:01:02",59.976001739501953,3705.625,350,-223.01573181152344,16,735.5,10,0,-103,7985.43,null,1,0,1,4.001617431640625E-3,4.001617431640625E-3," "]
["2009-10-12T03:01:04",59.974998474121094,3704.29345703125,350,-223.01573181152344,16,736,10,0,-103,7985.76,null,1,0,1,-1.003265380859375E-3,1.003265380859375E-3," "]
["2009-10-12T03:01:06",59.974998474121094,3702.09423828125,350,-223.01573181152344,16,736.5,10,0,-103,7986.09,null,1,0,1,0,0," "]
["2009-10-12T03:01:08",59.977001190185547,3701.94384765625,350,-223.01573181152344,16,737,10,0,-103,7986.42,null,1,0,1,2.002716064453125E-3,2.002716064453125E-3," "]
["2009-10-12T03:01:10",59.976001739501953,3703.14208984375,350,-223.01573181152344,16,737.5,10,0,-103,7986.75,null,1,0,1,-9.9945068359375E-4,9.9945068359375E-4," "]
["2009-10-12T03:01:12",59.976001739501953,3704.6689453125,350,-223.01573181152344,16,738,10,0,-103,7987.08,null,1,0,1,0,0," "]
["2009-10-12T03:01:14",59.9739990234375,3705.375732421875,350,-223.01573181152344,16,738.5,10,0,-103,7987.41,null,1,0,1,-2.002716064453125E-3,2.002716064453125E-3," "]
["2009-10-12T03:01:16",59.974998474121094,3705.662353515625,350,-223.01573181152344,16,739,10,0,-103,7987.74,null,1,0,1,9.9945068359375E-4,9.9945068359375E-4," "]
["2009-10-12T03:01:18",59.9739990234375,3705.854736328125,350,-223.01573181152344,16,739.5,10,0,-103,7988.07,null,1,0,1,-9.9945068359375E-4,9.9945068359375E-4," "]
["2009-10-12T03:01:20",59.9739990234375,3706.7763671875,350,-223.01573181152344,16,740,10,0,-103,7988.4,null,1,0,1,0,0," "]
["2009-10-12T03:01:22",59.976001739501953,3707.513916015625,350,-223.01573181152344,16,740.5,10,0,-103,7988.73,null,1,0,1,2.002716064453125E-3,2.002716064453125E-3," "]
["2009-10-12T03:01:24",59.977001190185547,3706.92822265625,350,-223.01573181152344,16,741,10,0,-103,7989.06,null,1,0,1,9.9945068359375E-4,9.9945068359375E-4," "]
["2009-10-12T03:01:26",59.979000091552734,3706.446044921875,350,-223.01573181152344,16,741.5,10,0,-103,7989.39,null,1,0,1,1.9989013671875E-3,1.9989013671875E-3," "]
["2009-10-12T03:01:28",59.980998992919922,3706.3349609375,350,-223.01573181152344,16,742,10,0,-103,7989.72,null,1,0,1,1.9989013671875E-3,1.9989013671875E-3," "]
["2009-10-12T03:01:30",59.983001708984375,3706.77099609375,350,-223.01573181152344,16,742.5,10,0,-103,7990.05,null,1,0,1,2.002716064453125E-3,2.002716064453125E-3," "]
["2009-10-12T03:01:32",59.985000610351563,3705.943115234375,350,-223.01573181152344,16,743,10,0,-103,7990.38,null,1,0,1,1.9989013671875E-3,1.9989013671875E-3," "]
["2009-10-12T03:01:34",59.983001708984375,3704.127197265625,350,-223.01573181152344,16,743.5,10,0,-103,7990.71,null,1,0,1,-1.9989013671875E-3,1.9989013671875E-3," "]
["2009-10-12T03:01:36",59.979999542236328,3704.77734375,350,-223.01573181152344,16,744,10,0,-103,7991.04,null,1,{"$f":"IF((M1331=1)*(B1331>$N$2),1,0)","v":0},1,-3.002166748046875E-3,{"$f":"ABS(P1331)","v":3.002166748046875E-3},{"$f":"IF(Q1331>(AVERAGE(Q1327:Q1330)+R$2),1,\" \")","v":" "}]
["2009-10-12T03:01:38",59.979000091552734,3705.974365234375,350,-223.01573181152344,16,744.5,10,0,-103,7991.37,null,1,0,1,-9.9945068359375E-4,9.9945068359375E-4," "]
["2009-10-12T03:01:40",59.983001708984375,3705.967529296875,350,-223.01573181152344,16,745,10,0,-103,7991.7,null,1,0,1,4.001617431640625E-3,4.001617431640625E-3," "]
["2009-10-12T03:01:42",59.98699951171875,3705.3564453125,350,-223.01573181152344,16,745.5,10,0,-103,7992.03,null,1,0,1,3.997802734375E-3,3.997802734375E-3," "]
["2009-10-12T03:01:44",59.986000061035156,3704.68310546875,350,-223.01573181152344,16,746,10,0,-103,7992.36,null,1,0,1,-9.9945068359375E-4,9.9945068359375E-4," "]
["2009-10-12T03:01:46",59.984001159667969,3703.913330078125,350,-223.01573181152344,16,746.5,10,0,-103,7992.69,null,1,0,1,-1.9989013671875E-3,1.9989013671875E-3," "]
["2009-10-12T03:01:48",59.979999542236328,3704.360595703125,350,-223.01573181152344,16,747,10,0,-103,7993.02,null,1,0,1,-4.001617431640625E-3,4.001617431640625E-3," "]
["2009-10-12T03:01:50",59.981998443603516,3704.98828125,350,-223.01573181152344,16,747.5,10,0,-103,7993.35,null,1,0,1,1.9989013671875E-3,1.9989013671875E-3," "]
["2009-10-12T03:01:52",59.984001159667969,3705.0498046875,350,-223.01573181152344,16,748,10,0,-103,7993.68,null,1,0,1,2.002716064453125E-3,2.002716064453125E-3," "]
["2009-10-12T03:01:54",59.985000610351563,3704.892822265625,350,-223.01573181152344,16,748.5,10,0,-103,7994.01,null,1,0,1,9.9945068359375E-4,9.9945068359375E-4," "]
["2009-10-12T03:01:56",59.98699951171875,3703.74072265625,350,-223.01573181152344,16,749,10,0,-103,7994.34,null,1,0,1,1.9989013671875E-3,1.9989013671875E-3," "]
["2009-10-12T03:01:58",59.988998413085937,3701.8310546875,350,-223.01573181152344,16,749.5,10,0,-103,7994.67,null,1,0,1,1.9989013671875E-3,1.9989013671875E-3," "]
["2009-10-12T03:02:00",59.992000579833984,3701.795166015625,350,-223.01573181152344,16,750,10,0,-103,7995,null,1,0,1,3.002166748046875E-3,3.002166748046875E-3," "]
["2009-10-12T03:02:02",59.995998382568359,3700.06982421875,350,-223.01573181152344,16,750.5,10,0,-103,7995.33,null,1,0,1,3.997802734375E-3,3.997802734375E-3," "]
["2009-10-12T03:02:04",59.999000549316406,3701.30810546875,350,-223.01573181152344,16,751,10,0,-103,7995.66,null,1,0,1,3.002166748046875E-3,3.002166748046875E-3," "]
["2009-10-12T03:02:06",59.997001647949219,3700.429443359375,350,-223.01573181152344,16,751.5,10,0,-103,7995.99,null,1,0,1,-1.9989013671875E-3,1.9989013671875E-3," "]
["2009-10-12T03:02:08",59.997001647949219,3700.912841796875,350,-223.01573181152344,16,752,10,0,-103,7996.32,null,1,0,1,0,0," "]
["2009-10-12T03:02:10",59.997001647949219,3700.541015625,350,-223.01573181152344,16,752.5,10,0,-103,7996.65,null,1,0,1,0,0," "]
["2009-10-12T03:02:12",59.997001647949219,3699.926513671875,350,-223.01573181152344,16,753,10,0,-103,7996.98,null,1,0,1,0,0," "]
["2009-10-12T03:02:14",59.995998382568359,3700.858154296875,350,-223.01573181152344,16,753.5,10,0,-103,7997.31,null,1,0,1,-1.003265380859375E-3,1.003265380859375E-3," "]
["2009-10-12T03:02:16",59.997001647949219,3700.548583984375,350,-223.01573181152344,16,754,10,0,-103,7997.64,null,1,0,{"$f":"IF(ROW()<$M$3,0,1)","v":1},1.003265380859375E-3,1.003265380859375E-3," "]
["2009-10-12T03:02:18",59.995998382568359,3700.613525390625,350,-223.01573181152344,16,754.5,10,0,-103,7997.97,null,{"$f":"IF(ROW()<$M$5,0,1)","v":1},0,1,{"$f":"B1352-B1351","v":-1.003265380859375E-3},1.003265380859375E-3," "]
["2009-10-12T03:02:20",59.998001098632813,3700.223876953125,350,-223.01573181152344,16,755,10,0,-103,7998.3,null,1,0,1,2.002716064453125E-3,2.002716064453125E-3," "]
["2009-10-12T03:02:22",60.002998352050781,3699.5,350,-223.01573181152344,16,755.5,10,0,-103,7998.63,null,1,1,1,4.99725341796875E-3,4.99725341796875E-3," "]
["2009-10-12T03:02:24",60.008998870849609,3698.03173828125,350,-223.01573181152344,16,756,10,0,-103,7998.96,null,1,1,1,6.000518798828125E-3,6.000518798828125E-3," "]
["2009-10-12T03:02:26",60.009998321533203,3697.9599609375,350,-223.01573181152344,16,756.5,10,0,-103,7999.29,null,1,1,1,9.9945068359375E-4,9.9945068359375E-4," "]
["2009-10-12T03:02:28",60.007999420166016,3699.40869140625,350,-223.01573181152344,16,757,10,0,-103,7999.62,null,1,1,1,-1.9989013671875E-3,1.9989013671875E-3," "]
["2009-10-12T03:02:30",60.005001068115234,3699.24072265625,350,-223.01573181152344,16,757.5,10,0,-103,7999.95,null,1,1,1,-2.99835205078125E-3,2.99835205078125E-3," "]
["2009-10-12T03:02:32",60.004001617431641,3700.73828125,350,-223.01573181152344,16,758,10,0,-103,8000.28,null,1,1,1,-9.9945068359375E-4,9.9945068359375E-4," "]
["2009-10-12T03:02:34",60.006000518798828,3701.10986328125,350,-223.01573181152344,16,758.5,10,0,-103,8000.61,null,1,1,1,1.9989013671875E-3,1.9989013671875E-3," "]
["2009-10-12T03:02:36",60.002998352050781,3701.23779296875,350,-223.01573181152344,16,759,10,0,-103,8000.94,null,1,1,1,-3.002166748046875E-3,3.002166748046875E-3," "]
["2009-10-12T03:02:38",60.000999450683594,3699.99755859375,350,-223.01573181152344,16,759.5,10,0,-103,8001.27,null,1,1,1,-1.9989013671875E-3,1.9989013671875E-3," "]
["2009-10-12T03:02:40",60.001998901367188,3700.22021484375,350,-223.01573181152344,16,760,10,0,-103,8001.6,null,1,1,1,9.9945068359375E-4,9.9945068359375E-4," "]
["2009-10-12T03:02:42",60.004001617431641,3701.82275390625,350,-223.01573181152344,16,760.5,10,0,-103,8001.93,null,1,1,1,2.002716064453125E-3,2.002716064453125E-3," "]
["2009-10-12T03:02:44",60.006999969482422,3702.55419921875,350,-223.01573181152344,16,761,10,0,-103,8002.26,null,1,1,1,2.99835205078125E-3,2.99835205078125E-3," "]
["2009-10-12T03:02:46",60.006999969482422,3702.27587890625,350,-223.01573181152344,16,761.5,10,0,-103,8002.59,null,1,1,1,0,0," "]
["2009-10-12T03:02:48",60.007999420166016,3701.0263671875,350,-223.01573181152344,16,762,10,0,-103,8002.92,null,1,1,1,9.9945068359375E-4,9.9945068359375E-4," "]
["2009-10-12T03:02:50",60.007999420166016,3701.9228515625,350,-223.01573181152344,16,762.5,10,0,-103,8003.25,null,1,1,1,0,0," "]
["2009-10-12T03:02:52",60.006000518798828,3702.943115234375,350,-223.01573181152344,16,763,10,0,-103,8003.58,null,1,1,1,-1.9989013671875E-3,1.9989013671875E-3," "]
["2009-10-12T03:02:54",60.006000518798828,3704.0927734375,350,-223.01573181152344,16,763.5,10,0,-103,8003.91,null,1,1,1,0,0," "]
["2009-10-12T03:02:56",60.006000518798828,3703.96044921875,350,-223.01573181152344,16,764,10,0,-103,8004.24,null,1,1,1,0,0," "]
["2009-10-12T03:02:58",60.005001068115234,3703.8193359375,350,-223.01573181152344,16,764.5,10,0,-103,8004.57,null,1,1,1,-9.9945068359375E-4,9.9945068359375E-4," "]
["2009-10-12T03:03:00",60,3704.455078125,350,-223.01573181152344,16,765,10,0,-103,8004.9,null,1,0,1,-5.001068115234375E-3,5.001068115234375E-3," "]
["2009-10-12T03:03:02",59.999000549316406,3704.345703125,350,-223.01573181152344,16,765.5,10,0,-103,8005.23,null,1,0,1,-9.9945068359375E-4,9.9945068359375E-4," "]
["2009-10-12T03:03:04",60,3705.3291015625,350,-223.01573181152344,16,766,10,0,-103,8005.56,null,1,0,1,9.9945068359375E-4,9.9945068359375E-4," "]
["2009-10-12T03:03:06",60,3704.93017578125,350,-223.01573181152344,16,766.5,10,0,-103,8005.89,null,1,0,1,0,0," "]
["2009-10-12T03:03:08",60.004001617431641,3704.40478515625,350,-223.01573181152344,16,767,10,0,-103,8006.22,null,1,1,1,4.001617431640625E-3,4.001617431640625E-3," "]
["2009-10-12T03:03:10",60.007999420166016,3703.67529296875,350,-223.01573181152344,16,767.5,10,0,-103,8006.55,null,1,1,1,3.997802734375E-3,3.997802734375E-3," "]
["2009-10-12T03:03:12",60.01300048828125,3702.748046875,350,-223.01573181152344,16,768,10,0,-103,8006.88,null,1,1,1,5.001068115234375E-3,5.001068115234375E-3," "]
["2009-10-12T03:03:14",60.014999389648438,3702.669189453125,350,-223.01573181152344,16,768.5,10,0,-103,8007.21,null,1,1,1,1.9989013671875E-3,1.9989013671875E-3," "]
["2009-10-12T03:03:16",60.014999389648438,3703.0166015625,350,-223.01573181152344,16,769,10,0,-103,8007.54,null,1,1,1,0,0," "]
["2009-10-12T03:03:18",60.012001037597656,3703.41552734375,350,-223.01573181152344,16,769.5,10,0,-103,8007.87,null,1,1,1,-2.99835205078125E-3,2.99835205078125E-3," "]
["2009-10-12T03:03:20",60.008998870849609,3703.29736328125,350,-223.01573181152344,16,770,10,0,-103,8008.2,null,1,1,1,-3.002166748046875E-3,3.002166748046875E-3," "]
["2009-10-12T03:03:22",60.005001068115234,3705.188720703125,350,-223.01573181152344,16,770.5,10,0,-103,8008.53,null,1,1,1,-3.997802734375E-3,3.997802734375E-3," "]
["2009-10-12T03:03:24",60.007999420166016,3705.279052734375,350,-223.01573181152344,16,771,10,0,-103,8008.86,null,1,1,1,2.99835205078125E-3,2.99835205078125E-3," "]
["2009-10-12T03:03:26",60.011001586914063,3704.64599609375,350,-223.01573181152344,16,771.5,10,0,-103,8009.19,null,1,1,1,3.002166748046875E-3,3.002166748046875E-3," "]
["2009-10-12T03:03:28",60.011001586914063,3704.05126953125,350,-223.01573181152344,16,772,10,0,-103,8009.52,null,1,1,1,0,0," "]
["2009-10-12T03:03:30",60.01300048828125,3703.43798828125,350,-223.01573181152344,16,772.5,10,0,-103,8009.85,null,1,1,1,1.9989013671875E-3,1.9989013671875E-3," "]
["2009-10-12T03:03:32",60.015998840332031,3704.255126953125,350,-223.01573181152344,16,773,10,0,-103,8010.18,null,1,1,1,2.99835205078125E-3,2.99835205078125E-3," "]
["2009-10-12T03:03:34",60.018001556396484,3703.70751953125,350,-223.01573181152344,16,773.5,10,0,-103,8010.51,null,1,1,1,2.002716064453125E-3,2.002716064453125E-3," "]
["2009-10-12T03:03:36",60.018001556396484,3703.830322265625,350,-223.01573181152344,16,774,10,0,-103,8010.84,null,1,1,1,0,0," "]
["2009-10-12T03:03:38",60.019001007080078,3704.52392578125,350,-223.01573181152344,16,774.5,10,0,-103,8011.17,null,1,1,1,9.9945068359375E-4,9.9945068359375E-4," "]
["2009-10-12T03:03:40",60.018001556396484,3704.13916015625,350,-223.01573181152344,16,775,10,0,-103,8011.5,null,1,1,1,-9.9945068359375E-4,9.9945068359375E-4," "]
["2009-10-12T03:03:42",60.01300048828125,3704.27001953125,350,-223.01573181152344,16,775.5,10,0,-103,8011.83,null,1,1,1,-5.001068115234375E-3,5.001068115234375E-3," "]
["2009-10-12T03:03:44",60.011001586914063,3705.429443359375,350,-223.01573181152344,16,776,10,0,-103,8012.16,null,1,{"$f":"IF((M1395=1)*(B1395>$N$2),1,0)","v":1},1,-1.9989013671875E-3,{"$f":"ABS(P1395)","v":1.9989013671875E-3},{"$f":"IF(Q1395>(AVERAGE(Q1391:Q1394)+R$2),1,\" \")","v":" "}]
["2009-10-12T03:03:46",60.008998870849609,3705.94189453125,350,-223.01573181152344,16,776.5,10,0,-103,8012.49,null,1,1,1,-2.002716064453125E-3,2.002716064453125E-3," "]
["2009-10-12T03:03:48",60.008998870849609,3705.539794921875,350,-223.01573181152344,16,777,10,0,-103,8012.82,null,1,1,1,0,0," "]
["2009-10-12T03:03:50",60.007999420166016,3705.634033203125,350,-223.01573181152344,16,777.5,10,0,-103,8013.15,null,1,1,1,-9.9945068359375E-4,9.9945068359375E-4," "]
["2009-10-12T03:03:52",60.008998870849609,3705.74853515625,350,-223.01573181152344,16,778,10,0,-103,8013.48,null,1,1,1,9.9945068359375E-4,9.9945068359375E-4," "]
["2009-10-12T03:03:54",60.011001586914063,3707.267333984375,350,-223.01573181152344,16,778.5,10,0,-103,8013.81,null,1,1,1,2.002716064453125E-3,2.002716064453125E-3," "]
["2009-10-12T03:03:56",60.014999389648438,3706.9453125,350,-223.01573181152344,16,779,10,0,-103,8014.14,null,1,1,1,3.997802734375E-3,3.997802734375E-3," "]
["2009-10-12T03:03:58",60.020000457763672,3706.6298828125,350,-223.01573181152344,16,779.5,10,0,-103,8014.47,null,1,1,1,5.001068115234375E-3,5.001068115234375E-3," "]
["2009-10-12T03:04:00",60.020999908447266,3705.654541015625,350,-223.01573181152344,16,780,10,0,-103,8014.8,null,1,1,1,9.9945068359375E-4,9.9945068359375E-4," "]
["2009-10-12T03:04:02",60.018001556396484,3703.894775390625,350,-223.01573181152344,16,780.5,10,0,-103,8015.13,null,1,1,1,-2.99835205078125E-3,2.99835205078125E-3," "]
["2009-10-12T03:04:04",60.016998291015625,3704.223876953125,350,-223.01573181152344,16,781,10,0,-103,8015.46,null,1,1,1,-1.003265380859375E-3,1.003265380859375E-3," "]
["2009-10-12T03:04:06",60.019001007080078,3703.886962890625,350,-223.01573181152344,16,781.5,10,0,-103,8015.79,null,1,1,1,2.002716064453125E-3,2.002716064453125E-3," "]
["2009-10-12T03:04:08",60.019001007080078,3704.6484375,350,-223.01573181152344,16,782,10,0,-103,8016.12,null,1,1,1,0,0," "]
["2009-10-12T03:04:10",60.020999908447266,3704.79541015625,350,-223.01573181152344,16,782.5,10,0,-103,8016.45,null,1,1,1,1.9989013671875E-3,1.9989013671875E-3," "]
["2009-10-12T03:04:12",60.021999359130859,3704.16650390625,350,-223.01573181152344,16,783,10,0,-103,8016.78,null,1,1,1,9.9945068359375E-4,9.9945068359375E-4," "]
["2009-10-12T03:04:14",60.025001525878906,3702.76416015625,350,-223.01573181152344,16,783.5,10,0,-103,8017.11,null,1,1,1,3.002166748046875E-3,3.002166748046875E-3," "]
["2009-10-12T03:04:16",60.027000427246094,3702.00830078125,350,-223.01573181152344,16,784,10,0,-103,8017.4400000000005,null,1,1,1,1.9989013671875E-3,1.9989013671875E-3," "]
["2009-10-12T03:04:18",60.029998779296875,3700.360107421875,350,-223.01573181152344,16,784.5,10,0,-103,8017.77,null,1,1,1,2.99835205078125E-3,2.99835205078125E-3," "]
["2009-10-12T03:04:20",60.027000427246094,3701.06298828125,350,-223.01573181152344,16,785,10,0,-103,8018.1,null,1,1,1,-2.99835205078125E-3,2.99835205078125E-3," "]
["2009-10-12T03:04:22",60.022998809814453,3700.340087890625,350,-223.01573181152344,16,785.5,10,0,-103,8018.43,null,1,1,1,-4.001617431640625E-3,4.001617431640625E-3," "]
["2009-10-12T03:04:24",60.020999908447266,3699.369384765625,350,-223.01573181152344,16,786,10,0,-103,8018.76,null,1,1,{"$f":"IF(ROW()<$M$3,0,1)","v":1},-1.9989013671875E-3,1.9989013671875E-3," "]
["2009-10-12T03:04:26",60.022998809814453,3701.567626953125,350,-223.01573181152344,16,786.5,10,0,-103,8019.09,null,{"$f":"IF(ROW()<$M$5,0,1)","v":1},1,1,{"$f":"B1416-B1415","v":1.9989013671875E-3},1.9989013671875E-3," "]
["2009-10-12T03:04:28",60.022998809814453,3702.958740234375,350,-223.01573181152344,16,787,10,0,-103,8019.42,null,1,1,1,0,0," "]
["2009-10-12T03:04:30",60.020000457763672,3704.24951171875,350,-223.01573181152344,16,787.5,10,0,-103,8019.75,null,1,1,1,-2.99835205078125E-3,2.99835205078125E-3," "]
["2009-10-12T03:04:32",60.023998260498047,3703.62109375,350,-223.01573181152344,16,788,10,0,-103,8020.08,null,1,1,1,3.997802734375E-3,3.997802734375E-3," "]
["2009-10-12T03:04:34",60.023998260498047,3703.3740234375,350,-223.01573181152344,16,788.5,10,0,-103,8020.41,null,1,1,1,0,0," "]
["2009-10-12T03:04:36",60.021999359130859,3703.035888671875,350,-223.01573181152344,16,789,10,0,-103,8020.74,null,1,1,1,-1.9989013671875E-3,1.9989013671875E-3," "]
["2009-10-12T03:04:38",60.021999359130859,3703.9306640625,350,-223.01573181152344,16,789.5,10,0,-103,8021.07,null,1,1,1,0,0," "]
["2009-10-12T03:04:40",60.023998260498047,3704.947265625,350,-223.01573181152344,16,790,10,0,-103,8021.4,null,1,1,1,1.9989013671875E-3,1.9989013671875E-3," "]
["2009-10-12T03:04:42",60.025001525878906,3704.2080078125,350,-223.01573181152344,16,790.5,10,0,-103,8021.73,null,1,1,1,1.003265380859375E-3,1.003265380859375E-3," "]
["2009-10-12T03:04:44",60.022998809814453,3703.541259765625,350,-223.01573181152344,16,791,10,0,-103,8022.06,null,1,1,1,-2.002716064453125E-3,2.002716064453125E-3," "]
["2009-10-12T03:04:46",60.023998260498047,3703.16015625,350,-223.01573181152344,16,791.5,10,0,-103,8022.39,null,1,1,1,9.9945068359375E-4,9.9945068359375E-4," "]
["2009-10-12T03:04:48",60.020000457763672,3703.3974609375,350,-223.01573181152344,16,792,10,0,-103,8022.72,null,1,1,1,-3.997802734375E-3,3.997802734375E-3," "]
["2009-10-12T03:04:50",60.018001556396484,3704.37646484375,350,-223.01573181152344,16,792.5,10,0,-103,8023.05,null,1,1,1,-1.9989013671875E-3,1.9989013671875E-3," "]
["2009-10-12T03:04:52",60.01300048828125,3705.441162109375,350,-223.01573181152344,16,793,10,0,-103,8023.38,null,1,1,1,-5.001068115234375E-3,5.001068115234375E-3," "]
["2009-10-12T03:04:54",60.007999420166016,3706.994873046875,350,-223.01573181152344,16,793.5,10,0,-103,8023.71,null,1,1,1,-5.001068115234375E-3,5.001068115234375E-3," "]
["2009-10-12T03:04:56",60.012001037597656,3710.072021484375,350,-223.01573181152344,16,794,10,0,-103,8024.04,null,1,1,1,4.001617431640625E-3,4.001617431640625E-3," "]
["2009-10-12T03:04:58",60.016998291015625,3707.970703125,350,-223.01573181152344,16,794.5,10,0,-103,8024.37,null,1,1,1,4.99725341796875E-3,4.99725341796875E-3," "]
["2009-10-12T03:05:00",60.019001007080078,3707.76708984375,350,-223.01573181152344,16,795,10,0,-103,8024.7,null,1,1,1,2.002716064453125E-3,2.002716064453125E-3," "]
["2009-10-12T03:05:02",60.019001007080078,3707.609375,350,-223.01573181152344,16,795.5,10,0,-103,8025.03,null,1,1,1,0,0," "]
["2009-10-12T03:05:04",60.014999389648438,3708.8310546875,350,-223.01573181152344,16,796,10,0,-103,8025.36,null,1,1,1,-4.001617431640625E-3,4.001617431640625E-3," "]
["2009-10-12T03:05:06",60.015998840332031,3709.464599609375,350,-223.01573181152344,16,796.5,10,0,-103,8025.6900000000005,null,1,1,1,9.9945068359375E-4,9.9945068359375E-4," "]
["2009-10-12T03:05:08",60.014999389648438,3709.8134765625,350,-223.01573181152344,16,797,10,0,-103,8026.02,null,1,1,1,-9.9945068359375E-4,9.9945068359375E-4," "]
["2009-10-12T03:05:10",60.015998840332031,3709.81689453125,350,-223.01573181152344,16,797.5,10,0,-103,8026.35,null,1,1,1,9.9945068359375E-4,9.9945068359375E-4," "]
["2009-10-12T03:05:12",60.013999938964844,3709.990478515625,350,-223.01573181152344,16,798,10,0,-103,8026.68,null,1,1,1,-1.9989013671875E-3,1.9989013671875E-3," "]
["2009-10-12T03:05:14",60.015998840332031,3709.09375,350,-223.01573181152344,16,798.5,10,0,-103,8027.01,null,1,1,1,1.9989013671875E-3,1.9989013671875E-3," "]
["2009-10-12T03:05:16",60.018001556396484,3709.6416015625,350,-223.01573181152344,16,799,10,0,-103,8027.34,null,1,1,1,2.002716064453125E-3,2.002716064453125E-3," "]
["2009-10-12T03:05:18",60.019001007080078,3709.8115234375,350,-223.01573181152344,16,799.5,10,0,-103,8027.67,null,1,1,1,9.9945068359375E-4,9.9945068359375E-4," "]
["2009-10-12T03:05:20",60.015998840332031,3709.93310546875,350,-223.01573181152344,16,800,10,0,-103,8028,null,1,1,1,-3.002166748046875E-3,3.002166748046875E-3," "]
["2009-10-12T03:05:22",60.013999938964844,3710.6767578125,350,-223.01573181152344,16,800.5,10,0,-103,8028.33,null,1,1,1,-1.9989013671875E-3,1.9989013671875E-3," "]
["2009-10-12T03:05:24",60.013999938964844,3710.591064453125,350,-223.01573181152344,16,801,10,0,-103,8028.66,null,1,1,1,0,0," "]
["2009-10-12T03:05:26",60.018001556396484,3709.3544921875,350,-223.01573181152344,16,801.5,10,0,-103,8028.99,null,1,1,1,4.001617431640625E-3,4.001617431640625E-3," "]
["2009-10-12T03:05:28",60.021999359130859,3707.696044921875,350,-223.01573181152344,16,802,10,0,-103,8029.32,null,1,1,1,3.997802734375E-3,3.997802734375E-3," "]
["2009-10-12T03:05:30",60.022998809814453,3707.38037109375,350,-223.01573181152344,16,802.5,10,0,-103,8029.65,null,1,1,1,9.9945068359375E-4,9.9945068359375E-4," "]
["2009-10-12T03:05:32",60.023998260498047,3707.1201171875,350,-223.01573181152344,16,803,10,0,-103,8029.98,null,1,1,1,9.9945068359375E-4,9.9945068359375E-4," "]
["2009-10-12T03:05:34",60.0260009765625,3706.989990234375,350,-223.01573181152344,16,803.5,10,0,-103,8030.31,null,1,1,1,2.002716064453125E-3,2.002716064453125E-3," "]
["2009-10-12T03:05:36",60.0260009765625,3705.84814453125,350,-223.01573181152344,16,804,10,0,-103,8030.64,null,1,1,1,0,0," "]
["2009-10-12T03:05:38",60.023998260498047,3704.18505859375,350,-223.01573181152344,16,804.5,10,0,-103,8030.97,null,1,1,1,-2.002716064453125E-3,2.002716064453125E-3," "]
["2009-10-12T03:05:40",60.021999359130859,3704.40576171875,350,-223.01573181152344,16,805,10,0,-103,8031.3,null,1,1,1,-1.9989013671875E-3,1.9989013671875E-3," "]
["2009-10-12T03:05:42",60.020000457763672,3704.962646484375,350,-223.01573181152344,16,805.5,10,0,-103,8031.63,null,1,1,1,-1.9989013671875E-3,1.9989013671875E-3," "]
["2009-10-12T03:05:44",60.019001007080078,3706.5673828125,350,-223.01573181152344,16,806,10,0,-103,8031.96,null,1,1,1,-9.9945068359375E-4,9.9945068359375E-4," "]
["2009-10-12T03:05:46",60.021999359130859,3705.515869140625,350,-223.01573181152344,16,806.5,10,0,-103,8032.29,null,1,1,1,2.99835205078125E-3,2.99835205078125E-3," "]
["2009-10-12T03:05:48",60.025001525878906,3704.86865234375,350,-223.01573181152344,16,807,10,0,-103,8032.62,null,1,1,1,3.002166748046875E-3,3.002166748046875E-3," "]
["2009-10-12T03:05:50",60.027999877929687,3704.428466796875,350,-223.01573181152344,16,807.5,10,0,-103,8032.95,null,1,1,1,2.99835205078125E-3,2.99835205078125E-3," "]
["2009-10-12T03:05:52",60.029998779296875,3704.7734375,350,-223.01573181152344,16,808,10,0,-103,8033.28,null,1,{"$f":"IF((M1459=1)*(B1459>$N$2),1,0)","v":1},1,1.9989013671875E-3,{"$f":"ABS(P1459)","v":1.9989013671875E-3},{"$f":"IF(Q1459>(AVERAGE(Q1455:Q1458)+R$2),1,\" \")","v":" "}]
["2009-10-12T03:05:54",60.030998229980469,3703.53173828125,350,-223.01573181152344,16,808.5,10,0,-103,8033.61,null,1,1,1,9.9945068359375E-4,9.9945068359375E-4," "]
["2009-10-12T03:05:56",60.028999328613281,3702.685546875,350,-223.01573181152344,16,809,10,0,-103,8033.9400000000005,null,1,1,1,-1.9989013671875E-3,1.9989013671875E-3," "]
["2009-10-12T03:05:58",60.0260009765625,3702.093017578125,350,-223.01573181152344,16,809.5,10,0,-103,8034.27,null,1,1,1,-2.99835205078125E-3,2.99835205078125E-3," "]
["2009-10-12T03:06:00",60.0260009765625,3703.169189453125,350,-223.01573181152344,16,810,10,0,-103,8034.6,null,1,1,1,0,0," "]
["2009-10-12T03:06:02",60.028999328613281,3703.675537109375,350,-223.01573181152344,16,810.5,10,0,-103,8034.93,null,1,1,1,2.99835205078125E-3,2.99835205078125E-3," "]
["2009-10-12T03:06:04",60.029998779296875,3701.51953125,350,-223.01573181152344,16,811,10,0,-103,8035.26,null,1,1,1,9.9945068359375E-4,9.9945068359375E-4," "]
["2009-10-12T03:06:06",60.033000946044922,3700.106201171875,350,-223.01573181152344,16,811.5,10,0,-103,8035.59,null,1,1,1,3.002166748046875E-3,3.002166748046875E-3," "]
["2009-10-12T03:06:08",60.029998779296875,3698.2216796875,350,-223.01573181152344,16,812,10,0,-103,8035.92,null,1,1,1,-3.002166748046875E-3,3.002166748046875E-3," "]
["2009-10-12T03:06:10",60.021999359130859,3698.0087890625,350,-223.01573181152344,16,812.5,10,0,-103,8036.25,null,1,1,1,-7.999420166015625E-3,7.999420166015625E-3," "]
["2009-10-12T03:06:12",60.015998840332031,3700.27978515625,350,-223.01573181152344,16,813,10,0,-103,8036.58,null,1,1,1,-6.000518798828125E-3,6.000518798828125E-3," "]
["2009-10-12T03:06:14",60.019001007080078,3703.1923828125,350,-223.01573181152344,16,813.5,10,0,-103,8036.91,null,1,1,1,3.002166748046875E-3,3.002166748046875E-3," "]
["2009-10-12T03:06:16",60.029998779296875,3703.814697265625,350,-223.01573181152344,16,814,10,0,-103,8037.24,null,1,1,1,1.0997772216796875E-2,1.0997772216796875E-2," "]
["2009-10-12T03:06:18",60.027999877929687,3701.86328125,350,-223.01573181152344,16,814.5,10,0,-103,8037.57,null,1,1,1,-1.9989013671875E-3,1.9989013671875E-3," "]
["2009-10-12T03:06:20",60.020999908447266,3699.9560546875,350,-223.01573181152344,16,815,10,0,-103,8037.9,null,1,1,1,-6.999969482421875E-3,6.999969482421875E-3," "]
["2009-10-12T03:06:22",60.014999389648438,3700.815673828125,350,-223.01573181152344,16,815.5,10,0,-103,8038.23,null,1,1,1,-6.000518798828125E-3,6.000518798828125E-3," "]
["2009-10-12T03:06:24",60.014999389648438,3703.80224609375,350,-223.01573181152344,16,816,10,0,-103,8038.56,null,1,1,1,0,0," "]
["2009-10-12T03:06:26",60.012001037597656,3706.943359375,350,-223.01573181152344,16,816.5,10,0,-103,8038.89,null,1,1,1,-2.99835205078125E-3,2.99835205078125E-3," "]
["2009-10-12T03:06:28",60.011001586914063,3708.52734375,350,-223.01573181152344,16,817,10,0,-103,8039.22,null,1,1,1,-9.9945068359375E-4,9.9945068359375E-4," "]
["2009-10-12T03:06:30",60.013999938964844,3707.489501953125,350,-223.01573181152344,16,817.5,10,0,-103,8039.55,null,1,1,1,2.99835205078125E-3,2.99835205078125E-3," "]
["2009-10-12T03:06:32",60.01300048828125,3707.6474609375,350,-223.01573181152344,16,818,10,0,-103,8039.88,null,1,1,{"$f":"IF(ROW()<$M$3,0,1)","v":1},-9.9945068359375E-4,9.9945068359375E-4," "]
["2009-10-12T03:06:34",60.013999938964844,3706.9912109375,350,-223.01573181152344,16,818.5,10,0,-103,8040.21,null,{"$f":"IF(ROW()<$M$5,0,1)","v":1},1,1,{"$f":"B1480-B1479","v":9.9945068359375E-4},9.9945068359375E-4," "]
["2009-10-12T03:06:36",60.015998840332031,3707.494873046875,350,-223.01573181152344,16,819,10,0,-103,8040.54,null,1,1,1,1.9989013671875E-3,1.9989013671875E-3," "]
["2009-10-12T03:06:38",60.015998840332031,3705.58447265625,350,-223.01573181152344,16,819.5,10,0,-103,8040.87,null,1,1,1,0,0," "]
["2009-10-12T03:06:40",60.014999389648438,3705.39794921875,350,-223.01573181152344,16,820,10,0,-103,8041.2,null,1,1,1,-9.9945068359375E-4,9.9945068359375E-4," "]
["2009-10-12T03:06:42",60.01300048828125,3707.1201171875,350,-223.01573181152344,16,820.5,10,0,-103,8041.53,null,1,1,1,-1.9989013671875E-3,1.9989013671875E-3," "]
["2009-10-12T03:06:44",60.006999969482422,3709.14404296875,350,-223.01573181152344,16,821,10,0,-103,8041.86,null,1,1,1,-6.000518798828125E-3,6.000518798828125E-3," "]
["2009-10-12T03:06:46",59.997001647949219,3708.989501953125,350,-223.01573181152344,16,821.5,10,0,-103,8042.1900000000005,null,1,0,1,-9.998321533203125E-3,9.998321533203125E-3," "]
["2009-10-12T03:06:48",59.993999481201172,3708.291015625,350,-223.01573181152344,16,822,10,0,-103,8042.52,null,1,0,1,-3.002166748046875E-3,3.002166748046875E-3," "]
["2009-10-12T03:06:50",59.993000030517578,3706.192626953125,350,-223.01573181152344,16,822.5,10,0,-103,8042.85,null,1,0,1,-9.9945068359375E-4,9.9945068359375E-4," "]
["2009-10-12T03:06:52",59.990001678466797,3707.3037109375,350,-223.01573181152344,16,823,10,0,-103,8043.18,null,1,0,1,-2.99835205078125E-3,2.99835205078125E-3," "]
["2009-10-12T03:06:54",59.993000030517578,3707.9033203125,350,-223.01573181152344,16,823.5,10,0,-103,8043.51,null,1,0,1,2.99835205078125E-3,2.99835205078125E-3," "]
["2009-10-12T03:06:56",59.993999481201172,3706.76025390625,350,-223.01573181152344,16,824,10,0,-103,8043.84,null,1,0,1,9.9945068359375E-4,9.9945068359375E-4," "]
["2009-10-12T03:06:58",59.993000030517578,3706.921142578125,350,-223.01573181152344,16,824.5,10,0,-103,8044.17,null,1,0,1,-9.9945068359375E-4,9.9945068359375E-4," "]
["2009-10-12T03:07:00",59.993999481201172,3706.68310546875,350,-223.01573181152344,16,825,10,0,-103,8044.5,null,1,0,1,9.9945068359375E-4,9.9945068359375E-4," "]
["2009-10-12T03:07:02",59.993000030517578,3706.887939453125,350,-223.01573181152344,16,825.5,10,0,-103,8044.83,null,1,0,1,-9.9945068359375E-4,9.9945068359375E-4," "]
["2009-10-12T03:07:04",59.995998382568359,3704.93359375,350,-223.01573181152344,16,826,10,0,-103,8045.16,null,1,0,1,2.99835205078125E-3,2.99835205078125E-3," "]
["2009-10-12T03:07:06",59.987998962402344,3705.677734375,350,-223.01573181152344,16,826.5,10,0,-103,8045.49,null,1,0,1,-7.999420166015625E-3,7.999420166015625E-3," "]
["2009-10-12T03:07:08",59.985000610351563,3706.48095703125,350,-223.01573181152344,16,827,10,0,-103,8045.82,null,1,0,1,-2.99835205078125E-3,2.99835205078125E-3," "]
["2009-10-12T03:07:10",59.983001708984375,3707.0712890625,350,-223.01573181152344,16,827.5,10,0,-103,8046.15,null,1,0,1,-1.9989013671875E-3,1.9989013671875E-3," "]
["2009-10-12T03:07:12",59.981998443603516,3706.6962890625,350,-223.01573181152344,16,828,10,0,-103,8046.48,null,1,0,1,-1.003265380859375E-3,1.003265380859375E-3," "]
["2009-10-12T03:07:14",59.979999542236328,3707.478515625,350,-223.01573181152344,16,828.5,10,0,-103,8046.81,null,1,0,1,-1.9989013671875E-3,1.9989013671875E-3," "]
["2009-10-12T03:07:16",59.977001190185547,3708.245849609375,350,-223.01573181152344,16,829,10,0,-103,8047.14,null,1,0,1,-2.99835205078125E-3,2.99835205078125E-3," "]
["2009-10-12T03:07:18",59.980998992919922,3709.435791015625,350,-223.01573181152344,16,829.5,10,0,-103,8047.47,null,1,0,1,3.997802734375E-3,3.997802734375E-3," "]
["2009-10-12T03:07:20",59.981998443603516,3710.41943359375,350,-223.01573181152344,16,830,10,0,-103,8047.8,null,1,0,1,9.9945068359375E-4,9.9945068359375E-4," "]
["2009-10-12T03:07:22",59.978000640869141,3710.1337890625,350,-223.01573181152344,16,830.5,10,0,-103,8048.13,null,1,0,1,-3.997802734375E-3,3.997802734375E-3," "]
["2009-10-12T03:07:24",59.979999542236328,3708.707763671875,350,-223.01573181152344,16,831,10,0,-103,8048.46,null,1,0,1,1.9989013671875E-3,1.9989013671875E-3," "]
["2009-10-12T03:07:26",59.979999542236328,3710.02392578125,350,-223.01573181152344,16,831.5,10,0,-103,8048.79,null,1,0,1,0,0," "]
["2009-10-12T03:07:28",59.977001190185547,3709.19189453125,350,-223.01573181152344,16,832,10,0,-103,8049.12,null,1,0,1,-2.99835205078125E-3,2.99835205078125E-3," "]
["2009-10-12T03:07:30",59.979999542236328,3708.33544921875,350,-223.01573181152344,16,832.5,10,0,-103,8049.45,null,1,0,1,2.99835205078125E-3,2.99835205078125E-3," "]
["2009-10-12T03:07:32",59.983001708984375,3709.3994140625,350,-223.01573181152344,16,833,10,0,-103,8049.78,null,1,0,1,3.002166748046875E-3,3.002166748046875E-3," "]
["2009-10-12T03:07:34",59.984001159667969,3707.911376953125,350,-223.01573181152344,16,833.5,10,0,-103,8050.11,null,1,0,1,9.9945068359375E-4,9.9945068359375E-4," "]
["2009-10-12T03:07:36",59.980998992919922,3709.00390625,350,-223.01573181152344,16,834,10,0,-103,8050.4400000000005,null,1,0,1,-3.002166748046875E-3,3.002166748046875E-3," "]
["2009-10-12T03:07:38",59.980998992919922,3707.63818359375,350,-223.01573181152344,16,834.5,10,0,-103,8050.77,null,1,0,1,0,0," "]
["2009-10-12T03:07:40",59.979999542236328,3709.68896484375,350,-223.01573181152344,16,835,10,0,-103,8051.1,null,1,0,1,-9.9945068359375E-4,9.9945068359375E-4," "]
["2009-10-12T03:07:42",59.980998992919922,3708.9453125,350,-223.01573181152344,16,835.5,10,0,-103,8051.43,null,1,0,1,9.9945068359375E-4,9.9945068359375E-4," "]
["2009-10-12T03:07:44",59.980998992919922,3706.541015625,350,-223.01573181152344,16,836,10,0,-103,8051.76,null,1,0,1,0,0," "]
["2009-10-12T03:07:46",59.980998992919922,3711.25634765625,350,-223.01573181152344,16,836.5,10,0,-103,8052.09,null,1,0,1,0,0," "]
["2009-10-12T03:07:48",59.979999542236328,3711.362060546875,350,-223.01573181152344,16,837,10,0,-103,8052.42,null,1,0,1,-9.9945068359375E-4,9.9945068359375E-4," "]
["2009-10-12T03:07:50",59.978000640869141,3712.30322265625,350,-223.01573181152344,16,837.5,10,0,-103,8052.75,null,1,0,1,-1.9989013671875E-3,1.9989013671875E-3," "]
["2009-10-12T03:07:52",59.978000640869141,3712.01220703125,350,-223.01573181152344,16,838,10,0,-103,8053.08,null,1,0,1,0,0," "]
["2009-10-12T03:07:54",59.979000091552734,3711.703369140625,350,-223.01573181152344,16,838.5,10,0,-103,8053.41,null,1,0,1,9.9945068359375E-4,9.9945068359375E-4," "]
["2009-10-12T03:07:56",59.978000640869141,3712.0927734375,350,-223.01573181152344,16,839,10,0,-103,8053.74,null,1,0,1,-9.9945068359375E-4,9.9945068359375E-4," "]
["2009-10-12T03:07:58",59.976001739501953,3713.99169921875,350,-223.01573181152344,16,null,null,null,-103,8054.07,null,1,0,1,-1.9989013671875E-3,1.9989013671875E-3," "]
["2009-10-12T03:08:00",59.976001739501953,3714.612060546875,350,-223.01573181152344,16,null,null,null,-103,8054.4,null,1,{"$f":"IF((M1523=1)*(B1523>$N$2),1,0)","v":0},1,0,{"$f":"ABS(P1523)","v":0},{"$f":"IF(Q1523>(AVERAGE(Q1519:Q1522)+R$2),1,\" \")","v":" "}]
["2009-10-12T03:08:02",59.974998474121094,3715.08349609375,350,-223.01573181152344,16,null,null,null,-103,8054.73,null,1,0,1,-1.003265380859375E-3,1.003265380859375E-3," "]
["2009-10-12T03:08:04",59.976001739501953,3715.32275390625,350,-223.01573181152344,16,null,null,null,-103,8055.06,null,1,0,1,1.003265380859375E-3,1.003265380859375E-3," "]
["2009-10-12T03:08:06",59.974998474121094,3714.7939453125,350,-223.01573181152344,16,null,null,null,-103,8055.39,null,1,0,1,-1.003265380859375E-3,1.003265380859375E-3," "]
["2009-10-12T03:08:08",59.979000091552734,3714.71728515625,350,-223.01573181152344,16,null,null,null,-103,8055.72,null,1,0,1,4.001617431640625E-3,4.001617431640625E-3," "]
["2009-10-12T03:08:10",59.978000640869141,3715.161376953125,350,-223.01573181152344,16,null,null,null,-103,8056.05,null,1,0,1,-9.9945068359375E-4,9.9945068359375E-4," "]
["2009-10-12T03:08:12",59.974998474121094,3715.001220703125,350,-223.01573181152344,16,null,null,null,-103,8056.38,null,1,0,1,-3.002166748046875E-3,3.002166748046875E-3," "]
["2009-10-12T03:08:14",59.976001739501953,3713.996337890625,350,-223.01573181152344,16,null,null,null,-103,8056.71,null,1,0,1,1.003265380859375E-3,1.003265380859375E-3," "]
["2009-10-12T03:08:16",59.980998992919922,3714.062744140625,350,-223.01573181152344,16,null,null,null,-103,8057.04,null,1,0,1,4.99725341796875E-3,4.99725341796875E-3," "]
["2009-10-12T03:08:18",59.977001190185547,3714.334716796875,350,-223.01573181152344,16,null,null,null,-103,8057.37,null,1,0,1,-3.997802734375E-3,3.997802734375E-3," "]
["2009-10-12T03:08:20",59.974998474121094,3715.631103515625,350,-223.01573181152344,16,null,null,null,-103,8057.7,null,1,0,1,-2.002716064453125E-3,2.002716064453125E-3," "]
["2009-10-12T03:08:22",59.976001739501953,3715.6884765625,350,-223.01573181152344,16,null,null,null,-103,8058.03,null,1,0,1,1.003265380859375E-3,1.003265380859375E-3," "]
["2009-10-12T03:08:24",59.979000091552734,3715.5673828125,350,-223.01573181152344,16,null,null,null,-103,8058.36,null,1,0,1,2.99835205078125E-3,2.99835205078125E-3," "]
["2009-10-12T03:08:26",59.979999542236328,3715.724609375,350,-223.01573181152344,16,null,null,null,-103,8058.6900000000005,null,1,0,1,9.9945068359375E-4,9.9945068359375E-4," "]
["2009-10-12T03:08:28",59.979000091552734,3714.84814453125,350,-223.01573181152344,16,null,null,null,-103,8059.02,null,1,0,1,-9.9945068359375E-4,9.9945068359375E-4," "]
["2009-10-12T03:08:30",59.978000640869141,3713.1416015625,350,-223.01573181152344,16,null,null,null,-103,8059.35,null,1,0,1,-9.9945068359375E-4,9.9945068359375E-4," "]
["2009-10-12T03:08:32",59.979000091552734,3713.3583984375,350,-223.01573181152344,16,null,null,null,-103,8059.68,null,1,0,1,9.9945068359375E-4,9.9945068359375E-4," "]
["2009-10-12T03:08:34",59.981998443603516,3712.274658203125,350,-223.01573181152344,16,null,null,null,-103,8060.01,null,1,0,1,2.99835205078125E-3,2.99835205078125E-3," "]
["2009-10-12T03:08:36",59.983001708984375,3712.619384765625,350,-223.01573181152344,16,null,null,null,-103,8060.34,null,1,0,1,1.003265380859375E-3,1.003265380859375E-3," "]
["2009-10-12T03:08:38",59.98699951171875,3712.152587890625,350,-223.01573181152344,16,null,null,null,-103,8060.67,null,1,0,1,3.997802734375E-3,3.997802734375E-3," "]
["2009-10-12T03:08:40",59.987998962402344,3710.05029296875,350,-223.01573181152344,16,null,null,null,-103,8061,null,1,0,{"$f":"IF(ROW()<$M$3,0,1)","v":1},9.9945068359375E-4,9.9945068359375E-4," "]
["2009-10-12T03:08:42",59.984001159667969,3709.08154296875,350,-223.01573181152344,16,null,null,null,-103,8061.33,null,{"$f":"IF(ROW()<$M$5,0,1)","v":1},0,1,{"$f":"B1544-B1543","v":-3.997802734375E-3},3.997802734375E-3," "]
["2009-10-12T03:08:44",59.979999542236328,3710.471923828125,350,-223.01573181152344,16,null,null,null,-103,8061.66,null,1,0,1,-4.001617431640625E-3,4.001617431640625E-3," "]
["2009-10-12T03:08:46",59.979000091552734,3710.62353515625,350,-223.01573181152344,16,null,null,null,-103,8061.99,null,1,0,1,-9.9945068359375E-4,9.9945068359375E-4," "]
["2009-10-12T03:08:48",59.979999542236328,3710.9462890625,350,-223.01573181152344,16,null,null,null,-103,8062.32,null,1,0,1,9.9945068359375E-4,9.9945068359375E-4," "]
["2009-10-12T03:08:50",59.979000091552734,3710.19970703125,350,-223.01573181152344,16,null,null,null,-103,8062.65,null,1,0,1,-9.9945068359375E-4,9.9945068359375E-4," "]
["2009-10-12T03:08:52",59.978000640869141,3710.474609375,350,-223.01573181152344,16,null,null,null,-103,8062.98,null,1,0,1,-9.9945068359375E-4,9.9945068359375E-4," "]
["2009-10-12T03:08:54",59.974998474121094,3709.462158203125,350,-223.01573181152344,16,null,null,null,-103,8063.31,null,1,0,1,-3.002166748046875E-3,3.002166748046875E-3," "]
["2009-10-12T03:08:56",59.979000091552734,3710.802978515625,350,-223.01573181152344,16,null,null,null,-103,8063.64,null,1,0,1,4.001617431640625E-3,4.001617431640625E-3," "]
["2009-10-12T03:08:58",59.981998443603516,3709.285888671875,350,-223.01573181152344,16,null,null,null,-103,8063.97,null,1,0,1,2.99835205078125E-3,2.99835205078125E-3," "]
["2009-10-12T03:09:00",59.983001708984375,3710.572998046875,350,-223.01573181152344,16,null,null,null,-103,8064.3,null,1,0,1,1.003265380859375E-3,1.003265380859375E-3," "]
["2009-10-12T03:09:02",59.983001708984375,3709.525146484375,350,-223.01573181152344,16,null,null,null,-103,8064.63,null,1,0,1,0,0," "]
["2009-10-12T03:09:04",59.985000610351563,3708.37109375,350,-223.01573181152344,16,null,null,null,-103,8064.96,null,1,0,1,1.9989013671875E-3,1.9989013671875E-3," "]
["2009-10-12T03:09:06",59.990001678466797,3708.52734375,350,-223.01573181152344,16,null,null,null,-103,8065.29,null,1,0,1,5.001068115234375E-3,5.001068115234375E-3," "]
["2009-10-12T03:09:08",59.98699951171875,3706.511962890625,350,-223.01573181152344,16,null,null,null,-103,8065.62,null,1,0,1,-3.002166748046875E-3,3.002166748046875E-3," "]
["2009-10-12T03:09:10",59.984001159667969,3707.490478515625,350,-223.01573181152344,16,null,null,null,-103,8065.95,null,1,0,1,-2.99835205078125E-3,2.99835205078125E-3," "]
["2009-10-12T03:09:12",59.976001739501953,3708.96240234375,350,-223.01573181152344,16,null,null,null,-103,8066.28,null,1,0,1,-7.999420166015625E-3,7.999420166015625E-3," "]
["2009-10-12T03:09:14",59.979000091552734,3709.89404296875,350,-223.01573181152344,16,null,null,null,-103,8066.61,null,1,0,1,2.99835205078125E-3,2.99835205078125E-3," "]
["2009-10-12T03:09:16",59.985000610351563,3712.303466796875,350,-223.01573181152344,16,null,null,null,-103,8066.9400000000005,null,1,0,1,6.000518798828125E-3,6.000518798828125E-3," "]
["2009-10-12T03:09:18",59.983001708984375,3711.35009765625,350,-223.01573181152344,16,null,null,null,-103,8067.27,null,1,0,1,-1.9989013671875E-3,1.9989013671875E-3," "]
["2009-10-12T03:09:20",59.979000091552734,3711.627197265625,350,-223.01573181152344,16,null,null,null,-103,8067.6,null,1,0,1,-4.001617431640625E-3,4.001617431640625E-3," "]
["2009-10-12T03:09:22",59.980998992919922,3712.076171875,350,-223.01573181152344,16,null,null,null,-103,8067.93,null,1,0,1,1.9989013671875E-3,1.9989013671875E-3," "]
["2009-10-12T03:09:24",59.978000640869141,3712.392578125,350,-223.01573181152344,16,null,null,null,-103,8068.26,null,1,0,1,-2.99835205078125E-3,2.99835205078125E-3," "]
["2009-10-12T03:09:26",59.974998474121094,3712.99853515625,350,-223.01573181152344,16,null,null,null,-103,8068.59,null,1,0,1,-3.002166748046875E-3,3.002166748046875E-3," "]
["2009-10-12T03:09:28",59.978000640869141,3713.51025390625,350,-223.01573181152344,16,null,null,null,-103,8068.92,null,1,0,1,3.002166748046875E-3,3.002166748046875E-3," "]
["2009-10-12T03:09:30",59.988998413085937,3716.625732421875,350,-223.01573181152344,16,null,null,null,-103,8069.25,null,1,0,1,1.0997772216796875E-2,1.0997772216796875E-2," "]
["2009-10-12T03:09:32",59.999000549316406,3715.44287109375,350,-223.01573181152344,16,null,null,null,-103,8069.58,null,1,0,1,1.000213623046875E-2,1.000213623046875E-2," "]
["2009-10-12T03:09:34",59.993999481201172,3712.091796875,350,-223.01573181152344,16,null,null,null,-103,8069.91,null,1,0,1,-5.001068115234375E-3,5.001068115234375E-3," "]
["2009-10-12T03:09:36",59.988998413085937,3713.906005859375,350,-223.01573181152344,16,null,null,null,-103,8070.24,null,1,0,1,-5.001068115234375E-3,5.001068115234375E-3," "]
["2009-10-12T03:09:38",59.986000061035156,3714.8935546875,350,-223.01573181152344,16,null,null,null,-103,8070.57,null,1,0,1,-2.99835205078125E-3,2.99835205078125E-3," "]
["2009-10-12T03:09:40",59.984001159667969,3714.953125,350,-223.01573181152344,16,null,null,null,-103,8070.9,null,1,0,1,-1.9989013671875E-3,1.9989013671875E-3," "]
["2009-10-12T03:09:42",59.983001708984375,3716.12158203125,350,-223.01573181152344,16,null,null,null,-103,8071.23,null,1,0,1,-9.9945068359375E-4,9.9945068359375E-4," "]
["2009-10-12T03:09:44",59.981998443603516,3716.308349609375,350,-223.01573181152344,16,null,null,null,-103,8071.56,null,1,0,1,-1.003265380859375E-3,1.003265380859375E-3," "]
["2009-10-12T03:09:46",59.979999542236328,3715.4384765625,350,-223.01573181152344,16,null,null,null,-103,8071.89,null,1,0,1,-1.9989013671875E-3,1.9989013671875E-3," "]
["2009-10-12T03:09:48",59.990001678466797,3714.763671875,350,-223.01573181152344,16,null,null,null,-103,8072.22,null,1,0,1,1.000213623046875E-2,1.000213623046875E-2," "]
["2009-10-12T03:09:50",59.994998931884766,3714.714111328125,350,-223.01573181152344,16,null,null,null,-103,8072.55,null,1,0,1,4.99725341796875E-3,4.99725341796875E-3," "]
["2009-10-12T03:09:52",59.994998931884766,3715.067626953125,350,-223.01573181152344,16,null,null,null,-103,8072.88,null,1,0,1,0,0," "]
["2009-10-12T03:09:54",59.990001678466797,3715.9267578125,350,-223.01573181152344,16,null,null,null,-103,8073.21,null,1,0,1,-4.99725341796875E-3,4.99725341796875E-3," "]
["2009-10-12T03:09:56",59.988998413085937,3715.791259765625,350,-223.01573181152344,16,null,null,null,-103,8073.54,null,1,0,1,-1.003265380859375E-3,1.003265380859375E-3," "]
["2009-10-12T03:09:58",59.991001129150391,3716.28466796875,350,-223.01573181152344,16,null,null,null,-103,8073.87,null,1,0,1,2.002716064453125E-3,2.002716064453125E-3," "]
["2009-10-12T03:10:00",59.995998382568359,3715.324462890625,350,-223.01573181152344,16,null,null,null,-103,8074.2,null,1,0,1,4.99725341796875E-3,4.99725341796875E-3," "]
["2009-10-12T03:10:02",60,3714.46044921875,350,-223.01573181152344,16,null,null,null,-103,8074.53,null,1,0,1,4.001617431640625E-3,4.001617431640625E-3," "]
["2009-10-12T03:10:04",60.001998901367188,3711.70849609375,350,-223.01573181152344,16,null,null,null,-103,8074.86,null,1,1,1,1.9989013671875E-3,1.9989013671875E-3," "]
["2009-10-12T03:10:06",60.004001617431641,3712.697509765625,350,-223.01573181152344,16,null,null,null,-103,8075.1900000000005,null,1,1,1,2.002716064453125E-3,2.002716064453125E-3," "]
["2009-10-12T03:10:08",60.004001617431641,3712.8505859375,350,-223.01573181152344,16,null,null,null,-103,8075.52,null,1,{"$f":"IF((M1587=1)*(B1587>$N$2),1,0)","v":1},1,0,{"$f":"ABS(P1587)","v":0},{"$f":"IF(Q1587>(AVERAGE(Q1583:Q1586)+R$2),1,\" \")","v":" "}]
["2009-10-12T03:10:10",60.001998901367188,3713.361572265625,350,-223.01573181152344,16,null,null,null,-103,8075.85,null,1,1,1,-2.002716064453125E-3,2.002716064453125E-3," "]
["2009-10-12T03:10:12",59.999000549316406,3716.641357421875,350,-223.01573181152344,16,null,null,null,-103,8076.18,null,1,0,1,-2.99835205078125E-3,2.99835205078125E-3," "]
["2009-10-12T03:10:14",59.998001098632813,3718.29248046875,350,-223.01573181152344,16,null,null,null,-103,8076.51,null,1,0,1,-9.9945068359375E-4,9.9945068359375E-4," "]
["2009-10-12T03:10:16",59.994998931884766,3719.0791015625,350,-223.01573181152344,16,null,null,null,-103,8076.84,null,1,0,1,-3.002166748046875E-3,3.002166748046875E-3," "]
["2009-10-12T03:10:18",59.995998382568359,3718.2333984375,350,-223.01573181152344,16,null,null,null,-103,8077.17,null,1,0,1,9.9945068359375E-4,9.9945068359375E-4," "]
["2009-10-12T03:10:20",60.000999450683594,3717.815185546875,350,-223.01573181152344,16,null,null,null,-103,8077.5,null,1,1,1,5.001068115234375E-3,5.001068115234375E-3," "]
["2009-10-12T03:10:22",60.001998901367188,3717.888671875,350,-223.01573181152344,16,null,null,null,-103,8077.83,null,1,1,1,9.9945068359375E-4,9.9945068359375E-4," "]
["2009-10-12T03:10:24",60.000999450683594,3718.560302734375,350,-223.01573181152344,16,null,null,null,-103,8078.16,null,1,1,1,-9.9945068359375E-4,9.9945068359375E-4," "]
["2009-10-12T03:10:26",60.002998352050781,3718.1953125,350,-223.01573181152344,16,null,null,null,-103,8078.49,null,1,1,1,1.9989013671875E-3,1.9989013671875E-3," "]
["2009-10-12T03:10:28",60.005001068115234,3719.021240234375,350,-223.01573181152344,16,null,null,null,-103,8078.82,null,1,1,1,2.002716064453125E-3,2.002716064453125E-3," "]
["2009-10-12T03:10:30",60.004001617431641,3718.8212890625,350,-223.01573181152344,16,null,null,null,-103,8079.15,null,1,1,1,-9.9945068359375E-4,9.9945068359375E-4," "]
["2009-10-12T03:10:32",60.004001617431641,3719.8974609375,350,-223.01573181152344,16,null,null,null,-103,8079.48,null,1,1,1,0,0," "]
["2009-10-12T03:10:34",60.004001617431641,3719.29931640625,350,-223.01573181152344,16,null,null,null,-103,8079.81,null,1,1,1,0,0," "]
["2009-10-12T03:10:36",60.006000518798828,3719.642822265625,350,-223.01573181152344,16,null,null,null,-103,8080.14,null,1,1,1,1.9989013671875E-3,1.9989013671875E-3," "]
["2009-10-12T03:10:38",60.002998352050781,3719.52734375,350,-223.01573181152344,16,null,null,null,-103,8080.47,null,1,1,1,-3.002166748046875E-3,3.002166748046875E-3," "]
["2009-10-12T03:10:40",60.005001068115234,3719.73095703125,350,-223.01573181152344,16,null,null,null,-103,8080.8,null,1,1,1,2.002716064453125E-3,2.002716064453125E-3," "]
["2009-10-12T03:10:42",60.006000518798828,3720.278564453125,350,-223.01573181152344,16,null,null,null,-103,8081.13,null,1,1,1,9.9945068359375E-4,9.9945068359375E-4," "]
["2009-10-12T03:10:44",60.008998870849609,3718.57958984375,350,-223.01573181152344,16,null,null,null,-103,8081.46,null,1,1,1,2.99835205078125E-3,2.99835205078125E-3," "]
["2009-10-12T03:10:46",60.008998870849609,3718.97607421875,350,-223.01573181152344,16,null,null,null,-103,8081.79,null,1,1,1,0,0," "]
["2009-10-12T03:10:48",60.009998321533203,3718.982177734375,350,-223.01573181152344,16,null,null,null,-103,8082.12,null,1,1,{"$f":"IF(ROW()<$M$3,0,1)","v":1},9.9945068359375E-4,9.9945068359375E-4," "]
["2009-10-12T03:10:50",60.008998870849609,3720.03369140625,350,-223.01573181152344,16,null,null,null,-103,8082.45,null,{"$f":"IF(ROW()<$M$5,0,1)","v":1},1,1,{"$f":"B1608-B1607","v":-9.9945068359375E-4},9.9945068359375E-4," "]
["2009-10-12T03:10:52",60.01300048828125,3720.60888671875,350,-223.01573181152344,16,null,null,null,-103,8082.78,null,1,1,1,4.001617431640625E-3,4.001617431640625E-3," "]
["2009-10-12T03:10:54",60.014999389648438,3720.810546875,350,-223.01573181152344,16,null,null,null,-103,8083.11,null,1,1,1,1.9989013671875E-3,1.9989013671875E-3," "]
["2009-10-12T03:10:56",60.013999938964844,3721.23876953125,350,-223.01573181152344,16,null,null,null,-103,8083.4400000000005,null,1,1,1,-9.9945068359375E-4,9.9945068359375E-4," "]
["2009-10-12T03:10:58",60.008998870849609,3720.38037109375,350,-223.01573181152344,16,null,null,null,-103,8083.77,null,1,1,1,-5.001068115234375E-3,5.001068115234375E-3," "]
["2009-10-12T03:11:00",60.008998870849609,3719.447265625,350,-223.01573181152344,16,null,null,null,-103,8084.1,null,1,1,1,0,0," "]
["2009-10-12T03:11:02",60.007999420166016,3720.80712890625,350,-223.01573181152344,16,null,null,null,-103,8084.43,null,1,1,1,-9.9945068359375E-4,9.9945068359375E-4," "]
["2009-10-12T03:11:04",60.011001586914063,3721.272216796875,350,-223.01573181152344,16,null,null,null,-103,8084.76,null,1,1,1,3.002166748046875E-3,3.002166748046875E-3," "]
["2009-10-12T03:11:06",60.009998321533203,3720.591552734375,350,-223.01573181152344,16,null,null,null,-103,8085.09,null,1,1,1,-1.003265380859375E-3,1.003265380859375E-3," "]
["2009-10-12T03:11:08",60.008998870849609,3721.24462890625,350,-223.01573181152344,16,null,null,null,-103,8085.42,null,1,1,1,-9.9945068359375E-4,9.9945068359375E-4," "]
["2009-10-12T03:11:10",60.01300048828125,3721.59375,350,-223.01573181152344,16,null,null,null,-103,8085.75,null,1,1,1,4.001617431640625E-3,4.001617431640625E-3," "]
["2009-10-12T03:11:12",60.01300048828125,3722.17626953125,350,-223.01573181152344,16,null,null,null,-103,8086.08,null,1,1,1,0,0," "]
["2009-10-12T03:11:14",60.013999938964844,3721.9990234375,350,-223.01573181152344,16,null,null,null,-103,8086.41,null,1,1,1,9.9945068359375E-4,9.9945068359375E-4," "]
["2009-10-12T03:11:16",60.013999938964844,3721.64599609375,350,-223.01573181152344,16,null,null,null,-103,8086.74,null,1,1,1,0,0," "]
["2009-10-12T03:11:18",60.012001037597656,3721.677734375,350,-223.01573181152344,16,null,null,null,-103,8087.07,null,1,1,1,-1.9989013671875E-3,1.9989013671875E-3," "]
["2009-10-12T03:11:20",60.009998321533203,3720.859619140625,350,-223.01573181152344,16,null,null,null,-103,8087.4,null,1,1,1,-2.002716064453125E-3,2.002716064453125E-3," "]
["2009-10-12T03:11:22",60.011001586914063,3721.645263671875,350,-223.01573181152344,16,null,null,null,-103,8087.73,null,1,1,1,1.003265380859375E-3,1.003265380859375E-3," "]
["2009-10-12T03:11:24",60.006999969482422,3723.815673828125,350,-223.01573181152344,16,null,null,null,-103,8088.06,null,1,1,1,-4.001617431640625E-3,4.001617431640625E-3," "]
["2009-10-12T03:11:26",60.002998352050781,3725.0703125,350,-223.01573181152344,16,null,null,null,-103,8088.39,null,1,1,1,-4.001617431640625E-3,4.001617431640625E-3," "]
["2009-10-12T03:11:28",60.000999450683594,3724.656005859375,350,-223.01573181152344,16,null,null,null,-103,8088.72,null,1,1,1,-1.9989013671875E-3,1.9989013671875E-3," "]
["2009-10-12T03:11:30",60,3724.869384765625,350,-223.01573181152344,16,null,null,null,-103,8089.05,null,1,0,1,-9.9945068359375E-4,9.9945068359375E-4," "]
["2009-10-12T03:11:32",59.998001098632813,3724.66064453125,350,-223.01573181152344,16,null,null,null,-103,8089.38,null,1,0,1,-1.9989013671875E-3,1.9989013671875E-3," "]
["2009-10-12T03:11:34",59.998001098632813,3723.696044921875,350,-223.01573181152344,16,null,null,null,-103,8089.71,null,1,0,1,0,0," "]
["2009-10-12T03:11:36",59.999000549316406,3723.580078125,350,-223.01573181152344,16,null,null,null,-103,8090.04,null,1,0,1,9.9945068359375E-4,9.9945068359375E-4," "]
["2009-10-12T03:11:38",60.001998901367188,3723.4052734375,350,-223.01573181152344,16,null,null,null,-103,8090.37,null,1,1,1,2.99835205078125E-3,2.99835205078125E-3," "]
["2009-10-12T03:11:40",60.002998352050781,3721.87890625,350,-223.01573181152344,16,null,null,null,-103,8090.7,null,1,1,1,9.9945068359375E-4,9.9945068359375E-4," "]
["2009-10-12T03:11:42",60.002998352050781,3722.4013671875,350,-223.01573181152344,16,null,null,null,-103,8091.03,null,1,1,1,0,0," "]
["2009-10-12T03:11:44",59.999000549316406,3722.906494140625,350,-223.01573181152344,16,null,null,null,-103,8091.36,null,1,0,1,-3.997802734375E-3,3.997802734375E-3," "]
["2009-10-12T03:11:46",59.998001098632813,3724.14208984375,350,-223.01573181152344,16,null,null,null,-103,8091.6900000000005,null,1,0,1,-9.9945068359375E-4,9.9945068359375E-4," "]
["2009-10-12T03:11:48",60.000999450683594,3723.650390625,350,-223.01573181152344,16,null,null,null,-103,8092.02,null,1,1,1,2.99835205078125E-3,2.99835205078125E-3," "]
["2009-10-12T03:11:50",59.994998931884766,3723.201171875,350,-223.01573181152344,16,null,null,null,-103,8092.35,null,1,0,1,-6.000518798828125E-3,6.000518798828125E-3," "]
["2009-10-12T03:11:52",59.988998413085937,3723.638916015625,350,-223.01573181152344,16,null,null,null,-103,8092.68,null,1,0,1,-6.000518798828125E-3,6.000518798828125E-3," "]
["2009-10-12T03:11:54",59.98699951171875,3723.88134765625,350,-223.01573181152344,16,null,null,null,-103,8093.01,null,1,0,1,-1.9989013671875E-3,1.9989013671875E-3," "]
["2009-10-12T03:11:56",59.987998962402344,3724.654296875,350,-223.01573181152344,16,null,null,null,-103,8093.34,null,1,0,1,9.9945068359375E-4,9.9945068359375E-4," "]
["2009-10-12T03:11:58",59.987998962402344,3725.36083984375,350,-223.01573181152344,16,null,null,null,-103,8093.67,null,1,0,1,0,0," "]
["2009-10-12T03:11:59.996",59.990001678466797,3724.94384765625,350,-223.01573181152344,16,null,null,null,-103,8094,null,1,0,1,2.002716064453125E-3,2.002716064453125E-3," "]
["2009-10-12T03:12:01.992",59.999000549316406,3724.94384765625,350,-223.01573181152344,16,null,null,null,-103,8094,null,1,0,1,8.998870849609375E-3,8.998870849609375E-3," "]
["2009-10-12T03:12:03.988",60.000999450683594,3724.94384765625,350,-223.01573181152344,16,null,null,null,-103,8094,null,1,1,1,1.9989013671875E-3,1.9989013671875E-3," "]
["2009-10-12T03:12:05.983",60.002998352050781,3724.94384765625,350,-223.01573181152344,16,null,null,null,-103,8094,null,1,1,1,1.9989013671875E-3,1.9989013671875E-3," "]
["2009-10-12T03:12:07.979",60.000499725341797,3724.94384765625,350,-223.01573181152344,16,null,null,null,-103,8094,null,1,1,1,-2.498626708984375E-3,2.498626708984375E-3," "]
["2009-10-12T03:12:09.975",59.998001098632813,3724.94384765625,350,-223.01573181152344,16,null,null,null,-103,8094,null,1,0,1,-2.498626708984375E-3,2.498626708984375E-3," "]
["2009-10-12T03:12:11.971",59.997001647949219,3724.94384765625,350,-223.01573181152344,16,null,null,null,-103,8094,null,1,0,1,-9.9945068359375E-4,9.9945068359375E-4," "]
["2009-10-12T03:12:13.967",59.995998382568359,3724.94384765625,350,-223.01573181152344,16,null,null,null,-103,8094,null,1,0,1,-1.003265380859375E-3,1.003265380859375E-3," "]
["2009-10-12T03:12:15.963",59.995998382568359,3724.94384765625,350,-223.01573181152344,16,null,null,null,-103,8094,null,1,{"$f":"IF((M1651=1)*(B1651>$N$2),1,0)","v":0},1,0,{"$f":"ABS(P1651)","v":0},{"$f":"IF(Q1651>(AVERAGE(Q1647:Q1650)+R$2),1,\" \")","v":" "}]
["2009-10-12T03:12:17.958",59.995998382568359,3724.94384765625,350,-223.01573181152344,16,null,null,null,-103,8094,null,1,0,1,0,0," "]
["2009-10-12T03:12:19.954",59.994998931884766,3724.94384765625,350,-223.01573181152344,16,null,null,null,-103,8094,null,1,0,1,-9.9945068359375E-4,9.9945068359375E-4," "]
["2009-10-12T03:12:21.950",59.993999481201172,3724.94384765625,350,-223.01573181152344,16,null,null,null,-103,8094,null,1,0,1,-9.9945068359375E-4,9.9945068359375E-4," "]
["2009-10-12T03:12:23.946",59.993000030517578,3724.94384765625,350,-223.01573181152344,16,null,null,null,-103,8094,null,1,0,1,-9.9945068359375E-4,9.9945068359375E-4," "]
["2009-10-12T03:12:25.942",59.992000579833984,3724.94384765625,350,-223.01573181152344,16,null,null,null,-103,8094,null,1,0,1,-9.9945068359375E-4,9.9945068359375E-4," "]
["2009-10-12T03:12:27.938",59.991001129150391,3724.94384765625,350,-223.01573181152344,16,null,null,null,-103,8094,null,1,0,1,-9.9945068359375E-4,9.9945068359375E-4," "]
["2009-10-12T03:12:29.933",59.990001678466797,3724.94384765625,350,-223.01573181152344,16,null,null,null,-103,8094,null,1,0,1,-9.9945068359375E-4,9.9945068359375E-4," "]
["2009-10-12T03:12:31.929",59.991001129150391,3724.94384765625,350,-223.01573181152344,16,null,null,null,-103,8094,null,1,0,1,9.9945068359375E-4,9.9945068359375E-4," "]
["2009-10-12T03:12:33.925",59.992000579833984,3724.94384765625,350,-223.01573181152344,16,null,null,null,-103,8094,null,1,0,1,9.9945068359375E-4,9.9945068359375E-4," "]
["2009-10-12T03:12:35.921",59.993000030517578,3724.94384765625,350,-223.01573181152344,16,null,null,null,-103,8094,null,1,0,1,9.9945068359375E-4,9.9945068359375E-4," "]
["2009-10-12T03:12:37.917",59.993999481201172,3724.94384765625,350,-223.01573181152344,16,null,null,null,-103,8094,null,1,0,1,9.9945068359375E-4,9.9945068359375E-4," "]
["2009-10-12T03:12:39.913",59.994998931884766,3724.94384765625,350,-223.01573181152344,16,null,null,null,-103,8094,null,1,0,1,9.9945068359375E-4,9.9945068359375E-4," "]
["2009-10-12T03:12:41.908",59.995998382568359,3724.94384765625,350,-223.01573181152344,16,null,null,null,-103,8094,null,1,0,1,9.9945068359375E-4,9.9945068359375E-4," "]
["2009-10-12T03:12:43.904",59.995998382568359,3724.94384765625,350,-223.01573181152344,16,null,null,null,-103,8094,null,1,0,1,0,0," "]
["2009-10-12T03:12:45.900",59.995998382568359,3724.94384765625,350,-223.01573181152344,16,null,null,null,-103,8094,null,1,0,1,0,0," "]
["2009-10-12T03:12:47.896",59.996498107910156,3724.94384765625,350,-223.01573181152344,16,null,null,null,-103,8094,null,1,0,1,4.99725341796875E-4,4.99725341796875E-4," "]
["2009-10-12T03:12:49.892",59.997001647949219,3724.94384765625,350,-223.01573181152344,16,null,null,null,-103,8094,null,1,0,1,5.035400390625E-4,5.035400390625E-4," "]
["2009-10-12T03:12:51.888",59.997001647949219,3724.94384765625,350,-223.01573181152344,16,null,null,null,-103,8094,null,1,0,1,0,0," "]
["2009-10-12T03:12:53.884",59.997001647949219,3724.94384765625,350,-223.01573181152344,16,null,null,null,-103,8094,null,1,0,1,0,0," "]
["2009-10-12T03:12:55.879",59.997001647949219,3724.94384765625,350,-223.01573181152344,16,null,null,null,-103,8094,null,1,0,{"$f":"IF(ROW()<$M$3,0,1)","v":1},0,0," "]
["2009-10-12T03:12:57.875",59.997001647949219,3724.94384765625,350,-223.01573181152344,16,null,null,null,-103,8094,null,{"$f":"IF(ROW()<$M$5,0,1)","v":1},0,1,{"$f":"B1672-B1671","v":0},0," "]
["2009-10-12T03:12:59.871",59.999000549316406,3724.94384765625,350,-223.01573181152344,16,null,null,null,-103,8094,null,1,0,1,1.9989013671875E-3,1.9989013671875E-3," "]
["2009-10-12T03:13:01.867",60.000999450683594,3724.94384765625,350,-223.01573181152344,16,null,null,null,-103,8094,null,1,1,1,1.9989013671875E-3,1.9989013671875E-3," "]
["2009-10-12T03:13:03.863",60.000999450683594,3724.94384765625,350,-223.01573181152344,16,null,null,null,-103,8094,null,1,1,1,0,0," "]
["2009-10-12T03:13:05.859",60.000999450683594,3724.94384765625,350,-223.01573181152344,16,null,null,null,-103,8094,null,1,1,1,0,0," "]
["2009-10-12T03:13:07.854",60.003997802734375,3724.94384765625,350,-223.01573181152344,16,null,null,null,-103,8094,null,1,1,1,2.99835205078125E-3,2.99835205078125E-3," "]
["2009-10-12T03:13:09.850",60.006999969482422,3724.94384765625,350,-223.01573181152344,16,null,null,null,-103,8094,null,1,1,1,3.002166748046875E-3,3.002166748046875E-3," "]
["2009-10-12T03:13:11.846",60.009002685546875,3724.94384765625,350,-223.01573181152344,16,null,null,null,-103,8094,null,1,1,1,2.002716064453125E-3,2.002716064453125E-3," "]
["2009-10-12T03:13:13.842",60.011001586914063,3724.94384765625,350,-223.01573181152344,16,null,null,null,-103,8094,null,1,1,1,1.9989013671875E-3,1.9989013671875E-3," "]
["2009-10-12T03:13:15.838",60.008499145507813,3724.94384765625,350,-223.01573181152344,16,null,null,null,-103,8094,null,1,1,1,-2.50244140625E-3,2.50244140625E-3," "]
["2009-10-12T03:13:17.834",60.006000518798828,3724.94384765625,350,-223.01573181152344,16,null,null,null,-103,8094,null,1,1,1,-2.498626708984375E-3,2.498626708984375E-3," "]
["2009-10-12T03:13:19.829",60.006999969482422,3724.94384765625,350,-223.01573181152344,16,null,null,null,-103,8094,null,1,1,1,9.9945068359375E-4,9.9945068359375E-4," "]
["2009-10-12T03:13:21.825",60.007999420166016,3724.94384765625,350,-223.01573181152344,16,null,null,null,-103,8094,null,1,1,1,9.9945068359375E-4,9.9945068359375E-4," "]
["2009-10-12T03:13:23.821",60.010002136230469,3724.94384765625,350,-223.01573181152344,16,null,null,null,-103,8094,null,1,1,1,2.002716064453125E-3,2.002716064453125E-3," "]
["2009-10-12T03:13:25.817",60.012001037597656,3724.94384765625,350,-223.01573181152344,16,null,null,null,-103,8094,null,1,1,1,1.9989013671875E-3,1.9989013671875E-3," "]
["2009-10-12T03:13:27.813",60.012001037597656,3724.94384765625,350,-223.01573181152344,16,null,null,null,-103,8094,null,1,1,1,0,0," "]
["2009-10-12T03:13:29.809",60.012001037597656,3724.94384765625,350,-223.01573181152344,16,null,null,null,-103,8094,null,1,1,1,0,0," "]
["2009-10-12T03:13:31.804",60.010002136230469,3724.94384765625,350,-223.01573181152344,16,null,null,null,-103,8094,null,1,1,1,-1.9989013671875E-3,1.9989013671875E-3," "]
["2009-10-12T03:13:33.800",60.007999420166016,3724.94384765625,350,-223.01573181152344,16,null,null,null,-103,8094,null,1,1,1,-2.002716064453125E-3,2.002716064453125E-3," "]
["2009-10-12T03:13:35.796",60.007999420166016,3724.94384765625,350,-223.01573181152344,16,null,null,null,-103,8094,null,1,1,1,0,0," "]
["2009-10-12T03:13:37.792",60.007999420166016,3724.94384765625,350,-223.01573181152344,16,null,null,null,-103,8094,null,1,1,1,0,0," "]
["2009-10-12T03:13:39.788",60.007999420166016,3724.94384765625,350,-223.01573181152344,16,null,null,null,-103,8094,null,1,1,1,0,0," "]
["2009-10-12T03:13:41.784",60.007999420166016,3724.94384765625,350,-223.01573181152344,16,null,null,null,-103,8094,null,1,1,1,0,0," "]
["2009-10-12T03:13:43.780",60.007999420166016,3724.94384765625,350,-223.01573181152344,16,null,null,null,-103,8094,null,1,1,1,0,0," "]
["2009-10-12T03:13:45.775",60.007999420166016,3724.94384765625,350,-223.01573181152344,16,null,null,null,-103,8094,null,1,1,1,0,0," "]
["2009-10-12T03:13:47.771",60.006999969482422,3724.94384765625,350,-223.01573181152344,16,null,null,null,-103,8094,null,1,1,1,-9.9945068359375E-4,9.9945068359375E-4," "]
["2009-10-12T03:13:49.767",60.006000518798828,3724.94384765625,350,-223.01573181152344,16,null,null,null,-103,8094,null,1,1,1,-9.9945068359375E-4,9.9945068359375E-4," "]
["2009-10-12T03:13:51.763",60.005001068115234,3724.94384765625,350,-223.01573181152344,16,null,null,null,-103,8094,null,1,1,1,-9.9945068359375E-4,9.9945068359375E-4," "]
["2009-10-12T03:13:53.759",60.004001617431641,3724.94384765625,350,-223.01573181152344,16,null,null,null,-103,8094,null,1,1,1,-9.9945068359375E-4,9.9945068359375E-4," "]
["2009-10-12T03:13:55.755",60.004001617431641,3724.94384765625,350,-223.01573181152344,16,null,null,null,-103,8094,null,1,1,1,0,0," "]
["2009-10-12T03:13:57.750",60.004001617431641,3724.94384765625,350,-223.01573181152344,16,null,null,null,-103,8094,null,1,1,1,0,0," "]
["2009-10-12T03:13:59.746",60.00250244140625,3724.94384765625,350,-223.01573181152344,16,null,null,null,-103,8094,null,1,1,1,-1.499176025390625E-3,1.499176025390625E-3," "]
["2009-10-12T03:14:01.742",60.000999450683594,3724.94384765625,350,-223.01573181152344,16,null,null,null,-103,8094,null,1,1,1,-1.50299072265625E-3,1.50299072265625E-3," "]
["2009-10-12T03:14:03.738",59.999500274658203,3724.94384765625,350,-223.01573181152344,16,null,null,null,-103,8094,null,1,0,1,-1.499176025390625E-3,1.499176025390625E-3," "]
["2009-10-12T03:14:05.734",59.998001098632813,3724.94384765625,350,-223.01573181152344,16,null,null,null,-103,8094,null,1,0,1,-1.499176025390625E-3,1.499176025390625E-3," "]
["2009-10-12T03:14:07.730",59.996498107910156,3724.94384765625,350,-223.01573181152344,16,null,null,null,-103,8094,null,1,0,1,-1.50299072265625E-3,1.50299072265625E-3," "]
["2009-10-12T03:14:09.725",59.994998931884766,3724.94384765625,350,-223.01573181152344,16,null,null,null,-103,8094,null,1,0,1,-1.499176025390625E-3,1.499176025390625E-3," "]
["2009-10-12T03:14:11.721",59.994998931884766,3724.94384765625,350,-223.01573181152344,16,null,null,null,-103,8094,null,1,0,1,0,0," "]
["2009-10-12T03:14:13.717",59.994998931884766,3724.94384765625,350,-223.01573181152344,16,null,null,null,-103,8094,null,1,0,1,0,0," "]
["2009-10-12T03:14:15.713",59.996002197265625,3724.94384765625,350,-223.01573181152344,16,null,null,null,-103,8094,null,1,0,1,1.003265380859375E-3,1.003265380859375E-3," "]
["2009-10-12T03:14:17.709",59.997001647949219,3724.94384765625,350,-223.01573181152344,16,null,null,null,-103,8094,null,1,0,1,9.9945068359375E-4,9.9945068359375E-4," "]
["2009-10-12T03:14:19.705",59.995002746582031,3724.94384765625,350,-223.01573181152344,16,null,null,null,-103,8094,null,1,0,1,-1.9989013671875E-3,1.9989013671875E-3," "]
["2009-10-12T03:14:21.700",59.993000030517578,3724.94384765625,350,-223.01573181152344,16,null,null,null,-103,8094,null,1,0,1,-2.002716064453125E-3,2.002716064453125E-3," "]
["2009-10-12T03:14:23.696",59.992500305175781,3724.94384765625,350,-223.01573181152344,16,null,null,null,-103,8094,null,1,{"$f":"IF((M1715=1)*(B1715>$N$2),1,0)","v":0},1,-4.99725341796875E-4,{"$f":"ABS(P1715)","v":4.99725341796875E-4},{"$f":"IF(Q1715>(AVERAGE(Q1711:Q1714)+R$2),1,\" \")","v":" "}]
["2009-10-12T03:14:25.692",59.992000579833984,3724.94384765625,350,-223.01573181152344,16,null,null,null,-103,8094,null,1,0,1,-4.99725341796875E-4,4.99725341796875E-4," "]
["2009-10-12T03:14:27.688",59.990501403808594,3724.94384765625,350,-223.01573181152344,16,null,null,null,-103,8094,null,1,0,1,-1.499176025390625E-3,1.499176025390625E-3," "]
["2009-10-12T03:14:29.684",59.988998413085937,3724.94384765625,350,-223.01573181152344,16,null,null,null,-103,8094,null,1,0,1,-1.50299072265625E-3,1.50299072265625E-3," "]
["2009-10-12T03:14:31.680",59.989997863769531,3724.94384765625,350,-223.01573181152344,16,null,null,null,-103,8094,null,1,0,1,9.9945068359375E-4,9.9945068359375E-4," "]
["2009-10-12T03:14:33.676",59.991001129150391,3724.94384765625,350,-223.01573181152344,16,null,null,null,-103,8094,null,1,0,1,1.003265380859375E-3,1.003265380859375E-3," "]
["2009-10-12T03:14:35.671",59.988998413085937,3724.94384765625,350,-223.01573181152344,16,null,null,null,-103,8094,null,1,0,1,-2.002716064453125E-3,2.002716064453125E-3," "]
["2009-10-12T03:14:37.667",59.98699951171875,3724.94384765625,350,-223.01573181152344,16,null,null,null,-103,8094,null,1,0,1,-1.9989013671875E-3,1.9989013671875E-3," "]
["2009-10-12T03:14:39.663",59.987499237060547,3724.94384765625,350,-223.01573181152344,16,null,null,null,-103,8094,null,1,0,1,4.99725341796875E-4,4.99725341796875E-4," "]
["2009-10-12T03:14:41.659",59.987998962402344,3724.94384765625,350,-223.01573181152344,16,null,null,null,-103,8094,null,1,0,1,4.99725341796875E-4,4.99725341796875E-4," "]
["2009-10-12T03:14:43.655",59.987998962402344,3724.94384765625,350,-223.01573181152344,16,null,null,null,-103,8094,null,1,0,1,0,0," "]
["2009-10-12T03:14:45.651",59.987998962402344,3724.94384765625,350,-223.01573181152344,16,null,null,null,-103,8094,null,1,0,1,0,0," "]
["2009-10-12T03:14:47.646",59.98699951171875,3724.94384765625,350,-223.01573181152344,16,null,null,null,-103,8094,null,1,0,1,-9.9945068359375E-4,9.9945068359375E-4," "]
["2009-10-12T03:14:49.642",59.986000061035156,3724.94384765625,350,-223.01573181152344,16,null,null,null,-103,8094,null,1,0,1,-9.9945068359375E-4,9.9945068359375E-4," "]
["2009-10-12T03:14:51.638",59.985500335693359,3724.94384765625,350,-223.01573181152344,16,null,null,null,-103,8094,null,1,0,1,-4.99725341796875E-4,4.99725341796875E-4," "]
["2009-10-12T03:14:53.634",59.985000610351563,3724.94384765625,350,-223.01573181152344,16,null,null,null,-103,8094,null,1,0,1,-4.99725341796875E-4,4.99725341796875E-4," "]
["2009-10-12T03:14:55.630",59.984500885009766,3724.94384765625,350,-223.01573181152344,16,null,null,null,-103,8094,null,1,0,1,-4.99725341796875E-4,4.99725341796875E-4," "]
["2009-10-12T03:14:57.626",59.984001159667969,3724.94384765625,350,-223.01573181152344,16,null,null,null,-103,8094,null,1,0,1,-4.99725341796875E-4,4.99725341796875E-4," "]
["2009-10-12T03:14:59.621",59.984001159667969,3724.94384765625,350,-223.01573181152344,16,null,null,null,-103,8094,null,1,0,1,0,0," "]
["2009-10-12T03:15:01.617",59.984001159667969,3724.94384765625,350,-223.01573181152344,16,null,null,null,-103,8094,null,1,0,1,0,0," "]
["2009-10-12T03:15:03.613",59.985000610351563,3724.94384765625,350,-223.01573181152344,16,null,null,null,-103,8094,null,1,0,{"$f":"IF(ROW()<$M$3,0,1)","v":1},9.9945068359375E-4,9.9945068359375E-4," "]
["2009-10-12T03:15:05.609",59.986000061035156,3724.94384765625,350,-223.01573181152344,16,null,null,null,-103,8094,null,{"$f":"IF(ROW()<$M$5,0,1)","v":1},0,1,{"$f":"B1736-B1735","v":9.9945068359375E-4},9.9945068359375E-4," "]
["2009-10-12T03:15:07.605",59.98699951171875,3724.94384765625,350,-223.01573181152344,16,null,null,null,-103,8094,null,1,0,1,9.9945068359375E-4,9.9945068359375E-4," "]
["2009-10-12T03:15:09.601",59.987998962402344,3724.94384765625,350,-223.01573181152344,16,null,null,null,-103,8094,null,1,0,1,9.9945068359375E-4,9.9945068359375E-4," "]
["2009-10-12T03:15:11.596",59.991996765136719,3724.94384765625,350,-223.01573181152344,16,null,null,null,-103,8094,null,1,0,1,3.997802734375E-3,3.997802734375E-3," "]
["2009-10-12T03:15:13.592",59.995998382568359,3724.94384765625,350,-223.01573181152344,16,null,null,null,-103,8094,null,1,0,1,4.001617431640625E-3,4.001617431640625E-3," "]
["2009-10-12T03:15:15.588",59.99749755859375,3724.94384765625,350,-223.01573181152344,16,null,null,null,-103,8094,null,1,0,1,1.499176025390625E-3,1.499176025390625E-3," "]
["2009-10-12T03:15:17.584",59.999000549316406,3724.94384765625,350,-223.01573181152344,16,null,null,null,-103,8094,null,1,0,1,1.50299072265625E-3,1.50299072265625E-3," "]
["2009-10-12T03:15:19.580",60.000999450683594,3724.94384765625,350,-223.01573181152344,16,null,null,null,-103,8094,null,1,1,1,1.9989013671875E-3,1.9989013671875E-3," "]
["2009-10-12T03:15:21.576",60.002998352050781,3724.94384765625,350,-223.01573181152344,16,null,null,null,-103,8094,null,1,1,1,1.9989013671875E-3,1.9989013671875E-3," "]
["2009-10-12T03:15:23.572",60.002998352050781,3724.94384765625,350,-223.01573181152344,16,null,null,null,-103,8094,null,1,1,1,0,0," "]
["2009-10-12T03:15:25.567",60.002998352050781,3724.94384765625,350,-223.01573181152344,16,null,null,null,-103,8094,null,1,1,1,0,0," "]
["2009-10-12T03:15:27.563",60.005500793457031,3724.94384765625,350,-223.01573181152344,16,null,null,null,-103,8094,null,1,1,1,2.50244140625E-3,2.50244140625E-3," "]
["2009-10-12T03:15:29.559",60.007999420166016,3724.94384765625,350,-223.01573181152344,16,null,null,null,-103,8094,null,1,1,1,2.498626708984375E-3,2.498626708984375E-3," "]
["2009-10-12T03:15:31.555",60.010002136230469,3724.94384765625,350,-223.01573181152344,16,null,null,null,-103,8094,null,1,1,1,2.002716064453125E-3,2.002716064453125E-3," "]
["2009-10-12T03:15:33.551",60.012001037597656,3724.94384765625,350,-223.01573181152344,16,null,null,null,-103,8094,null,1,1,1,1.9989013671875E-3,1.9989013671875E-3," "]
["2009-10-12T03:15:35.547",60.010498046875,3724.94384765625,350,-223.01573181152344,16,null,null,null,-103,8094,null,1,1,1,-1.50299072265625E-3,1.50299072265625E-3," "]
["2009-10-12T03:15:37.542",60.008998870849609,3724.94384765625,350,-223.01573181152344,16,null,null,null,-103,8094,null,1,1,1,-1.499176025390625E-3,1.499176025390625E-3," "]
["2009-10-12T03:15:39.538",60.010002136230469,3724.94384765625,350,-223.01573181152344,16,null,null,null,-103,8094,null,1,1,1,1.003265380859375E-3,1.003265380859375E-3," "]
["2009-10-12T03:15:41.534",60.011001586914063,3724.94384765625,350,-223.01573181152344,16,null,null,null,-103,8094,null,1,1,1,9.9945068359375E-4,9.9945068359375E-4," "]
["2009-10-12T03:15:43.530",60.012001037597656,3724.94384765625,350,-223.01573181152344,16,null,null,null,-103,8094,null,1,1,1,9.9945068359375E-4,9.9945068359375E-4," "]
["2009-10-12T03:15:45.526",60.01300048828125,3724.94384765625,350,-223.01573181152344,16,null,null,null,-103,8094,null,1,1,1,9.9945068359375E-4,9.9945068359375E-4," "]
["2009-10-12T03:15:47.522",60.01300048828125,3724.94384765625,350,-223.01573181152344,16,null,null,null,-103,8094,null,1,1,1,0,0," "]
["2009-10-12T03:15:49.517",60.01300048828125,3724.94384765625,350,-223.01573181152344,16,null,null,null,-103,8094,null,1,1,1,0,0," "]
["2009-10-12T03:15:51.513",60.014499664306641,3724.94384765625,350,-223.01573181152344,16,null,null,null,-103,8094,null,1,1,1,1.499176025390625E-3,1.499176025390625E-3," "]
["2009-10-12T03:15:53.509",60.015998840332031,3724.94384765625,350,-223.01573181152344,16,null,null,null,-103,8094,null,1,1,1,1.499176025390625E-3,1.499176025390625E-3," "]
["2009-10-12T03:15:55.505",60.015499114990234,3724.94384765625,350,-223.01573181152344,16,null,null,null,-103,8094,null,1,1,1,-4.99725341796875E-4,4.99725341796875E-4," "]
["2009-10-12T03:15:57.501",60.014999389648438,3724.94384765625,350,-223.01573181152344,16,null,null,null,-103,8094,null,1,1,1,-4.99725341796875E-4,4.99725341796875E-4," "]
["2009-10-12T03:15:59.497",60.013999938964844,3724.94384765625,350,-223.01573181152344,16,null,null,null,-103,8094,null,1,1,1,-9.9945068359375E-4,9.9945068359375E-4," "]
["2009-10-12T03:16:01.492",60.01300048828125,3724.94384765625,350,-223.01573181152344,16,null,null,null,-103,8094,null,1,1,1,-9.9945068359375E-4,9.9945068359375E-4," "]
["2009-10-12T03:16:03.488",60.012001037597656,3724.94384765625,350,-223.01573181152344,16,null,null,null,-103,8094,null,1,1,1,-9.9945068359375E-4,9.9945068359375E-4," "]
["2009-10-12T03:16:05.484",60.011001586914063,3724.94384765625,350,-223.01573181152344,16,null,null,null,-103,8094,null,1,1,1,-9.9945068359375E-4,9.9945068359375E-4," "]
["2009-10-12T03:16:07.480",60.010498046875,3724.94384765625,350,-223.01573181152344,16,null,null,null,-103,8094,null,1,1,1,-5.035400390625E-4,5.035400390625E-4," "]
["2009-10-12T03:16:09.476",60.009998321533203,3724.94384765625,350,-223.01573181152344,16,null,null,null,-103,8094,null,1,1,1,-4.99725341796875E-4,4.99725341796875E-4," "]
["2009-10-12T03:16:11.472",60.007999420166016,3724.94384765625,350,-223.01573181152344,16,null,null,null,-103,8094,null,1,1,1,-1.9989013671875E-3,1.9989013671875E-3," "]
["2009-10-12T03:16:13.468",60.006000518798828,3724.94384765625,350,-223.01573181152344,16,null,null,null,-103,8094,null,1,1,1,-1.9989013671875E-3,1.9989013671875E-3," "]
["2009-10-12T03:16:15.463",60.006000518798828,3724.94384765625,350,-223.01573181152344,16,null,null,null,-103,8094,null,1,1,1,0,0," "]
["2009-10-12T03:16:17.459",60.006000518798828,3724.94384765625,350,-223.01573181152344,16,null,null,null,-103,8094,null,1,1,1,0,0," "]
["2009-10-12T03:16:19.455",60.004501342773438,3724.94384765625,350,-223.01573181152344,16,null,null,null,-103,8094,null,1,1,1,-1.499176025390625E-3,1.499176025390625E-3," "]
["2009-10-12T03:16:21.451",60.002998352050781,3724.94384765625,350,-223.01573181152344,16,null,null,null,-103,8094,null,1,1,1,-1.50299072265625E-3,1.50299072265625E-3," "]
["2009-10-12T03:16:23.447",60.002998352050781,3724.94384765625,350,-223.01573181152344,16,null,null,null,-103,8094,null,1,1,1,0,0," "]
["2009-10-12T03:16:25.443",60.002998352050781,3724.94384765625,350,-223.01573181152344,16,null,null,null,-103,8094,null,1,1,1,0,0," "]
["2009-10-12T03:16:27.438",60.003501892089844,3724.94384765625,350,-223.01573181152344,16,null,null,null,-103,8094,null,1,1,1,5.035400390625E-4,5.035400390625E-4," "]
["2009-10-12T03:16:29.434",60.004001617431641,3724.94384765625,350,-223.01573181152344,16,null,null,null,-103,8094,null,1,1,1,4.99725341796875E-4,4.99725341796875E-4," "]
["2009-10-12T03:16:31.430",60.00250244140625,3724.94384765625,350,-223.01573181152344,16,null,null,null,-103,8094,null,1,{"$f":"IF((M1779=1)*(B1779>$N$2),1,0)","v":1},1,-1.499176025390625E-3,{"$f":"ABS(P1779)","v":1.499176025390625E-3},{"$f":"IF(Q1779>(AVERAGE(Q1775:Q1778)+R$2),1,\" \")","v":" "}]
["2009-10-12T03:16:33.426",60.000999450683594,3724.94384765625,350,-223.01573181152344,16,null,null,null,-103,8094,null,1,1,1,-1.50299072265625E-3,1.50299072265625E-3," "]
["2009-10-12T03:16:35.422",59.999000549316406,3724.94384765625,350,-223.01573181152344,16,null,null,null,-103,8094,null,1,0,1,-1.9989013671875E-3,1.9989013671875E-3," "]
["2009-10-12T03:16:37.418",59.997001647949219,3724.94384765625,350,-223.01573181152344,16,null,null,null,-103,8094,null,1,0,1,-1.9989013671875E-3,1.9989013671875E-3," "]
["2009-10-12T03:16:39.413",59.996498107910156,3724.94384765625,350,-223.01573181152344,16,null,null,null,-103,8094,null,1,0,1,-5.035400390625E-4,5.035400390625E-4," "]
["2009-10-12T03:16:41.409",59.995998382568359,3724.94384765625,350,-223.01573181152344,16,null,null,null,-103,8094,null,1,0,1,-4.99725341796875E-4,4.99725341796875E-4," "]
["2009-10-12T03:16:43.405",59.996498107910156,3724.94384765625,350,-223.01573181152344,16,null,null,null,-103,8094,null,1,0,1,4.99725341796875E-4,4.99725341796875E-4," "]
["2009-10-12T03:16:45.401",59.997001647949219,3724.94384765625,350,-223.01573181152344,16,null,null,null,-103,8094,null,1,0,1,5.035400390625E-4,5.035400390625E-4," "]
["2009-10-12T03:16:47.397",59.997001647949219,3724.94384765625,350,-223.01573181152344,16,null,null,null,-103,8094,null,1,0,1,0,0," "]
["2009-10-12T03:16:49.393",59.997001647949219,3724.94384765625,350,-223.01573181152344,16,null,null,null,-103,8094,null,1,0,1,0,0," "]
["2009-10-12T03:16:51.388",59.998001098632813,3724.94384765625,350,-223.01573181152344,16,null,null,null,-103,8094,null,1,0,1,9.9945068359375E-4,9.9945068359375E-4," "]
["2009-10-12T03:16:53.384",59.999000549316406,3724.94384765625,350,-223.01573181152344,16,null,null,null,-103,8094,null,1,0,1,9.9945068359375E-4,9.9945068359375E-4," "]
["2009-10-12T03:16:55.380",59.998500823974609,3724.94384765625,350,-223.01573181152344,16,null,null,null,-103,8094,null,1,0,1,-4.99725341796875E-4,4.99725341796875E-4," "]
["2009-10-12T03:16:57.376",59.998001098632813,3724.94384765625,350,-223.01573181152344,16,null,null,null,-103,8094,null,1,0,1,-4.99725341796875E-4,4.99725341796875E-4," "]
["2009-10-12T03:16:59.372",59.998500823974609,3724.94384765625,350,-223.01573181152344,16,null,null,null,-103,8094,null,1,0,1,4.99725341796875E-4,4.99725341796875E-4," "]
["2009-10-12T03:17:01.368",59.999000549316406,3724.94384765625,350,-223.01573181152344,16,null,null,null,-103,8094,null,1,0,1,4.99725341796875E-4,4.99725341796875E-4," "]
["2009-10-12T03:17:03.364",59.998001098632813,3724.94384765625,350,-223.01573181152344,16,null,null,null,-103,8094,null,1,0,1,-9.9945068359375E-4,9.9945068359375E-4," "]
["2009-10-12T03:17:05.359",59.997001647949219,3724.94384765625,350,-223.01573181152344,16,null,null,null,-103,8094,null,1,0,1,-9.9945068359375E-4,9.9945068359375E-4," "]
["2009-10-12T03:17:07.355",59.998500823974609,3724.94384765625,350,-223.01573181152344,16,null,null,null,-103,8094,null,1,0,1,1.499176025390625E-3,1.499176025390625E-3," "]
["2009-10-12T03:17:09.351",60,3724.94384765625,350,-223.01573181152344,16,null,null,null,-103,8094,null,1,0,1,1.499176025390625E-3,1.499176025390625E-3," "]
["2009-10-12T03:17:11.347",60.000999450683594,3724.94384765625,350,-223.01573181152344,16,null,null,null,-103,8094,null,1,1,{"$f":"IF(ROW()<$M$3,0,1)","v":1},9.9945068359375E-4,9.9945068359375E-4," "]
["2009-10-12T03:17:13.343",60.001998901367188,3724.94384765625,350,-223.01573181152344,16,null,null,null,-103,8094,null,{"$f":"IF(ROW()<$M$5,0,1)","v":1},1,1,{"$f":"B1800-B1799","v":9.9945068359375E-4},9.9945068359375E-4," "]
["2009-10-12T03:17:15.339",60.001499176025391,3724.94384765625,350,-223.01573181152344,16,null,null,null,-103,8094,null,1,1,1,-4.99725341796875E-4,4.99725341796875E-4," "]
["2009-10-12T03:17:17.334",60.000999450683594,3724.94384765625,350,-223.01573181152344,16,null,null,null,-103,8094,null,1,1,1,-4.99725341796875E-4,4.99725341796875E-4," "]
["2009-10-12T03:17:19.330",60.003501892089844,3724.94384765625,350,-223.01573181152344,16,null,null,null,-103,8094,null,1,1,1,2.50244140625E-3,2.50244140625E-3," "]
["2009-10-12T03:17:21.326",60.006000518798828,3724.94384765625,350,-223.01573181152344,16,null,null,null,-103,8094,null,1,1,1,2.498626708984375E-3,2.498626708984375E-3," "]
["2009-10-12T03:17:23.322",60.005500793457031,3724.94384765625,350,-223.01573181152344,16,null,null,null,-103,8094,null,1,1,1,-4.99725341796875E-4,4.99725341796875E-4," "]
["2009-10-12T03:17:25.318",60.005001068115234,3724.94384765625,350,-223.01573181152344,16,null,null,null,-103,8094,null,1,1,1,-4.99725341796875E-4,4.99725341796875E-4," "]

{"sheet":"Copy Results","index":1,"n_rows":38,"n_cols":26,"rows_kept":38,"cut":false,"hidden":false,"merged":[]}
["Balancing Authority Name:","MyBA",null,{"$f":"$B$1&TEXT($B$34,\"\\_yymmdd\")&TEXT($B$35,\"\\_hhmm\")&\"_FRS_Form2.9.xlsm\"","v":"MyBA_091012_0227_FRS_Form2.9.xlsm"}]
[null,"Interconnection Prevailing UFLS First Step Relay trip point",59.5,"Hz"]
[null,"Interconnection High Relay trip point",{"$f":"60-C2+60","v":60.5},"Hz"]
["Note: See \"Instruction\" tab for more detailed instructions.",null,null,null,"Auto","Event Detection",null,null,null,null,null,null,null,null,null,null,null,null,null,null,null,null,null,null,null,"Auto"]
[null,null,null,{"$f":"Data!N3","v":40098.102384259262},1245,"Manually selected row number of the Event Starting Time.",null,null,null,null,null,null,null,null,null,null,null,null,null,null,null,null,null,null,null,"Manual"]
["Step 1.","Copy and Paste Event Data into the appropriate cells of the  \"Data\" worksheet.",null,{"$f":"Data!N4","v":40098.106249999997},1442,"Manually selected row number of the Event Ending Time."]
[null,"Maintain date and time format of mm/dd/yy hh:mm:ss."]
["Step 2.","Data must start at least 2 full minutes before the beginning of the event.",{"$f":"Data!N3","v":40098.102384259262}]
[null,"Collect the same amount of data for each event.  Suggest 2 to 3 minutes before to 15 minutes after (up to 60 minutes total).  Delete unused rows of data in the Data worksheet below your data, columns A through R.  You must also delete any un-used event detection formulas in columns N through R as well."]
["Step 3.","Enter your BA name in cell B1 of this worksheet."]
["Step 4.","Verify that the \"Auto\" Event Detection selected the correct event.  Verify time and delta Hz",{"$f":"Data!N4","v":40098.106249999997}]
[null,"by comparing time of event and delta Hz on graph to the right to that on Form 1 for this event.  If the wrong event was selected, in cell \"E4\" of this worksheet select \"Manual\" and manually select the beginning and ending row numbers of the desired event and enter these in cells \"E5\" and \"E6\".  Only rarely should you have to use the \"Manual\" process."]
["Step 5.","Verify that the \"Auto\" selection of T(0) is correct by observing \"Graph 20 to 52s\"."]
[null,"The very first frequency data point of the event on the graph"]
[null,"must not be included in the \"A Value\" average.  This is accomplished when the "]
[null,"first frequency data point of the event is dead center of the graph on the center"]
[null,"vertical grid line.  The Auto event detection will select the single largest event in the"]
[null,"data provided.  An adjustment for T(0) alignment is provided in Cell Q3 on the Graph 20 to 52s."]
["Step 6.","When T(0) is properly aligned.  Hit the big blue button to copy your data for pasting into FRS Form 1 \"BA Event Data\" worksheet."]
[]
[]
[]
[]
[]
[]
[]
[]
[]
[]
["Step 7.","Paste data into \"FRS Form 1\" in the appropriate row on the \"BA Event Data\" worksheet."]
[null,"Be sure to use the latest version of Form 1.  This is Form 2.9 so use Form 1.9."]
[]
["Step 8.","Save this workbook using the following file name in bold below:"]
[null,{"$f":"Evaluation!G2","v":"2009-10-12T02:27:26"},"Date yymmdd"]
[null,{"$f":"Evaluation!G2","v":40098.102384259262},"Time hh:ss of T(0)"]
[null,"Where \"MyBA\" = your BA mnemonic"]
[]
[null,{"$f":"$B$1&TEXT($B$34,\"\\_yymmdd\")&TEXT($B$35,\"\\_hhmm\")&\"_FRS_Form2.9.xlsm\"","v":"MyBA_091012_0227_FRS_Form2.9.xlsm"}]

{"sheet":"Evaluation","index":2,"n_rows":529,"n_cols":54,"rows_kept":529,"cut":false,"hidden":false,"merged":[]}
[null,2,"seconds",null,null,"Date:",{"$f":"G2","v":"2009-10-12T02:27:26"},null,null,null,"Balancing Authority",{"$f":"'Copy Results'!B1","v":"MyBA"},null,null,null,null,null,"A Point",{"$f":"$B$78","v":40098.102361111116},null,null,null,null,null,"Non-Conforming Load sign convention","+","(Data is positive for Load then enter \"+\" else \"-\"",null,null,null,null,null,null,null,null,null,null,null,"Date:",{"$f":"AN2","v":"2009-10-12T02:27:26"},null,null,null,"Frequency Response Initiative - Additional Primary Frequency Response Evaluation Points"]
[null,null,null,null,null,"Time of T(0)",{"$f":"'Copy Results'!C8","v":40098.102384259262},null,null,null,"Grid Nominal Frequency",60,"Hz",null,null,null,null,"FPointA",{"$f":"$C$78","v":60.03900146484375},{"$f":"$B$78","v":40098.102361111116},null,null,null,null,null,null,null,null,null,null,null,null,null,null,null,null,null,null,"Time of T(0)",{"$f":"$G2","v":40098.102384259262},null,null,null,"Frequency @ T(+46)",{"$f":"C102","v":59.889999389648437},"Hz"]
[null,null,null,null,null,"Time of Frequency Recovery to 60 Hz or Pre-Perturbation Hz",{"$f":"'Copy Results'!C11","v":40098.106249999997},null,null,null,null,null,null,null,null,null,null,"A Value",{"$f":"AVERAGE($C$71:$C$78)","v":60.042125225067139},null,null,null,null,null,null,null,null,null,null,null,null,null,null,null,null,null,null,null,"Time of Frequency Recovery to 60 Hz or Pre-Perturbation Hz",{"$f":"$G3","v":40098.106249999997},null,null,null,"Frequency @ T(+76)",{"$f":"C117","v":59.862998962402344},"Hz","Actual",null,"JOU","Non-",null,"Transferred","Contingent"]
[null,null,null,null,null,"Value A Pre-Perturbation Average Frequency [T(-2 ) to T(-16)]",{"$f":"AVERAGE($C$71:$C$78)","v":60.042125225067139},"Hz",null,null,"Droop Setting",0.05,{"$f":"L4*L2","v":3},"Hz",null,null,null,"C Value",{"$f":"IF($K$16=\"Low Hz\",MIN($C$79:$C$88),MAX($C$79:$C$88))","v":59.83599853515625},null,null,null,null,null,null,null,null,null,null,null,null,null,null,null,null,null,null,null,"Value A Pre-Perturbation Average Frequency [T(-2 ) to T(-16)]",{"$f":"AVERAGE($W$71:$W$78)","v":60.042125225067139},"Hz",null,null,"Frequency @ T(+106)",{"$f":"C132","v":59.898998260498047},"Hz","Primary","Un-adjusted","Dynamic","Conforming","Pumped","Frequency","BA","Adjusted"]
[null,null,null,null,null,"Value B Post-Perturbation Average Frequency [T(+20 to T(+52)]",{"$f":"(AVERAGE($C$89:$C$105))","v":59.889117745792163},"Hz",null,null,"Deadband Setting",0,"Hz",null,null,null,null,"Delta FC",null,null,null,null,null,null,null,null,null,null,null,null,null,null,null,null,null,null,null,null,"Value B Post-Perturbation Average Frequency [T(+20 to T(+52)]",{"$f":"AVERAGE($W$89:$W$105)","v":59.889117745792163},"Hz",null,null,"Frequency @ T(+136)",{"$f":"C147","v":59.919998168945313},"Hz","Freq Response","P.U.","Schedules","Load","Hydro","Response","Lost Generation","P.U."]
[null,null,null,null,null,"Pre to Post Perturbation Delta Frequency Actual",{"$f":"G5-G4","v":-0.15300747927497582},"Hz",null,null,"Hz Span",{"$f":"M4-L5","v":3},"Hz",null,null,null,null,null,null,null,null,null,null,null,null,null,null,null,null,null,null,null,null,null,null,null,null,null,"Pre to Post Perturbation Delta Frequency Actual",{"$f":"AN5-AN4","v":-0.15300747927497582},"Hz",null,null,"Frequency @ T(+166)",{"$f":"C162","v":59.937000274658203},"Hz","MW","Performance","Adjustment","Adjustment","Adjustment","Adjustment","Adjustment","Performance"]
[null,null,null,null,null,"Value A Pre-Perturbation Average Interchange MW [T(-2 ) to T(-16)]",{"$f":"AVERAGE($D$71:$D$78)","v":3645.72705078125},"MW",null,null,null,null,null,null,null,null,null,null,null,null,null,null,null,null,null,null,null,null,null,null,null,null,null,null,null,null,null,null,"Value A Pre-Perturbation Average Interchange MW [T(-2 ) to T(-16)]",{"$f":"AVERAGE($D$71:$D$78)","v":3645.72705078125},"MW",null,null,"EPFR @ T(+46)",{"$f":"AG102","v":113.30062866210937},"MW",{"$f":"IF(G$6<0,MAX(AV102:AV107),MIN(AV102:AV107))","v":158.51492169080072},{"$f":"AU7/AS7","v":1.399064802751727},{"$f":"$Y102-$AN$15","v":-15},{"$f":"$Z102-$AN$16","v":50.262296676635742},{"$f":"$AA102-$AN$17","v":11},{"$f":"$AC102*-10*(W102-$L$2)-$AN$19","v":15.212583541870117},{"$f":"$AD102-$AN$20","v":-15},{"$f":"(AU7-SUM(AW7:AZ7))/AS7","v":0.85648281583407959}]
[null,null,null,null,null,"Value B Post-Perturbation Average Interchange MW [T(+20 to T(+52)]",{"$f":"AVERAGE($D$89:$D$105)","v":3788.3545065487133},"MW",null,null,null,null,null,null,null,null,null,null,null,null,null,null,null,null,null,null,null,null,null,null,null,null,null,null,null,null,null,null,"Value B Post-Perturbation Average Interchange MW [T(+20 to T(+52)]",{"$f":"AVERAGE($D$89:$D$105)-AN28+AN20","v":3803.3545065487133},"MW",null,null,"EPFR @ T(+76)",{"$f":"AG117","v":141.11106872558594},"MW",{"$f":"IF(G$6<0,MAX(AV117:AV122),MIN(AV117:AV122))","v":182.41384747205072},{"$f":"AU8/AS8","v":1.2926969451757533},{"$f":"$Y117-$AN$15","v":-15},{"$f":"$Z117-$AN$16","v":49.494474411010742},{"$f":"$AA117-$AN$17","v":16},{"$f":"$AC117*-10*(W117-$L$2)-$AN$19","v":17.912626266479492},{"$f":"$AD117-$AN$20","v":-15},{"$f":"(AU8-SUM(AW8:AZ8))/AS8","v":0.80792207035342967}]
[null,null,null,null,null,"Pre to Post Perturbation Interchange Delta MW Actual",{"$f":"G8-G7-AN28+AN20","v":157.62745576746329},"MW",null,null,null,null,null,null,null,null,null,null,null,null,null,null,null,null,null,null,null,null,null,null,null,null,null,null,null,null,null,null,"Pre to Post Perturbation Interchange Delta MW Actual",{"$f":"AN8-AN7","v":157.62745576746329},"MW",null,null,"EPFR @ T(+106)",{"$f":"AG132","v":104.0317916870117},"MW",{"$f":"IF(G$6<0,MAX(AV132:AV137),MIN(AV132:AV137))","v":164.54177715955072},1.5816489795214557,{"$f":"$Y132-$AN$15","v":-15},{"$f":"$Z132-$AN$16","v":63.029279708862305},{"$f":"$AA132-$AN$17","v":16},{"$f":"$AC132*-10*(W132-$L$2)-$AN$19","v":14.31269645690918},{"$f":"$AD132-$AN$20","v":-15},{"$f":"(AU9-SUM(AW9:AZ9))/AS9","v":0.82859094893913299}]
[null,null,null,null,null,"Initial Performance Ramp Magnitude Adjustment",{"$f":"(D77-D49)*0.59","v":-15.40208251953125},"MW",null,null,null,null,null,null,null,null,null,null,null,null,null,null,null,null,null,null,null,null,null,null,null,null,null,null,null,null,null,null,null,null,null,null,null,"EPFR @ T(+136)",{"$f":"AG147","v":82.401885986328125},"MW",{"$f":"IF(G$6<0,MAX(AV147:AV152),MIN(AV147:AV152))","v":129.49416973767572},1.5714952174657872,{"$f":"$Y147-$AN$15","v":-15},{"$f":"$Z147-$AN$16","v":64.131086349487305},{"$f":"$AA147-$AN$17","v":16},{"$f":"$AC147*-10*(W147-$L$2)-$AN$19","v":12.212705612182617},{"$f":"$AD147-$AN$20","v":-15},{"$f":"(AU10-SUM(AW10:AZ10))/AS10","v":0.63287844873670041}]
[null,null,null,null,null,"EPFR Pre-Perturbation Average",{"$f":"AVERAGE(H71:H78)","v":-43.388981819152832},"MW",null,null,null,null,null,null,null,null,null,null,null,null,null,null,null,null,null,null,null,null,null,null,null,null,null,null,null,null,null,null,"EPFR Pre-Perturbation Average",{"$f":"AVERAGE(AT71:AT78)","v":-43.388981819152832},"MW",null,null,"EPFR @ T(+166)",{"$f":"AG162","v":64.889717102050781},"MW",{"$f":"IF(G$6<0,MAX(AV162:AV167),MIN(AV162:AV167))","v":119.9949021595507},1.8492129033454883,{"$f":"$Y162-$AN$15","v":-15},{"$f":"$Z162-$AN$16","v":63.75337028503418},{"$f":"$AA162-$AN$17","v":16},{"$f":"$AC162*-10*(W162-$L$2)-$AN$19","v":10.512495040893555},{"$f":"$AD162-$AN$20","v":-15},{"$f":"(AU11-SUM(AW11:AZ11))/AS11","v":0.68930855043301387}]
[null,null,null,null,null,"EPFR Post-Perturbation Average",{"$f":"AVERAGE(H89:H105)","v":114.20872183407054},"MW",null,null,null,null,null,null,null,null,null,null,null,null,null,null,null,null,null,null,null,null,null,null,null,null,null,null,null,null,null,null,"EPFR Post-Perturbation Average",{"$f":"AVERAGE($AG89:$AG105)","v":114.20872183407054},"MW"]
[null,null,null,null,null,"EPFR Delta",{"$f":"G12-G11","v":157.59770365322339},"MW",null,null,"TC (frequency response filter constant)",0.35,"Time Constant for delayed delivery of PFR during Sustained Measure",null,null,null,null,null,null,null,null,null,null,null,null,null,null,null,null,null,null,null,null,null,null,null,null,null,"EPFR Unadjusted",{"$f":"AN12-AN11","v":157.59770365322339},"MW"]
[null,null,null,null,null,null,null,null,null,null,null,null,null,null,null,null,null,null,null,null,null,null,null,null,null,null,null,null,null,null,null,null,null,null,null,null,null,null,"EPFR  Adjusted",{"$f":"AN13+AN30","v":198.04322865430066},"MW",null,null,"T(20) to T(52) Evaluation"]
[null,null,null,null,null,null,null,null,null,null,null,null,null,null,null,null,null,null,null,null,null,null,null,null,null,null,null,null,null,null,null,null,null,null,null,null,null,null,"Pre JOU Dynamic Schedules MW",{"$f":"AVERAGE($Y$71:$Y$78)","v":350},"MW",null,null,"Pre-Perturbation Bias Setting",{"$f":"AVERAGE($AE$71:$AE$78)","v":-103},"MW/0.1 Hz"]
[null,null,null,null,null,null,null,null,null,null,{"$f":"IF(G6<0,\"Low Hz\",\"High Hz\")","v":"Low Hz"},"Delta Hz Event",null,null,null,null,null,null,null,null,null,null,null,null,null,null,null,null,null,null,null,null,null,null,null,null,null,null,"Pre Non-Conforming Load MW",{"$f":"AVERAGE($Z$71:$Z$78)","v":165.33587837219238},"MW",null,null,"Post-Perturbation Bias Setting",{"$f":"AVERAGE($AE$89:$AE$105)","v":-103},"MW/0.1 Hz"]
[null,null,null,null,null,null,null,null,null,null,{"$f":"LOOKUP(G3,B43:B529,N43:N529)","v":3764.6561308361233},"Actual Interchange MW Average during frequency recovery period",null,null,null,null,null,null,null,null,null,null,null,null,null,null,null,null,null,null,null,null,null,null,null,null,null,null,"Pre Pumped Hydro MW",{"$f":"AVERAGE($AA$71:$AA$78)","v":0},"MW",null,null,"EPFR for Bias Setting Pre-Perturbation Average",{"$f":"(AN4-$L$2)*10*AS15","v":-43.388981819152832},"MW"]
[null,null,null,null,null,null,null,null,null,null,{"$f":"LOOKUP(G3,B43:B529,O43:O529)","v":3804.234845627464},"Target Interchange MW Average during frequency recovery period",null,null,null,null,null,null,null,null,null,null,null,null,null,null,null,null,null,null,null,null,null,null,null,null,null,null,null,null,null,null,null,"EPFR for Bias Setting Post-Perturbation Average",{"$f":"(AN5-$L$2)*10*AS16","v":114.20872183407226},"MW"]
[null,null,null,"EPFR = Expected Primary Frequency Response",null,"EPFR(Final)",{"$f":"G13+G10","v":142.19562113369213},"MW",null,null,{"$f":"LOOKUP(G3,B49:B529,Q49:Q529)","v":3719.8439336701344},"Interchange Average Ramp MW during frequency recovery period",null,null,null,null,null,null,null,null,null,null,null,null,null,null,null,null,null,null,null,null,null,null,null,null,null,null,"Pre Transferred Frequency Response MW",{"$f":"AVERAGE($AC$71:$AC$78)*-10*(AN4-$L$2)","v":-4.2125225067138672},"MW",null,null,"EPFR for Bias Setting Delta",{"$f":"AS18-AS17","v":157.5977036532251},"MW"]
[null,null,null,null,null,"MW Response in right direction for frequency delta",{"$f":"IF((G6*G9)<0,\"Yes\",\"No\")","v":"Yes"},null,null,null,{"$f":"D77","v":3640.68212890625},"Actual MW @ T(-4)",null,null,null,null,null,null,null,null,null,null,null,null,null,null,null,null,null,null,null,null,null,null,null,null,null,null,"Pre Contingent BA Lost Generation MW",{"$f":"AVERAGE($AD$71:$AD$78)","v":15},"MW",null,null,"Primary Frequency Response Delivery % of Bias",{"$f":"(AN9)/AS19","v":1.0001887852014879}]
[null,null,null,null,null,null,null,null,null,null,{"$f":"LOOKUP(G3,B43:B524,D43:D524)-D77+I77-LOOKUP(G3,B43:B524,I43:I524)-AN28+AN20","v":103.03506210143671},"Starting and Ending Difference in Interchange MW during frequency recovery period (indicates ramp direction during recovery period)",null,null,null,null,null,null,null,null,null,null,null,null,null,null,null,null,null,null,null,null,null,null,null,null,null,null,"Sum of Pre Perturbation Adjustments",{"$f":"SUM(AN15:AN20)","v":526.12335586547852},"MW"]
[null,null,null,null,null,null,null,null,null,null,{"$f":"G3-G2","v":"00:05:34"},"Event Duration (h:mm:ss)"]
[null,null,null,null,null,null,null,null,null,null,{"$f":"IF(K18-K20<0,\"Yes\",\"No\")","v":"No"},"Target MW Average minus MW @ T(-4) less than zero",null,null,null,null,null,null,null,null,null,null,null,null,null,null,null,null,null,null,null,null,null,null,null,null,null,null,"Post JOU Dynamic Schedules MW",{"$f":"AVERAGE($Y$89:$Y$105)","v":335},"MW",null,null,"Pre-Perturbation BA Load",{"$f":"AVERAGE($AF$71:$AF$78)","v":7651.3049999999994},"MW"]
[null,null,null,null,null,null,null,null,null,null,{"$f":"IF(K21>0,K18-K20,K18-(K20+K21))","v":163.55271672121398},"Interchange Target Relative Average Change - MW (Low Frequency Event)",null,null,null,null,null,null,null,null,null,null,null,null,null,null,null,null,null,null,null,null,null,null,null,null,null,null,"Post Non-Conforming Load MW",{"$f":"AVERAGE($Z$89:$Z$105)","v":214.12771426930146},"MW",null,null,"Post-Perturbation BA Load",{"$f":"AVERAGE($AF$89:$AF$105)","v":7632},"MW"]
[null,null,null,null,null,null,null,null,null,null,{"$f":"IF(K21>0,K17-K20,K17-(K20+K21))","v":123.97400192987334},"Interchange Actual Relative Average Change - MW (Low Frequency Event)",null,null,null,null,null,null,null,null,null,null,null,null,null,null,null,null,null,null,null,null,null,null,null,null,null,null,"Post Pumped Hydro MW",{"$f":"AVERAGE($AA$89:$AA$105)","v":6.3529411764705879},"MW",null,null,"Pre to Post Perturbation BA Load Change",{"$f":"AS24-AS23","v":-19.304999999999382},"MW"]
[null,null,null,null,null,null,null,null,null,null,{"$f":"IF(K17-K20<0,\"Yes\",\"No\")","v":"No"},"Interchange Actual Average minus MW @ T(-4) less than zero",null,null,null,null,null,null,null,null,null,null,null,null,null,null,null,null,null,null,null,null,null,null,null,null,null,null,null,null,null,null,null,"Load Dampening Frequency Response",{"$f":"AS25/(AN6*-10)","v":-12.61703028601994},"MW/0.1 Hz"]
[null,null,null,null,null,null,null,null,null,null,{"$f":"IF(K17-K20>0,\"Yes\",\"No\")","v":"Yes"},"Interchange Average MW minus MW @ T(-4) greater than zero",null,null,null,null,null,null,null,null,null,null,null,null,null,null,null,null,null,null,null,null,null,null,null,null,null,null,"Post Transferred Frequency Response MW",{"$f":"AVERAGE($AC$89:$AC$105)*-10*(AN5-$L$2)","v":11.088225420783715},"MW",null,null,"Load Dampening % of Total BA Frequency Response",{"$f":"AS25/AN9*-1","v":0.12247231870873239}]
[null,null,null,null,null,null,null,null,null,null,{"$f":"IF(K18-K20>0,\"Yes\",\"No\")","v":"Yes"},"Interchange Target MW Average minus MW @ T(-4) greater than zero",null,null,null,null,null,null,null,null,null,null,null,null,null,null,null,null,null,null,null,null,null,null,null,null,null,null,"Post Contingent BA Lost Generation MW",{"$f":"AVERAGE($AD$89:$AD$105)","v":0},"MW"]
[null,null,null,null,null,null,null,null,null,null,{"$f":"IF(K21>0,K18-(K20+K21),K18-K20)","v":60.517654619777204},"Interchange Target Relative Average Change - MW (High Frequency Event)",null,null,null,null,null,null,null,null,null,null,null,null,null,null,null,null,null,null,null,null,null,null,null,null,null,null,"Sum of Post Perturbation Adjustments",{"$f":"SUM(AN23:AN27)","v":566.56888086655579},"MW"]
[null,null,null,null,null,null,null,null,null,null,{"$f":"IF(K21>0,K17-(K20+K21),K17-K20)","v":20.93893982843656},"Interchange Actual Relative Average Change - MW (High Frequency Event)",null,null,null,null,null,null,null,null,null,null,null,null,null,null,null,null,null,null,null,null,null,null,null,null,null,null,"Net Total Adjustments MW",{"$f":"AN29-AN21","v":40.445525001077272},"MW",null,null,"Average Bias Setting when Hz is greater than +/-0.036 Hz",{"$f":"AVERAGE(AY43:AY529)","v":-103},"MW/0.1 Hz"]
[null,null,null,null,null,null,null,null,null,null,{"$f":"IF(K21>=0,\"Up\",\"Down\")","v":"Up"},"Ramp Direction during frequency recovery period"]
[null,null,null,null,null,null,null,null,null,null,null,null,null,null,null,null,null,null,null,null,null,"Frequency, Actual Interchange, Adjustment Data, Bias and Load used in the evaluation",null,null,null,null,null,null,null,null,null,null,null,null,"20 to 52 second Average Period Evaluation"]
[null,null,null,null,null,"Initial Response P.U. Performance ",{"$f":"IF(G20=\"Yes\",G9/G19,\" \")","v":1.1085253857378785},"P.U.",null,null,{"$f":"IF(G33=\" \",\" \",IF(K16=\"Low Hz\",IF(K23=\"Yes\",IF(K17>K18,1,IF(K17>K19,0.75,0)),IF(K27=\"Yes\",IF((K25/K24)>2,2,K25/K24),IF(K17>K19,0.75,0))),IF(K23=\"Yes\",IF(K27=\"Yes\",IF(K17<K19,0.75,0),IF((K17/K18)>2,2,K17/K18)),IF(K17<K18,1,IF(K17<K19,0.75,0)))))","v":0.75800637504050095},"P.U.   Sustianed Response P.U. Performance",null,null,null,null,null,null,null,null,null,null,null,null,null,null,null,null,null,null,null,null,null,null,null,null,null,null,"Initial P.U. Performance for FRO",{"$f":"AN9/AN13","v":1.0001887852014986},"P.U."]
[null,null,null,null,null,null,null,null,null,null,null,null,null,null,null,null,null,null,null,null,null,null,null,null,null,null,null,null,null,null,null,null,null,null,null,null,null,null,"Initial P.U. Performance Adjusted for FRO",{"$f":"(AN8-AN7-AN30)/AN13","v":0.7435510039171136},"P.U."]
[null,null,null,null,null,null,null,null,null,null,"Initial",null,null,null,null,null,null,null,null,null,null,null,null,null,"JOU","Non-",null,null,"Transferred","Contingent",null,null,null,null,null,null,null,"JOU","Non-",null,null,"Transferred","Contingent",null,null,null,"Expected",null,"Actual"]
[null,null,null,null,null,null,null,"Bias",null,null,"Measure",null,null,"Average","Average",null,"Average",null,null,null,null,null,null,"Net","Dynamic","Conforming","Pumped",null,"Frequency","BA","BA","BA","Expected Primary",null,null,null,"Net","Dynamic","Conforming","Pumped",null,"Frequency","BA","BA","BA",null,"Net","Actual","Primary"]
[null,null,null,null,null,null,null,"(EPFR)","(TC)",null,"Final",null,null,"Output","Target",null,"Ramp",null,null,null,null,null,null,"Actual","Schedules","Load","Hydro",null,"Response","Lost Generation","Bias","Load","Freq Response",null,null,null,"Actual","Schedules","Load","Hydro",null,"Response","Lost Generation","Bias","Load",null,"Actual","Primary","Freq Response"]
[null,null,null,null,"Value B",null,null,"Expected","Delayed",null,"Expected",null,"Recovery","During","During","Recovery","During",null,null,null,null,null,"Frequency","Interchange","Imp(-) Exp (+)","Load (-)","Load (-) Gen (+)",null,"Rec (-) Del (+)","Load (-) Gen (+)","Setting",null,"Based on Bias Setting",null,null,"Frequency","Interchange","Imp(-) Exp (+)","Load (-)","Load (-) Gen (+)",null,"Rec (-) Del (+)","Load (-) Gen (+)","Setting",null,"EPFR","Interchange","Freq Response","Beta"]
[null,null,null,null,"20 to 52 sec",null,null,"Primary","Delivery",null,"Primary","Average","Period","Recovery","Recovery","Period","Recovery",null,null,null,null,"T","Hz","MW","MW","MW","MW",null,"MW/0.1 Hz","MW","MW/0.1 Hz","MW","MW",null,"T","Hz","MW","MW","MW","MW",null,"MW/0.1 Hz","MW","MW/0.1 Hz","MW","MW","MW","MW","MW/0.1 Hz"]
[null,null,"Frequency","Interchange","Average","Average",null,"Frequency","Frequency",null,"Frequency","Ramp","Target","Period","Period","Ramp","Period"]
[null,"T","Hz","MW","Frequency","MW",null,"Response","Response",null,"Response","MW/scan","MW","MW","MW","MW","MW"]
[]
["T-72 sec",{"$f":"B44-TIME(0,0,$B$1)","v":40098.101550925996},{"$f":"LOOKUP($B43,Data!$A$6:$A$1806,Data!$B$6:$B$1806)","v":60.027000427246094},{"$f":"LOOKUP(B43,Data!$A$6:$A$1806,Data!C$6:C$1806)","v":3671.18896484375},null,null,{"$f":"AE43*-M$4*10","v":3090},{"$f":"(IF((C43-L$2)>0,((C43-L$2-L$5)/((L$4*L$2)-L$5)*G43*-1),((C43-L$2+L$5)/((L$4*L$2)-L$5)*G43*-1)))","v":-27.810440063476566},{"$f":"L$13*H43+(1-L$13)*I42","v":-9.7336540222167969},null,null,null,null,null,null,null,null,null,null,null,"T-72 sec",{"$f":"V44-TIME(0,0,$B$1)","v":40098.101550925996},{"$f":"LOOKUP($V43,Data!$A$6:$A$1806,Data!$B$6:$B$1806)","v":60.027000427246094},{"$f":"LOOKUP($V43,Data!$A$6:$A$1806,Data!$C$6:$C$1806)","v":3671.18896484375},{"$f":"LOOKUP($V43,Data!$A$6:$A$1806,Data!$D$6:$D$1806)","v":350},{"$f":"IF($Z$1=\"+\",LOOKUP($V43,Data!$A$6:$A$1806,Data!$E$6:$E$1806)*-1,LOOKUP($V43,Data!$A$6:$A$1806,Data!$E$6:$E$1806))","v":157.62808227539062},{"$f":"LOOKUP($V43,Data!$A$6:$A$1806,Data!$F$6:$F$1806)","v":0},null,{"$f":"LOOKUP($V43,Data!$A$6:$A$1806,Data!$H$6:$H$1806)","v":10},{"$f":"LOOKUP($V43,Data!$A$6:$A$1806,Data!$I$6:$I$1806)","v":15},{"$f":"IF(LOOKUP($V43,Data!$A$6:$A$1806,Data!$J$6:$J$1806)>0,(LOOKUP($V43,Data!$A$6:$A$1806,Data!$J$6:$J$1806)*-1),LOOKUP($V43,Data!$A$6:$A$1806,Data!$J$6:$J$1806))","v":-103},{"$f":"LOOKUP($V43,Data!$A$6:$A$1806,Data!$K$6:$K$1806)","v":7640.91},{"$f":"(IF((W43-$L$2)>0,((W43-$L$2-$L$5)/(($L$4*$L$2)-$L$5)*G43*-1),((W43-$L$2+$L$5)/(($L$4*$L$2)-$L$5)*G43*-1)))","v":-27.810440063476566},"T-72 sec",{"$f":"AI44-TIME(0,0,$B$1)","v":40098.101550925996},null,null,null,null,null,null,null,null,null,null,null,null,null,null,{"$f":"ABS(C43-60)","v":2.700042724609375E-2},{"$f":"IF(AX43>0.036,AE43,\" \")","v":" "}]
["T-70 sec",40098.101574074142,{"$f":"LOOKUP(B44,Data!$A$6:$A$1806,Data!B$6:B$1806)","v":60.0260009765625},{"$f":"LOOKUP(B44,Data!$A$6:$A$1806,Data!C$6:C$1806)","v":3668.610595703125},null,null,{"$f":"AE44*-M$4*10","v":3090},{"$f":"(IF((C44-L$2)>0,((C44-L$2-L$5)/((L$4*L$2)-L$5)*G44*-1),((C44-L$2+L$5)/((L$4*L$2)-L$5)*G44*-1)))","v":-26.781005859375},-15.700227165222168,null,null,null,null,null,null,null,null,null,null,null,"T-70 sec",40098.101574074142,{"$f":"LOOKUP($V44,Data!$A$6:$A$1806,Data!$B$6:$B$1806)","v":60.0260009765625},{"$f":"LOOKUP($V44,Data!$A$6:$A$1806,Data!$C$6:$C$1806)","v":3668.610595703125},{"$f":"LOOKUP($V44,Data!$A$6:$A$1806,Data!$D$6:$D$1806)","v":350},{"$f":"IF($Z$1=\"+\",LOOKUP($V44,Data!$A$6:$A$1806,Data!$E$6:$E$1806)*-1,LOOKUP($V44,Data!$A$6:$A$1806,Data!$E$6:$E$1806))","v":155.53170776367187},{"$f":"LOOKUP($V44,Data!$A$6:$A$1806,Data!$F$6:$F$1806)","v":0},null,{"$f":"LOOKUP($V44,Data!$A$6:$A$1806,Data!$H$6:$H$1806)","v":10},{"$f":"LOOKUP($V44,Data!$A$6:$A$1806,Data!$I$6:$I$1806)","v":15},{"$f":"IF(LOOKUP($V44,Data!$A$6:$A$1806,Data!$J$6:$J$1806)>0,(LOOKUP($V44,Data!$A$6:$A$1806,Data!$J$6:$J$1806)*-1),LOOKUP($V44,Data!$A$6:$A$1806,Data!$J$6:$J$1806))","v":-103},{"$f":"LOOKUP($V44,Data!$A$6:$A$1806,Data!$K$6:$K$1806)","v":7641.24},{"$f":"(IF((W44-$L$2)>0,((W44-$L$2-$L$5)/(($L$4*$L$2)-$L$5)*G44*-1),((W44-$L$2+$L$5)/(($L$4*$L$2)-$L$5)*G44*-1)))","v":-26.781005859375},"T-70 sec",40098.101574074142,null,null,null,null,null,null,null,null,null,null,null,null,null,null,{"$f":"ABS(C44-60)","v":2.60009765625E-2},{"$f":"IF(AX44>0.036,AE44,\" \")","v":" "}]
["T-68 sec",40098.101597222289,{"$f":"LOOKUP(B45,Data!$A$6:$A$1806,Data!B$6:B$1806)","v":60.0260009765625},{"$f":"LOOKUP(B45,Data!$A$6:$A$1806,Data!C$6:C$1806)","v":3665.232177734375},null,null,3090,-26.781005859375,-19.578499708175659,null,null,null,null,null,null,null,null,null,null,null,"T-68 sec",40098.101597222289,{"$f":"LOOKUP($V45,Data!$A$6:$A$1806,Data!$B$6:$B$1806)","v":60.0260009765625},{"$f":"LOOKUP($V45,Data!$A$6:$A$1806,Data!$C$6:$C$1806)","v":3665.232177734375},{"$f":"LOOKUP($V45,Data!$A$6:$A$1806,Data!$D$6:$D$1806)","v":350},{"$f":"IF($Z$1=\"+\",LOOKUP($V45,Data!$A$6:$A$1806,Data!$E$6:$E$1806)*-1,LOOKUP($V45,Data!$A$6:$A$1806,Data!$E$6:$E$1806))","v":155.53170776367187},{"$f":"LOOKUP($V45,Data!$A$6:$A$1806,Data!$F$6:$F$1806)","v":0},null,{"$f":"LOOKUP($V45,Data!$A$6:$A$1806,Data!$H$6:$H$1806)","v":10},{"$f":"LOOKUP($V45,Data!$A$6:$A$1806,Data!$I$6:$I$1806)","v":15},{"$f":"IF(LOOKUP($V45,Data!$A$6:$A$1806,Data!$J$6:$J$1806)>0,(LOOKUP($V45,Data!$A$6:$A$1806,Data!$J$6:$J$1806)*-1),LOOKUP($V45,Data!$A$6:$A$1806,Data!$J$6:$J$1806))","v":-103},{"$f":"LOOKUP($V45,Data!$A$6:$A$1806,Data!$K$6:$K$1806)","v":7641.57},-26.781005859375,"T-68 sec",40098.101597222289,null,null,null,null,null,null,null,null,null,null,null,null,null,null,2.60009765625E-2," "]
["T-66 sec",{"$f":"B47-TIME(0,0,$B$1)","v":40098.101620370435},{"$f":"LOOKUP(B46,Data!$A$6:$A$1806,Data!B$6:B$1806)","v":60.021999359130859},{"$f":"LOOKUP(B46,Data!$A$6:$A$1806,Data!C$6:C$1806)","v":3664.4951171875},null,null,3090,-22.659339904785156,-20.656793776988984,null,null,null,null,null,null,null,null,null,null,null,"T-66 sec",40098.101620370435,{"$f":"LOOKUP($V46,Data!$A$6:$A$1806,Data!$B$6:$B$1806)","v":60.021999359130859},{"$f":"LOOKUP($V46,Data!$A$6:$A$1806,Data!$C$6:$C$1806)","v":3664.4951171875},{"$f":"LOOKUP($V46,Data!$A$6:$A$1806,Data!$D$6:$D$1806)","v":350},{"$f":"IF($Z$1=\"+\",LOOKUP($V46,Data!$A$6:$A$1806,Data!$E$6:$E$1806)*-1,LOOKUP($V46,Data!$A$6:$A$1806,Data!$E$6:$E$1806))","v":155.53170776367187},{"$f":"LOOKUP($V46,Data!$A$6:$A$1806,Data!$F$6:$F$1806)","v":0},null,{"$f":"LOOKUP($V46,Data!$A$6:$A$1806,Data!$H$6:$H$1806)","v":10},{"$f":"LOOKUP($V46,Data!$A$6:$A$1806,Data!$I$6:$I$1806)","v":15},{"$f":"IF(LOOKUP($V46,Data!$A$6:$A$1806,Data!$J$6:$J$1806)>0,(LOOKUP($V46,Data!$A$6:$A$1806,Data!$J$6:$J$1806)*-1),LOOKUP($V46,Data!$A$6:$A$1806,Data!$J$6:$J$1806))","v":-103},{"$f":"LOOKUP($V46,Data!$A$6:$A$1806,Data!$K$6:$K$1806)","v":7641.9},-22.659339904785156,"T-66 sec",40098.101620370435,null,null,null,null,null,null,null,null,null,null,null,null,null,null,2.1999359130859375E-2," "]
["T-64 sec",40098.101643518581,{"$f":"LOOKUP(B47,Data!$A$6:$A$1806,Data!B$6:B$1806)","v":60.019001007080078},{"$f":"LOOKUP(B47,Data!$A$6:$A$1806,Data!C$6:C$1806)","v":3666.061767578125},null,null,3090,-19.571037292480469,-20.276779007411005,null,null,null,null,null,null,null,null,null,null,null,"T-64 sec",40098.101643518581,{"$f":"LOOKUP($V47,Data!$A$6:$A$1806,Data!$B$6:$B$1806)","v":60.019001007080078},{"$f":"LOOKUP($V47,Data!$A$6:$A$1806,Data!$C$6:$C$1806)","v":3666.061767578125},{"$f":"LOOKUP($V47,Data!$A$6:$A$1806,Data!$D$6:$D$1806)","v":350},{"$f":"IF($Z$1=\"+\",LOOKUP($V47,Data!$A$6:$A$1806,Data!$E$6:$E$1806)*-1,LOOKUP($V47,Data!$A$6:$A$1806,Data!$E$6:$E$1806))","v":155.53170776367187},{"$f":"LOOKUP($V47,Data!$A$6:$A$1806,Data!$F$6:$F$1806)","v":0},null,{"$f":"LOOKUP($V47,Data!$A$6:$A$1806,Data!$H$6:$H$1806)","v":10},{"$f":"LOOKUP($V47,Data!$A$6:$A$1806,Data!$I$6:$I$1806)","v":15},{"$f":"IF(LOOKUP($V47,Data!$A$6:$A$1806,Data!$J$6:$J$1806)>0,(LOOKUP($V47,Data!$A$6:$A$1806,Data!$J$6:$J$1806)*-1),LOOKUP($V47,Data!$A$6:$A$1806,Data!$J$6:$J$1806))","v":-103},{"$f":"LOOKUP($V47,Data!$A$6:$A$1806,Data!$K$6:$K$1806)","v":7642.23},-19.571037292480469,"T-64 sec",40098.101643518581,null,null,null,null,null,null,null,null,null,null,null,null,null,null,1.9001007080078125E-2," "]
["T-62 sec",40098.101666666727,{"$f":"LOOKUP(B48,Data!$A$6:$A$1806,Data!B$6:B$1806)","v":60.016998291015625},{"$f":"LOOKUP(B48,Data!$A$6:$A$1806,Data!C$6:C$1806)","v":3666.82080078125},null,null,3090,-17.50823974609375,-19.307790265949969,null,null,null,null,null,null,null,null,null,null,null,"T-62 sec",40098.101666666727,{"$f":"LOOKUP($V48,Data!$A$6:$A$1806,Data!$B$6:$B$1806)","v":60.016998291015625},{"$f":"LOOKUP($V48,Data!$A$6:$A$1806,Data!$C$6:$C$1806)","v":3666.82080078125},{"$f":"LOOKUP($V48,Data!$A$6:$A$1806,Data!$D$6:$D$1806)","v":350},{"$f":"IF($Z$1=\"+\",LOOKUP($V48,Data!$A$6:$A$1806,Data!$E$6:$E$1806)*-1,LOOKUP($V48,Data!$A$6:$A$1806,Data!$E$6:$E$1806))","v":155.53170776367187},{"$f":"LOOKUP($V48,Data!$A$6:$A$1806,Data!$F$6:$F$1806)","v":0},null,{"$f":"LOOKUP($V48,Data!$A$6:$A$1806,Data!$H$6:$H$1806)","v":10},{"$f":"LOOKUP($V48,Data!$A$6:$A$1806,Data!$I$6:$I$1806)","v":15},{"$f":"IF(LOOKUP($V48,Data!$A$6:$A$1806,Data!$J$6:$J$1806)>0,(LOOKUP($V48,Data!$A$6:$A$1806,Data!$J$6:$J$1806)*-1),LOOKUP($V48,Data!$A$6:$A$1806,Data!$J$6:$J$1806))","v":-103},{"$f":"LOOKUP($V48,Data!$A$6:$A$1806,Data!$K$6:$K$1806)","v":7642.56},-17.50823974609375,"T-62 sec",40098.101666666727,null,null,null,null,null,null,null,null,null,null,null,null,null,null,1.6998291015625E-2," "]
["T-60 sec",40098.101689814874,{"$f":"LOOKUP(B49,Data!$A$6:$A$1806,Data!B$6:B$1806)","v":60.019001007080078},{"$f":"LOOKUP(B49,Data!$A$6:$A$1806,Data!C$6:C$1806)","v":3666.787353515625},null,null,3090,-19.571037292480469,-19.399926725235645,null,null,{"$f":"(D$78-D$49-I$78+I$49)/29","v":-0.10173969058771765},{"$f":"M50-L49-(I50-I49)","v":3666.7873535156236},null,null,null,null,null,null,null,"T-60 sec",40098.101689814874,{"$f":"LOOKUP($V49,Data!$A$6:$A$1806,Data!$B$6:$B$1806)","v":60.019001007080078},{"$f":"LOOKUP($V49,Data!$A$6:$A$1806,Data!$C$6:$C$1806)","v":3666.787353515625},{"$f":"LOOKUP($V49,Data!$A$6:$A$1806,Data!$D$6:$D$1806)","v":350},{"$f":"IF($Z$1=\"+\",LOOKUP($V49,Data!$A$6:$A$1806,Data!$E$6:$E$1806)*-1,LOOKUP($V49,Data!$A$6:$A$1806,Data!$E$6:$E$1806))","v":160.44723510742187},{"$f":"LOOKUP($V49,Data!$A$6:$A$1806,Data!$F$6:$F$1806)","v":0},null,{"$f":"LOOKUP($V49,Data!$A$6:$A$1806,Data!$H$6:$H$1806)","v":10},{"$f":"LOOKUP($V49,Data!$A$6:$A$1806,Data!$I$6:$I$1806)","v":15},{"$f":"IF(LOOKUP($V49,Data!$A$6:$A$1806,Data!$J$6:$J$1806)>0,(LOOKUP($V49,Data!$A$6:$A$1806,Data!$J$6:$J$1806)*-1),LOOKUP($V49,Data!$A$6:$A$1806,Data!$J$6:$J$1806))","v":-103},{"$f":"LOOKUP($V49,Data!$A$6:$A$1806,Data!$K$6:$K$1806)","v":7642.89},-19.571037292480469,"T-60 sec",40098.101689814874,null,null,null,null,null,null,null,null,null,null,null,null,null,null,1.9001007080078125E-2," "]
["T-58 sec",40098.10171296302,{"$f":"LOOKUP(B50,Data!$A$6:$A$1806,Data!B$6:B$1806)","v":60.020000457763672},{"$f":"LOOKUP(B50,Data!$A$6:$A$1806,Data!C$6:C$1806)","v":3670.45361328125},null,null,3090,-20.600471496582031,-19.820117395206879,null,null,-0.10173969058771765,{"$f":"M51-L50-(I51-I50)","v":3666.2654231550646},null,null,null,null,null,null,null,"T-58 sec",40098.10171296302,{"$f":"LOOKUP($V50,Data!$A$6:$A$1806,Data!$B$6:$B$1806)","v":60.020000457763672},{"$f":"LOOKUP($V50,Data!$A$6:$A$1806,Data!$C$6:$C$1806)","v":3670.45361328125},{"$f":"LOOKUP($V50,Data!$A$6:$A$1806,Data!$D$6:$D$1806)","v":350},{"$f":"IF($Z$1=\"+\",LOOKUP($V50,Data!$A$6:$A$1806,Data!$E$6:$E$1806)*-1,LOOKUP($V50,Data!$A$6:$A$1806,Data!$E$6:$E$1806))","v":160.44723510742187},{"$f":"LOOKUP($V50,Data!$A$6:$A$1806,Data!$F$6:$F$1806)","v":0},null,{"$f":"LOOKUP($V50,Data!$A$6:$A$1806,Data!$H$6:$H$1806)","v":10},{"$f":"LOOKUP($V50,Data!$A$6:$A$1806,Data!$I$6:$I$1806)","v":15},{"$f":"IF(LOOKUP($V50,Data!$A$6:$A$1806,Data!$J$6:$J$1806)>0,(LOOKUP($V50,Data!$A$6:$A$1806,Data!$J$6:$J$1806)*-1),LOOKUP($V50,Data!$A$6:$A$1806,Data!$J$6:$J$1806))","v":-103},{"$f":"LOOKUP($V50,Data!$A$6:$A$1806,Data!$K$6:$K$1806)","v":7643.22},-20.600471496582031,"T-58 sec",40098.10171296302,null,null,null,null,null,null,null,null,null,null,null,null,null,null,2.0000457763671875E-2," "]
["T-56 sec",40098.101736111166,{"$f":"LOOKUP(B51,Data!$A$6:$A$1806,Data!B$6:B$1806)","v":60.019001007080078},{"$f":"LOOKUP(B51,Data!$A$6:$A$1806,Data!C$6:C$1806)","v":3670.266845703125},null,null,3090,-19.571037292480469,-19.732939359252633,null,null,-0.10173969058771765,3666.2508615004313,null,null,null,null,null,null,null,"T-56 sec",40098.101736111166,{"$f":"LOOKUP($V51,Data!$A$6:$A$1806,Data!$B$6:$B$1806)","v":60.019001007080078},{"$f":"LOOKUP($V51,Data!$A$6:$A$1806,Data!$C$6:$C$1806)","v":3670.266845703125},{"$f":"LOOKUP($V51,Data!$A$6:$A$1806,Data!$D$6:$D$1806)","v":350},{"$f":"IF($Z$1=\"+\",LOOKUP($V51,Data!$A$6:$A$1806,Data!$E$6:$E$1806)*-1,LOOKUP($V51,Data!$A$6:$A$1806,Data!$E$6:$E$1806))","v":160.44723510742187},{"$f":"LOOKUP($V51,Data!$A$6:$A$1806,Data!$F$6:$F$1806)","v":0},null,{"$f":"LOOKUP($V51,Data!$A$6:$A$1806,Data!$H$6:$H$1806)","v":10},{"$f":"LOOKUP($V51,Data!$A$6:$A$1806,Data!$I$6:$I$1806)","v":15},{"$f":"IF(LOOKUP($V51,Data!$A$6:$A$1806,Data!$J$6:$J$1806)>0,(LOOKUP($V51,Data!$A$6:$A$1806,Data!$J$6:$J$1806)*-1),LOOKUP($V51,Data!$A$6:$A$1806,Data!$J$6:$J$1806))","v":-103},{"$f":"LOOKUP($V51,Data!$A$6:$A$1806,Data!$K$6:$K$1806)","v":7643.55},-19.571037292480469,"T-56 sec",40098.101736111166,null,null,null,null,null,null,null,null,null,null,null,null,null,null,1.9001007080078125E-2," "]
["T-54 sec",40098.101759259313,{"$f":"LOOKUP(B52,Data!$A$6:$A$1806,Data!B$6:B$1806)","v":60.020999908447266},{"$f":"LOOKUP(B52,Data!$A$6:$A$1806,Data!C$6:C$1806)","v":3671.66796875},null,null,3090,-21.629905700683594,-20.396877578753468,null,null,-0.10173969058771765,3665.4851835903428,null,null,null,null,null,null,null,"T-54 sec",40098.101759259313,{"$f":"LOOKUP($V52,Data!$A$6:$A$1806,Data!$B$6:$B$1806)","v":60.020999908447266},{"$f":"LOOKUP($V52,Data!$A$6:$A$1806,Data!$C$6:$C$1806)","v":3671.66796875},{"$f":"LOOKUP($V52,Data!$A$6:$A$1806,Data!$D$6:$D$1806)","v":350},{"$f":"IF($Z$1=\"+\",LOOKUP($V52,Data!$A$6:$A$1806,Data!$E$6:$E$1806)*-1,LOOKUP($V52,Data!$A$6:$A$1806,Data!$E$6:$E$1806))","v":160.44723510742187},{"$f":"LOOKUP($V52,Data!$A$6:$A$1806,Data!$F$6:$F$1806)","v":0},null,{"$f":"LOOKUP($V52,Data!$A$6:$A$1806,Data!$H$6:$H$1806)","v":10},{"$f":"LOOKUP($V52,Data!$A$6:$A$1806,Data!$I$6:$I$1806)","v":15},{"$f":"IF(LOOKUP($V52,Data!$A$6:$A$1806,Data!$J$6:$J$1806)>0,(LOOKUP($V52,Data!$A$6:$A$1806,Data!$J$6:$J$1806)*-1),LOOKUP($V52,Data!$A$6:$A$1806,Data!$J$6:$J$1806))","v":-103},{"$f":"LOOKUP($V52,Data!$A$6:$A$1806,Data!$K$6:$K$1806)","v":7643.88},-21.629905700683594,"T-54 sec",40098.101759259313,null,null,null,null,null,null,null,null,null,null,null,null,null,null,2.0999908447265625E-2," "]
["T-52 sec",40098.101782407459,{"$f":"LOOKUP(B53,Data!$A$6:$A$1806,Data!B$6:B$1806)","v":60.020999908447266},{"$f":"LOOKUP(B53,Data!$A$6:$A$1806,Data!C$6:C$1806)","v":3672.4931640625},null,null,3090,-21.629905700683594,-20.828437421429012,null,null,-0.10173969058771765,3664.9518840570795,null,null,null,null,null,null,null,"T-52 sec",40098.101782407459,{"$f":"LOOKUP($V53,Data!$A$6:$A$1806,Data!$B$6:$B$1806)","v":60.020999908447266},{"$f":"LOOKUP($V53,Data!$A$6:$A$1806,Data!$C$6:$C$1806)","v":3672.4931640625},{"$f":"LOOKUP($V53,Data!$A$6:$A$1806,Data!$D$6:$D$1806)","v":350},{"$f":"IF($Z$1=\"+\",LOOKUP($V53,Data!$A$6:$A$1806,Data!$E$6:$E$1806)*-1,LOOKUP($V53,Data!$A$6:$A$1806,Data!$E$6:$E$1806))","v":160.44723510742187},{"$f":"LOOKUP($V53,Data!$A$6:$A$1806,Data!$F$6:$F$1806)","v":0},null,{"$f":"LOOKUP($V53,Data!$A$6:$A$1806,Data!$H$6:$H$1806)","v":10},{"$f":"LOOKUP($V53,Data!$A$6:$A$1806,Data!$I$6:$I$1806)","v":15},{"$f":"IF(LOOKUP($V53,Data!$A$6:$A$1806,Data!$J$6:$J$1806)>0,(LOOKUP($V53,Data!$A$6:$A$1806,Data!$J$6:$J$1806)*-1),LOOKUP($V53,Data!$A$6:$A$1806,Data!$J$6:$J$1806))","v":-103},{"$f":"LOOKUP($V53,Data!$A$6:$A$1806,Data!$K$6:$K$1806)","v":7644.21},-21.629905700683594,"T-52 sec",40098.101782407459,null,null,null,null,null,null,null,null,null,null,null,null,null,null,2.0999908447265625E-2," "]
["T-50 sec",40098.101805555605,{"$f":"LOOKUP(B54,Data!$A$6:$A$1806,Data!B$6:B$1806)","v":60.020999908447266},{"$f":"LOOKUP(B54,Data!$A$6:$A$1806,Data!C$6:C$1806)","v":3672.68505859375},null,null,3090,-21.629905700683594,-21.108951319168114,null,null,-0.10173969058771765,3664.5696304687526,null,null,null,null,null,null,null,"T-50 sec",40098.101805555605,{"$f":"LOOKUP($V54,Data!$A$6:$A$1806,Data!$B$6:$B$1806)","v":60.020999908447266},{"$f":"LOOKUP($V54,Data!$A$6:$A$1806,Data!$C$6:$C$1806)","v":3672.68505859375},{"$f":"LOOKUP($V54,Data!$A$6:$A$1806,Data!$D$6:$D$1806)","v":350},{"$f":"IF($Z$1=\"+\",LOOKUP($V54,Data!$A$6:$A$1806,Data!$E$6:$E$1806)*-1,LOOKUP($V54,Data!$A$6:$A$1806,Data!$E$6:$E$1806))","v":163.95860290527344},{"$f":"LOOKUP($V54,Data!$A$6:$A$1806,Data!$F$6:$F$1806)","v":0},null,{"$f":"LOOKUP($V54,Data!$A$6:$A$1806,Data!$H$6:$H$1806)","v":10},{"$f":"LOOKUP($V54,Data!$A$6:$A$1806,Data!$I$6:$I$1806)","v":15},{"$f":"IF(LOOKUP($V54,Data!$A$6:$A$1806,Data!$J$6:$J$1806)>0,(LOOKUP($V54,Data!$A$6:$A$1806,Data!$J$6:$J$1806)*-1),LOOKUP($V54,Data!$A$6:$A$1806,Data!$J$6:$J$1806))","v":-103},{"$f":"LOOKUP($V54,Data!$A$6:$A$1806,Data!$K$6:$K$1806)","v":7644.54},-21.629905700683594,"T-50 sec",40098.101805555605,null,null,null,null,null,null,null,null,null,null,null,null,null,null,2.0999908447265625E-2," "]
["T-48 sec",40098.101828703751,{"$f":"LOOKUP(B55,Data!$A$6:$A$1806,Data!B$6:B$1806)","v":60.019001007080078},{"$f":"LOOKUP(B55,Data!$A$6:$A$1806,Data!C$6:C$1806)","v":3672.857421875},null,null,3090,-19.571037292480469,-20.570681409827436,null,null,-0.10173969058771765,3665.0061606875056,null,null,null,null,null,null,null,"T-48 sec",40098.101828703751,{"$f":"LOOKUP($V55,Data!$A$6:$A$1806,Data!$B$6:$B$1806)","v":60.019001007080078},{"$f":"LOOKUP($V55,Data!$A$6:$A$1806,Data!$C$6:$C$1806)","v":3672.857421875},{"$f":"LOOKUP($V55,Data!$A$6:$A$1806,Data!$D$6:$D$1806)","v":350},{"$f":"IF($Z$1=\"+\",LOOKUP($V55,Data!$A$6:$A$1806,Data!$E$6:$E$1806)*-1,LOOKUP($V55,Data!$A$6:$A$1806,Data!$E$6:$E$1806))","v":163.95860290527344},{"$f":"LOOKUP($V55,Data!$A$6:$A$1806,Data!$F$6:$F$1806)","v":0},null,{"$f":"LOOKUP($V55,Data!$A$6:$A$1806,Data!$H$6:$H$1806)","v":10},{"$f":"LOOKUP($V55,Data!$A$6:$A$1806,Data!$I$6:$I$1806)","v":15},{"$f":"IF(LOOKUP($V55,Data!$A$6:$A$1806,Data!$J$6:$J$1806)>0,(LOOKUP($V55,Data!$A$6:$A$1806,Data!$J$6:$J$1806)*-1),LOOKUP($V55,Data!$A$6:$A$1806,Data!$J$6:$J$1806))","v":-103},{"$f":"LOOKUP($V55,Data!$A$6:$A$1806,Data!$K$6:$K$1806)","v":7644.87},-19.571037292480469,"T-48 sec",40098.101828703751,null,null,null,null,null,null,null,null,null,null,null,null,null,null,1.9001007080078125E-2," "]
["T-46 sec",40098.101851851898,{"$f":"LOOKUP(B56,Data!$A$6:$A$1806,Data!B$6:B$1806)","v":60.018001556396484},{"$f":"LOOKUP(B56,Data!$A$6:$A$1806,Data!C$6:C$1806)","v":3672.1640625},null,null,3090,-18.541603088378906,-19.86050399732045,null,null,-0.10173969058771765,3665.6145984094251,null,null,null,null,null,null,null,"T-46 sec",40098.101851851898,{"$f":"LOOKUP($V56,Data!$A$6:$A$1806,Data!$B$6:$B$1806)","v":60.018001556396484},{"$f":"LOOKUP($V56,Data!$A$6:$A$1806,Data!$C$6:$C$1806)","v":3672.1640625},{"$f":"LOOKUP($V56,Data!$A$6:$A$1806,Data!$D$6:$D$1806)","v":350},{"$f":"IF($Z$1=\"+\",LOOKUP($V56,Data!$A$6:$A$1806,Data!$E$6:$E$1806)*-1,LOOKUP($V56,Data!$A$6:$A$1806,Data!$E$6:$E$1806))","v":163.95860290527344},{"$f":"LOOKUP($V56,Data!$A$6:$A$1806,Data!$F$6:$F$1806)","v":0},null,{"$f":"LOOKUP($V56,Data!$A$6:$A$1806,Data!$H$6:$H$1806)","v":10},{"$f":"LOOKUP($V56,Data!$A$6:$A$1806,Data!$I$6:$I$1806)","v":15},{"$f":"IF(LOOKUP($V56,Data!$A$6:$A$1806,Data!$J$6:$J$1806)>0,(LOOKUP($V56,Data!$A$6:$A$1806,Data!$J$6:$J$1806)*-1),LOOKUP($V56,Data!$A$6:$A$1806,Data!$J$6:$J$1806))","v":-103},{"$f":"LOOKUP($V56,Data!$A$6:$A$1806,Data!$K$6:$K$1806)","v":7645.2},-18.541603088378906,"T-46 sec",40098.101851851898,null,null,null,null,null,null,null,null,null,null,null,null,null,null,1.8001556396484375E-2," "]
["T-44 sec",40098.101875000044,{"$f":"LOOKUP(B57,Data!$A$6:$A$1806,Data!B$6:B$1806)","v":60.021999359130859},{"$f":"LOOKUP(B57,Data!$A$6:$A$1806,Data!C$6:C$1806)","v":3671.4130859375},null,null,3090,-22.659339904785156,-20.840096564933095,null,null,-0.10173969058771765,3664.5332661512248,null,null,null,null,null,null,null,"T-44 sec",40098.101875000044,{"$f":"LOOKUP($V57,Data!$A$6:$A$1806,Data!$B$6:$B$1806)","v":60.021999359130859},{"$f":"LOOKUP($V57,Data!$A$6:$A$1806,Data!$C$6:$C$1806)","v":3671.4130859375},{"$f":"LOOKUP($V57,Data!$A$6:$A$1806,Data!$D$6:$D$1806)","v":350},{"$f":"IF($Z$1=\"+\",LOOKUP($V57,Data!$A$6:$A$1806,Data!$E$6:$E$1806)*-1,LOOKUP($V57,Data!$A$6:$A$1806,Data!$E$6:$E$1806))","v":163.95860290527344},{"$f":"LOOKUP($V57,Data!$A$6:$A$1806,Data!$F$6:$F$1806)","v":0},null,{"$f":"LOOKUP($V57,Data!$A$6:$A$1806,Data!$H$6:$H$1806)","v":10},{"$f":"LOOKUP($V57,Data!$A$6:$A$1806,Data!$I$6:$I$1806)","v":15},{"$f":"IF(LOOKUP($V57,Data!$A$6:$A$1806,Data!$J$6:$J$1806)>0,(LOOKUP($V57,Data!$A$6:$A$1806,Data!$J$6:$J$1806)*-1),LOOKUP($V57,Data!$A$6:$A$1806,Data!$J$6:$J$1806))","v":-103},{"$f":"LOOKUP($V57,Data!$A$6:$A$1806,Data!$K$6:$K$1806)","v":7645.53},-22.659339904785156,"T-44 sec",40098.101875000044,null,null,null,null,null,null,null,null,null,null,null,null,null,null,2.1999359130859375E-2," "]
["T-42 sec",40098.10189814819,{"$f":"LOOKUP(B58,Data!$A$6:$A$1806,Data!B$6:B$1806)","v":60.030998229980469},{"$f":"LOOKUP(B58,Data!$A$6:$A$1806,Data!C$6:C$1806)","v":3669.98291015625},null,null,3090,-31.928176879882809,-24.720924675165495,null,null,-0.10173969058771765,3660.5506983504047,null,null,null,null,null,null,null,"T-42 sec",40098.10189814819,{"$f":"LOOKUP($V58,Data!$A$6:$A$1806,Data!$B$6:$B$1806)","v":60.030998229980469},{"$f":"LOOKUP($V58,Data!$A$6:$A$1806,Data!$C$6:$C$1806)","v":3669.98291015625},{"$f":"LOOKUP($V58,Data!$A$6:$A$1806,Data!$D$6:$D$1806)","v":350},{"$f":"IF($Z$1=\"+\",LOOKUP($V58,Data!$A$6:$A$1806,Data!$E$6:$E$1806)*-1,LOOKUP($V58,Data!$A$6:$A$1806,Data!$E$6:$E$1806))","v":163.95860290527344},{"$f":"LOOKUP($V58,Data!$A$6:$A$1806,Data!$F$6:$F$1806)","v":0},null,{"$f":"LOOKUP($V58,Data!$A$6:$A$1806,Data!$H$6:$H$1806)","v":10},{"$f":"LOOKUP($V58,Data!$A$6:$A$1806,Data!$I$6:$I$1806)","v":15},{"$f":"IF(LOOKUP($V58,Data!$A$6:$A$1806,Data!$J$6:$J$1806)>0,(LOOKUP($V58,Data!$A$6:$A$1806,Data!$J$6:$J$1806)*-1),LOOKUP($V58,Data!$A$6:$A$1806,Data!$J$6:$J$1806))","v":-103},{"$f":"LOOKUP($V58,Data!$A$6:$A$1806,Data!$K$6:$K$1806)","v":7645.86},-31.928176879882809,"T-42 sec",40098.10189814819,null,null,null,null,null,null,null,null,null,null,null,null,null,null,3.099822998046875E-2," "]
["T-40 sec",40098.101921296337,{"$f":"LOOKUP(B59,Data!$A$6:$A$1806,Data!B$6:B$1806)","v":60.036998748779297},{"$f":"LOOKUP(B59,Data!$A$6:$A$1806,Data!C$6:C$1806)","v":3666.46728515625},null,null,3090,-38.108711242675781,-29.406649973794096,null,null,-0.10173969058771765,3655.7632333611882,null,null,null,null,null,null,null,"T-40 sec",40098.101921296337,{"$f":"LOOKUP($V59,Data!$A$6:$A$1806,Data!$B$6:$B$1806)","v":60.036998748779297},{"$f":"LOOKUP($V59,Data!$A$6:$A$1806,Data!$C$6:$C$1806)","v":3666.46728515625},{"$f":"LOOKUP($V59,Data!$A$6:$A$1806,Data!$D$6:$D$1806)","v":350},{"$f":"IF($Z$1=\"+\",LOOKUP($V59,Data!$A$6:$A$1806,Data!$E$6:$E$1806)*-1,LOOKUP($V59,Data!$A$6:$A$1806,Data!$E$6:$E$1806))","v":166.07244873046875},{"$f":"LOOKUP($V59,Data!$A$6:$A$1806,Data!$F$6:$F$1806)","v":0},null,{"$f":"LOOKUP($V59,Data!$A$6:$A$1806,Data!$H$6:$H$1806)","v":10},{"$f":"LOOKUP($V59,Data!$A$6:$A$1806,Data!$I$6:$I$1806)","v":15},{"$f":"IF(LOOKUP($V59,Data!$A$6:$A$1806,Data!$J$6:$J$1806)>0,(LOOKUP($V59,Data!$A$6:$A$1806,Data!$J$6:$J$1806)*-1),LOOKUP($V59,Data!$A$6:$A$1806,Data!$J$6:$J$1806))","v":-103},{"$f":"LOOKUP($V59,Data!$A$6:$A$1806,Data!$K$6:$K$1806)","v":7646.19},-38.108711242675781,"T-40 sec",40098.101921296337,null,null,null,null,null,null,null,null,null,null,null,null,null,null,3.6998748779296875E-2,-103]
["T-38 sec",40098.101944444483,{"$f":"LOOKUP(B60,Data!$A$6:$A$1806,Data!B$6:B$1806)","v":60.036998748779297},{"$f":"LOOKUP(B60,Data!$A$6:$A$1806,Data!C$6:C$1806)","v":3663.758056640625},null,null,3090,-38.108711242675781,-32.452371417902683,null,null,-0.10173969058771765,3652.615772226492,null,null,null,null,null,null,null,"T-38 sec",40098.101944444483,{"$f":"LOOKUP($V60,Data!$A$6:$A$1806,Data!$B$6:$B$1806)","v":60.036998748779297},{"$f":"LOOKUP($V60,Data!$A$6:$A$1806,Data!$C$6:$C$1806)","v":3663.758056640625},{"$f":"LOOKUP($V60,Data!$A$6:$A$1806,Data!$D$6:$D$1806)","v":350},{"$f":"IF($Z$1=\"+\",LOOKUP($V60,Data!$A$6:$A$1806,Data!$E$6:$E$1806)*-1,LOOKUP($V60,Data!$A$6:$A$1806,Data!$E$6:$E$1806))","v":166.07244873046875},{"$f":"LOOKUP($V60,Data!$A$6:$A$1806,Data!$F$6:$F$1806)","v":0},null,{"$f":"LOOKUP($V60,Data!$A$6:$A$1806,Data!$H$6:$H$1806)","v":10},{"$f":"LOOKUP($V60,Data!$A$6:$A$1806,Data!$I$6:$I$1806)","v":15},{"$f":"IF(LOOKUP($V60,Data!$A$6:$A$1806,Data!$J$6:$J$1806)>0,(LOOKUP($V60,Data!$A$6:$A$1806,Data!$J$6:$J$1806)*-1),LOOKUP($V60,Data!$A$6:$A$1806,Data!$J$6:$J$1806))","v":-103},{"$f":"LOOKUP($V60,Data!$A$6:$A$1806,Data!$K$6:$K$1806)","v":7646.52},-38.108711242675781,"T-38 sec",40098.101944444483,null,null,null,null,null,null,null,null,null,null,null,null,null,null,3.6998748779296875E-2,-103]
["T-36 sec",40098.101967592629,{"$f":"LOOKUP(B61,Data!$A$6:$A$1806,Data!B$6:B$1806)","v":60.035999298095703},{"$f":"LOOKUP(B61,Data!$A$6:$A$1806,Data!C$6:C$1806)","v":3661.59912109375},null,null,3090,-37.079277038574219,-34.071788385137722,null,null,-0.10173969058771765,3650.8946155686695,null,null,null,null,null,null,null,"T-36 sec",40098.101967592629,{"$f":"LOOKUP($V61,Data!$A$6:$A$1806,Data!$B$6:$B$1806)","v":60.035999298095703},{"$f":"LOOKUP($V61,Data!$A$6:$A$1806,Data!$C$6:$C$1806)","v":3661.59912109375},{"$f":"LOOKUP($V61,Data!$A$6:$A$1806,Data!$D$6:$D$1806)","v":350},{"$f":"IF($Z$1=\"+\",LOOKUP($V61,Data!$A$6:$A$1806,Data!$E$6:$E$1806)*-1,LOOKUP($V61,Data!$A$6:$A$1806,Data!$E$6:$E$1806))","v":166.07244873046875},{"$f":"LOOKUP($V61,Data!$A$6:$A$1806,Data!$F$6:$F$1806)","v":0},null,{"$f":"LOOKUP($V61,Data!$A$6:$A$1806,Data!$H$6:$H$1806)","v":10},{"$f":"LOOKUP($V61,Data!$A$6:$A$1806,Data!$I$6:$I$1806)","v":15},{"$f":"IF(LOOKUP($V61,Data!$A$6:$A$1806,Data!$J$6:$J$1806)>0,(LOOKUP($V61,Data!$A$6:$A$1806,Data!$J$6:$J$1806)*-1),LOOKUP($V61,Data!$A$6:$A$1806,Data!$J$6:$J$1806))","v":-103},{"$f":"LOOKUP($V61,Data!$A$6:$A$1806,Data!$K$6:$K$1806)","v":7646.85},-37.079277038574219,"T-36 sec",40098.101967592629,null,null,null,null,null,null,null,null,null,null,null,null,null,null,3.5999298095703125E-2," "]
["T-34 sec",40098.101990740775,{"$f":"LOOKUP(B62,Data!$A$6:$A$1806,Data!B$6:B$1806)","v":60.036998748779297},{"$f":"LOOKUP(B62,Data!$A$6:$A$1806,Data!C$6:C$1806)","v":3660.67236328125},null,null,3090,-38.108711242675781,-35.484711385276043,null,null,-0.10173969058771765,3649.3799528779437,null,null,null,null,null,null,null,"T-34 sec",40098.101990740775,{"$f":"LOOKUP($V62,Data!$A$6:$A$1806,Data!$B$6:$B$1806)","v":60.036998748779297},{"$f":"LOOKUP($V62,Data!$A$6:$A$1806,Data!$C$6:$C$1806)","v":3660.67236328125},{"$f":"LOOKUP($V62,Data!$A$6:$A$1806,Data!$D$6:$D$1806)","v":350},{"$f":"IF($Z$1=\"+\",LOOKUP($V62,Data!$A$6:$A$1806,Data!$E$6:$E$1806)*-1,LOOKUP($V62,Data!$A$6:$A$1806,Data!$E$6:$E$1806))","v":166.07244873046875},{"$f":"LOOKUP($V62,Data!$A$6:$A$1806,Data!$F$6:$F$1806)","v":0},null,{"$f":"LOOKUP($V62,Data!$A$6:$A$1806,Data!$H$6:$H$1806)","v":10},{"$f":"LOOKUP($V62,Data!$A$6:$A$1806,Data!$I$6:$I$1806)","v":15},{"$f":"IF(LOOKUP($V62,Data!$A$6:$A$1806,Data!$J$6:$J$1806)>0,(LOOKUP($V62,Data!$A$6:$A$1806,Data!$J$6:$J$1806)*-1),LOOKUP($V62,Data!$A$6:$A$1806,Data!$J$6:$J$1806))","v":-103},{"$f":"LOOKUP($V62,Data!$A$6:$A$1806,Data!$K$6:$K$1806)","v":7647.18},-38.108711242675781,"T-34 sec",40098.101990740775,null,null,null,null,null,null,null,null,null,null,null,null,null,null,3.6998748779296875E-2,-103]
["T-32 sec",40098.102013888922,{"$f":"LOOKUP(B63,Data!$A$6:$A$1806,Data!B$6:B$1806)","v":60.046001434326172},{"$f":"LOOKUP(B63,Data!$A$6:$A$1806,Data!C$6:C$1806)","v":3651.49169921875},null,null,3090,-47.381477355957031,-39.648579475014387,null,null,-0.10173969058771765,3645.1143450976178,null,null,null,null,null,null,null,"T-32 sec",40098.102013888922,{"$f":"LOOKUP($V63,Data!$A$6:$A$1806,Data!$B$6:$B$1806)","v":60.046001434326172},{"$f":"LOOKUP($V63,Data!$A$6:$A$1806,Data!$C$6:$C$1806)","v":3651.49169921875},{"$f":"LOOKUP($V63,Data!$A$6:$A$1806,Data!$D$6:$D$1806)","v":350},{"$f":"IF($Z$1=\"+\",LOOKUP($V63,Data!$A$6:$A$1806,Data!$E$6:$E$1806)*-1,LOOKUP($V63,Data!$A$6:$A$1806,Data!$E$6:$E$1806))","v":166.07244873046875},{"$f":"LOOKUP($V63,Data!$A$6:$A$1806,Data!$F$6:$F$1806)","v":0},null,{"$f":"LOOKUP($V63,Data!$A$6:$A$1806,Data!$H$6:$H$1806)","v":10},{"$f":"LOOKUP($V63,Data!$A$6:$A$1806,Data!$I$6:$I$1806)","v":15},{"$f":"IF(LOOKUP($V63,Data!$A$6:$A$1806,Data!$J$6:$J$1806)>0,(LOOKUP($V63,Data!$A$6:$A$1806,Data!$J$6:$J$1806)*-1),LOOKUP($V63,Data!$A$6:$A$1806,Data!$J$6:$J$1806))","v":-103},{"$f":"LOOKUP($V63,Data!$A$6:$A$1806,Data!$K$6:$K$1806)","v":7647.51},-47.381477355957031,"T-32 sec",40098.102013888922,null,null,null,null,null,null,null,null,null,null,null,null,null,null,4.6001434326171875E-2,-103]
["T-30 sec",40098.102037037068,{"$f":"LOOKUP(B64,Data!$A$6:$A$1806,Data!B$6:B$1806)","v":60.048000335693359},{"$f":"LOOKUP(B64,Data!$A$6:$A$1806,Data!C$6:C$1806)","v":3649.1904296875},null,null,3090,-49.440345764160149,-43.075697676215398,null,null,-0.10173969058771765,3641.5854872058289,null,null,null,null,null,null,null,"T-30 sec",40098.102037037068,{"$f":"LOOKUP($V64,Data!$A$6:$A$1806,Data!$B$6:$B$1806)","v":60.048000335693359},{"$f":"LOOKUP($V64,Data!$A$6:$A$1806,Data!$C$6:$C$1806)","v":3649.1904296875},{"$f":"LOOKUP($V64,Data!$A$6:$A$1806,Data!$D$6:$D$1806)","v":350},{"$f":"IF($Z$1=\"+\",LOOKUP($V64,Data!$A$6:$A$1806,Data!$E$6:$E$1806)*-1,LOOKUP($V64,Data!$A$6:$A$1806,Data!$E$6:$E$1806))","v":163.76658630371094},{"$f":"LOOKUP($V64,Data!$A$6:$A$1806,Data!$F$6:$F$1806)","v":0},null,{"$f":"LOOKUP($V64,Data!$A$6:$A$1806,Data!$H$6:$H$1806)","v":10},{"$f":"LOOKUP($V64,Data!$A$6:$A$1806,Data!$I$6:$I$1806)","v":15},{"$f":"IF(LOOKUP($V64,Data!$A$6:$A$1806,Data!$J$6:$J$1806)>0,(LOOKUP($V64,Data!$A$6:$A$1806,Data!$J$6:$J$1806)*-1),LOOKUP($V64,Data!$A$6:$A$1806,Data!$J$6:$J$1806))","v":-103},{"$f":"LOOKUP($V64,Data!$A$6:$A$1806,Data!$K$6:$K$1806)","v":7647.84},-49.440345764160149,"T-30 sec",40098.102037037068,null,null,null,null,null,null,null,null,null,null,null,null,null,null,4.8000335693359375E-2,-103]
["T-28 sec",40098.102060185214,{"$f":"LOOKUP(B65,Data!$A$6:$A$1806,Data!B$6:B$1806)","v":60.048000335693359},{"$f":"LOOKUP(B65,Data!$A$6:$A$1806,Data!C$6:C$1806)","v":3650.025146484375},null,null,3090,-49.440345764160149,-45.303324506996063,null,null,-0.10173969058771765,3639.2561206844607,null,null,null,null,null,null,null,"T-28 sec",40098.102060185214,{"$f":"LOOKUP($V65,Data!$A$6:$A$1806,Data!$B$6:$B$1806)","v":60.048000335693359},{"$f":"LOOKUP($V65,Data!$A$6:$A$1806,Data!$C$6:$C$1806)","v":3650.025146484375},{"$f":"LOOKUP($V65,Data!$A$6:$A$1806,Data!$D$6:$D$1806)","v":350},{"$f":"IF($Z$1=\"+\",LOOKUP($V65,Data!$A$6:$A$1806,Data!$E$6:$E$1806)*-1,LOOKUP($V65,Data!$A$6:$A$1806,Data!$E$6:$E$1806))","v":163.76658630371094},{"$f":"LOOKUP($V65,Data!$A$6:$A$1806,Data!$F$6:$F$1806)","v":0},null,{"$f":"LOOKUP($V65,Data!$A$6:$A$1806,Data!$H$6:$H$1806)","v":10},{"$f":"LOOKUP($V65,Data!$A$6:$A$1806,Data!$I$6:$I$1806)","v":15},{"$f":"IF(LOOKUP($V65,Data!$A$6:$A$1806,Data!$J$6:$J$1806)>0,(LOOKUP($V65,Data!$A$6:$A$1806,Data!$J$6:$J$1806)*-1),LOOKUP($V65,Data!$A$6:$A$1806,Data!$J$6:$J$1806))","v":-103},{"$f":"LOOKUP($V65,Data!$A$6:$A$1806,Data!$K$6:$K$1806)","v":7648.17},-49.440345764160149,"T-28 sec",40098.102060185214,null,null,null,null,null,null,null,null,null,null,null,null,null,null,4.8000335693359375E-2,-103]
["T-26 sec",40098.10208333336,{"$f":"LOOKUP(B66,Data!$A$6:$A$1806,Data!B$6:B$1806)","v":60.042999267578125},{"$f":"LOOKUP(B66,Data!$A$6:$A$1806,Data!C$6:C$1806)","v":3648.246337890625},null,null,3090,-44.28924560546875,-44.948396891461499,null,null,-0.10173969058771765,3639.5093086094075,null,null,null,null,null,null,null,"T-26 sec",40098.10208333336,{"$f":"LOOKUP($V66,Data!$A$6:$A$1806,Data!$B$6:$B$1806)","v":60.042999267578125},{"$f":"LOOKUP($V66,Data!$A$6:$A$1806,Data!$C$6:$C$1806)","v":3648.246337890625},{"$f":"LOOKUP($V66,Data!$A$6:$A$1806,Data!$D$6:$D$1806)","v":350},{"$f":"IF($Z$1=\"+\",LOOKUP($V66,Data!$A$6:$A$1806,Data!$E$6:$E$1806)*-1,LOOKUP($V66,Data!$A$6:$A$1806,Data!$E$6:$E$1806))","v":163.76658630371094},{"$f":"LOOKUP($V66,Data!$A$6:$A$1806,Data!$F$6:$F$1806)","v":0},null,{"$f":"LOOKUP($V66,Data!$A$6:$A$1806,Data!$H$6:$H$1806)","v":10},{"$f":"LOOKUP($V66,Data!$A$6:$A$1806,Data!$I$6:$I$1806)","v":15},{"$f":"IF(LOOKUP($V66,Data!$A$6:$A$1806,Data!$J$6:$J$1806)>0,(LOOKUP($V66,Data!$A$6:$A$1806,Data!$J$6:$J$1806)*-1),LOOKUP($V66,Data!$A$6:$A$1806,Data!$J$6:$J$1806))","v":-103},{"$f":"LOOKUP($V66,Data!$A$6:$A$1806,Data!$K$6:$K$1806)","v":7648.5},-44.28924560546875,"T-26 sec",40098.10208333336,null,null,null,null,null,null,null,null,null,null,null,null,null,null,4.2999267578125E-2,-103]
["T-24 sec",40098.102106481507,{"$f":"LOOKUP(B67,Data!$A$6:$A$1806,Data!B$6:B$1806)","v":60.041000366210938},{"$f":"LOOKUP(B67,Data!$A$6:$A$1806,Data!C$6:C$1806)","v":3649.511962890625},null,null,3090,-42.230377197265625,-43.997089998492939,null,null,-0.10173969058771765,3640.3588758117885,null,null,null,null,null,null,null,"T-24 sec",40098.102106481507,{"$f":"LOOKUP($V67,Data!$A$6:$A$1806,Data!$B$6:$B$1806)","v":60.041000366210938},{"$f":"LOOKUP($V67,Data!$A$6:$A$1806,Data!$C$6:$C$1806)","v":3649.511962890625},{"$f":"LOOKUP($V67,Data!$A$6:$A$1806,Data!$D$6:$D$1806)","v":350},{"$f":"IF($Z$1=\"+\",LOOKUP($V67,Data!$A$6:$A$1806,Data!$E$6:$E$1806)*-1,LOOKUP($V67,Data!$A$6:$A$1806,Data!$E$6:$E$1806))","v":163.76658630371094},{"$f":"LOOKUP($V67,Data!$A$6:$A$1806,Data!$F$6:$F$1806)","v":0},null,{"$f":"LOOKUP($V67,Data!$A$6:$A$1806,Data!$H$6:$H$1806)","v":10},{"$f":"LOOKUP($V67,Data!$A$6:$A$1806,Data!$I$6:$I$1806)","v":15},{"$f":"IF(LOOKUP($V67,Data!$A$6:$A$1806,Data!$J$6:$J$1806)>0,(LOOKUP($V67,Data!$A$6:$A$1806,Data!$J$6:$J$1806)*-1),LOOKUP($V67,Data!$A$6:$A$1806,Data!$J$6:$J$1806))","v":-103},{"$f":"LOOKUP($V67,Data!$A$6:$A$1806,Data!$K$6:$K$1806)","v":7648.83},-42.230377197265625,"T-24 sec",40098.102106481507,null,null,null,null,null,null,null,null,null,null,null,null,null,null,4.10003662109375E-2,-103]
["T-22 sec",40098.102129629653,{"$f":"LOOKUP(B68,Data!$A$6:$A$1806,Data!B$6:B$1806)","v":60.041000366210938},{"$f":"LOOKUP(B68,Data!$A$6:$A$1806,Data!C$6:C$1806)","v":3654.29443359375},null,null,3090,-42.230377197265625,-43.378740518063381,null,null,-0.10173969058771765,3640.8754856016303,null,null,null,null,null,null,null,"T-22 sec",40098.102129629653,{"$f":"LOOKUP($V68,Data!$A$6:$A$1806,Data!$B$6:$B$1806)","v":60.041000366210938},{"$f":"LOOKUP($V68,Data!$A$6:$A$1806,Data!$C$6:$C$1806)","v":3654.29443359375},{"$f":"LOOKUP($V68,Data!$A$6:$A$1806,Data!$D$6:$D$1806)","v":350},{"$f":"IF($Z$1=\"+\",LOOKUP($V68,Data!$A$6:$A$1806,Data!$E$6:$E$1806)*-1,LOOKUP($V68,Data!$A$6:$A$1806,Data!$E$6:$E$1806))","v":163.76658630371094},{"$f":"LOOKUP($V68,Data!$A$6:$A$1806,Data!$F$6:$F$1806)","v":0},null,{"$f":"LOOKUP($V68,Data!$A$6:$A$1806,Data!$H$6:$H$1806)","v":10},{"$f":"LOOKUP($V68,Data!$A$6:$A$1806,Data!$I$6:$I$1806)","v":15},{"$f":"IF(LOOKUP($V68,Data!$A$6:$A$1806,Data!$J$6:$J$1806)>0,(LOOKUP($V68,Data!$A$6:$A$1806,Data!$J$6:$J$1806)*-1),LOOKUP($V68,Data!$A$6:$A$1806,Data!$J$6:$J$1806))","v":-103},{"$f":"LOOKUP($V68,Data!$A$6:$A$1806,Data!$K$6:$K$1806)","v":7649.16},-42.230377197265625,"T-22 sec",40098.102129629653,null,null,null,null,null,null,null,null,null,null,null,null,null,null,4.10003662109375E-2,-103]
["T-20 sec",40098.102152777799,{"$f":"LOOKUP(B69,Data!$A$6:$A$1806,Data!B$6:B$1806)","v":60.041000366210938},{"$f":"LOOKUP(B69,Data!$A$6:$A$1806,Data!C$6:C$1806)","v":3655.0068359375},null,null,3090,-42.230377197265625,-42.976813355784167,null,null,-0.10173969058771765,3641.1756730733218,null,null,null,null,null,null,null,"T-20 sec",40098.102152777799,{"$f":"LOOKUP($V69,Data!$A$6:$A$1806,Data!$B$6:$B$1806)","v":60.041000366210938},{"$f":"LOOKUP($V69,Data!$A$6:$A$1806,Data!$C$6:$C$1806)","v":3655.0068359375},{"$f":"LOOKUP($V69,Data!$A$6:$A$1806,Data!$D$6:$D$1806)","v":350},{"$f":"IF($Z$1=\"+\",LOOKUP($V69,Data!$A$6:$A$1806,Data!$E$6:$E$1806)*-1,LOOKUP($V69,Data!$A$6:$A$1806,Data!$E$6:$E$1806))","v":165.1016845703125},{"$f":"LOOKUP($V69,Data!$A$6:$A$1806,Data!$F$6:$F$1806)","v":0},null,{"$f":"LOOKUP($V69,Data!$A$6:$A$1806,Data!$H$6:$H$1806)","v":10},{"$f":"LOOKUP($V69,Data!$A$6:$A$1806,Data!$I$6:$I$1806)","v":15},{"$f":"IF(LOOKUP($V69,Data!$A$6:$A$1806,Data!$J$6:$J$1806)>0,(LOOKUP($V69,Data!$A$6:$A$1806,Data!$J$6:$J$1806)*-1),LOOKUP($V69,Data!$A$6:$A$1806,Data!$J$6:$J$1806))","v":-103},{"$f":"LOOKUP($V69,Data!$A$6:$A$1806,Data!$K$6:$K$1806)","v":7649.49},-42.230377197265625,"T-20 sec",40098.102152777799,null,null,null,null,null,null,null,null,null,null,null,null,null,null,4.10003662109375E-2,-103]
["T-18 sec",40098.102175925946,{"$f":"LOOKUP(B70,Data!$A$6:$A$1806,Data!B$6:B$1806)","v":60.03900146484375},{"$f":"LOOKUP(B70,Data!$A$6:$A$1806,Data!C$6:C$1806)","v":3651.874267578125},null,null,3090,-40.1715087890625,-41.994956757431581,null,null,-0.10173969058771765,3642.0557899810869,null,null,null,null,null,null,null,"T-18 sec",40098.102175925946,{"$f":"LOOKUP($V70,Data!$A$6:$A$1806,Data!$B$6:$B$1806)","v":60.03900146484375},{"$f":"LOOKUP($V70,Data!$A$6:$A$1806,Data!$C$6:$C$1806)","v":3651.874267578125},{"$f":"LOOKUP($V70,Data!$A$6:$A$1806,Data!$D$6:$D$1806)","v":350},{"$f":"IF($Z$1=\"+\",LOOKUP($V70,Data!$A$6:$A$1806,Data!$E$6:$E$1806)*-1,LOOKUP($V70,Data!$A$6:$A$1806,Data!$E$6:$E$1806))","v":165.1016845703125},{"$f":"LOOKUP($V70,Data!$A$6:$A$1806,Data!$F$6:$F$1806)","v":0},null,{"$f":"LOOKUP($V70,Data!$A$6:$A$1806,Data!$H$6:$H$1806)","v":10},{"$f":"LOOKUP($V70,Data!$A$6:$A$1806,Data!$I$6:$I$1806)","v":15},{"$f":"IF(LOOKUP($V70,Data!$A$6:$A$1806,Data!$J$6:$J$1806)>0,(LOOKUP($V70,Data!$A$6:$A$1806,Data!$J$6:$J$1806)*-1),LOOKUP($V70,Data!$A$6:$A$1806,Data!$J$6:$J$1806))","v":-103},{"$f":"LOOKUP($V70,Data!$A$6:$A$1806,Data!$K$6:$K$1806)","v":7649.82},-40.1715087890625,"T-18 sec",40098.102175925946,null,null,null,null,null,null,null,null,null,null,null,null,null,null,3.900146484375E-2,-103]
["T-16 sec",40098.102199074092,{"$f":"LOOKUP(B71,Data!$A$6:$A$1806,Data!B$6:B$1806)","v":60.041000366210938},{"$f":"LOOKUP(B71,Data!$A$6:$A$1806,Data!C$6:C$1806)","v":3651.059326171875},{"$f":"AVERAGE($C$71:$C$78)","v":60.042125225067139},{"$f":"AVERAGE($D$71:$D$78)","v":3645.72705078125},3090,-42.230377197265625,-42.077353911373493,null,null,-0.10173969058771765,3641.8716531365571,null,null,null,null,null,null,null,"T-16 sec",40098.102199074092,{"$f":"LOOKUP($V71,Data!$A$6:$A$1806,Data!$B$6:$B$1806)","v":60.041000366210938},{"$f":"LOOKUP($V71,Data!$A$6:$A$1806,Data!$C$6:$C$1806)","v":3651.059326171875},{"$f":"LOOKUP($V71,Data!$A$6:$A$1806,Data!$D$6:$D$1806)","v":350},{"$f":"IF($Z$1=\"+\",LOOKUP($V71,Data!$A$6:$A$1806,Data!$E$6:$E$1806)*-1,LOOKUP($V71,Data!$A$6:$A$1806,Data!$E$6:$E$1806))","v":165.1016845703125},{"$f":"LOOKUP($V71,Data!$A$6:$A$1806,Data!$F$6:$F$1806)","v":0},null,{"$f":"LOOKUP($V71,Data!$A$6:$A$1806,Data!$H$6:$H$1806)","v":10},{"$f":"LOOKUP($V71,Data!$A$6:$A$1806,Data!$I$6:$I$1806)","v":15},{"$f":"IF(LOOKUP($V71,Data!$A$6:$A$1806,Data!$J$6:$J$1806)>0,(LOOKUP($V71,Data!$A$6:$A$1806,Data!$J$6:$J$1806)*-1),LOOKUP($V71,Data!$A$6:$A$1806,Data!$J$6:$J$1806))","v":-103},{"$f":"LOOKUP($V71,Data!$A$6:$A$1806,Data!$K$6:$K$1806)","v":7650.15},-42.230377197265625,"T-16 sec",40098.102199074092,{"$f":"AVERAGE($W$71:$W$78)","v":60.042125225067139},{"$f":"AVERAGE($X$71:$X$78)","v":3645.72705078125},{"$f":"AVERAGE($Y$71:$Y$78)","v":350},{"$f":"AVERAGE($Z$71:$Z$78)","v":165.33587837219238},{"$f":"AVERAGE($AA$71:$AA$78)","v":0},null,{"$f":"AVERAGE($AC$71:$AC$78)","v":10},{"$f":"AVERAGE($AD$71:$AD$78)","v":15},{"$f":"AVERAGE($AE$71:$AE$78)","v":-103},{"$f":"AVERAGE($AF$71:$AF$78)","v":7651.3049999999994},{"$f":"AVERAGE($AG$71:$AG$78)","v":-43.388981819152832},null,null,null,4.10003662109375E-2,-103]
["T-14 sec",40098.102222222238,{"$f":"LOOKUP(B72,Data!$A$6:$A$1806,Data!B$6:B$1806)","v":60.042999267578125},{"$f":"LOOKUP(B72,Data!$A$6:$A$1806,Data!C$6:C$1806)","v":3649.18701171875},{"$f":"AVERAGE($C$71:$C$78)","v":60.042125225067139},{"$f":"AVERAGE($D$71:$D$78)","v":3645.72705078125},3090,-44.28924560546875,-42.851516004306831,null,null,-0.10173969058771765,3640.9957513530362,null,null,null,null,null,null,null,"T-14 sec",40098.102222222238,{"$f":"LOOKUP($V72,Data!$A$6:$A$1806,Data!$B$6:$B$1806)","v":60.042999267578125},{"$f":"LOOKUP($V72,Data!$A$6:$A$1806,Data!$C$6:$C$1806)","v":3649.18701171875},{"$f":"LOOKUP($V72,Data!$A$6:$A$1806,Data!$D$6:$D$1806)","v":350},{"$f":"IF($Z$1=\"+\",LOOKUP($V72,Data!$A$6:$A$1806,Data!$E$6:$E$1806)*-1,LOOKUP($V72,Data!$A$6:$A$1806,Data!$E$6:$E$1806))","v":165.1016845703125},{"$f":"LOOKUP($V72,Data!$A$6:$A$1806,Data!$F$6:$F$1806)","v":0},null,{"$f":"LOOKUP($V72,Data!$A$6:$A$1806,Data!$H$6:$H$1806)","v":10},{"$f":"LOOKUP($V72,Data!$A$6:$A$1806,Data!$I$6:$I$1806)","v":15},{"$f":"IF(LOOKUP($V72,Data!$A$6:$A$1806,Data!$J$6:$J$1806)>0,(LOOKUP($V72,Data!$A$6:$A$1806,Data!$J$6:$J$1806)*-1),LOOKUP($V72,Data!$A$6:$A$1806,Data!$J$6:$J$1806))","v":-103},{"$f":"LOOKUP($V72,Data!$A$6:$A$1806,Data!$K$6:$K$1806)","v":7650.48},-44.28924560546875,"T-14 sec",40098.102222222238,{"$f":"AVERAGE($W$71:$W$78)","v":60.042125225067139},{"$f":"AVERAGE($X$71:$X$78)","v":3645.72705078125},{"$f":"AVERAGE($Y$71:$Y$78)","v":350},{"$f":"AVERAGE($Z$71:$Z$78)","v":165.33587837219238},{"$f":"AVERAGE($AA$71:$AA$78)","v":0},null,{"$f":"AVERAGE($AC$71:$AC$78)","v":10},{"$f":"AVERAGE($AD$71:$AD$78)","v":15},{"$f":"AVERAGE($AE$71:$AE$78)","v":-103},{"$f":"AVERAGE($AF$71:$AF$78)","v":7651.3049999999994},{"$f":"AVERAGE($AG$71:$AG$78)","v":-43.388981819152832},null,null,null,4.2999267578125E-2,-103]
["T-12 sec",40098.102245370384,{"$f":"LOOKUP(B73,Data!$A$6:$A$1806,Data!B$6:B$1806)","v":60.044998168945313},{"$f":"LOOKUP(B73,Data!$A$6:$A$1806,Data!C$6:C$1806)","v":3648.236328125},60.042125225067139,3645.72705078125,3090,-46.348114013671875,-44.075325307584592,null,null,-0.10173969058771765,3639.6702023591706,null,null,null,null,null,null,null,"T-12 sec",40098.102245370384,{"$f":"LOOKUP($V73,Data!$A$6:$A$1806,Data!$B$6:$B$1806)","v":60.044998168945313},{"$f":"LOOKUP($V73,Data!$A$6:$A$1806,Data!$C$6:$C$1806)","v":3648.236328125},{"$f":"LOOKUP($V73,Data!$A$6:$A$1806,Data!$D$6:$D$1806)","v":350},{"$f":"IF($Z$1=\"+\",LOOKUP($V73,Data!$A$6:$A$1806,Data!$E$6:$E$1806)*-1,LOOKUP($V73,Data!$A$6:$A$1806,Data!$E$6:$E$1806))","v":165.1016845703125},{"$f":"LOOKUP($V73,Data!$A$6:$A$1806,Data!$F$6:$F$1806)","v":0},null,{"$f":"LOOKUP($V73,Data!$A$6:$A$1806,Data!$H$6:$H$1806)","v":10},{"$f":"LOOKUP($V73,Data!$A$6:$A$1806,Data!$I$6:$I$1806)","v":15},{"$f":"IF(LOOKUP($V73,Data!$A$6:$A$1806,Data!$J$6:$J$1806)>0,(LOOKUP($V73,Data!$A$6:$A$1806,Data!$J$6:$J$1806)*-1),LOOKUP($V73,Data!$A$6:$A$1806,Data!$J$6:$J$1806))","v":-103},{"$f":"LOOKUP($V73,Data!$A$6:$A$1806,Data!$K$6:$K$1806)","v":7650.81},-46.348114013671875,"T-12 sec",40098.102245370384,60.042125225067139,3645.72705078125,350,165.33587837219238,0,null,10,15,-103,7651.3049999999994,-43.388981819152832,null,null,null,4.49981689453125E-2,-103]
["T-10 sec",40098.102268518531,{"$f":"LOOKUP(B74,Data!$A$6:$A$1806,Data!B$6:B$1806)","v":60.046001434326172},{"$f":"LOOKUP(B74,Data!$A$6:$A$1806,Data!C$6:C$1806)","v":3645.386962890625},60.042125225067139,3645.72705078125,3090,-47.381477355957031,-45.232478524514946,null,null,-0.10173969058771765,3638.4113094516524,null,null,null,null,null,null,null,"T-10 sec",40098.102268518531,{"$f":"LOOKUP($V74,Data!$A$6:$A$1806,Data!$B$6:$B$1806)","v":60.046001434326172},{"$f":"LOOKUP($V74,Data!$A$6:$A$1806,Data!$C$6:$C$1806)","v":3645.386962890625},{"$f":"LOOKUP($V74,Data!$A$6:$A$1806,Data!$D$6:$D$1806)","v":350},{"$f":"IF($Z$1=\"+\",LOOKUP($V74,Data!$A$6:$A$1806,Data!$E$6:$E$1806)*-1,LOOKUP($V74,Data!$A$6:$A$1806,Data!$E$6:$E$1806))","v":165.47639465332031},{"$f":"LOOKUP($V74,Data!$A$6:$A$1806,Data!$F$6:$F$1806)","v":0},null,{"$f":"LOOKUP($V74,Data!$A$6:$A$1806,Data!$H$6:$H$1806)","v":10},{"$f":"LOOKUP($V74,Data!$A$6:$A$1806,Data!$I$6:$I$1806)","v":15},{"$f":"IF(LOOKUP($V74,Data!$A$6:$A$1806,Data!$J$6:$J$1806)>0,(LOOKUP($V74,Data!$A$6:$A$1806,Data!$J$6:$J$1806)*-1),LOOKUP($V74,Data!$A$6:$A$1806,Data!$J$6:$J$1806))","v":-103},{"$f":"LOOKUP($V74,Data!$A$6:$A$1806,Data!$K$6:$K$1806)","v":7651.14},-47.381477355957031,"T-10 sec",40098.102268518531,60.042125225067139,3645.72705078125,350,165.33587837219238,0,null,10,15,-103,7651.3049999999994,-43.388981819152832,null,null,null,4.6001434326171875E-2,-103]
["T-08 sec",40098.102291666677,{"$f":"LOOKUP(B75,Data!$A$6:$A$1806,Data!B$6:B$1806)","v":60.041000366210938},{"$f":"LOOKUP(B75,Data!$A$6:$A$1806,Data!C$6:C$1806)","v":3644.627685546875},60.042125225067139,3645.72705078125,3090,-42.230377197265625,-44.181743059977684,null,null,-0.10173969058771765,3639.3603052256021,null,null,null,null,null,null,null,"T-08 sec",40098.102291666677,{"$f":"LOOKUP($V75,Data!$A$6:$A$1806,Data!$B$6:$B$1806)","v":60.041000366210938},{"$f":"LOOKUP($V75,Data!$A$6:$A$1806,Data!$C$6:$C$1806)","v":3644.627685546875},{"$f":"LOOKUP($V75,Data!$A$6:$A$1806,Data!$D$6:$D$1806)","v":350},{"$f":"IF($Z$1=\"+\",LOOKUP($V75,Data!$A$6:$A$1806,Data!$E$6:$E$1806)*-1,LOOKUP($V75,Data!$A$6:$A$1806,Data!$E$6:$E$1806))","v":165.47639465332031},{"$f":"LOOKUP($V75,Data!$A$6:$A$1806,Data!$F$6:$F$1806)","v":0},null,{"$f":"LOOKUP($V75,Data!$A$6:$A$1806,Data!$H$6:$H$1806)","v":10},{"$f":"LOOKUP($V75,Data!$A$6:$A$1806,Data!$I$6:$I$1806)","v":15},{"$f":"IF(LOOKUP($V75,Data!$A$6:$A$1806,Data!$J$6:$J$1806)>0,(LOOKUP($V75,Data!$A$6:$A$1806,Data!$J$6:$J$1806)*-1),LOOKUP($V75,Data!$A$6:$A$1806,Data!$J$6:$J$1806))","v":-103},{"$f":"LOOKUP($V75,Data!$A$6:$A$1806,Data!$K$6:$K$1806)","v":7651.47},-42.230377197265625,"T-08 sec",40098.102291666677,60.042125225067139,3645.72705078125,350,165.33587837219238,0,null,10,15,-103,7651.3049999999994,-43.388981819152832,null,null,null,4.10003662109375E-2,-103]
["T-06 sec",40098.102314814823,{"$f":"LOOKUP(B76,Data!$A$6:$A$1806,Data!B$6:B$1806)","v":60.041000366210938},{"$f":"LOOKUP(B76,Data!$A$6:$A$1806,Data!C$6:C$1806)","v":3645.44580078125},60.042125225067139,3645.72705078125,3090,-42.230377197265625,-43.498765008028464,null,null,-0.10173969058771765,3639.9415435869637,null,null,null,null,null,null,null,"T-06 sec",40098.102314814823,{"$f":"LOOKUP($V76,Data!$A$6:$A$1806,Data!$B$6:$B$1806)","v":60.041000366210938},{"$f":"LOOKUP($V76,Data!$A$6:$A$1806,Data!$C$6:$C$1806)","v":3645.44580078125},{"$f":"LOOKUP($V76,Data!$A$6:$A$1806,Data!$D$6:$D$1806)","v":350},{"$f":"IF($Z$1=\"+\",LOOKUP($V76,Data!$A$6:$A$1806,Data!$E$6:$E$1806)*-1,LOOKUP($V76,Data!$A$6:$A$1806,Data!$E$6:$E$1806))","v":165.47639465332031},{"$f":"LOOKUP($V76,Data!$A$6:$A$1806,Data!$F$6:$F$1806)","v":0},null,{"$f":"LOOKUP($V76,Data!$A$6:$A$1806,Data!$H$6:$H$1806)","v":10},{"$f":"LOOKUP($V76,Data!$A$6:$A$1806,Data!$I$6:$I$1806)","v":15},{"$f":"IF(LOOKUP($V76,Data!$A$6:$A$1806,Data!$J$6:$J$1806)>0,(LOOKUP($V76,Data!$A$6:$A$1806,Data!$J$6:$J$1806)*-1),LOOKUP($V76,Data!$A$6:$A$1806,Data!$J$6:$J$1806))","v":-103},{"$f":"LOOKUP($V76,Data!$A$6:$A$1806,Data!$K$6:$K$1806)","v":7651.8},-42.230377197265625,"T-06 sec",40098.102314814823,60.042125225067139,3645.72705078125,350,165.33587837219238,0,null,10,15,-103,7651.3049999999994,-43.388981819152832,null,null,null,4.10003662109375E-2,-103]
["T-04 sec",40098.10233796297,{"$f":"LOOKUP(B77,Data!$A$6:$A$1806,Data!B$6:B$1806)","v":60.041000366210938},{"$f":"LOOKUP(B77,Data!$A$6:$A$1806,Data!C$6:C$1806)","v":3640.68212890625},60.042125225067139,3645.72705078125,3090,-42.230377197265625,-43.054829274261472,null,null,-0.10173969058771765,3640.2837396301429,null,null,null,null,null,null,null,"T-04 sec",40098.10233796297,{"$f":"LOOKUP($V77,Data!$A$6:$A$1806,Data!$B$6:$B$1806)","v":60.041000366210938},{"$f":"LOOKUP($V77,Data!$A$6:$A$1806,Data!$C$6:$C$1806)","v":3640.68212890625},{"$f":"LOOKUP($V77,Data!$A$6:$A$1806,Data!$D$6:$D$1806)","v":350},{"$f":"IF($Z$1=\"+\",LOOKUP($V77,Data!$A$6:$A$1806,Data!$E$6:$E$1806)*-1,LOOKUP($V77,Data!$A$6:$A$1806,Data!$E$6:$E$1806))","v":165.47639465332031},{"$f":"LOOKUP($V77,Data!$A$6:$A$1806,Data!$F$6:$F$1806)","v":0},null,{"$f":"LOOKUP($V77,Data!$A$6:$A$1806,Data!$H$6:$H$1806)","v":10},{"$f":"LOOKUP($V77,Data!$A$6:$A$1806,Data!$I$6:$I$1806)","v":15},{"$f":"IF(LOOKUP($V77,Data!$A$6:$A$1806,Data!$J$6:$J$1806)>0,(LOOKUP($V77,Data!$A$6:$A$1806,Data!$J$6:$J$1806)*-1),LOOKUP($V77,Data!$A$6:$A$1806,Data!$J$6:$J$1806))","v":-103},{"$f":"LOOKUP($V77,Data!$A$6:$A$1806,Data!$K$6:$K$1806)","v":7652.13},-42.230377197265625,"T-04 sec",40098.10233796297,60.042125225067139,3645.72705078125,350,165.33587837219238,0,null,10,15,-103,7651.3049999999994,-43.388981819152832,null,null,null,4.10003662109375E-2,-103]
["T-02 sec",{"$f":"B79-TIME(0,0,$B$1)","v":40098.102361111116},{"$f":"LOOKUP(B78,Data!$A$6:$A$1806,Data!B$6:B$1806)","v":60.03900146484375},{"$f":"LOOKUP(B78,Data!$A$6:$A$1806,Data!C$6:C$1806)","v":3641.191162109375},60.042125225067139,3645.72705078125,3090,-40.1715087890625,-42.045667104441833,null,null,-0.10173969058771765,{"$f":"D78","v":3641.191162109375},null,null,null,null,null,null,null,"T-02 sec",{"$f":"V79-TIME(0,0,$B$1)","v":40098.102361111116},{"$f":"LOOKUP($V78,Data!$A$6:$A$1806,Data!$B$6:$B$1806)","v":60.03900146484375},{"$f":"LOOKUP($V78,Data!$A$6:$A$1806,Data!$C$6:$C$1806)","v":3641.191162109375},{"$f":"LOOKUP($V78,Data!$A$6:$A$1806,Data!$D$6:$D$1806)","v":350},{"$f":"IF($Z$1=\"+\",LOOKUP($V78,Data!$A$6:$A$1806,Data!$E$6:$E$1806)*-1,LOOKUP($V78,Data!$A$6:$A$1806,Data!$E$6:$E$1806))","v":165.47639465332031},{"$f":"LOOKUP($V78,Data!$A$6:$A$1806,Data!$F$6:$F$1806)","v":0},null,{"$f":"LOOKUP($V78,Data!$A$6:$A$1806,Data!$H$6:$H$1806)","v":10},{"$f":"LOOKUP($V78,Data!$A$6:$A$1806,Data!$I$6:$I$1806)","v":15},{"$f":"IF(LOOKUP($V78,Data!$A$6:$A$1806,Data!$J$6:$J$1806)>0,(LOOKUP($V78,Data!$A$6:$A$1806,Data!$J$6:$J$1806)*-1),LOOKUP($V78,Data!$A$6:$A$1806,Data!$J$6:$J$1806))","v":-103},{"$f":"LOOKUP($V78,Data!$A$6:$A$1806,Data!$K$6:$K$1806)","v":7652.46},-40.1715087890625,"T-02 sec",{"$f":"AI79-TIME(0,0,$B$1)","v":40098.102361111116},60.042125225067139,3645.72705078125,350,165.33587837219238,0,null,10,15,-103,7651.3049999999994,-43.388981819152832,null,null," ",3.900146484375E-2,-103]
["T+0 sec",{"$f":"G2","v":40098.102384259262},{"$f":"LOOKUP(B79,Data!$A$6:$A$1806,Data!B$6:B$1806)","v":59.978000640869141},{"$f":"LOOKUP(B79,Data!$A$6:$A$1806,Data!C$6:C$1806)","v":3659.46484375},null,null,3090,22.659339904785156,-19.398914651212387,null,null,0,{"$f":"M78+L79+(I79-I78)","v":3663.8379145626045},null,null,null,null,null,null,null,"T+0 sec",{"$f":"$G2","v":40098.102384259262},{"$f":"LOOKUP($V79,Data!$A$6:$A$1806,Data!$B$6:$B$1806)","v":59.978000640869141},{"$f":"LOOKUP($V79,Data!$A$6:$A$1806,Data!$C$6:$C$1806)","v":3659.46484375},{"$f":"LOOKUP($V79,Data!$A$6:$A$1806,Data!$D$6:$D$1806)","v":350},{"$f":"IF($Z$1=\"+\",LOOKUP($V79,Data!$A$6:$A$1806,Data!$E$6:$E$1806)*-1,LOOKUP($V79,Data!$A$6:$A$1806,Data!$E$6:$E$1806))","v":206.4591064453125},{"$f":"LOOKUP($V79,Data!$A$6:$A$1806,Data!$F$6:$F$1806)","v":0},null,{"$f":"LOOKUP($V79,Data!$A$6:$A$1806,Data!$H$6:$H$1806)","v":10},{"$f":"LOOKUP($V79,Data!$A$6:$A$1806,Data!$I$6:$I$1806)","v":15},{"$f":"IF(LOOKUP($V79,Data!$A$6:$A$1806,Data!$J$6:$J$1806)>0,(LOOKUP($V79,Data!$A$6:$A$1806,Data!$J$6:$J$1806)*-1),LOOKUP($V79,Data!$A$6:$A$1806,Data!$J$6:$J$1806))","v":-103},{"$f":"LOOKUP($V79,Data!$A$6:$A$1806,Data!$K$6:$K$1806)","v":7652.79},22.659339904785156,"T+0 sec",{"$f":"$G2","v":40098.102384259262},null,null,null,null,null,null,null,null,null,null,null,null,null,null,2.1999359130859375E-2," "]
["T+02 sec",{"$f":"B79+TIME(0,0,$B$1)","v":40098.102407407408},{"$f":"LOOKUP(B80,Data!$A$6:$A$1806,Data!B$6:B$1806)","v":59.852001190185547},{"$f":"LOOKUP(B80,Data!$A$6:$A$1806,Data!C$6:C$1806)","v":3696.3623046875},null,null,3090,{"$f":"(IF((C80-L$2)>0,(IF(C80<'Copy Results'!$C$3,((C80-L$2-L$5)/((L$4*L$2)-L$5)*G80*-1),(('Copy Results'!$C$3-L$2-L$5)/((L$4*L$2)-L$5)*G80*-1))),IF(C80>'Copy Results'!$C$2,((C80-L$2+L$5)/((L$4*L$2)-L$5)*G80*-1),(('Copy Results'!$C$2-L$2+L$5)/((L$4*L$2)-L$5)*G80*-1))))","v":152.43877410888672},40.744276414822302,null,null,{"$f":"IF(B80>G$3,0,(K$21*0.000023148/K$22))","v":0.61697247205071049},{"$f":"M79+L80+(I80-I79)+AD81","v":3724.5980781006901},{"$f":"AVERAGE(D$79:D80)","v":3677.91357421875},{"$f":"AVERAGE(M$79:M80)","v":3694.2179963316476},{"$f":"K20+L78-I77+AN28-AN20","v":3668.6352184899238},{"$f":"AVERAGE(P$79:P80)","v":3668.6352184899238},null,null,null,"T+02 sec",{"$f":"V79+TIME(0,0,$B$1)","v":40098.102407407408},{"$f":"LOOKUP($V80,Data!$A$6:$A$1806,Data!$B$6:$B$1806)","v":59.852001190185547},{"$f":"LOOKUP($V80,Data!$A$6:$A$1806,Data!$C$6:$C$1806)","v":3696.3623046875},{"$f":"LOOKUP($V80,Data!$A$6:$A$1806,Data!$D$6:$D$1806)","v":350},{"$f":"IF($Z$1=\"+\",LOOKUP($V80,Data!$A$6:$A$1806,Data!$E$6:$E$1806)*-1,LOOKUP($V80,Data!$A$6:$A$1806,Data!$E$6:$E$1806))","v":206.4591064453125},{"$f":"LOOKUP($V80,Data!$A$6:$A$1806,Data!$F$6:$F$1806)","v":0},null,{"$f":"LOOKUP($V80,Data!$A$6:$A$1806,Data!$H$6:$H$1806)","v":10},{"$f":"LOOKUP($V80,Data!$A$6:$A$1806,Data!$I$6:$I$1806)","v":0},{"$f":"IF(LOOKUP($V80,Data!$A$6:$A$1806,Data!$J$6:$J$1806)>0,(LOOKUP($V80,Data!$A$6:$A$1806,Data!$J$6:$J$1806)*-1),LOOKUP($V80,Data!$A$6:$A$1806,Data!$J$6:$J$1806))","v":-103},{"$f":"LOOKUP($V80,Data!$A$6:$A$1806,Data!$K$6:$K$1806)","v":7616},152.43877410888672,"T+02 sec",{"$f":"AI79+TIME(0,0,$B$1)","v":40098.102407407408},null,null,null,null,null,null,null,null,null,null,null,null,{"$f":"D80-F$78+L80","v":51.252226378300712},{"$f":"AV80/((C80-E$78)*10)","v":-26.957257881792966},0.14799880981445313,-103]
["T+04 sec",{"$f":"B80+TIME(0,0,$B$1)","v":40098.102430555555},{"$f":"LOOKUP(B81,Data!$A$6:$A$1806,Data!B$6:B$1806)","v":59.83599853515625},{"$f":"LOOKUP(B81,Data!$A$6:$A$1806,Data!C$6:C$1806)","v":3734.904296875},null,null,3090,{"$f":"(IF((C81-L$2)>0,(IF(C81<'Copy Results'!$C$3,((C81-L$2-L$5)/((L$4*L$2)-L$5)*G81*-1),(('Copy Results'!$C$3-L$2-L$5)/((L$4*L$2)-L$5)*G81*-1))),IF(C81>'Copy Results'!$C$2,((C81-L$2+L$5)/((L$4*L$2)-L$5)*G81*-1),(('Copy Results'!$C$2-L$2+L$5)/((L$4*L$2)-L$5)*G81*-1))))","v":168.9215087890625},85.606307745806362,null,null,0.61697247205071049,{"$f":"M80+L81+(I81-I80)","v":3770.0770819037248},{"$f":"AVERAGE(D$79:D81)","v":3696.9104817708335},{"$f":"AVERAGE(M$79:M81)","v":3719.5043581890063},{"$f":"P80+L81","v":3669.2521909619745},{"$f":"AVERAGE(P$79:P81)","v":3668.9437047259489},null,null,null,"T+04 sec",{"$f":"V80+TIME(0,0,$B$1)","v":40098.102430555555},{"$f":"LOOKUP($V81,Data!$A$6:$A$1806,Data!$B$6:$B$1806)","v":59.83599853515625},{"$f":"LOOKUP($V81,Data!$A$6:$A$1806,Data!$C$6:$C$1806)","v":3734.904296875},{"$f":"LOOKUP($V81,Data!$A$6:$A$1806,Data!$D$6:$D$1806)","v":335},{"$f":"IF($Z$1=\"+\",LOOKUP($V81,Data!$A$6:$A$1806,Data!$E$6:$E$1806)*-1,LOOKUP($V81,Data!$A$6:$A$1806,Data!$E$6:$E$1806))","v":206.4591064453125},{"$f":"LOOKUP($V81,Data!$A$6:$A$1806,Data!$F$6:$F$1806)","v":0},null,{"$f":"LOOKUP($V81,Data!$A$6:$A$1806,Data!$H$6:$H$1806)","v":10},{"$f":"LOOKUP($V81,Data!$A$6:$A$1806,Data!$I$6:$I$1806)","v":0},{"$f":"IF(LOOKUP($V81,Data!$A$6:$A$1806,Data!$J$6:$J$1806)>0,(LOOKUP($V81,Data!$A$6:$A$1806,Data!$J$6:$J$1806)*-1),LOOKUP($V81,Data!$A$6:$A$1806,Data!$J$6:$J$1806))","v":-103},{"$f":"LOOKUP($V81,Data!$A$6:$A$1806,Data!$K$6:$K$1806)","v":7626},168.9215087890625,"T+04 sec",{"$f":"AI80+TIME(0,0,$B$1)","v":40098.102430555555},null,null,null,null,null,null,null,null,null,null,null,null,{"$f":"D81-F$78+L81-AD81","v":89.794218565800705},{"$f":"IF(AW80=\" \",\" \",IF(L81=L80,AV81/((C81-E$78)*10),\" \"))","v":-43.562635486273003},0.16400146484375,-103]
["T+06 sec",40098.102453703701,{"$f":"LOOKUP(B82,Data!$A$6:$A$1806,Data!B$6:B$1806)","v":59.868999481201172},{"$f":"LOOKUP(B82,Data!$A$6:$A$1806,Data!C$6:C$1806)","v":3734.672607421875},null,null,3090,{"$f":"(IF((C82-L$2)>0,(IF(C82<'Copy Results'!$C$3,((C82-L$2-L$5)/((L$4*L$2)-L$5)*G82*-1),(('Copy Results'!$C$3-L$2-L$5)/((L$4*L$2)-L$5)*G82*-1))),IF(C82>'Copy Results'!$C$2,((C82-L$2+L$5)/((L$4*L$2)-L$5)*G82*-1),(('Copy Results'!$C$2-L$2+L$5)/((L$4*L$2)-L$5)*G82*-1))))","v":134.93053436279297},102.86978706175168,null,null,0.61697247205071049,3787.957533691721,{"$f":"AVERAGE(D$79:D82)","v":3706.3510131835937},{"$f":"AVERAGE(M$79:M82)","v":3736.617652064685},{"$f":"P81+L82","v":3669.8691634340253},{"$f":"AVERAGE(P$79:P82)","v":3669.2521909619741},null,null,null,"T+06 sec",40098.102453703701,{"$f":"LOOKUP($V82,Data!$A$6:$A$1806,Data!$B$6:$B$1806)","v":59.868999481201172},{"$f":"LOOKUP($V82,Data!$A$6:$A$1806,Data!$C$6:$C$1806)","v":3734.672607421875},{"$f":"LOOKUP($V82,Data!$A$6:$A$1806,Data!$D$6:$D$1806)","v":335},{"$f":"IF($Z$1=\"+\",LOOKUP($V82,Data!$A$6:$A$1806,Data!$E$6:$E$1806)*-1,LOOKUP($V82,Data!$A$6:$A$1806,Data!$E$6:$E$1806))","v":206.4591064453125},{"$f":"LOOKUP($V82,Data!$A$6:$A$1806,Data!$F$6:$F$1806)","v":0},null,{"$f":"LOOKUP($V82,Data!$A$6:$A$1806,Data!$H$6:$H$1806)","v":10},{"$f":"LOOKUP($V82,Data!$A$6:$A$1806,Data!$I$6:$I$1806)","v":0},{"$f":"IF(LOOKUP($V82,Data!$A$6:$A$1806,Data!$J$6:$J$1806)>0,(LOOKUP($V82,Data!$A$6:$A$1806,Data!$J$6:$J$1806)*-1),LOOKUP($V82,Data!$A$6:$A$1806,Data!$J$6:$J$1806))","v":-103},{"$f":"LOOKUP($V82,Data!$A$6:$A$1806,Data!$K$6:$K$1806)","v":7632},134.93053436279297,"T+06 sec",40098.102453703701,null,null,null,null,null,null,null,null,null,null,null,null,{"$f":"D82-F$78+L82-AD82","v":89.562529112675705},{"$f":"IF(AW81=\" \",\" \",IF(L82=L81,AV82/((C82-E$78)*10),\" \"))","v":-51.732646521949171},0.13100051879882813,-103]
["T+08 sec",40098.102476851847,{"$f":"LOOKUP(B83,Data!$A$6:$A$1806,Data!B$6:B$1806)","v":59.868999481201172},{"$f":"LOOKUP(B83,Data!$A$6:$A$1806,Data!C$6:C$1806)","v":3734.672607421875},null,null,3090,{"$f":"(IF((C83-L$2)>0,(IF(C83<'Copy Results'!$C$3,((C83-L$2-L$5)/((L$4*L$2)-L$5)*G83*-1),(('Copy Results'!$C$3-L$2-L$5)/((L$4*L$2)-L$5)*G83*-1))),IF(C83>'Copy Results'!$C$2,((C83-L$2+L$5)/((L$4*L$2)-L$5)*G83*-1),(('Copy Results'!$C$2-L$2+L$5)/((L$4*L$2)-L$5)*G83*-1))))","v":134.93053436279297},114.09104861711613,null,null,0.61697247205071049,3799.7957677191362,{"$f":"AVERAGE(D$79:D83)","v":3712.0153320312502},{"$f":"AVERAGE(M$79:M83)","v":3749.2532751955755},3670.486135906076,{"$f":"AVERAGE(P$79:P83)","v":3669.5606771979997},null,null,null,"T+08 sec",40098.102476851847,{"$f":"LOOKUP($V83,Data!$A$6:$A$1806,Data!$B$6:$B$1806)","v":59.868999481201172},{"$f":"LOOKUP($V83,Data!$A$6:$A$1806,Data!$C$6:$C$1806)","v":3734.672607421875},{"$f":"LOOKUP($V83,Data!$A$6:$A$1806,Data!$D$6:$D$1806)","v":335},{"$f":"IF($Z$1=\"+\",LOOKUP($V83,Data!$A$6:$A$1806,Data!$E$6:$E$1806)*-1,LOOKUP($V83,Data!$A$6:$A$1806,Data!$E$6:$E$1806))","v":206.4591064453125},{"$f":"LOOKUP($V83,Data!$A$6:$A$1806,Data!$F$6:$F$1806)","v":0},null,{"$f":"LOOKUP($V83,Data!$A$6:$A$1806,Data!$H$6:$H$1806)","v":10},{"$f":"LOOKUP($V83,Data!$A$6:$A$1806,Data!$I$6:$I$1806)","v":0},{"$f":"IF(LOOKUP($V83,Data!$A$6:$A$1806,Data!$J$6:$J$1806)>0,(LOOKUP($V83,Data!$A$6:$A$1806,Data!$J$6:$J$1806)*-1),LOOKUP($V83,Data!$A$6:$A$1806,Data!$J$6:$J$1806))","v":-103},{"$f":"LOOKUP($V83,Data!$A$6:$A$1806,Data!$K$6:$K$1806)","v":7632},134.93053436279297,"T+08 sec",40098.102476851847,null,null,null,null,null,null,null,null,null,null,null,null,89.562529112675705,-51.732646521949171,0.13100051879882813,-103]
["T+10 sec",40098.102499999994,{"$f":"LOOKUP(B84,Data!$A$6:$A$1806,Data!B$6:B$1806)","v":59.891998291015625},{"$f":"LOOKUP(B84,Data!$A$6:$A$1806,Data!C$6:C$1806)","v":3737.15673828125},null,null,3090,{"$f":"(IF((C84-L$2)>0,(IF(C84<'Copy Results'!$C$3,((C84-L$2-L$5)/((L$4*L$2)-L$5)*G84*-1),(('Copy Results'!$C$3-L$2-L$5)/((L$4*L$2)-L$5)*G84*-1))),IF(C84>'Copy Results'!$C$2,((C84-L$2+L$5)/((L$4*L$2)-L$5)*G84*-1),(('Copy Results'!$C$2-L$2+L$5)/((L$4*L$2)-L$5)*G84*-1))))","v":111.24176025390626},113.09379768999267,null,null,0.61697247205071049,3799.4154892640636,{"$f":"AVERAGE(D$79:D84)","v":3716.20556640625},{"$f":"AVERAGE(M$79:M84)","v":3757.6136442069896},3671.1031083781268,{"$f":"AVERAGE(P$79:P84)","v":3669.8691634340248},null,null,null,"T+10 sec",40098.102499999994,{"$f":"LOOKUP($V84,Data!$A$6:$A$1806,Data!$B$6:$B$1806)","v":59.891998291015625},{"$f":"LOOKUP($V84,Data!$A$6:$A$1806,Data!$C$6:$C$1806)","v":3737.15673828125},{"$f":"LOOKUP($V84,Data!$A$6:$A$1806,Data!$D$6:$D$1806)","v":335},{"$f":"IF($Z$1=\"+\",LOOKUP($V84,Data!$A$6:$A$1806,Data!$E$6:$E$1806)*-1,LOOKUP($V84,Data!$A$6:$A$1806,Data!$E$6:$E$1806))","v":206.4591064453125},{"$f":"LOOKUP($V84,Data!$A$6:$A$1806,Data!$F$6:$F$1806)","v":0},null,{"$f":"LOOKUP($V84,Data!$A$6:$A$1806,Data!$H$6:$H$1806)","v":10},{"$f":"LOOKUP($V84,Data!$A$6:$A$1806,Data!$I$6:$I$1806)","v":0},{"$f":"IF(LOOKUP($V84,Data!$A$6:$A$1806,Data!$J$6:$J$1806)>0,(LOOKUP($V84,Data!$A$6:$A$1806,Data!$J$6:$J$1806)*-1),LOOKUP($V84,Data!$A$6:$A$1806,Data!$J$6:$J$1806))","v":-103},{"$f":"LOOKUP($V84,Data!$A$6:$A$1806,Data!$K$6:$K$1806)","v":7632},111.24176025390626,"T+10 sec",40098.102499999994,null,null,null,null,null,null,null,null,null,null,null,null,92.046659972050705,-61.312555640726238,0.108001708984375,-103]
["T+12 sec",40098.10252314814,{"$f":"LOOKUP(B85,Data!$A$6:$A$1806,Data!B$6:B$1806)","v":59.890998840332031},{"$f":"LOOKUP(B85,Data!$A$6:$A$1806,Data!C$6:C$1806)","v":3761.24951171875},null,null,3090,{"$f":"(IF((C85-L$2)>0,(IF(C85<'Copy Results'!$C$3,((C85-L$2-L$5)/((L$4*L$2)-L$5)*G85*-1),(('Copy Results'!$C$3-L$2-L$5)/((L$4*L$2)-L$5)*G85*-1))),IF(C85>'Copy Results'!$C$2,((C85-L$2+L$5)/((L$4*L$2)-L$5)*G85*-1),(('Copy Results'!$C$2-L$2+L$5)/((L$4*L$2)-L$5)*G85*-1))))","v":112.2711944580078},112.80588655879797,null,null,0.61697247205071049,3799.7445506049198,{"$f":"AVERAGE(D$79:D85)","v":3722.6404157366073},{"$f":"AVERAGE(M$79:M85)","v":3763.6323451209796},3671.7200808501775,{"$f":"AVERAGE(P$79:P85)","v":3670.17764967005},null,null,null,"T+12 sec",40098.10252314814,{"$f":"LOOKUP($V85,Data!$A$6:$A$1806,Data!$B$6:$B$1806)","v":59.890998840332031},{"$f":"LOOKUP($V85,Data!$A$6:$A$1806,Data!$C$6:$C$1806)","v":3761.24951171875},{"$f":"LOOKUP($V85,Data!$A$6:$A$1806,Data!$D$6:$D$1806)","v":335},{"$f":"IF($Z$1=\"+\",LOOKUP($V85,Data!$A$6:$A$1806,Data!$E$6:$E$1806)*-1,LOOKUP($V85,Data!$A$6:$A$1806,Data!$E$6:$E$1806))","v":211.25604248046875},{"$f":"LOOKUP($V85,Data!$A$6:$A$1806,Data!$F$6:$F$1806)","v":0},null,{"$f":"LOOKUP($V85,Data!$A$6:$A$1806,Data!$H$6:$H$1806)","v":10},{"$f":"LOOKUP($V85,Data!$A$6:$A$1806,Data!$I$6:$I$1806)","v":0},{"$f":"IF(LOOKUP($V85,Data!$A$6:$A$1806,Data!$J$6:$J$1806)>0,(LOOKUP($V85,Data!$A$6:$A$1806,Data!$J$6:$J$1806)*-1),LOOKUP($V85,Data!$A$6:$A$1806,Data!$J$6:$J$1806))","v":-103},{"$f":"LOOKUP($V85,Data!$A$6:$A$1806,Data!$K$6:$K$1806)","v":7632},112.2711944580078,"T+12 sec",40098.10252314814,null,null,null,null,null,null,null,null,null,null,null,null,116.1394334095507,-76.849210422864644,0.10900115966796875,-103]
["T+14 sec",40098.102546296286,{"$f":"LOOKUP(B86,Data!$A$6:$A$1806,Data!B$6:B$1806)","v":59.880001068115234},{"$f":"LOOKUP(B86,Data!$A$6:$A$1806,Data!C$6:C$1806)","v":3766.113037109375},null,null,3090,{"$f":"(IF((C86-L$2)>0,(IF(C86<'Copy Results'!$C$3,((C86-L$2-L$5)/((L$4*L$2)-L$5)*G86*-1),(('Copy Results'!$C$3-L$2-L$5)/((L$4*L$2)-L$5)*G86*-1))),IF(C86>'Copy Results'!$C$2,((C86-L$2+L$5)/((L$4*L$2)-L$5)*G86*-1),(('Copy Results'!$C$2-L$2+L$5)/((L$4*L$2)-L$5)*G86*-1))))","v":123.59889984130858},116.58344120767669,null,null,0.61697247205071049,3804.1390777258493,{"$f":"AVERAGE(D$79:D86)","v":3728.0744934082031},{"$f":"AVERAGE(M$79:M86)","v":3768.6956866965884},3672.3370533222283,{"$f":"AVERAGE(P$79:P86)","v":3670.4861359060756},null,null,null,"T+14 sec",40098.102546296286,{"$f":"LOOKUP($V86,Data!$A$6:$A$1806,Data!$B$6:$B$1806)","v":59.880001068115234},{"$f":"LOOKUP($V86,Data!$A$6:$A$1806,Data!$C$6:$C$1806)","v":3766.113037109375},{"$f":"LOOKUP($V86,Data!$A$6:$A$1806,Data!$D$6:$D$1806)","v":335},{"$f":"IF($Z$1=\"+\",LOOKUP($V86,Data!$A$6:$A$1806,Data!$E$6:$E$1806)*-1,LOOKUP($V86,Data!$A$6:$A$1806,Data!$E$6:$E$1806))","v":211.25604248046875},{"$f":"LOOKUP($V86,Data!$A$6:$A$1806,Data!$F$6:$F$1806)","v":1},null,{"$f":"LOOKUP($V86,Data!$A$6:$A$1806,Data!$H$6:$H$1806)","v":10},{"$f":"LOOKUP($V86,Data!$A$6:$A$1806,Data!$I$6:$I$1806)","v":0},{"$f":"IF(LOOKUP($V86,Data!$A$6:$A$1806,Data!$J$6:$J$1806)>0,(LOOKUP($V86,Data!$A$6:$A$1806,Data!$J$6:$J$1806)*-1),LOOKUP($V86,Data!$A$6:$A$1806,Data!$J$6:$J$1806))","v":-103},{"$f":"LOOKUP($V86,Data!$A$6:$A$1806,Data!$K$6:$K$1806)","v":7632},123.59889984130858,"T+14 sec",40098.102546296286,null,null,null,null,null,null,null,null,null,null,null,null,121.0029588001757,-74.635983356923433,0.11999893188476563,-103]
["T+16 sec",40098.102569444432,{"$f":"LOOKUP(B87,Data!$A$6:$A$1806,Data!B$6:B$1806)","v":59.875999450683594},{"$f":"LOOKUP(B87,Data!$A$6:$A$1806,Data!C$6:C$1806)","v":3766.19384765625},null,null,3090,{"$f":"(IF((C87-L$2)>0,(IF(C87<'Copy Results'!$C$3,((C87-L$2-L$5)/((L$4*L$2)-L$5)*G87*-1),(('Copy Results'!$C$3-L$2-L$5)/((L$4*L$2)-L$5)*G87*-1))),IF(C87>'Copy Results'!$C$2,((C87-L$2+L$5)/((L$4*L$2)-L$5)*G87*-1),(('Copy Results'!$C$2-L$2+L$5)/((L$4*L$2)-L$5)*G87*-1))))","v":127.72056579589845},120.4814348135543,null,null,0.61697247205071049,3808.6540438037778,{"$f":"AVERAGE(D$79:D87)","v":3732.3099772135415},{"$f":"AVERAGE(M$79:M87)","v":3773.1355041529428},3672.954025794279,{"$f":"AVERAGE(P$79:P87)","v":3670.7946221421012},null,null,null,"T+16 sec",40098.102569444432,{"$f":"LOOKUP($V87,Data!$A$6:$A$1806,Data!$B$6:$B$1806)","v":59.875999450683594},{"$f":"LOOKUP($V87,Data!$A$6:$A$1806,Data!$C$6:$C$1806)","v":3766.19384765625},{"$f":"LOOKUP($V87,Data!$A$6:$A$1806,Data!$D$6:$D$1806)","v":335},{"$f":"IF($Z$1=\"+\",LOOKUP($V87,Data!$A$6:$A$1806,Data!$E$6:$E$1806)*-1,LOOKUP($V87,Data!$A$6:$A$1806,Data!$E$6:$E$1806))","v":211.25604248046875},{"$f":"LOOKUP($V87,Data!$A$6:$A$1806,Data!$F$6:$F$1806)","v":1},null,{"$f":"LOOKUP($V87,Data!$A$6:$A$1806,Data!$H$6:$H$1806)","v":10},{"$f":"LOOKUP($V87,Data!$A$6:$A$1806,Data!$I$6:$I$1806)","v":0},{"$f":"IF(LOOKUP($V87,Data!$A$6:$A$1806,Data!$J$6:$J$1806)>0,(LOOKUP($V87,Data!$A$6:$A$1806,Data!$J$6:$J$1806)*-1),LOOKUP($V87,Data!$A$6:$A$1806,Data!$J$6:$J$1806))","v":-103},{"$f":"LOOKUP($V87,Data!$A$6:$A$1806,Data!$K$6:$K$1806)","v":7632},127.72056579589845,"T+16 sec",40098.102569444432,null,null,null,null,null,null,null,null,null,null,null,null,121.0837693470507,-72.886805070655114,0.12400054931640625,-103]
["T+18 sec",40098.102592592579,{"$f":"LOOKUP(B88,Data!$A$6:$A$1806,Data!B$6:B$1806)","v":59.875},{"$f":"LOOKUP(B88,Data!$A$6:$A$1806,Data!C$6:C$1806)","v":3768.876953125},null,null,3090,{"$f":"(IF((C88-L$2)>0,(IF(C88<'Copy Results'!$C$3,((C88-L$2-L$5)/((L$4*L$2)-L$5)*G88*-1),(('Copy Results'!$C$3-L$2-L$5)/((L$4*L$2)-L$5)*G88*-1))),IF(C88>'Copy Results'!$C$2,((C88-L$2+L$5)/((L$4*L$2)-L$5)*G88*-1),(('Copy Results'!$C$2-L$2+L$5)/((L$4*L$2)-L$5)*G88*-1))))","v":128.75},123.3754326288103,null,null,0.61697247205071049,3812.1650140910847,{"$f":"AVERAGE(D$79:D88)","v":3735.9666748046875},{"$f":"AVERAGE(M$79:M88)","v":3777.0384551467569},3673.5709982663298,{"$f":"AVERAGE(P$79:P88)","v":3671.1031083781263},null,null,null,"T+18 sec",40098.102592592579,{"$f":"LOOKUP($V88,Data!$A$6:$A$1806,Data!$B$6:$B$1806)","v":59.875},{"$f":"LOOKUP($V88,Data!$A$6:$A$1806,Data!$C$6:$C$1806)","v":3768.876953125},{"$f":"LOOKUP($V88,Data!$A$6:$A$1806,Data!$D$6:$D$1806)","v":335},{"$f":"IF($Z$1=\"+\",LOOKUP($V88,Data!$A$6:$A$1806,Data!$E$6:$E$1806)*-1,LOOKUP($V88,Data!$A$6:$A$1806,Data!$E$6:$E$1806))","v":211.25604248046875},{"$f":"LOOKUP($V88,Data!$A$6:$A$1806,Data!$F$6:$F$1806)","v":1},null,{"$f":"LOOKUP($V88,Data!$A$6:$A$1806,Data!$H$6:$H$1806)","v":10},{"$f":"LOOKUP($V88,Data!$A$6:$A$1806,Data!$I$6:$I$1806)","v":0},{"$f":"IF(LOOKUP($V88,Data!$A$6:$A$1806,Data!$J$6:$J$1806)>0,(LOOKUP($V88,Data!$A$6:$A$1806,Data!$J$6:$J$1806)*-1),LOOKUP($V88,Data!$A$6:$A$1806,Data!$J$6:$J$1806))","v":-103},{"$f":"LOOKUP($V88,Data!$A$6:$A$1806,Data!$K$6:$K$1806)","v":7632},128.75,"T+18 sec",40098.102592592579,null,null,null,null,null,null,null,null,null,null,null,null,123.7668748158007,-74.056369866416176,0.125,-103]
["T+20 sec",40098.102615740725,{"$f":"LOOKUP(B89,Data!$A$6:$A$1806,Data!B$6:B$1806)","v":59.882999420166016},{"$f":"LOOKUP(B89,Data!$A$6:$A$1806,Data!C$6:C$1806)","v":3769.925048828125},{"$f":"AVERAGE($C$89:$C$105)","v":59.889117745792163},{"$f":"AVERAGE($D$89:$D$105)","v":3788.3545065487133},3090,{"$f":"(IF((C89-L$2)>0,(IF(C89<'Copy Results'!$C$3,((C89-L$2-L$5)/((L$4*L$2)-L$5)*G89*-1),(('Copy Results'!$C$3-L$2-L$5)/((L$4*L$2)-L$5)*G89*-1))),IF(C89>'Copy Results'!$C$2,((C89-L$2+L$5)/((L$4*L$2)-L$5)*G89*-1),(('Copy Results'!$C$2-L$2+L$5)/((L$4*L$2)-L$5)*G89*-1))))","v":120.51059722900389},122.37274023887807,null,{"$f":"G$13+G$7","v":3803.3247544344736},0.61697247205071049,3811.7792941732032,{"$f":"AVERAGE(D$79:D89)","v":3739.053799715909},{"$f":"AVERAGE(M$79:M89)","v":3780.1967132400705},3674.1879707383805,{"$f":"AVERAGE(P$79:P89)","v":3671.4115946141515},null,null,null,"T+20 sec",40098.102615740725,{"$f":"LOOKUP($V89,Data!$A$6:$A$1806,Data!$B$6:$B$1806)","v":59.882999420166016},{"$f":"LOOKUP($V89,Data!$A$6:$A$1806,Data!$C$6:$C$1806)","v":3769.925048828125},{"$f":"LOOKUP($V89,Data!$A$6:$A$1806,Data!$D$6:$D$1806)","v":335},{"$f":"IF($Z$1=\"+\",LOOKUP($V89,Data!$A$6:$A$1806,Data!$E$6:$E$1806)*-1,LOOKUP($V89,Data!$A$6:$A$1806,Data!$E$6:$E$1806))","v":211.25604248046875},{"$f":"LOOKUP($V89,Data!$A$6:$A$1806,Data!$F$6:$F$1806)","v":1},null,{"$f":"LOOKUP($V89,Data!$A$6:$A$1806,Data!$H$6:$H$1806)","v":10},{"$f":"LOOKUP($V89,Data!$A$6:$A$1806,Data!$I$6:$I$1806)","v":0},{"$f":"IF(LOOKUP($V89,Data!$A$6:$A$1806,Data!$J$6:$J$1806)>0,(LOOKUP($V89,Data!$A$6:$A$1806,Data!$J$6:$J$1806)*-1),LOOKUP($V89,Data!$A$6:$A$1806,Data!$J$6:$J$1806))","v":-103},{"$f":"LOOKUP($V89,Data!$A$6:$A$1806,Data!$K$6:$K$1806)","v":7632},120.51059722900389,"T+20 sec",40098.102615740725,{"$f":"AVERAGE($W$89:$W$105)","v":59.889117745792163},{"$f":"AVERAGE($X$89:$X$105)","v":3788.3545065487133},{"$f":"AVERAGE($Y$89:$Y$105)","v":335},{"$f":"AVERAGE($Z$89:$Z$105)","v":214.12771426930146},{"$f":"AVERAGE($AA$89:$AA$105)","v":6.3529411764705879},null,{"$f":"AVERAGE($AC$89:$AC$105)","v":10},{"$f":"AVERAGE($AD$89:$AD$105)","v":0},{"$f":"AVERAGE($AE$89:$AE$105)","v":-103},{"$f":"AVERAGE($AF$89:$AF$105)","v":7632},{"$f":"AVERAGE($AG$89:$AG$105)","v":114.20872183407054},{"$f":"AN$7+AN$14","v":3843.7702794355505},124.8149705189257,-78.437919353484332,0.11700057983398438,-103]
["T+22 sec",40098.102638888871,{"$f":"LOOKUP(B90,Data!$A$6:$A$1806,Data!B$6:B$1806)","v":59.887001037597656},{"$f":"LOOKUP(B90,Data!$A$6:$A$1806,Data!C$6:C$1806)","v":3780.62060546875},{"$f":"AVERAGE($C$89:$C$105)","v":59.889117745792163},{"$f":"AVERAGE($D$89:$D$105)","v":3788.3545065487133},3090,{"$f":"(IF((C90-L$2)>0,(IF(C90<'Copy Results'!$C$3,((C90-L$2-L$5)/((L$4*L$2)-L$5)*G90*-1),(('Copy Results'!$C$3-L$2-L$5)/((L$4*L$2)-L$5)*G90*-1))),IF(C90>'Copy Results'!$C$2,((C90-L$2+L$5)/((L$4*L$2)-L$5)*G90*-1),(('Copy Results'!$C$2-L$2+L$5)/((L$4*L$2)-L$5)*G90*-1))))","v":116.38893127441406},120.27840710131566,null,{"$f":"G$13+G$7","v":3803.3247544344736},0.61697247205071049,3810.3019335076915,{"$f":"AVERAGE(D$79:D90)","v":3742.5177001953125},{"$f":"AVERAGE(M$79:M90)","v":3782.7054815957054},3674.8049432104312,{"$f":"AVERAGE(P$79:P90)","v":3671.7200808501771},null,null,null,"T+22 sec",40098.102638888871,{"$f":"LOOKUP($V90,Data!$A$6:$A$1806,Data!$B$6:$B$1806)","v":59.887001037597656},{"$f":"LOOKUP($V90,Data!$A$6:$A$1806,Data!$C$6:$C$1806)","v":3780.62060546875},{"$f":"LOOKUP($V90,Data!$A$6:$A$1806,Data!$D$6:$D$1806)","v":335},{"$f":"IF($Z$1=\"+\",LOOKUP($V90,Data!$A$6:$A$1806,Data!$E$6:$E$1806)*-1,LOOKUP($V90,Data!$A$6:$A$1806,Data!$E$6:$E$1806))","v":214.34669494628906},{"$f":"LOOKUP($V90,Data!$A$6:$A$1806,Data!$F$6:$F$1806)","v":1},null,{"$f":"LOOKUP($V90,Data!$A$6:$A$1806,Data!$H$6:$H$1806)","v":10},{"$f":"LOOKUP($V90,Data!$A$6:$A$1806,Data!$I$6:$I$1806)","v":0},{"$f":"IF(LOOKUP($V90,Data!$A$6:$A$1806,Data!$J$6:$J$1806)>0,(LOOKUP($V90,Data!$A$6:$A$1806,Data!$J$6:$J$1806)*-1),LOOKUP($V90,Data!$A$6:$A$1806,Data!$J$6:$J$1806))","v":-103},{"$f":"LOOKUP($V90,Data!$A$6:$A$1806,Data!$K$6:$K$1806)","v":7632},116.38893127441406,"T+22 sec",40098.102638888871,{"$f":"AVERAGE($W$89:$W$105)","v":59.889117745792163},{"$f":"AVERAGE($X$89:$X$105)","v":3788.3545065487133},{"$f":"AVERAGE($Y$89:$Y$105)","v":335},{"$f":"AVERAGE($Z$89:$Z$105)","v":214.12771426930146},{"$f":"AVERAGE($AA$89:$AA$105)","v":6.3529411764705879},null,{"$f":"AVERAGE($AC$89:$AC$105)","v":10},{"$f":"AVERAGE($AD$89:$AD$105)","v":0},{"$f":"AVERAGE($AE$89:$AE$105)","v":-103},{"$f":"AVERAGE($AF$89:$AF$105)","v":7632},{"$f":"AVERAGE($AG$89:$AG$105)","v":114.20872183407054},{"$f":"AN$7+AN$14","v":3843.7702794355505},135.51052715955072,-87.35615597419951,0.11299896240234375,-103]
["T+24 sec",40098.102662037018,{"$f":"LOOKUP(B91,Data!$A$6:$A$1806,Data!B$6:B$1806)","v":59.886001586914063},{"$f":"LOOKUP(B91,Data!$A$6:$A$1806,Data!C$6:C$1806)","v":3781.591796875},59.889117745792163,3788.3545065487133,3090,{"$f":"(IF((C91-L$2)>0,(IF(C91<'Copy Results'!$C$3,((C91-L$2-L$5)/((L$4*L$2)-L$5)*G91*-1),(('Copy Results'!$C$3-L$2-L$5)/((L$4*L$2)-L$5)*G91*-1))),IF(C91>'Copy Results'!$C$2,((C91-L$2+L$5)/((L$4*L$2)-L$5)*G91*-1),(('Copy Results'!$C$2-L$2+L$5)/((L$4*L$2)-L$5)*G91*-1))))","v":117.41836547851564},119.27739253333566,null,3803.3247544344736,0.61697247205071049,3809.9178914117624,{"$f":"AVERAGE(D$79:D91)","v":3745.5233999399038},{"$f":"AVERAGE(M$79:M91)","v":3784.7987438892483},3675.421915682482,{"$f":"AVERAGE(P$79:P91)","v":3672.0285670862027},null,null,null,"T+24 sec",40098.102662037018,{"$f":"LOOKUP($V91,Data!$A$6:$A$1806,Data!$B$6:$B$1806)","v":59.886001586914063},{"$f":"LOOKUP($V91,Data!$A$6:$A$1806,Data!$C$6:$C$1806)","v":3781.591796875},{"$f":"LOOKUP($V91,Data!$A$6:$A$1806,Data!$D$6:$D$1806)","v":335},{"$f":"IF($Z$1=\"+\",LOOKUP($V91,Data!$A$6:$A$1806,Data!$E$6:$E$1806)*-1,LOOKUP($V91,Data!$A$6:$A$1806,Data!$E$6:$E$1806))","v":214.34669494628906},{"$f":"LOOKUP($V91,Data!$A$6:$A$1806,Data!$F$6:$F$1806)","v":1},null,{"$f":"LOOKUP($V91,Data!$A$6:$A$1806,Data!$H$6:$H$1806)","v":10},{"$f":"LOOKUP($V91,Data!$A$6:$A$1806,Data!$I$6:$I$1806)","v":0},{"$f":"IF(LOOKUP($V91,Data!$A$6:$A$1806,Data!$J$6:$J$1806)>0,(LOOKUP($V91,Data!$A$6:$A$1806,Data!$J$6:$J$1806)*-1),LOOKUP($V91,Data!$A$6:$A$1806,Data!$J$6:$J$1806))","v":-103},{"$f":"LOOKUP($V91,Data!$A$6:$A$1806,Data!$K$6:$K$1806)","v":7632},117.41836547851564,"T+24 sec",40098.102662037018,59.889117745792163,3788.3545065487133,335,214.12771426930146,6.3529411764705879,null,10,0,-103,7632,114.20872183407054,3843.7702794355505,136.48171856580072,-87.418997007988665,0.1139984130859375,-103]
["T+26 sec",40098.102685185164,{"$f":"LOOKUP(B92,Data!$A$6:$A$1806,Data!B$6:B$1806)","v":59.884998321533203},{"$f":"LOOKUP(B92,Data!$A$6:$A$1806,Data!C$6:C$1806)","v":3782.49951171875},59.889117745792163,3788.3545065487133,3090,{"$f":"(IF((C92-L$2)>0,(IF(C92<'Copy Results'!$C$3,((C92-L$2-L$5)/((L$4*L$2)-L$5)*G92*-1),(('Copy Results'!$C$3-L$2-L$5)/((L$4*L$2)-L$5)*G92*-1))),IF(C92>'Copy Results'!$C$2,((C92-L$2+L$5)/((L$4*L$2)-L$5)*G92*-1),(('Copy Results'!$C$2-L$2+L$5)/((L$4*L$2)-L$5)*G92*-1))))","v":118.45172882080078},118.98841023394846,null,3803.3247544344736,0.61697247205071049,3810.2458815844261,{"$f":"AVERAGE(D$79:D92)","v":3748.16455078125},{"$f":"AVERAGE(M$79:M92)","v":3786.6163965817614},3676.0388881545327,{"$f":"AVERAGE(P$79:P92)","v":3672.3370533222278},null,null,null,"T+26 sec",40098.102685185164,{"$f":"LOOKUP($V92,Data!$A$6:$A$1806,Data!$B$6:$B$1806)","v":59.884998321533203},{"$f":"LOOKUP($V92,Data!$A$6:$A$1806,Data!$C$6:$C$1806)","v":3782.49951171875},{"$f":"LOOKUP($V92,Data!$A$6:$A$1806,Data!$D$6:$D$1806)","v":335},{"$f":"IF($Z$1=\"+\",LOOKUP($V92,Data!$A$6:$A$1806,Data!$E$6:$E$1806)*-1,LOOKUP($V92,Data!$A$6:$A$1806,Data!$E$6:$E$1806))","v":214.34669494628906},{"$f":"LOOKUP($V92,Data!$A$6:$A$1806,Data!$F$6:$F$1806)","v":1},null,{"$f":"LOOKUP($V92,Data!$A$6:$A$1806,Data!$H$6:$H$1806)","v":10},{"$f":"LOOKUP($V92,Data!$A$6:$A$1806,Data!$I$6:$I$1806)","v":0},{"$f":"IF(LOOKUP($V92,Data!$A$6:$A$1806,Data!$J$6:$J$1806)>0,(LOOKUP($V92,Data!$A$6:$A$1806,Data!$J$6:$J$1806)*-1),LOOKUP($V92,Data!$A$6:$A$1806,Data!$J$6:$J$1806))","v":-103},{"$f":"LOOKUP($V92,Data!$A$6:$A$1806,Data!$K$6:$K$1806)","v":7632},118.45172882080078,"T+26 sec",40098.102685185164,59.889117745792163,3788.3545065487133,335,214.12771426930146,6.3529411764705879,null,10,0,-103,7632,114.20872183407054,3843.7702794355505,137.38943340955072,-87.438516459963196,0.11500167846679688,-103]
["T+28 sec",40098.10270833331,{"$f":"LOOKUP(B93,Data!$A$6:$A$1806,Data!B$6:B$1806)","v":59.887001037597656},{"$f":"LOOKUP(B93,Data!$A$6:$A$1806,Data!C$6:C$1806)","v":3784.9619140625},59.889117745792163,3788.3545065487133,3090,{"$f":"(IF((C93-L$2)>0,(IF(C93<'Copy Results'!$C$3,((C93-L$2-L$5)/((L$4*L$2)-L$5)*G93*-1),(('Copy Results'!$C$3-L$2-L$5)/((L$4*L$2)-L$5)*G93*-1))),IF(C93>'Copy Results'!$C$2,((C93-L$2+L$5)/((L$4*L$2)-L$5)*G93*-1),(('Copy Results'!$C$2-L$2+L$5)/((L$4*L$2)-L$5)*G93*-1))))","v":116.38893127441406},118.07859259811143,null,3803.3247544344736,0.61697247205071049,3809.9530364206398,{"$f":"AVERAGE(D$79:D93)","v":3750.6177083333332},{"$f":"AVERAGE(M$79:M93)","v":3788.1721725710199},3676.6558606265835,{"$f":"AVERAGE(P$79:P93)","v":3672.6455395582529},null,null,null,"T+28 sec",40098.10270833331,{"$f":"LOOKUP($V93,Data!$A$6:$A$1806,Data!$B$6:$B$1806)","v":59.887001037597656},{"$f":"LOOKUP($V93,Data!$A$6:$A$1806,Data!$C$6:$C$1806)","v":3784.9619140625},{"$f":"LOOKUP($V93,Data!$A$6:$A$1806,Data!$D$6:$D$1806)","v":335},{"$f":"IF($Z$1=\"+\",LOOKUP($V93,Data!$A$6:$A$1806,Data!$E$6:$E$1806)*-1,LOOKUP($V93,Data!$A$6:$A$1806,Data!$E$6:$E$1806))","v":214.34669494628906},{"$f":"LOOKUP($V93,Data!$A$6:$A$1806,Data!$F$6:$F$1806)","v":2},null,{"$f":"LOOKUP($V93,Data!$A$6:$A$1806,Data!$H$6:$H$1806)","v":10},{"$f":"LOOKUP($V93,Data!$A$6:$A$1806,Data!$I$6:$I$1806)","v":0},{"$f":"IF(LOOKUP($V93,Data!$A$6:$A$1806,Data!$J$6:$J$1806)>0,(LOOKUP($V93,Data!$A$6:$A$1806,Data!$J$6:$J$1806)*-1),LOOKUP($V93,Data!$A$6:$A$1806,Data!$J$6:$J$1806))","v":-103},{"$f":"LOOKUP($V93,Data!$A$6:$A$1806,Data!$K$6:$K$1806)","v":7632},116.38893127441406,"T+28 sec",40098.10270833331,59.889117745792163,3788.3545065487133,335,214.12771426930146,6.3529411764705879,null,10,0,-103,7632,114.20872183407054,3843.7702794355505,139.85183575330072,-90.154757961787084,0.11299896240234375,-103]
["T+30 sec",40098.102731481456,{"$f":"LOOKUP(B94,Data!$A$6:$A$1806,Data!B$6:B$1806)","v":59.88800048828125},{"$f":"LOOKUP(B94,Data!$A$6:$A$1806,Data!C$6:C$1806)","v":3784.729736328125},59.889117745792163,3788.3545065487133,3090,{"$f":"(IF((C94-L$2)>0,(IF(C94<'Copy Results'!$C$3,((C94-L$2-L$5)/((L$4*L$2)-L$5)*G94*-1),(('Copy Results'!$C$3-L$2-L$5)/((L$4*L$2)-L$5)*G94*-1))),IF(C94>'Copy Results'!$C$2,((C94-L$2+L$5)/((L$4*L$2)-L$5)*G94*-1),(('Copy Results'!$C$2-L$2+L$5)/((L$4*L$2)-L$5)*G94*-1))))","v":115.35949707031249},117.12690916338181,null,3803.3247544344736,0.61697247205071049,3809.618325457961,{"$f":"AVERAGE(D$79:D94)","v":3752.7497100830078},{"$f":"AVERAGE(M$79:M94)","v":3789.5125571264534},3677.2728330986342,{"$f":"AVERAGE(P$79:P94)","v":3672.9540257942786},null,null,null,"T+30 sec",40098.102731481456,{"$f":"LOOKUP($V94,Data!$A$6:$A$1806,Data!$B$6:$B$1806)","v":59.88800048828125},{"$f":"LOOKUP($V94,Data!$A$6:$A$1806,Data!$C$6:$C$1806)","v":3784.729736328125},{"$f":"LOOKUP($V94,Data!$A$6:$A$1806,Data!$D$6:$D$1806)","v":335},{"$f":"IF($Z$1=\"+\",LOOKUP($V94,Data!$A$6:$A$1806,Data!$E$6:$E$1806)*-1,LOOKUP($V94,Data!$A$6:$A$1806,Data!$E$6:$E$1806))","v":214.34669494628906},{"$f":"LOOKUP($V94,Data!$A$6:$A$1806,Data!$F$6:$F$1806)","v":3},null,{"$f":"LOOKUP($V94,Data!$A$6:$A$1806,Data!$H$6:$H$1806)","v":10},{"$f":"LOOKUP($V94,Data!$A$6:$A$1806,Data!$I$6:$I$1806)","v":0},{"$f":"IF(LOOKUP($V94,Data!$A$6:$A$1806,Data!$J$6:$J$1806)>0,(LOOKUP($V94,Data!$A$6:$A$1806,Data!$J$6:$J$1806)*-1),LOOKUP($V94,Data!$A$6:$A$1806,Data!$J$6:$J$1806))","v":-103},{"$f":"LOOKUP($V94,Data!$A$6:$A$1806,Data!$K$6:$K$1806)","v":7632},115.35949707031249,"T+30 sec",40098.102731481456,59.889117745792163,3788.3545065487133,335,214.12771426930146,6.3529411764705879,null,10,0,-103,7632,114.20872183407054,3843.7702794355505,139.61965801892572,-90.58874060747722,0.11199951171875,-103]
["T+32 sec",40098.102754629603,{"$f":"LOOKUP(B95,Data!$A$6:$A$1806,Data!B$6:B$1806)","v":59.889999389648437},{"$f":"LOOKUP(B95,Data!$A$6:$A$1806,Data!C$6:C$1806)","v":3784.4189453125},59.889117745792163,3788.3545065487133,3090,{"$f":"(IF((C95-L$2)>0,(IF(C95<'Copy Results'!$C$3,((C95-L$2-L$5)/((L$4*L$2)-L$5)*G95*-1),(('Copy Results'!$C$3-L$2-L$5)/((L$4*L$2)-L$5)*G95*-1))),IF(C95>'Copy Results'!$C$2,((C95-L$2+L$5)/((L$4*L$2)-L$5)*G95*-1),(('Copy Results'!$C$2-L$2+L$5)/((L$4*L$2)-L$5)*G95*-1))))","v":113.30062866210937},115.78771098793646,null,3803.3247544344736,0.61697247205071049,3808.8960997545664,{"$f":"AVERAGE(D$79:D95)","v":3754.6126062729782},{"$f":"AVERAGE(M$79:M95)","v":3790.6527655163422},3677.889805570685,{"$f":"AVERAGE(P$79:P95)","v":3673.2625120303037},null,null,null,"T+32 sec",40098.102754629603,{"$f":"LOOKUP($V95,Data!$A$6:$A$1806,Data!$B$6:$B$1806)","v":59.889999389648437},{"$f":"LOOKUP($V95,Data!$A$6:$A$1806,Data!$C$6:$C$1806)","v":3784.4189453125},{"$f":"LOOKUP($V95,Data!$A$6:$A$1806,Data!$D$6:$D$1806)","v":335},{"$f":"IF($Z$1=\"+\",LOOKUP($V95,Data!$A$6:$A$1806,Data!$E$6:$E$1806)*-1,LOOKUP($V95,Data!$A$6:$A$1806,Data!$E$6:$E$1806))","v":212.17269897460937},{"$f":"LOOKUP($V95,Data!$A$6:$A$1806,Data!$F$6:$F$1806)","v":4},null,{"$f":"LOOKUP($V95,Data!$A$6:$A$1806,Data!$H$6:$H$1806)","v":10},{"$f":"LOOKUP($V95,Data!$A$6:$A$1806,Data!$I$6:$I$1806)","v":0},{"$f":"IF(LOOKUP($V95,Data!$A$6:$A$1806,Data!$J$6:$J$1806)>0,(LOOKUP($V95,Data!$A$6:$A$1806,Data!$J$6:$J$1806)*-1),LOOKUP($V95,Data!$A$6:$A$1806,Data!$J$6:$J$1806))","v":-103},{"$f":"LOOKUP($V95,Data!$A$6:$A$1806,Data!$K$6:$K$1806)","v":7632},113.30062866210937,"T+32 sec",40098.102754629603,59.889117745792163,3788.3545065487133,335,214.12771426930146,6.3529411764705879,null,10,0,-103,7632,114.20872183407054,3843.7702794355505,139.30886700330072,-91.574758896065305,0.1100006103515625,-103]
["T+34 sec",40098.102777777749,{"$f":"LOOKUP(B96,Data!$A$6:$A$1806,Data!B$6:B$1806)","v":59.895000457763672},{"$f":"LOOKUP(B96,Data!$A$6:$A$1806,Data!C$6:C$1806)","v":3788.072265625},59.889117745792163,3788.3545065487133,3090,{"$f":"(IF((C96-L$2)>0,(IF(C96<'Copy Results'!$C$3,((C96-L$2-L$5)/((L$4*L$2)-L$5)*G96*-1),(('Copy Results'!$C$3-L$2-L$5)/((L$4*L$2)-L$5)*G96*-1))),IF(C96>'Copy Results'!$C$2,((C96-L$2+L$5)/((L$4*L$2)-L$5)*G96*-1),(('Copy Results'!$C$2-L$2+L$5)/((L$4*L$2)-L$5)*G96*-1))))","v":108.14952850341797},113.114347118355,null,3803.3247544344736,0.61697247205071049,3806.8397083570358,{"$f":"AVERAGE(D$79:D96)","v":3756.471476236979},{"$f":"AVERAGE(M$79:M96)","v":3791.5520401186027},3678.5067780427357,{"$f":"AVERAGE(P$79:P96)","v":3673.5709982663288},null,null,null,"T+34 sec",40098.102777777749,{"$f":"LOOKUP($V96,Data!$A$6:$A$1806,Data!$B$6:$B$1806)","v":59.895000457763672},{"$f":"LOOKUP($V96,Data!$A$6:$A$1806,Data!$C$6:$C$1806)","v":3788.072265625},{"$f":"LOOKUP($V96,Data!$A$6:$A$1806,Data!$D$6:$D$1806)","v":335},{"$f":"IF($Z$1=\"+\",LOOKUP($V96,Data!$A$6:$A$1806,Data!$E$6:$E$1806)*-1,LOOKUP($V96,Data!$A$6:$A$1806,Data!$E$6:$E$1806))","v":212.17269897460937},{"$f":"LOOKUP($V96,Data!$A$6:$A$1806,Data!$F$6:$F$1806)","v":5},null,{"$f":"LOOKUP($V96,Data!$A$6:$A$1806,Data!$H$6:$H$1806)","v":10},{"$f":"LOOKUP($V96,Data!$A$6:$A$1806,Data!$I$6:$I$1806)","v":0},{"$f":"IF(LOOKUP($V96,Data!$A$6:$A$1806,Data!$J$6:$J$1806)>0,(LOOKUP($V96,Data!$A$6:$A$1806,Data!$J$6:$J$1806)*-1),LOOKUP($V96,Data!$A$6:$A$1806,Data!$J$6:$J$1806))","v":-103},{"$f":"LOOKUP($V96,Data!$A$6:$A$1806,Data!$K$6:$K$1806)","v":7632},108.14952850341797,"T+34 sec",40098.102777777749,59.889117745792163,3788.3545065487133,335,214.12771426930146,6.3529411764705879,null,10,0,-103,7632,114.20872183407054,3843.7702794355505,142.96218731580072,-97.170714310065733,0.10499954223632813,-103]
["T+36 sec",40098.102800925895,{"$f":"LOOKUP(B97,Data!$A$6:$A$1806,Data!B$6:B$1806)","v":59.894001007080078},{"$f":"LOOKUP(B97,Data!$A$6:$A$1806,Data!C$6:C$1806)","v":3788.32763671875},59.889117745792163,3788.3545065487133,3090,{"$f":"(IF((C97-L$2)>0,(IF(C97<'Copy Results'!$C$3,((C97-L$2-L$5)/((L$4*L$2)-L$5)*G97*-1),(('Copy Results'!$C$3-L$2-L$5)/((L$4*L$2)-L$5)*G97*-1))),IF(C97>'Copy Results'!$C$2,((C97-L$2+L$5)/((L$4*L$2)-L$5)*G97*-1),(('Copy Results'!$C$2-L$2+L$5)/((L$4*L$2)-L$5)*G97*-1))))","v":109.17896270751955},111.73696257456258,null,3803.3247544344736,0.61697247205071049,3806.0792962852943,{"$f":"AVERAGE(D$79:D97)","v":3758.1481162623354},{"$f":"AVERAGE(M$79:M97)","v":3792.316632548429},3679.1237505147865,{"$f":"AVERAGE(P$79:P97)","v":3673.8794845023544},null,null,null,"T+36 sec",40098.102800925895,{"$f":"LOOKUP($V97,Data!$A$6:$A$1806,Data!$B$6:$B$1806)","v":59.894001007080078},{"$f":"LOOKUP($V97,Data!$A$6:$A$1806,Data!$C$6:$C$1806)","v":3788.32763671875},{"$f":"LOOKUP($V97,Data!$A$6:$A$1806,Data!$D$6:$D$1806)","v":335},{"$f":"IF($Z$1=\"+\",LOOKUP($V97,Data!$A$6:$A$1806,Data!$E$6:$E$1806)*-1,LOOKUP($V97,Data!$A$6:$A$1806,Data!$E$6:$E$1806))","v":212.17269897460937},{"$f":"LOOKUP($V97,Data!$A$6:$A$1806,Data!$F$6:$F$1806)","v":6},null,{"$f":"LOOKUP($V97,Data!$A$6:$A$1806,Data!$H$6:$H$1806)","v":10},{"$f":"LOOKUP($V97,Data!$A$6:$A$1806,Data!$I$6:$I$1806)","v":0},{"$f":"IF(LOOKUP($V97,Data!$A$6:$A$1806,Data!$J$6:$J$1806)>0,(LOOKUP($V97,Data!$A$6:$A$1806,Data!$J$6:$J$1806)*-1),LOOKUP($V97,Data!$A$6:$A$1806,Data!$J$6:$J$1806))","v":-103},{"$f":"LOOKUP($V97,Data!$A$6:$A$1806,Data!$K$6:$K$1806)","v":7632},109.17896270751955,"T+36 sec",40098.102800925895,59.889117745792163,3788.3545065487133,335,214.12771426930146,6.3529411764705879,null,10,0,-103,7632,114.20872183407054,3843.7702794355505,143.21755840955072,-96.687469716843708,0.10599899291992188,-103]
["T+38 sec",40098.102824074042,{"$f":"LOOKUP(B98,Data!$A$6:$A$1806,Data!B$6:B$1806)","v":59.893001556396484},{"$f":"LOOKUP(B98,Data!$A$6:$A$1806,Data!C$6:C$1806)","v":3788.868408203125},59.889117745792163,3788.3545065487133,3090,{"$f":"(IF((C98-L$2)>0,(IF(C98<'Copy Results'!$C$3,((C98-L$2-L$5)/((L$4*L$2)-L$5)*G98*-1),(('Copy Results'!$C$3-L$2-L$5)/((L$4*L$2)-L$5)*G98*-1))),IF(C98>'Copy Results'!$C$2,((C98-L$2+L$5)/((L$4*L$2)-L$5)*G98*-1),(('Copy Results'!$C$2-L$2+L$5)/((L$4*L$2)-L$5)*G98*-1))))","v":110.20839691162108},111.20196459253305,null,3803.3247544344736,0.61697247205071049,3806.1612707753156,{"$f":"AVERAGE(D$79:D98)","v":3759.6841308593748},{"$f":"AVERAGE(M$79:M98)","v":3793.0088644597736},3679.7407229868372,{"$f":"AVERAGE(P$79:P98)","v":3674.18797073838},null,null,null,"T+38 sec",40098.102824074042,{"$f":"LOOKUP($V98,Data!$A$6:$A$1806,Data!$B$6:$B$1806)","v":59.893001556396484},{"$f":"LOOKUP($V98,Data!$A$6:$A$1806,Data!$C$6:$C$1806)","v":3788.868408203125},{"$f":"LOOKUP($V98,Data!$A$6:$A$1806,Data!$D$6:$D$1806)","v":335},{"$f":"IF($Z$1=\"+\",LOOKUP($V98,Data!$A$6:$A$1806,Data!$E$6:$E$1806)*-1,LOOKUP($V98,Data!$A$6:$A$1806,Data!$E$6:$E$1806))","v":212.17269897460937},{"$f":"LOOKUP($V98,Data!$A$6:$A$1806,Data!$F$6:$F$1806)","v":7},null,{"$f":"LOOKUP($V98,Data!$A$6:$A$1806,Data!$H$6:$H$1806)","v":10},{"$f":"LOOKUP($V98,Data!$A$6:$A$1806,Data!$I$6:$I$1806)","v":0},{"$f":"IF(LOOKUP($V98,Data!$A$6:$A$1806,Data!$J$6:$J$1806)>0,(LOOKUP($V98,Data!$A$6:$A$1806,Data!$J$6:$J$1806)*-1),LOOKUP($V98,Data!$A$6:$A$1806,Data!$J$6:$J$1806))","v":-103},{"$f":"LOOKUP($V98,Data!$A$6:$A$1806,Data!$K$6:$K$1806)","v":7632},110.20839691162108,"T+38 sec",40098.102824074042,59.889117745792163,3788.3545065487133,335,214.12771426930146,6.3529411764705879,null,10,0,-103,7632,114.20872183407054,3843.7702794355505,143.75832989392572,-96.40208772721509,0.10699844360351563,-103]
["T+40 sec",40098.102847222188,{"$f":"LOOKUP(B99,Data!$A$6:$A$1806,Data!B$6:B$1806)","v":59.894001007080078},{"$f":"LOOKUP(B99,Data!$A$6:$A$1806,Data!C$6:C$1806)","v":3788.471923828125},59.889117745792163,3788.3545065487133,3090,{"$f":"(IF((C99-L$2)>0,(IF(C99<'Copy Results'!$C$3,((C99-L$2-L$5)/((L$4*L$2)-L$5)*G99*-1),(('Copy Results'!$C$3-L$2-L$5)/((L$4*L$2)-L$5)*G99*-1))),IF(C99>'Copy Results'!$C$2,((C99-L$2+L$5)/((L$4*L$2)-L$5)*G99*-1),(('Copy Results'!$C$2-L$2+L$5)/((L$4*L$2)-L$5)*G99*-1))))","v":109.17896270751955},110.49391393277831,null,3803.3247544344736,0.61697247205071049,3806.0701925876115,{"$f":"AVERAGE(D$79:D99)","v":3761.0549781436011},{"$f":"AVERAGE(M$79:M99)","v":3793.6308324658612},3680.357695458888,{"$f":"AVERAGE(P$79:P99)","v":3674.4964569744056},null,null,null,"T+40 sec",40098.102847222188,{"$f":"LOOKUP($V99,Data!$A$6:$A$1806,Data!$B$6:$B$1806)","v":59.894001007080078},{"$f":"LOOKUP($V99,Data!$A$6:$A$1806,Data!$C$6:$C$1806)","v":3788.471923828125},{"$f":"LOOKUP($V99,Data!$A$6:$A$1806,Data!$D$6:$D$1806)","v":335},{"$f":"IF($Z$1=\"+\",LOOKUP($V99,Data!$A$6:$A$1806,Data!$E$6:$E$1806)*-1,LOOKUP($V99,Data!$A$6:$A$1806,Data!$E$6:$E$1806))","v":212.17269897460937},{"$f":"LOOKUP($V99,Data!$A$6:$A$1806,Data!$F$6:$F$1806)","v":8},null,{"$f":"LOOKUP($V99,Data!$A$6:$A$1806,Data!$H$6:$H$1806)","v":10},{"$f":"LOOKUP($V99,Data!$A$6:$A$1806,Data!$I$6:$I$1806)","v":0},{"$f":"IF(LOOKUP($V99,Data!$A$6:$A$1806,Data!$J$6:$J$1806)>0,(LOOKUP($V99,Data!$A$6:$A$1806,Data!$J$6:$J$1806)*-1),LOOKUP($V99,Data!$A$6:$A$1806,Data!$J$6:$J$1806))","v":-103},{"$f":"LOOKUP($V99,Data!$A$6:$A$1806,Data!$K$6:$K$1806)","v":7632},109.17896270751955,"T+40 sec",40098.102847222188,59.889117745792163,3788.3545065487133,335,214.12771426930146,6.3529411764705879,null,10,0,-103,7632,114.20872183407054,3843.7702794355505,143.36184551892572,-96.784879250096125,0.10599899291992188,-103]
["T+42 sec",40098.102870370334,{"$f":"LOOKUP(B100,Data!$A$6:$A$1806,Data!B$6:B$1806)","v":59.894001007080078},{"$f":"LOOKUP(B100,Data!$A$6:$A$1806,Data!C$6:C$1806)","v":3792.275634765625},59.889117745792163,3788.3545065487133,3090,{"$f":"(IF((C100-L$2)>0,(IF(C100<'Copy Results'!$C$3,((C100-L$2-L$5)/((L$4*L$2)-L$5)*G100*-1),(('Copy Results'!$C$3-L$2-L$5)/((L$4*L$2)-L$5)*G100*-1))),IF(C100>'Copy Results'!$C$2,((C100-L$2+L$5)/((L$4*L$2)-L$5)*G100*-1),(('Copy Results'!$C$2-L$2+L$5)/((L$4*L$2)-L$5)*G100*-1))))","v":109.17896270751955},110.03368100393774,null,3803.3247544344736,0.61697247205071049,3806.2269321308218,{"$f":"AVERAGE(D$79:D100)","v":3762.4740988991475},{"$f":"AVERAGE(M$79:M100)","v":3794.203382450632},3680.9746679309387,{"$f":"AVERAGE(P$79:P100)","v":3674.8049432104308},null,null,null,"T+42 sec",40098.102870370334,{"$f":"LOOKUP($V100,Data!$A$6:$A$1806,Data!$B$6:$B$1806)","v":59.894001007080078},{"$f":"LOOKUP($V100,Data!$A$6:$A$1806,Data!$C$6:$C$1806)","v":3792.275634765625},{"$f":"LOOKUP($V100,Data!$A$6:$A$1806,Data!$D$6:$D$1806)","v":335},{"$f":"IF($Z$1=\"+\",LOOKUP($V100,Data!$A$6:$A$1806,Data!$E$6:$E$1806)*-1,LOOKUP($V100,Data!$A$6:$A$1806,Data!$E$6:$E$1806))","v":215.59817504882812},{"$f":"LOOKUP($V100,Data!$A$6:$A$1806,Data!$F$6:$F$1806)","v":9},null,{"$f":"LOOKUP($V100,Data!$A$6:$A$1806,Data!$H$6:$H$1806)","v":10},{"$f":"LOOKUP($V100,Data!$A$6:$A$1806,Data!$I$6:$I$1806)","v":0},{"$f":"IF(LOOKUP($V100,Data!$A$6:$A$1806,Data!$J$6:$J$1806)>0,(LOOKUP($V100,Data!$A$6:$A$1806,Data!$J$6:$J$1806)*-1),LOOKUP($V100,Data!$A$6:$A$1806,Data!$J$6:$J$1806))","v":-103},{"$f":"LOOKUP($V100,Data!$A$6:$A$1806,Data!$K$6:$K$1806)","v":7632},109.17896270751955,"T+42 sec",40098.102870370334,59.889117745792163,3788.3545065487133,335,214.12771426930146,6.3529411764705879,null,10,0,-103,7632,114.20872183407054,3843.7702794355505,147.16555645642572,-99.352798925346178,0.10599899291992188,-103]
["T+44 sec",40098.10289351848,{"$f":"LOOKUP(B101,Data!$A$6:$A$1806,Data!B$6:B$1806)","v":59.890998840332031},{"$f":"LOOKUP(B101,Data!$A$6:$A$1806,Data!C$6:C$1806)","v":3793.074462890625},59.889117745792163,3788.3545065487133,3090,{"$f":"(IF((C101-L$2)>0,(IF(C101<'Copy Results'!$C$3,((C101-L$2-L$5)/((L$4*L$2)-L$5)*G101*-1),(('Copy Results'!$C$3-L$2-L$5)/((L$4*L$2)-L$5)*G101*-1))),IF(C101>'Copy Results'!$C$2,((C101-L$2+L$5)/((L$4*L$2)-L$5)*G101*-1),(('Copy Results'!$C$2-L$2+L$5)/((L$4*L$2)-L$5)*G101*-1))))","v":112.2711944580078},110.81681071286226,null,3803.3247544344736,0.61697247205071049,3807.6270343117972,{"$f":"AVERAGE(D$79:D101)","v":3763.804549507473},{"$f":"AVERAGE(M$79:M101)","v":3794.7870194880738},3681.5916404029895,{"$f":"AVERAGE(P$79:P101)","v":3675.1134294464559},null,null,null,"T+44 sec",40098.10289351848,{"$f":"LOOKUP($V101,Data!$A$6:$A$1806,Data!$B$6:$B$1806)","v":59.890998840332031},{"$f":"LOOKUP($V101,Data!$A$6:$A$1806,Data!$C$6:$C$1806)","v":3793.074462890625},{"$f":"LOOKUP($V101,Data!$A$6:$A$1806,Data!$D$6:$D$1806)","v":335},{"$f":"IF($Z$1=\"+\",LOOKUP($V101,Data!$A$6:$A$1806,Data!$E$6:$E$1806)*-1,LOOKUP($V101,Data!$A$6:$A$1806,Data!$E$6:$E$1806))","v":215.59817504882812},{"$f":"LOOKUP($V101,Data!$A$6:$A$1806,Data!$F$6:$F$1806)","v":10},null,{"$f":"LOOKUP($V101,Data!$A$6:$A$1806,Data!$H$6:$H$1806)","v":10},{"$f":"LOOKUP($V101,Data!$A$6:$A$1806,Data!$I$6:$I$1806)","v":0},{"$f":"IF(LOOKUP($V101,Data!$A$6:$A$1806,Data!$J$6:$J$1806)>0,(LOOKUP($V101,Data!$A$6:$A$1806,Data!$J$6:$J$1806)*-1),LOOKUP($V101,Data!$A$6:$A$1806,Data!$J$6:$J$1806))","v":-103},{"$f":"LOOKUP($V101,Data!$A$6:$A$1806,Data!$K$6:$K$1806)","v":7632},112.2711944580078,"T+44 sec",40098.10289351848,59.889117745792163,3788.3545065487133,335,214.12771426930146,6.3529411764705879,null,10,0,-103,7632,114.20872183407054,3843.7702794355505,147.96438458142572,-97.907711377319046,0.10900115966796875,-103]
["T+46 sec",40098.102916666627,{"$f":"LOOKUP(B102,Data!$A$6:$A$1806,Data!B$6:B$1806)","v":59.889999389648437},{"$f":"LOOKUP(B102,Data!$A$6:$A$1806,Data!C$6:C$1806)","v":3794.374267578125},59.889117745792163,3788.3545065487133,3090,{"$f":"(IF((C102-L$2)>0,(IF(C102<'Copy Results'!$C$3,((C102-L$2-L$5)/((L$4*L$2)-L$5)*G102*-1),(('Copy Results'!$C$3-L$2-L$5)/((L$4*L$2)-L$5)*G102*-1))),IF(C102>'Copy Results'!$C$2,((C102-L$2+L$5)/((L$4*L$2)-L$5)*G102*-1),(('Copy Results'!$C$2-L$2+L$5)/((L$4*L$2)-L$5)*G102*-1))))","v":113.30062866210937},111.68614699509875,null,3803.3247544344736,0.61697247205071049,3809.1133430660843,{"$f":"AVERAGE(D$79:D102)","v":3765.0782877604165},{"$f":"AVERAGE(M$79:M102)","v":3795.3839496371579},3682.2086128750402,{"$f":"AVERAGE(P$79:P102)","v":3675.4219156824811},null,null,null,"T+46 sec",40098.102916666627,{"$f":"LOOKUP($V102,Data!$A$6:$A$1806,Data!$B$6:$B$1806)","v":59.889999389648437},{"$f":"LOOKUP($V102,Data!$A$6:$A$1806,Data!$C$6:$C$1806)","v":3794.374267578125},{"$f":"LOOKUP($V102,Data!$A$6:$A$1806,Data!$D$6:$D$1806)","v":335},{"$f":"IF($Z$1=\"+\",LOOKUP($V102,Data!$A$6:$A$1806,Data!$E$6:$E$1806)*-1,LOOKUP($V102,Data!$A$6:$A$1806,Data!$E$6:$E$1806))","v":215.59817504882812},{"$f":"LOOKUP($V102,Data!$A$6:$A$1806,Data!$F$6:$F$1806)","v":11},null,{"$f":"LOOKUP($V102,Data!$A$6:$A$1806,Data!$H$6:$H$1806)","v":10},{"$f":"LOOKUP($V102,Data!$A$6:$A$1806,Data!$I$6:$I$1806)","v":0},{"$f":"IF(LOOKUP($V102,Data!$A$6:$A$1806,Data!$J$6:$J$1806)>0,(LOOKUP($V102,Data!$A$6:$A$1806,Data!$J$6:$J$1806)*-1),LOOKUP($V102,Data!$A$6:$A$1806,Data!$J$6:$J$1806))","v":-103},{"$f":"LOOKUP($V102,Data!$A$6:$A$1806,Data!$K$6:$K$1806)","v":7632},113.30062866210937,"T+46 sec",40098.102916666627,59.889117745792163,3788.3545065487133,335,214.12771426930146,6.3529411764705879,null,10,0,-103,7632,114.20872183407054,3843.7702794355505,149.26418926892572,-98.11889535929302,0.1100006103515625,-103]
["T+48 sec",40098.102939814773,{"$f":"LOOKUP(B103,Data!$A$6:$A$1806,Data!B$6:B$1806)","v":59.884998321533203},{"$f":"LOOKUP(B103,Data!$A$6:$A$1806,Data!C$6:C$1806)","v":3799.427734375},59.889117745792163,3788.3545065487133,3090,{"$f":"(IF((C103-L$2)>0,(IF(C103<'Copy Results'!$C$3,((C103-L$2-L$5)/((L$4*L$2)-L$5)*G103*-1),(('Copy Results'!$C$3-L$2-L$5)/((L$4*L$2)-L$5)*G103*-1))),IF(C103>'Copy Results'!$C$2,((C103-L$2+L$5)/((L$4*L$2)-L$5)*G103*-1),(('Copy Results'!$C$2-L$2+L$5)/((L$4*L$2)-L$5)*G103*-1))))","v":118.45172882080078},114.05410063409447,null,3803.3247544344736,0.61697247205071049,3812.098269177131,{"$f":"AVERAGE(D$79:D103)","v":3766.4522656250001},{"$f":"AVERAGE(M$79:M103)","v":3796.0525224187568},3682.825585347091,{"$f":"AVERAGE(P$79:P103)","v":3675.7304019185067},null,null,null,"T+48 sec",40098.102939814773,{"$f":"LOOKUP($V103,Data!$A$6:$A$1806,Data!$B$6:$B$1806)","v":59.884998321533203},{"$f":"LOOKUP($V103,Data!$A$6:$A$1806,Data!$C$6:$C$1806)","v":3799.427734375},{"$f":"LOOKUP($V103,Data!$A$6:$A$1806,Data!$D$6:$D$1806)","v":335},{"$f":"IF($Z$1=\"+\",LOOKUP($V103,Data!$A$6:$A$1806,Data!$E$6:$E$1806)*-1,LOOKUP($V103,Data!$A$6:$A$1806,Data!$E$6:$E$1806))","v":215.59817504882812},{"$f":"LOOKUP($V103,Data!$A$6:$A$1806,Data!$F$6:$F$1806)","v":12},null,{"$f":"LOOKUP($V103,Data!$A$6:$A$1806,Data!$H$6:$H$1806)","v":10},{"$f":"LOOKUP($V103,Data!$A$6:$A$1806,Data!$I$6:$I$1806)","v":0},{"$f":"IF(LOOKUP($V103,Data!$A$6:$A$1806,Data!$J$6:$J$1806)>0,(LOOKUP($V103,Data!$A$6:$A$1806,Data!$J$6:$J$1806)*-1),LOOKUP($V103,Data!$A$6:$A$1806,Data!$J$6:$J$1806))","v":-103},{"$f":"LOOKUP($V103,Data!$A$6:$A$1806,Data!$K$6:$K$1806)","v":7632},118.45172882080078,"T+48 sec",40098.102939814773,59.889117745792163,3788.3545065487133,335,214.12771426930146,6.3529411764705879,null,10,0,-103,7632,114.20872183407054,3843.7702794355505,154.31765606580072,-98.212115554400839,0.11500167846679688,-103]
["T+50 sec",40098.102962962919,{"$f":"LOOKUP(B104,Data!$A$6:$A$1806,Data!B$6:B$1806)","v":59.884998321533203},{"$f":"LOOKUP(B104,Data!$A$6:$A$1806,Data!C$6:C$1806)","v":3800.427490234375},59.889117745792163,3788.3545065487133,3090,{"$f":"(IF((C104-L$2)>0,(IF(C104<'Copy Results'!$C$3,((C104-L$2-L$5)/((L$4*L$2)-L$5)*G104*-1),(('Copy Results'!$C$3-L$2-L$5)/((L$4*L$2)-L$5)*G104*-1))),IF(C104>'Copy Results'!$C$2,((C104-L$2+L$5)/((L$4*L$2)-L$5)*G104*-1),(('Copy Results'!$C$2-L$2+L$5)/((L$4*L$2)-L$5)*G104*-1))))","v":118.45172882080078},115.59327049944169,null,3803.3247544344736,0.61697247205071049,3814.2544115145288,{"$f":"AVERAGE(D$79:D104)","v":3767.7590050330527},{"$f":"AVERAGE(M$79:M104)","v":3796.7525950762865},3683.4425578191417,{"$f":"AVERAGE(P$79:P104)","v":3676.0388881545323},null,null,null,"T+50 sec",40098.102962962919,{"$f":"LOOKUP($V104,Data!$A$6:$A$1806,Data!$B$6:$B$1806)","v":59.884998321533203},{"$f":"LOOKUP($V104,Data!$A$6:$A$1806,Data!$C$6:$C$1806)","v":3800.427490234375},{"$f":"LOOKUP($V104,Data!$A$6:$A$1806,Data!$D$6:$D$1806)","v":335},{"$f":"IF($Z$1=\"+\",LOOKUP($V104,Data!$A$6:$A$1806,Data!$E$6:$E$1806)*-1,LOOKUP($V104,Data!$A$6:$A$1806,Data!$E$6:$E$1806))","v":215.59817504882812},{"$f":"LOOKUP($V104,Data!$A$6:$A$1806,Data!$F$6:$F$1806)","v":13},null,{"$f":"LOOKUP($V104,Data!$A$6:$A$1806,Data!$H$6:$H$1806)","v":10},{"$f":"LOOKUP($V104,Data!$A$6:$A$1806,Data!$I$6:$I$1806)","v":0},{"$f":"IF(LOOKUP($V104,Data!$A$6:$A$1806,Data!$J$6:$J$1806)>0,(LOOKUP($V104,Data!$A$6:$A$1806,Data!$J$6:$J$1806)*-1),LOOKUP($V104,Data!$A$6:$A$1806,Data!$J$6:$J$1806))","v":-103},{"$f":"LOOKUP($V104,Data!$A$6:$A$1806,Data!$K$6:$K$1806)","v":7632},118.45172882080078,"T+50 sec",40098.102962962919,59.889117745792163,3788.3545065487133,335,214.12771426930146,6.3529411764705879,null,10,0,-103,7632,114.20872183407054,3843.7702794355505,155.31741192517572,-98.848388424857475,0.11500167846679688,-103]
["T+52 sec",40098.102986111066,{"$f":"LOOKUP(B105,Data!$A$6:$A$1806,Data!B$6:B$1806)","v":59.88800048828125},{"$f":"LOOKUP(B105,Data!$A$6:$A$1806,Data!C$6:C$1806)","v":3799.959228515625},59.889117745792163,3788.3545065487133,3090,{"$f":"(IF((C105-L$2)>0,(IF(C105<'Copy Results'!$C$3,((C105-L$2-L$5)/((L$4*L$2)-L$5)*G105*-1),(('Copy Results'!$C$3-L$2-L$5)/((L$4*L$2)-L$5)*G105*-1))),IF(C105>'Copy Results'!$C$2,((C105-L$2+L$5)/((L$4*L$2)-L$5)*G105*-1),(('Copy Results'!$C$2-L$2+L$5)/((L$4*L$2)-L$5)*G105*-1))))","v":115.35949707031249},115.51144979924646,null,3803.3247544344736,0.61697247205071049,3814.7895632863842,{"$f":"AVERAGE(D$79:D105)","v":3768.9516059027778},{"$f":"AVERAGE(M$79:M105)","v":3797.4206309359197},3684.0595302911925,{"$f":"AVERAGE(P$79:P105)","v":3676.3473743905579},null,null,null,"T+52 sec",40098.102986111066,{"$f":"LOOKUP($V105,Data!$A$6:$A$1806,Data!$B$6:$B$1806)","v":59.88800048828125},{"$f":"LOOKUP($V105,Data!$A$6:$A$1806,Data!$C$6:$C$1806)","v":3799.959228515625},{"$f":"LOOKUP($V105,Data!$A$6:$A$1806,Data!$D$6:$D$1806)","v":335},{"$f":"IF($Z$1=\"+\",LOOKUP($V105,Data!$A$6:$A$1806,Data!$E$6:$E$1806)*-1,LOOKUP($V105,Data!$A$6:$A$1806,Data!$E$6:$E$1806))","v":218.32725524902344},{"$f":"LOOKUP($V105,Data!$A$6:$A$1806,Data!$F$6:$F$1806)","v":14},null,{"$f":"LOOKUP($V105,Data!$A$6:$A$1806,Data!$H$6:$H$1806)","v":10},{"$f":"LOOKUP($V105,Data!$A$6:$A$1806,Data!$I$6:$I$1806)","v":0},{"$f":"IF(LOOKUP($V105,Data!$A$6:$A$1806,Data!$J$6:$J$1806)>0,(LOOKUP($V105,Data!$A$6:$A$1806,Data!$J$6:$J$1806)*-1),LOOKUP($V105,Data!$A$6:$A$1806,Data!$J$6:$J$1806))","v":-103},{"$f":"LOOKUP($V105,Data!$A$6:$A$1806,Data!$K$6:$K$1806)","v":7632},115.35949707031249,"T+52 sec",40098.102986111066,59.889117745792163,3788.3545065487133,335,214.12771426930146,6.3529411764705879,null,10,0,-103,7632,114.20872183407054,3843.7702794355505,154.84915020642572,-100.47001762056107,0.11199951171875,-103]
["T+54 sec",40098.103009259212,{"$f":"LOOKUP(B106,Data!$A$6:$A$1806,Data!B$6:B$1806)","v":59.887001037597656},{"$f":"LOOKUP(B106,Data!$A$6:$A$1806,Data!C$6:C$1806)","v":3803.625},null,null,3090,{"$f":"(IF((C106-L$2)>0,(IF(C106<'Copy Results'!$C$3,((C106-L$2-L$5)/((L$4*L$2)-L$5)*G106*-1),(('Copy Results'!$C$3-L$2-L$5)/((L$4*L$2)-L$5)*G106*-1))),IF(C106>'Copy Results'!$C$2,((C106-L$2+L$5)/((L$4*L$2)-L$5)*G106*-1),(('Copy Results'!$C$2-L$2+L$5)/((L$4*L$2)-L$5)*G106*-1))))","v":116.38893127441406},115.81856831555513,null,null,0.61697247205071049,3815.7136542747435,{"$f":"AVERAGE(D$79:D106)","v":3770.18994140625},{"$f":"AVERAGE(M$79:M106)","v":3798.0739531980207},3684.6765027632432,{"$f":"AVERAGE(P$79:P106)","v":3676.6558606265835},null,null,null,"T+54 sec",40098.103009259212,{"$f":"LOOKUP($V106,Data!$A$6:$A$1806,Data!$B$6:$B$1806)","v":59.887001037597656},{"$f":"LOOKUP($V106,Data!$A$6:$A$1806,Data!$C$6:$C$1806)","v":3803.625},{"$f":"LOOKUP($V106,Data!$A$6:$A$1806,Data!$D$6:$D$1806)","v":335},{"$f":"IF($Z$1=\"+\",LOOKUP($V106,Data!$A$6:$A$1806,Data!$E$6:$E$1806)*-1,LOOKUP($V106,Data!$A$6:$A$1806,Data!$E$6:$E$1806))","v":218.32725524902344},{"$f":"LOOKUP($V106,Data!$A$6:$A$1806,Data!$F$6:$F$1806)","v":15},null,{"$f":"LOOKUP($V106,Data!$A$6:$A$1806,Data!$H$6:$H$1806)","v":10},{"$f":"LOOKUP($V106,Data!$A$6:$A$1806,Data!$I$6:$I$1806)","v":0},{"$f":"IF(LOOKUP($V106,Data!$A$6:$A$1806,Data!$J$6:$J$1806)>0,(LOOKUP($V106,Data!$A$6:$A$1806,Data!$J$6:$J$1806)*-1),LOOKUP($V106,Data!$A$6:$A$1806,Data!$J$6:$J$1806))","v":-103},{"$f":"LOOKUP($V106,Data!$A$6:$A$1806,Data!$K$6:$K$1806)","v":7632},116.38893127441406,"T+54 sec",40098.103009259212,null,null,null,null,null,null,null,null,null,null,null,null,158.51492169080072,-102.18581916632786,0.11299896240234375,-103]
["T+56 sec",40098.103032407358,{"$f":"LOOKUP(B107,Data!$A$6:$A$1806,Data!B$6:B$1806)","v":59.88800048828125},{"$f":"LOOKUP(B107,Data!$A$6:$A$1806,Data!C$6:C$1806)","v":3802.925048828125},null,null,3090,{"$f":"(IF((C107-L$2)>0,(IF(C107<'Copy Results'!$C$3,((C107-L$2-L$5)/((L$4*L$2)-L$5)*G107*-1),(('Copy Results'!$C$3-L$2-L$5)/((L$4*L$2)-L$5)*G107*-1))),IF(C107>'Copy Results'!$C$2,((C107-L$2+L$5)/((L$4*L$2)-L$5)*G107*-1),(('Copy Results'!$C$2-L$2+L$5)/((L$4*L$2)-L$5)*G107*-1))))","v":115.35949707031249},{"$f":"L$13*H107+(1-L$13)*I106","v":115.65789337972021},null,null,0.61697247205071049,3816.1699518109594,{"$f":"AVERAGE(D$79:D107)","v":3771.3187382139008},{"$f":"AVERAGE(M$79:M107)","v":3798.6979531501906},3685.293475235294,{"$f":"AVERAGE(P$79:P107)","v":3676.9643468626086},null,null,null,"T+56 sec",40098.103032407358,{"$f":"LOOKUP($V107,Data!$A$6:$A$1806,Data!$B$6:$B$1806)","v":59.88800048828125},{"$f":"LOOKUP($V107,Data!$A$6:$A$1806,Data!$C$6:$C$1806)","v":3802.925048828125},{"$f":"LOOKUP($V107,Data!$A$6:$A$1806,Data!$D$6:$D$1806)","v":335},{"$f":"IF($Z$1=\"+\",LOOKUP($V107,Data!$A$6:$A$1806,Data!$E$6:$E$1806)*-1,LOOKUP($V107,Data!$A$6:$A$1806,Data!$E$6:$E$1806))","v":218.32725524902344},{"$f":"LOOKUP($V107,Data!$A$6:$A$1806,Data!$F$6:$F$1806)","v":16},null,{"$f":"LOOKUP($V107,Data!$A$6:$A$1806,Data!$H$6:$H$1806)","v":10},{"$f":"LOOKUP($V107,Data!$A$6:$A$1806,Data!$I$6:$I$1806)","v":0},{"$f":"IF(LOOKUP($V107,Data!$A$6:$A$1806,Data!$J$6:$J$1806)>0,(LOOKUP($V107,Data!$A$6:$A$1806,Data!$J$6:$J$1806)*-1),LOOKUP($V107,Data!$A$6:$A$1806,Data!$J$6:$J$1806))","v":-103},{"$f":"LOOKUP($V107,Data!$A$6:$A$1806,Data!$K$6:$K$1806)","v":7632},115.35949707031249,"T+56 sec",40098.103032407358,null,null,null,null,null,null,null,null,null,null,null,null,157.81497051892572,-102.39431632455181,0.11199951171875,-103]
["T+58 sec",40098.103055555504,{"$f":"LOOKUP(B108,Data!$A$6:$A$1806,Data!B$6:B$1806)","v":59.88800048828125},{"$f":"LOOKUP(B108,Data!$A$6:$A$1806,Data!C$6:C$1806)","v":3802.950927734375},null,null,{"$f":"AE108*-M$4*10","v":3090},{"$f":"(IF((C108-L$2)>0,(IF(C108<'Copy Results'!$C$3,((C108-L$2-L$5)/((L$4*L$2)-L$5)*G108*-1),(('Copy Results'!$C$3-L$2-L$5)/((L$4*L$2)-L$5)*G108*-1))),IF(C108>'Copy Results'!$C$2,((C108-L$2+L$5)/((L$4*L$2)-L$5)*G108*-1),(('Copy Results'!$C$2-L$2+L$5)/((L$4*L$2)-L$5)*G108*-1))))","v":115.35949707031249},115.55345467142752,null,null,0.61697247205071049,3816.6824855747177,{"$f":"AVERAGE(D$79:D108)","v":3772.3731445312501},{"$f":"AVERAGE(M$79:M108)","v":3799.2974375643412},3685.9104477073447,{"$f":"AVERAGE(P$79:P108)","v":3677.2728330986338},null,null,null,"T+58 sec",40098.103055555504,{"$f":"LOOKUP($V108,Data!$A$6:$A$1806,Data!$B$6:$B$1806)","v":59.88800048828125},{"$f":"LOOKUP($V108,Data!$A$6:$A$1806,Data!$C$6:$C$1806)","v":3802.950927734375},{"$f":"LOOKUP($V108,Data!$A$6:$A$1806,Data!$D$6:$D$1806)","v":335},{"$f":"IF($Z$1=\"+\",LOOKUP($V108,Data!$A$6:$A$1806,Data!$E$6:$E$1806)*-1,LOOKUP($V108,Data!$A$6:$A$1806,Data!$E$6:$E$1806))","v":218.32725524902344},{"$f":"LOOKUP($V108,Data!$A$6:$A$1806,Data!$F$6:$F$1806)","v":16},null,{"$f":"LOOKUP($V108,Data!$A$6:$A$1806,Data!$H$6:$H$1806)","v":10},{"$f":"LOOKUP($V108,Data!$A$6:$A$1806,Data!$I$6:$I$1806)","v":0},{"$f":"IF(LOOKUP($V108,Data!$A$6:$A$1806,Data!$J$6:$J$1806)>0,(LOOKUP($V108,Data!$A$6:$A$1806,Data!$J$6:$J$1806)*-1),LOOKUP($V108,Data!$A$6:$A$1806,Data!$J$6:$J$1806))","v":-103},{"$f":"LOOKUP($V108,Data!$A$6:$A$1806,Data!$K$6:$K$1806)","v":7632},{"$f":"(IF((W108-$L$2)>0,((W108-$L$2-$L$5)/(($L$4*$L$2)-$L$5)*G108*-1),((W108-$L$2+$L$5)/(($L$4*$L$2)-$L$5)*G108*-1)))","v":115.35949707031249},"T+58 sec",40098.103055555504,null,null,null,null,null,null,null,null,null,null,null,null,157.84084942517572,-102.41110720886388,{"$f":"ABS(C108-60)","v":0.11199951171875},{"$f":"IF(AX108>0.036,AE108,\" \")","v":-103}]
["T+60 sec",40098.103078703651,{"$f":"LOOKUP(B109,Data!$A$6:$A$1806,Data!B$6:B$1806)","v":59.889999389648437},{"$f":"LOOKUP(B109,Data!$A$6:$A$1806,Data!C$6:C$1806)","v":3804.387939453125},null,null,3090,{"$f":"(IF((C109-L$2)>0,(IF(C109<'Copy Results'!$C$3,((C109-L$2-L$5)/((L$4*L$2)-L$5)*G109*-1),(('Copy Results'!$C$3-L$2-L$5)/((L$4*L$2)-L$5)*G109*-1))),IF(C109>'Copy Results'!$C$2,((C109-L$2+L$5)/((L$4*L$2)-L$5)*G109*-1),(('Copy Results'!$C$2-L$2+L$5)/((L$4*L$2)-L$5)*G109*-1))))","v":113.30062866210937},114.76496556816618,null,null,0.61697247205071049,3816.5109689435071,{"$f":"AVERAGE(D$79:D109)","v":3773.4058798513106},{"$f":"AVERAGE(M$79:M109)","v":3799.8527127701209},3686.5274201793954,{"$f":"AVERAGE(P$79:P109)","v":3677.5813193346594},null,null,null,"T+60 sec",40098.103078703651,{"$f":"LOOKUP($V109,Data!$A$6:$A$1806,Data!$B$6:$B$1806)","v":59.889999389648437},{"$f":"LOOKUP($V109,Data!$A$6:$A$1806,Data!$C$6:$C$1806)","v":3804.387939453125},{"$f":"LOOKUP($V109,Data!$A$6:$A$1806,Data!$D$6:$D$1806)","v":335},{"$f":"IF($Z$1=\"+\",LOOKUP($V109,Data!$A$6:$A$1806,Data!$E$6:$E$1806)*-1,LOOKUP($V109,Data!$A$6:$A$1806,Data!$E$6:$E$1806))","v":218.32725524902344},{"$f":"LOOKUP($V109,Data!$A$6:$A$1806,Data!$F$6:$F$1806)","v":16},null,{"$f":"LOOKUP($V109,Data!$A$6:$A$1806,Data!$H$6:$H$1806)","v":10},{"$f":"LOOKUP($V109,Data!$A$6:$A$1806,Data!$I$6:$I$1806)","v":0},{"$f":"IF(LOOKUP($V109,Data!$A$6:$A$1806,Data!$J$6:$J$1806)>0,(LOOKUP($V109,Data!$A$6:$A$1806,Data!$J$6:$J$1806)*-1),LOOKUP($V109,Data!$A$6:$A$1806,Data!$J$6:$J$1806))","v":-103},{"$f":"LOOKUP($V109,Data!$A$6:$A$1806,Data!$K$6:$K$1806)","v":7632},113.30062866210937,"T+60 sec",40098.103078703651,null,null,null,null,"         ",null,null,null,null,null,null,null,159.27786114392572,-104.701387969729,0.1100006103515625,-103]
["T+62 sec",{"$f":"B109+TIME(0,0,$B$1)","v":40098.103101851797},{"$f":"LOOKUP(B110,Data!$A$6:$A$1806,Data!B$6:B$1806)","v":59.889000000000003},{"$f":"LOOKUP(B110,Data!$A$6:$A$1806,Data!C$6:C$1806)","v":3805.49609375},null,null,3090,{"$f":"(IF((C110-L$2)>0,(IF(C110<'Copy Results'!$C$3,((C110-L$2-L$5)/((L$4*L$2)-L$5)*G110*-1),(('Copy Results'!$C$3-L$2-L$5)/((L$4*L$2)-L$5)*G110*-1))),IF(C110>'Copy Results'!$C$2,((C110-L$2+L$5)/((L$4*L$2)-L$5)*G110*-1),(('Copy Results'!$C$2-L$2+L$5)/((L$4*L$2)-L$5)*G110*-1))))","v":114.32999999999701},114.61272761930697,null,null,0.61697247205071049,3816.9757034666986,{"$f":"AVERAGE(D$79:D110)","v":3774.4086990356445},{"$f":"AVERAGE(M$79:M110)","v":3800.3878062293888},3687.1443926514462,{"$f":"AVERAGE(P$79:P110)","v":3677.8898055706845},null,null,null,"T+62 sec",40098.103101851797,{"$f":"LOOKUP($V110,Data!$A$6:$A$1806,Data!$B$6:$B$1806)","v":59.889000000000003},{"$f":"LOOKUP($V110,Data!$A$6:$A$1806,Data!$C$6:$C$1806)","v":3805.49609375},{"$f":"LOOKUP($V110,Data!$A$6:$A$1806,Data!$D$6:$D$1806)","v":335},{"$f":"IF($Z$1=\"+\",LOOKUP($V110,Data!$A$6:$A$1806,Data!$E$6:$E$1806)*-1,LOOKUP($V110,Data!$A$6:$A$1806,Data!$E$6:$E$1806))","v":217.37942504882812},{"$f":"LOOKUP($V110,Data!$A$6:$A$1806,Data!$F$6:$F$1806)","v":16},null,{"$f":"LOOKUP($V110,Data!$A$6:$A$1806,Data!$H$6:$H$1806)","v":10},{"$f":"LOOKUP($V110,Data!$A$6:$A$1806,Data!$I$6:$I$1806)","v":0},{"$f":"IF(LOOKUP($V110,Data!$A$6:$A$1806,Data!$J$6:$J$1806)>0,(LOOKUP($V110,Data!$A$6:$A$1806,Data!$J$6:$J$1806)*-1),LOOKUP($V110,Data!$A$6:$A$1806,Data!$J$6:$J$1806))","v":-103},{"$f":"LOOKUP($V110,Data!$A$6:$A$1806,Data!$K$6:$K$1806)","v":7632},114.32999999999701,"T+62 sec",40098.103101851797,null,null,null,null,null,null,null,null,null,null,null,null,160.38601544080072,-104.74173368266499,0.1109999999999971,-103]
["T+64 sec",40098.103124999943,{"$f":"LOOKUP(B111,Data!$A$6:$A$1806,Data!B$6:B$1806)","v":59.881999999999998},{"$f":"LOOKUP(B111,Data!$A$6:$A$1806,Data!C$6:C$1806)","v":3805.61669921875},null,null,3090,{"$f":"(IF((C111-L$2)>0,(IF(C111<'Copy Results'!$C$3,((C111-L$2-L$5)/((L$4*L$2)-L$5)*G111*-1),(('Copy Results'!$C$3-L$2-L$5)/((L$4*L$2)-L$5)*G111*-1))),IF(C111>'Copy Results'!$C$2,((C111-L$2+L$5)/((L$4*L$2)-L$5)*G111*-1),(('Copy Results'!$C$2-L$2+L$5)/((L$4*L$2)-L$5)*G111*-1))))","v":121.54000000000215},117.03727295255027,null,null,0.61697247205071049,3820.0172212719926,{"$f":"AVERAGE(D$79:D111)","v":3775.35439601089},{"$f":"AVERAGE(M$79:M111)","v":3800.9826369882558},3687.7613651234969,{"$f":"AVERAGE(P$79:P111)","v":3678.1982918067101},null,null,null,"T+64 sec",40098.103124999943,{"$f":"LOOKUP($V111,Data!$A$6:$A$1806,Data!$B$6:$B$1806)","v":59.881999999999998},{"$f":"LOOKUP($V111,Data!$A$6:$A$1806,Data!$C$6:$C$1806)","v":3805.61669921875},{"$f":"LOOKUP($V111,Data!$A$6:$A$1806,Data!$D$6:$D$1806)","v":335},{"$f":"IF($Z$1=\"+\",LOOKUP($V111,Data!$A$6:$A$1806,Data!$E$6:$E$1806)*-1,LOOKUP($V111,Data!$A$6:$A$1806,Data!$E$6:$E$1806))","v":217.37942504882812},{"$f":"LOOKUP($V111,Data!$A$6:$A$1806,Data!$F$6:$F$1806)","v":16},null,{"$f":"LOOKUP($V111,Data!$A$6:$A$1806,Data!$H$6:$H$1806)","v":10},{"$f":"LOOKUP($V111,Data!$A$6:$A$1806,Data!$I$6:$I$1806)","v":0},{"$f":"IF(LOOKUP($V111,Data!$A$6:$A$1806,Data!$J$6:$J$1806)>0,(LOOKUP($V111,Data!$A$6:$A$1806,Data!$J$6:$J$1806)*-1),LOOKUP($V111,Data!$A$6:$A$1806,Data!$J$6:$J$1806))","v":-103},{"$f":"LOOKUP($V111,Data!$A$6:$A$1806,Data!$K$6:$K$1806)","v":7632},121.54000000000215,"T+64 sec",40098.103124999943,null,null,null,null,null,null,null,null,null,null,null,null,160.50662090955072,-100.23818598365749,0.1180000000000021,-103]
["T+66 sec",40098.10314814809,{"$f":"LOOKUP(B112,Data!$A$6:$A$1806,Data!B$6:B$1806)","v":59.873001098632813},{"$f":"LOOKUP(B112,Data!$A$6:$A$1806,Data!C$6:C$1806)","v":3809.2373046875},null,null,3090,{"$f":"(IF((C112-L$2)>0,(IF(C112<'Copy Results'!$C$3,((C112-L$2-L$5)/((L$4*L$2)-L$5)*G112*-1),(('Copy Results'!$C$3-L$2-L$5)/((L$4*L$2)-L$5)*G112*-1))),IF(C112>'Copy Results'!$C$2,((C112-L$2+L$5)/((L$4*L$2)-L$5)*G112*-1),(('Copy Results'!$C$2-L$2+L$5)/((L$4*L$2)-L$5)*G112*-1))))","v":130.80886840820312},121.85733136202877,null,null,0.61697247205071049,3825.4542521535218,{"$f":"AVERAGE(D$79:D112)","v":3776.3509521484375},{"$f":"AVERAGE(M$79:M112)","v":3801.7023903754693},3688.3783375955477,{"$f":"AVERAGE(P$79:P112)","v":3678.5067780427357},null,null,null,"T+66 sec",40098.10314814809,{"$f":"LOOKUP($V112,Data!$A$6:$A$1806,Data!$B$6:$B$1806)","v":59.873001098632813},{"$f":"LOOKUP($V112,Data!$A$6:$A$1806,Data!$C$6:$C$1806)","v":3809.2373046875},{"$f":"LOOKUP($V112,Data!$A$6:$A$1806,Data!$D$6:$D$1806)","v":335},{"$f":"IF($Z$1=\"+\",LOOKUP($V112,Data!$A$6:$A$1806,Data!$E$6:$E$1806)*-1,LOOKUP($V112,Data!$A$6:$A$1806,Data!$E$6:$E$1806))","v":217.37942504882812},{"$f":"LOOKUP($V112,Data!$A$6:$A$1806,Data!$F$6:$F$1806)","v":16},null,{"$f":"LOOKUP($V112,Data!$A$6:$A$1806,Data!$H$6:$H$1806)","v":10},{"$f":"LOOKUP($V112,Data!$A$6:$A$1806,Data!$I$6:$I$1806)","v":0},{"$f":"IF(LOOKUP($V112,Data!$A$6:$A$1806,Data!$J$6:$J$1806)>0,(LOOKUP($V112,Data!$A$6:$A$1806,Data!$J$6:$J$1806)*-1),LOOKUP($V112,Data!$A$6:$A$1806,Data!$J$6:$J$1806))","v":-103},{"$f":"LOOKUP($V112,Data!$A$6:$A$1806,Data!$K$6:$K$1806)","v":7631},130.80886840820312,"T+66 sec",40098.10314814809,null,null,null,null,null,null,null,null,null,null,null,null,164.12722637830072,-97.045424469366978,0.1269989013671875,-103]
["T+68 sec",40098.103171296236,{"$f":"LOOKUP(B113,Data!$A$6:$A$1806,Data!B$6:B$1806)","v":59.856998443603516},{"$f":"LOOKUP(B113,Data!$A$6:$A$1806,Data!C$6:C$1806)","v":3811.5029296875},null,null,3090,{"$f":"(IF((C113-L$2)>0,(IF(C113<'Copy Results'!$C$3,((C113-L$2-L$5)/((L$4*L$2)-L$5)*G113*-1),(('Copy Results'!$C$3-L$2-L$5)/((L$4*L$2)-L$5)*G113*-1))),IF(C113>'Copy Results'!$C$2,((C113-L$2+L$5)/((L$4*L$2)-L$5)*G113*-1),(('Copy Results'!$C$2-L$2+L$5)/((L$4*L$2)-L$5)*G113*-1))))","v":147.29160308837891},130.75932646625131,null,null,0.61697247205071049,3834.9732197297949,{"$f":"AVERAGE(D$79:D113)","v":3777.3552943638392},{"$f":"AVERAGE(M$79:M113)","v":3802.6529854998785},3688.9953100675984,{"$f":"AVERAGE(P$79:P113)","v":3678.8152642787609},null,null,null,"T+68 sec",40098.103171296236,{"$f":"LOOKUP($V113,Data!$A$6:$A$1806,Data!$B$6:$B$1806)","v":59.856998443603516},{"$f":"LOOKUP($V113,Data!$A$6:$A$1806,Data!$C$6:$C$1806)","v":3811.5029296875},{"$f":"LOOKUP($V113,Data!$A$6:$A$1806,Data!$D$6:$D$1806)","v":335},{"$f":"IF($Z$1=\"+\",LOOKUP($V113,Data!$A$6:$A$1806,Data!$E$6:$E$1806)*-1,LOOKUP($V113,Data!$A$6:$A$1806,Data!$E$6:$E$1806))","v":217.37942504882812},{"$f":"LOOKUP($V113,Data!$A$6:$A$1806,Data!$F$6:$F$1806)","v":16},null,{"$f":"LOOKUP($V113,Data!$A$6:$A$1806,Data!$H$6:$H$1806)","v":10},{"$f":"LOOKUP($V113,Data!$A$6:$A$1806,Data!$I$6:$I$1806)","v":0},{"$f":"IF(LOOKUP($V113,Data!$A$6:$A$1806,Data!$J$6:$J$1806)>0,(LOOKUP($V113,Data!$A$6:$A$1806,Data!$J$6:$J$1806)*-1),LOOKUP($V113,Data!$A$6:$A$1806,Data!$J$6:$J$1806))","v":-103},{"$f":"LOOKUP($V113,Data!$A$6:$A$1806,Data!$K$6:$K$1806)","v":7625},147.29160308837891,"T+68 sec",40098.103171296236,null,null,null,null,null,null,null,null,null,null,null,null,166.39285137830072,-89.880486260706959,0.14300155639648438,-103]
["T+70 sec",40098.103194444382,{"$f":"LOOKUP(B114,Data!$A$6:$A$1806,Data!B$6:B$1806)","v":59.8489990234375},{"$f":"LOOKUP(B114,Data!$A$6:$A$1806,Data!C$6:C$1806)","v":3814.8623046875},null,null,3090,{"$f":"(IF((C114-L$2)>0,(IF(C114<'Copy Results'!$C$3,((C114-L$2-L$5)/((L$4*L$2)-L$5)*G114*-1),(('Copy Results'!$C$3-L$2-L$5)/((L$4*L$2)-L$5)*G114*-1))),IF(C114>'Copy Results'!$C$2,((C114-L$2+L$5)/((L$4*L$2)-L$5)*G114*-1),(('Copy Results'!$C$2-L$2+L$5)/((L$4*L$2)-L$5)*G114*-1))))","v":155.531005859375},139.42941425384458,null,null,0.61697247205071049,3844.2602799894389,{"$f":"AVERAGE(D$79:D114)","v":3778.3971557617187},{"$f":"AVERAGE(M$79:M114)","v":3803.8087436801443},3689.6122825396492,{"$f":"AVERAGE(P$79:P114)","v":3679.123750514786},null,null,null,"T+70 sec",40098.103194444382,{"$f":"LOOKUP($V114,Data!$A$6:$A$1806,Data!$B$6:$B$1806)","v":59.8489990234375},{"$f":"LOOKUP($V114,Data!$A$6:$A$1806,Data!$C$6:$C$1806)","v":3814.8623046875},{"$f":"LOOKUP($V114,Data!$A$6:$A$1806,Data!$D$6:$D$1806)","v":335},{"$f":"IF($Z$1=\"+\",LOOKUP($V114,Data!$A$6:$A$1806,Data!$E$6:$E$1806)*-1,LOOKUP($V114,Data!$A$6:$A$1806,Data!$E$6:$E$1806))","v":217.37942504882812},{"$f":"LOOKUP($V114,Data!$A$6:$A$1806,Data!$F$6:$F$1806)","v":16},null,{"$f":"LOOKUP($V114,Data!$A$6:$A$1806,Data!$H$6:$H$1806)","v":10},{"$f":"LOOKUP($V114,Data!$A$6:$A$1806,Data!$I$6:$I$1806)","v":0},{"$f":"IF(LOOKUP($V114,Data!$A$6:$A$1806,Data!$J$6:$J$1806)>0,(LOOKUP($V114,Data!$A$6:$A$1806,Data!$J$6:$J$1806)*-1),LOOKUP($V114,Data!$A$6:$A$1806,Data!$J$6:$J$1806))","v":-103},{"$f":"LOOKUP($V114,Data!$A$6:$A$1806,Data!$K$6:$K$1806)","v":7623},155.531005859375,"T+70 sec",40098.103194444382,null,null,null,null,null,null,null,null,null,null,null,null,169.75222637830072,-87.897046048592301,0.1510009765625,-103]
["T+72 sec",40098.103217592528,{"$f":"LOOKUP(B115,Data!$A$6:$A$1806,Data!B$6:B$1806)","v":59.852001190185547},{"$f":"LOOKUP(B115,Data!$A$6:$A$1806,Data!C$6:C$1806)","v":3815.888916015625},null,null,3090,{"$f":"(IF((C115-L$2)>0,(IF(C115<'Copy Results'!$C$3,((C115-L$2-L$5)/((L$4*L$2)-L$5)*G115*-1),(('Copy Results'!$C$3-L$2-L$5)/((L$4*L$2)-L$5)*G115*-1))),IF(C115>'Copy Results'!$C$2,((C115-L$2+L$5)/((L$4*L$2)-L$5)*G115*-1),(('Copy Results'!$C$2-L$2+L$5)/((L$4*L$2)-L$5)*G115*-1))))","v":152.43877410888672},143.98269020310931,null,null,0.61697247205071049,3849.4305284107545,{"$f":"AVERAGE(D$79:D115)","v":3779.4104465793921},{"$f":"AVERAGE(M$79:M115)","v":3805.0417648890798},3690.2292550116999,{"$f":"AVERAGE(P$79:P115)","v":3679.4322367508116},null,null,null,"T+72 sec",40098.103217592528,{"$f":"LOOKUP($V115,Data!$A$6:$A$1806,Data!$B$6:$B$1806)","v":59.852001190185547},{"$f":"LOOKUP($V115,Data!$A$6:$A$1806,Data!$C$6:$C$1806)","v":3815.888916015625},{"$f":"LOOKUP($V115,Data!$A$6:$A$1806,Data!$D$6:$D$1806)","v":335},{"$f":"IF($Z$1=\"+\",LOOKUP($V115,Data!$A$6:$A$1806,Data!$E$6:$E$1806)*-1,LOOKUP($V115,Data!$A$6:$A$1806,Data!$E$6:$E$1806))","v":214.83035278320312},{"$f":"LOOKUP($V115,Data!$A$6:$A$1806,Data!$F$6:$F$1806)","v":16},null,{"$f":"LOOKUP($V115,Data!$A$6:$A$1806,Data!$H$6:$H$1806)","v":10},{"$f":"LOOKUP($V115,Data!$A$6:$A$1806,Data!$I$6:$I$1806)","v":0},{"$f":"IF(LOOKUP($V115,Data!$A$6:$A$1806,Data!$J$6:$J$1806)>0,(LOOKUP($V115,Data!$A$6:$A$1806,Data!$J$6:$J$1806)*-1),LOOKUP($V115,Data!$A$6:$A$1806,Data!$J$6:$J$1806))","v":-103},{"$f":"LOOKUP($V115,Data!$A$6:$A$1806,Data!$K$6:$K$1806)","v":7621},152.43877410888672,"T+72 sec",40098.103217592528,null,null,null,null,null,null,null,null,null,null,null,null,170.77883770642572,-89.824959696855714,0.14799880981445313,-103]
["T+74 sec",40098.103240740675,{"$f":"LOOKUP(B116,Data!$A$6:$A$1806,Data!B$6:B$1806)","v":59.858001708984375},{"$f":"LOOKUP(B116,Data!$A$6:$A$1806,Data!C$6:C$1806)","v":3825.642578125},null,null,3090,{"$f":"(IF((C116-L$2)>0,(IF(C116<'Copy Results'!$C$3,((C116-L$2-L$5)/((L$4*L$2)-L$5)*G116*-1),(('Copy Results'!$C$3-L$2-L$5)/((L$4*L$2)-L$5)*G116*-1))),IF(C116>'Copy Results'!$C$2,((C116-L$2+L$5)/((L$4*L$2)-L$5)*G116*-1),(('Copy Results'!$C$2-L$2+L$5)/((L$4*L$2)-L$5)*G116*-1))))","v":146.25823974609375},144.77913254315388,null,null,0.61697247205071049,3850.8439432228497,{"$f":"AVERAGE(D$79:D116)","v":3780.6270816200658},{"$f":"AVERAGE(M$79:M116)","v":3806.2470853715481},3690.8462274837507,{"$f":"AVERAGE(P$79:P116)","v":3679.7407229868363},null,null,null,"T+74 sec",40098.103240740675,{"$f":"LOOKUP($V116,Data!$A$6:$A$1806,Data!$B$6:$B$1806)","v":59.858001708984375},{"$f":"LOOKUP($V116,Data!$A$6:$A$1806,Data!$C$6:$C$1806)","v":3825.642578125},{"$f":"LOOKUP($V116,Data!$A$6:$A$1806,Data!$D$6:$D$1806)","v":335},{"$f":"IF($Z$1=\"+\",LOOKUP($V116,Data!$A$6:$A$1806,Data!$E$6:$E$1806)*-1,LOOKUP($V116,Data!$A$6:$A$1806,Data!$E$6:$E$1806))","v":214.83035278320312},{"$f":"LOOKUP($V116,Data!$A$6:$A$1806,Data!$F$6:$F$1806)","v":16},null,{"$f":"LOOKUP($V116,Data!$A$6:$A$1806,Data!$H$6:$H$1806)","v":10},{"$f":"LOOKUP($V116,Data!$A$6:$A$1806,Data!$I$6:$I$1806)","v":0},{"$f":"IF(LOOKUP($V116,Data!$A$6:$A$1806,Data!$J$6:$J$1806)>0,(LOOKUP($V116,Data!$A$6:$A$1806,Data!$J$6:$J$1806)*-1),LOOKUP($V116,Data!$A$6:$A$1806,Data!$J$6:$J$1806))","v":-103},{"$f":"LOOKUP($V116,Data!$A$6:$A$1806,Data!$K$6:$K$1806)","v":7623},146.25823974609375,"T+74 sec",40098.103240740675,null,null,null,null,null,null,null,null,null,null,null,null,180.53249981580072,-98.04966994799905,0.141998291015625,-103]
["T+76 sec",40098.103263888821,{"$f":"LOOKUP(B117,Data!$A$6:$A$1806,Data!B$6:B$1806)","v":59.862998962402344},{"$f":"LOOKUP(B117,Data!$A$6:$A$1806,Data!C$6:C$1806)","v":3826.05322265625},null,null,3090,{"$f":"(IF((C117-L$2)>0,(IF(C117<'Copy Results'!$C$3,((C117-L$2-L$5)/((L$4*L$2)-L$5)*G117*-1),(('Copy Results'!$C$3-L$2-L$5)/((L$4*L$2)-L$5)*G117*-1))),IF(C117>'Copy Results'!$C$2,((C117-L$2+L$5)/((L$4*L$2)-L$5)*G117*-1),(('Copy Results'!$C$2-L$2+L$5)/((L$4*L$2)-L$5)*G117*-1))))","v":141.11106872558594},143.4953102070051,null,null,0.61697247205071049,3850.1770933587518,{"$f":"AVERAGE(D$79:D117)","v":3781.7918544671475},{"$f":"AVERAGE(M$79:M117)","v":3807.3734958327582},3691.4631999558014,{"$f":"AVERAGE(P$79:P117)","v":3680.0492092228615},null,null,null,"T+76 sec",40098.103263888821,{"$f":"LOOKUP($V117,Data!$A$6:$A$1806,Data!$B$6:$B$1806)","v":59.862998962402344},{"$f":"LOOKUP($V117,Data!$A$6:$A$1806,Data!$C$6:$C$1806)","v":3826.05322265625},{"$f":"LOOKUP($V117,Data!$A$6:$A$1806,Data!$D$6:$D$1806)","v":335},{"$f":"IF($Z$1=\"+\",LOOKUP($V117,Data!$A$6:$A$1806,Data!$E$6:$E$1806)*-1,LOOKUP($V117,Data!$A$6:$A$1806,Data!$E$6:$E$1806))","v":214.83035278320312},{"$f":"LOOKUP($V117,Data!$A$6:$A$1806,Data!$F$6:$F$1806)","v":16},null,{"$f":"LOOKUP($V117,Data!$A$6:$A$1806,Data!$H$6:$H$1806)","v":10},{"$f":"LOOKUP($V117,Data!$A$6:$A$1806,Data!$I$6:$I$1806)","v":0},{"$f":"IF(LOOKUP($V117,Data!$A$6:$A$1806,Data!$J$6:$J$1806)>0,(LOOKUP($V117,Data!$A$6:$A$1806,Data!$J$6:$J$1806)*-1),LOOKUP($V117,Data!$A$6:$A$1806,Data!$J$6:$J$1806))","v":-103},{"$f":"LOOKUP($V117,Data!$A$6:$A$1806,Data!$K$6:$K$1806)","v":7625},141.11106872558594,"T+76 sec",40098.103263888821,null,null,null,null,null,null,null,null,null,null,null,null,180.94314434705072,-101.01430223308783,0.13700103759765625,-103]
["T+78 sec",40098.103287036967,{"$f":"LOOKUP(B118,Data!$A$6:$A$1806,Data!B$6:B$1806)","v":59.866001129150391},{"$f":"LOOKUP(B118,Data!$A$6:$A$1806,Data!C$6:C$1806)","v":3826.00244140625},null,null,3090,{"$f":"(IF((C118-L$2)>0,(IF(C118<'Copy Results'!$C$3,((C118-L$2-L$5)/((L$4*L$2)-L$5)*G118*-1),(('Copy Results'!$C$3-L$2-L$5)/((L$4*L$2)-L$5)*G118*-1))),IF(C118>'Copy Results'!$C$2,((C118-L$2+L$5)/((L$4*L$2)-L$5)*G118*-1),(('Copy Results'!$C$2-L$2+L$5)/((L$4*L$2)-L$5)*G118*-1))))","v":138.01883697509766},141.5785445758375,null,null,0.61697247205071049,3848.8773001996351,{"$f":"AVERAGE(D$79:D118)","v":3782.8971191406249},{"$f":"AVERAGE(M$79:M118)","v":3808.4110909419301},3692.0801724278522,{"$f":"AVERAGE(P$79:P118)","v":3680.3576954588866},null,null,null,"T+78 sec",40098.103287036967,{"$f":"LOOKUP($V118,Data!$A$6:$A$1806,Data!$B$6:$B$1806)","v":59.866001129150391},{"$f":"LOOKUP($V118,Data!$A$6:$A$1806,Data!$C$6:$C$1806)","v":3826.00244140625},{"$f":"LOOKUP($V118,Data!$A$6:$A$1806,Data!$D$6:$D$1806)","v":335},{"$f":"IF($Z$1=\"+\",LOOKUP($V118,Data!$A$6:$A$1806,Data!$E$6:$E$1806)*-1,LOOKUP($V118,Data!$A$6:$A$1806,Data!$E$6:$E$1806))","v":214.83035278320312},{"$f":"LOOKUP($V118,Data!$A$6:$A$1806,Data!$F$6:$F$1806)","v":16},null,{"$f":"LOOKUP($V118,Data!$A$6:$A$1806,Data!$H$6:$H$1806)","v":10},{"$f":"LOOKUP($V118,Data!$A$6:$A$1806,Data!$I$6:$I$1806)","v":0},{"$f":"IF(LOOKUP($V118,Data!$A$6:$A$1806,Data!$J$6:$J$1806)>0,(LOOKUP($V118,Data!$A$6:$A$1806,Data!$J$6:$J$1806)*-1),LOOKUP($V118,Data!$A$6:$A$1806,Data!$J$6:$J$1806))","v":-103},{"$f":"LOOKUP($V118,Data!$A$6:$A$1806,Data!$K$6:$K$1806)","v":7627},138.01883697509766,"T+78 sec",40098.103287036967,null,null,null,null,null,null,null,null,null,null,null,null,180.89236309705072,-102.7073338009108,0.13399887084960938,-103]
["T+80 sec",40098.103310185114,{"$f":"LOOKUP(B119,Data!$A$6:$A$1806,Data!B$6:B$1806)","v":59.865001678466797},{"$f":"LOOKUP(B119,Data!$A$6:$A$1806,Data!C$6:C$1806)","v":3827.52392578125},null,null,3090,{"$f":"(IF((C119-L$2)>0,(IF(C119<'Copy Results'!$C$3,((C119-L$2-L$5)/((L$4*L$2)-L$5)*G119*-1),(('Copy Results'!$C$3-L$2-L$5)/((L$4*L$2)-L$5)*G119*-1))),IF(C119>'Copy Results'!$C$2,((C119-L$2+L$5)/((L$4*L$2)-L$5)*G119*-1),(('Copy Results'!$C$2-L$2+L$5)/((L$4*L$2)-L$5)*G119*-1))))","v":139.04827117919922},140.6929488870141,null,null,0.61697247205071049,3848.6086769828626,{"$f":"AVERAGE(D$79:D119)","v":3783.985577839177},{"$f":"AVERAGE(M$79:M119)","v":3809.3915198697578},3692.6971448999029,{"$f":"AVERAGE(P$79:P119)","v":3680.6661816949118},null,null,null,"T+80 sec",40098.103310185114,{"$f":"LOOKUP($V119,Data!$A$6:$A$1806,Data!$B$6:$B$1806)","v":59.865001678466797},{"$f":"LOOKUP($V119,Data!$A$6:$A$1806,Data!$C$6:$C$1806)","v":3827.52392578125},{"$f":"LOOKUP($V119,Data!$A$6:$A$1806,Data!$D$6:$D$1806)","v":335},{"$f":"IF($Z$1=\"+\",LOOKUP($V119,Data!$A$6:$A$1806,Data!$E$6:$E$1806)*-1,LOOKUP($V119,Data!$A$6:$A$1806,Data!$E$6:$E$1806))","v":214.83035278320312},{"$f":"LOOKUP($V119,Data!$A$6:$A$1806,Data!$F$6:$F$1806)","v":16},null,{"$f":"LOOKUP($V119,Data!$A$6:$A$1806,Data!$H$6:$H$1806)","v":10},{"$f":"LOOKUP($V119,Data!$A$6:$A$1806,Data!$I$6:$I$1806)","v":0},{"$f":"IF(LOOKUP($V119,Data!$A$6:$A$1806,Data!$J$6:$J$1806)>0,(LOOKUP($V119,Data!$A$6:$A$1806,Data!$J$6:$J$1806)*-1),LOOKUP($V119,Data!$A$6:$A$1806,Data!$J$6:$J$1806))","v":-103},{"$f":"LOOKUP($V119,Data!$A$6:$A$1806,Data!$K$6:$K$1806)","v":7628},139.04827117919922,"T+80 sec",40098.103310185114,null,null,null,null,null,null,null,null,null,null,null,null,182.41384747205072,-102.98678576239547,0.13499832153320313,-103]
["T+82 sec",40098.10333333326,{"$f":"LOOKUP(B120,Data!$A$6:$A$1806,Data!B$6:B$1806)","v":59.867000579833984},{"$f":"LOOKUP(B120,Data!$A$6:$A$1806,Data!C$6:C$1806)","v":3826.753173828125},null,null,3090,{"$f":"(IF((C120-L$2)>0,(IF(C120<'Copy Results'!$C$3,((C120-L$2-L$5)/((L$4*L$2)-L$5)*G120*-1),(('Copy Results'!$C$3-L$2-L$5)/((L$4*L$2)-L$5)*G120*-1))),IF(C120>'Copy Results'!$C$2,((C120-L$2+L$5)/((L$4*L$2)-L$5)*G120*-1),(('Copy Results'!$C$2-L$2+L$5)/((L$4*L$2)-L$5)*G120*-1))))","v":136.98940277099609},139.3967077464078,null,null,0.61697247205071049,3847.9294083143068,{"$f":"AVERAGE(D$79:D120)","v":3785.0038539341517},{"$f":"AVERAGE(M$79:M120)","v":3810.3090886422474},3693.3141173719537,{"$f":"AVERAGE(P$79:P120)","v":3680.9746679309374},null,null,null,"T+82 sec",40098.10333333326,{"$f":"LOOKUP($V120,Data!$A$6:$A$1806,Data!$B$6:$B$1806)","v":59.867000579833984},{"$f":"LOOKUP($V120,Data!$A$6:$A$1806,Data!$C$6:$C$1806)","v":3826.753173828125},{"$f":"LOOKUP($V120,Data!$A$6:$A$1806,Data!$D$6:$D$1806)","v":335},{"$f":"IF($Z$1=\"+\",LOOKUP($V120,Data!$A$6:$A$1806,Data!$E$6:$E$1806)*-1,LOOKUP($V120,Data!$A$6:$A$1806,Data!$E$6:$E$1806))","v":227.65591430664062},{"$f":"LOOKUP($V120,Data!$A$6:$A$1806,Data!$F$6:$F$1806)","v":16},null,{"$f":"LOOKUP($V120,Data!$A$6:$A$1806,Data!$H$6:$H$1806)","v":10},{"$f":"LOOKUP($V120,Data!$A$6:$A$1806,Data!$I$6:$I$1806)","v":0},{"$f":"IF(LOOKUP($V120,Data!$A$6:$A$1806,Data!$J$6:$J$1806)>0,(LOOKUP($V120,Data!$A$6:$A$1806,Data!$J$6:$J$1806)*-1),LOOKUP($V120,Data!$A$6:$A$1806,Data!$J$6:$J$1806))","v":-103},{"$f":"LOOKUP($V120,Data!$A$6:$A$1806,Data!$K$6:$K$1806)","v":7628},136.98940277099609,"T+82 sec",40098.10333333326,null,null,null,null,null,null,null,null,null,null,null,null,181.64309551892572,-103.72217758219753,0.13299942016601563,-103]
["T+84 sec",40098.103356481406,{"$f":"LOOKUP(B121,Data!$A$6:$A$1806,Data!B$6:B$1806)","v":59.866001129150391},{"$f":"LOOKUP(B121,Data!$A$6:$A$1806,Data!C$6:C$1806)","v":3826.783447265625},null,null,3090,{"$f":"(IF((C121-L$2)>0,(IF(C121<'Copy Results'!$C$3,((C121-L$2-L$5)/((L$4*L$2)-L$5)*G121*-1),(('Copy Results'!$C$3-L$2-L$5)/((L$4*L$2)-L$5)*G121*-1))),IF(C121>'Copy Results'!$C$2,((C121-L$2+L$5)/((L$4*L$2)-L$5)*G121*-1),(('Copy Results'!$C$2-L$2+L$5)/((L$4*L$2)-L$5)*G121*-1))))","v":138.01883697509766},138.91445297644924,null,null,0.61697247205071049,3848.0641260163989,{"$f":"AVERAGE(D$79:D121)","v":3785.9754723837209},{"$f":"AVERAGE(M$79:M121)","v":3811.1871127672275},3693.9310898440044,{"$f":"AVERAGE(P$79:P121)","v":3681.2831541669625},null,null,null,"T+84 sec",40098.103356481406,{"$f":"LOOKUP($V121,Data!$A$6:$A$1806,Data!$B$6:$B$1806)","v":59.866001129150391},{"$f":"LOOKUP($V121,Data!$A$6:$A$1806,Data!$C$6:$C$1806)","v":3826.783447265625},{"$f":"LOOKUP($V121,Data!$A$6:$A$1806,Data!$D$6:$D$1806)","v":335},{"$f":"IF($Z$1=\"+\",LOOKUP($V121,Data!$A$6:$A$1806,Data!$E$6:$E$1806)*-1,LOOKUP($V121,Data!$A$6:$A$1806,Data!$E$6:$E$1806))","v":227.65591430664062},{"$f":"LOOKUP($V121,Data!$A$6:$A$1806,Data!$F$6:$F$1806)","v":16},null,{"$f":"LOOKUP($V121,Data!$A$6:$A$1806,Data!$H$6:$H$1806)","v":10},{"$f":"LOOKUP($V121,Data!$A$6:$A$1806,Data!$I$6:$I$1806)","v":0},{"$f":"IF(LOOKUP($V121,Data!$A$6:$A$1806,Data!$J$6:$J$1806)>0,(LOOKUP($V121,Data!$A$6:$A$1806,Data!$J$6:$J$1806)*-1),LOOKUP($V121,Data!$A$6:$A$1806,Data!$J$6:$J$1806))","v":-103},{"$f":"LOOKUP($V121,Data!$A$6:$A$1806,Data!$K$6:$K$1806)","v":7629},138.01883697509766,"T+84 sec",40098.103356481406,null,null,null,null,null,null,null,null,null,null,null,null,181.67336895642572,-103.1507744643304,0.13399887084960938,-103]
["T+86 sec",40098.103379629552,{"$f":"LOOKUP(B122,Data!$A$6:$A$1806,Data!B$6:B$1806)","v":59.870998382568359},{"$f":"LOOKUP(B122,Data!$A$6:$A$1806,Data!C$6:C$1806)","v":3826.45361328125},null,null,3090,{"$f":"(IF((C122-L$2)>0,(IF(C122<'Copy Results'!$C$3,((C122-L$2-L$5)/((L$4*L$2)-L$5)*G122*-1),(('Copy Results'!$C$3-L$2-L$5)/((L$4*L$2)-L$5)*G122*-1))),IF(C122>'Copy Results'!$C$2,((C122-L$2+L$5)/((L$4*L$2)-L$5)*G122*-1),(('Copy Results'!$C$2-L$2+L$5)/((L$4*L$2)-L$5)*G122*-1))))","v":132.87166595458984},136.79947751879845,null,null,0.61697247205071049,3846.5661230307987,{"$f":"AVERAGE(D$79:D122)","v":3786.895430131392},{"$f":"AVERAGE(M$79:M122)","v":3811.9911811823085},3694.5480623160552,{"$f":"AVERAGE(P$79:P122)","v":3681.5916404029881},null,null,null,"T+86 sec",40098.103379629552,{"$f":"LOOKUP($V122,Data!$A$6:$A$1806,Data!$B$6:$B$1806)","v":59.870998382568359},{"$f":"LOOKUP($V122,Data!$A$6:$A$1806,Data!$C$6:$C$1806)","v":3826.45361328125},{"$f":"LOOKUP($V122,Data!$A$6:$A$1806,Data!$D$6:$D$1806)","v":335},{"$f":"IF($Z$1=\"+\",LOOKUP($V122,Data!$A$6:$A$1806,Data!$E$6:$E$1806)*-1,LOOKUP($V122,Data!$A$6:$A$1806,Data!$E$6:$E$1806))","v":227.65591430664062},{"$f":"LOOKUP($V122,Data!$A$6:$A$1806,Data!$F$6:$F$1806)","v":16},null,{"$f":"LOOKUP($V122,Data!$A$6:$A$1806,Data!$H$6:$H$1806)","v":10},{"$f":"LOOKUP($V122,Data!$A$6:$A$1806,Data!$I$6:$I$1806)","v":0},{"$f":"IF(LOOKUP($V122,Data!$A$6:$A$1806,Data!$J$6:$J$1806)>0,(LOOKUP($V122,Data!$A$6:$A$1806,Data!$J$6:$J$1806)*-1),LOOKUP($V122,Data!$A$6:$A$1806,Data!$J$6:$J$1806))","v":-103},{"$f":"LOOKUP($V122,Data!$A$6:$A$1806,Data!$K$6:$K$1806)","v":7630},132.87166595458984,"T+86 sec",40098.103379629552,null,null,null,null,null,null,null,null,null,null,null,null,181.34353497205072,-105.97024541801167,0.12900161743164063,-103]
["T+88 sec",40098.103402777699,{"$f":"LOOKUP(B123,Data!$A$6:$A$1806,Data!B$6:B$1806)","v":59.874000549316406},{"$f":"LOOKUP(B123,Data!$A$6:$A$1806,Data!C$6:C$1806)","v":3825.71337890625},null,null,3090,{"$f":"(IF((C123-L$2)>0,(IF(C123<'Copy Results'!$C$3,((C123-L$2-L$5)/((L$4*L$2)-L$5)*G123*-1),(('Copy Results'!$C$3-L$2-L$5)/((L$4*L$2)-L$5)*G123*-1))),IF(C123>'Copy Results'!$C$2,((C123-L$2+L$5)/((L$4*L$2)-L$5)*G123*-1),(('Copy Results'!$C$2-L$2+L$5)/((L$4*L$2)-L$5)*G123*-1))))","v":129.77943420410156},134.34246235865453,null,null,0.61697247205071049,3844.7260803427057,{"$f":"AVERAGE(D$79:D123)","v":3787.7580512152776},{"$f":"AVERAGE(M$79:M123)","v":3812.7186233858733},3695.1650347881059,{"$f":"AVERAGE(P$79:P123)","v":3681.9001266390133},null,null,null,"T+88 sec",40098.103402777699,{"$f":"LOOKUP($V123,Data!$A$6:$A$1806,Data!$B$6:$B$1806)","v":59.874000549316406},{"$f":"LOOKUP($V123,Data!$A$6:$A$1806,Data!$C$6:$C$1806)","v":3825.71337890625},{"$f":"LOOKUP($V123,Data!$A$6:$A$1806,Data!$D$6:$D$1806)","v":335},{"$f":"IF($Z$1=\"+\",LOOKUP($V123,Data!$A$6:$A$1806,Data!$E$6:$E$1806)*-1,LOOKUP($V123,Data!$A$6:$A$1806,Data!$E$6:$E$1806))","v":227.65591430664062},{"$f":"LOOKUP($V123,Data!$A$6:$A$1806,Data!$F$6:$F$1806)","v":16},null,{"$f":"LOOKUP($V123,Data!$A$6:$A$1806,Data!$H$6:$H$1806)","v":10},{"$f":"LOOKUP($V123,Data!$A$6:$A$1806,Data!$I$6:$I$1806)","v":0},{"$f":"IF(LOOKUP($V123,Data!$A$6:$A$1806,Data!$J$6:$J$1806)>0,(LOOKUP($V123,Data!$A$6:$A$1806,Data!$J$6:$J$1806)*-1),LOOKUP($V123,Data!$A$6:$A$1806,Data!$J$6:$J$1806))","v":-103},{"$f":"LOOKUP($V123,Data!$A$6:$A$1806,Data!$K$6:$K$1806)","v":7631},129.77943420410156,"T+88 sec",40098.103402777699,null,null,null,null,null,null,null,null,null,null,null,null,180.60330059705072,-107.4222447065531,0.12599945068359375,-103]
["T+90 sec",40098.103425925845,{"$f":"LOOKUP(B124,Data!$A$6:$A$1806,Data!B$6:B$1806)","v":59.879001617431641},{"$f":"LOOKUP(B124,Data!$A$6:$A$1806,Data!C$6:C$1806)","v":3823.82568359375},null,null,3090,{"$f":"(IF((C124-L$2)>0,(IF(C124<'Copy Results'!$C$3,((C124-L$2-L$5)/((L$4*L$2)-L$5)*G124*-1),(('Copy Results'!$C$3-L$2-L$5)/((L$4*L$2)-L$5)*G124*-1))),IF(C124>'Copy Results'!$C$2,((C124-L$2+L$5)/((L$4*L$2)-L$5)*G124*-1),(('Copy Results'!$C$2-L$2+L$5)/((L$4*L$2)-L$5)*G124*-1))))","v":124.62833404541016},130.94251744901902,null,null,0.61697247205071049,3841.943107905121,{"$f":"AVERAGE(D$79:D124)","v":3788.542130180027},{"$f":"AVERAGE(M$79:M124)","v":3813.3539382667268},3695.7820072601567,{"$f":"AVERAGE(P$79:P124)","v":3682.2086128750389},null,null,null,"T+90 sec",40098.103425925845,{"$f":"LOOKUP($V124,Data!$A$6:$A$1806,Data!$B$6:$B$1806)","v":59.879001617431641},{"$f":"LOOKUP($V124,Data!$A$6:$A$1806,Data!$C$6:$C$1806)","v":3823.82568359375},{"$f":"LOOKUP($V124,Data!$A$6:$A$1806,Data!$D$6:$D$1806)","v":335},{"$f":"IF($Z$1=\"+\",LOOKUP($V124,Data!$A$6:$A$1806,Data!$E$6:$E$1806)*-1,LOOKUP($V124,Data!$A$6:$A$1806,Data!$E$6:$E$1806))","v":227.65591430664062},{"$f":"LOOKUP($V124,Data!$A$6:$A$1806,Data!$F$6:$F$1806)","v":16},null,{"$f":"LOOKUP($V124,Data!$A$6:$A$1806,Data!$H$6:$H$1806)","v":10},{"$f":"LOOKUP($V124,Data!$A$6:$A$1806,Data!$I$6:$I$1806)","v":0},{"$f":"IF(LOOKUP($V124,Data!$A$6:$A$1806,Data!$J$6:$J$1806)>0,(LOOKUP($V124,Data!$A$6:$A$1806,Data!$J$6:$J$1806)*-1),LOOKUP($V124,Data!$A$6:$A$1806,Data!$J$6:$J$1806))","v":-103},{"$f":"LOOKUP($V124,Data!$A$6:$A$1806,Data!$K$6:$K$1806)","v":7635},124.62833404541016,"T+90 sec",40098.103425925845,null,null,null,null,null,null,null,null,null,null,null,null,178.71560528455072,-109.55839432137451,0.12099838256835938,-103]
["T+92 sec",40098.103449073991,{"$f":"LOOKUP(B125,Data!$A$6:$A$1806,Data!B$6:B$1806)","v":59.880001068115234},{"$f":"LOOKUP(B125,Data!$A$6:$A$1806,Data!C$6:C$1806)","v":3822.50537109375},null,null,3090,{"$f":"(IF((C125-L$2)>0,(IF(C125<'Copy Results'!$C$3,((C125-L$2-L$5)/((L$4*L$2)-L$5)*G125*-1),(('Copy Results'!$C$3-L$2-L$5)/((L$4*L$2)-L$5)*G125*-1))),IF(C125>'Copy Results'!$C$2,((C125-L$2+L$5)/((L$4*L$2)-L$5)*G125*-1),(('Copy Results'!$C$2-L$2+L$5)/((L$4*L$2)-L$5)*G125*-1))))","v":123.59889984130858},128.37225128632036,null,null,0.61697247205071049,3839.989814214473,{"$f":"AVERAGE(D$79:D125)","v":3789.2647523271276},{"$f":"AVERAGE(M$79:M125)","v":3813.9206590315721},3696.3989797322074,{"$f":"AVERAGE(P$79:P125)","v":3682.5170991110645},null,null,null,"T+92 sec",40098.103449073991,{"$f":"LOOKUP($V125,Data!$A$6:$A$1806,Data!$B$6:$B$1806)","v":59.880001068115234},{"$f":"LOOKUP($V125,Data!$A$6:$A$1806,Data!$C$6:$C$1806)","v":3822.50537109375},{"$f":"LOOKUP($V125,Data!$A$6:$A$1806,Data!$D$6:$D$1806)","v":335},{"$f":"IF($Z$1=\"+\",LOOKUP($V125,Data!$A$6:$A$1806,Data!$E$6:$E$1806)*-1,LOOKUP($V125,Data!$A$6:$A$1806,Data!$E$6:$E$1806))","v":225.01808166503906},{"$f":"LOOKUP($V125,Data!$A$6:$A$1806,Data!$F$6:$F$1806)","v":16},null,{"$f":"LOOKUP($V125,Data!$A$6:$A$1806,Data!$H$6:$H$1806)","v":10},{"$f":"LOOKUP($V125,Data!$A$6:$A$1806,Data!$I$6:$I$1806)","v":0},{"$f":"IF(LOOKUP($V125,Data!$A$6:$A$1806,Data!$J$6:$J$1806)>0,(LOOKUP($V125,Data!$A$6:$A$1806,Data!$J$6:$J$1806)*-1),LOOKUP($V125,Data!$A$6:$A$1806,Data!$J$6:$J$1806))","v":-103},{"$f":"LOOKUP($V125,Data!$A$6:$A$1806,Data!$K$6:$K$1806)","v":7638},123.59889984130858,"T+92 sec",40098.103449073991,null,null,null,null,null,null,null,null,null,null,null,null,177.39529278455072,-109.41940801405478,0.11999893188476563,-103]
["T+94 sec",40098.103472222137,{"$f":"LOOKUP(B126,Data!$A$6:$A$1806,Data!B$6:B$1806)","v":59.882999420166016},{"$f":"LOOKUP(B126,Data!$A$6:$A$1806,Data!C$6:C$1806)","v":3819.0810546875},null,null,3090,{"$f":"(IF((C126-L$2)>0,(IF(C126<'Copy Results'!$C$3,((C126-L$2-L$5)/((L$4*L$2)-L$5)*G126*-1),(('Copy Results'!$C$3-L$2-L$5)/((L$4*L$2)-L$5)*G126*-1))),IF(C126>'Copy Results'!$C$2,((C126-L$2+L$5)/((L$4*L$2)-L$5)*G126*-1),(('Copy Results'!$C$2-L$2+L$5)/((L$4*L$2)-L$5)*G126*-1))))","v":120.51059722900389},125.62067236625961,null,null,0.61697247205071049,3837.8552077664631,{"$f":"AVERAGE(D$79:D126)","v":3789.8859252929687},{"$f":"AVERAGE(M$79:M126)","v":3814.4192954635491},3697.0159522042582,{"$f":"AVERAGE(P$79:P126)","v":3682.8255853470901},null,null,null,"T+94 sec",40098.103472222137,{"$f":"LOOKUP($V126,Data!$A$6:$A$1806,Data!$B$6:$B$1806)","v":59.882999420166016},{"$f":"LOOKUP($V126,Data!$A$6:$A$1806,Data!$C$6:$C$1806)","v":3819.0810546875},{"$f":"LOOKUP($V126,Data!$A$6:$A$1806,Data!$D$6:$D$1806)","v":335},{"$f":"IF($Z$1=\"+\",LOOKUP($V126,Data!$A$6:$A$1806,Data!$E$6:$E$1806)*-1,LOOKUP($V126,Data!$A$6:$A$1806,Data!$E$6:$E$1806))","v":225.01808166503906},{"$f":"LOOKUP($V126,Data!$A$6:$A$1806,Data!$F$6:$F$1806)","v":16},null,{"$f":"LOOKUP($V126,Data!$A$6:$A$1806,Data!$H$6:$H$1806)","v":10},{"$f":"LOOKUP($V126,Data!$A$6:$A$1806,Data!$I$6:$I$1806)","v":0},{"$f":"IF(LOOKUP($V126,Data!$A$6:$A$1806,Data!$J$6:$J$1806)>0,(LOOKUP($V126,Data!$A$6:$A$1806,Data!$J$6:$J$1806)*-1),LOOKUP($V126,Data!$A$6:$A$1806,Data!$J$6:$J$1806))","v":-103},{"$f":"LOOKUP($V126,Data!$A$6:$A$1806,Data!$K$6:$K$1806)","v":7639},120.51059722900389,"T+94 sec",40098.103472222137,null,null,null,null,null,null,null,null,null,null,null,null,173.97097637830072,-109.32920432760865,0.11700057983398438,-103]
["T+96 sec",40098.103495370284,{"$f":"LOOKUP(B127,Data!$A$6:$A$1806,Data!B$6:B$1806)","v":59.886001586914063},{"$f":"LOOKUP(B127,Data!$A$6:$A$1806,Data!C$6:C$1806)","v":3818.05517578125},null,null,3090,{"$f":"(IF((C127-L$2)>0,(IF(C127<'Copy Results'!$C$3,((C127-L$2-L$5)/((L$4*L$2)-L$5)*G127*-1),(('Copy Results'!$C$3-L$2-L$5)/((L$4*L$2)-L$5)*G127*-1))),IF(C127>'Copy Results'!$C$2,((C127-L$2+L$5)/((L$4*L$2)-L$5)*G127*-1),(('Copy Results'!$C$2-L$2+L$5)/((L$4*L$2)-L$5)*G127*-1))))","v":117.41836547851564},122.74986495554921,null,null,0.61697247205071049,3835.6013728278035,{"$f":"AVERAGE(D$79:D127)","v":3790.4608079559948},{"$f":"AVERAGE(M$79:M127)","v":3814.8515827566971},3697.6329246763089,{"$f":"AVERAGE(P$79:P127)","v":3683.1340715831157},null,null,null,"T+96 sec",40098.103495370284,{"$f":"LOOKUP($V127,Data!$A$6:$A$1806,Data!$B$6:$B$1806)","v":59.886001586914063},{"$f":"LOOKUP($V127,Data!$A$6:$A$1806,Data!$C$6:$C$1806)","v":3818.05517578125},{"$f":"LOOKUP($V127,Data!$A$6:$A$1806,Data!$D$6:$D$1806)","v":335},{"$f":"IF($Z$1=\"+\",LOOKUP($V127,Data!$A$6:$A$1806,Data!$E$6:$E$1806)*-1,LOOKUP($V127,Data!$A$6:$A$1806,Data!$E$6:$E$1806))","v":225.01808166503906},{"$f":"LOOKUP($V127,Data!$A$6:$A$1806,Data!$F$6:$F$1806)","v":16},null,{"$f":"LOOKUP($V127,Data!$A$6:$A$1806,Data!$H$6:$H$1806)","v":10},{"$f":"LOOKUP($V127,Data!$A$6:$A$1806,Data!$I$6:$I$1806)","v":0},{"$f":"IF(LOOKUP($V127,Data!$A$6:$A$1806,Data!$J$6:$J$1806)>0,(LOOKUP($V127,Data!$A$6:$A$1806,Data!$J$6:$J$1806)*-1),LOOKUP($V127,Data!$A$6:$A$1806,Data!$J$6:$J$1806))","v":-103},{"$f":"LOOKUP($V127,Data!$A$6:$A$1806,Data!$K$6:$K$1806)","v":7642},117.41836547851564,"T+96 sec",40098.103495370284,null,null,null,null,null,null,null,null,null,null,null,null,172.94509747205072,-110.77444743023567,0.1139984130859375,-103]
["T+98 sec",40098.10351851843,{"$f":"LOOKUP(B128,Data!$A$6:$A$1806,Data!B$6:B$1806)","v":59.889999389648437},{"$f":"LOOKUP(B128,Data!$A$6:$A$1806,Data!C$6:C$1806)","v":3816.814697265625},null,null,3090,{"$f":"(IF((C128-L$2)>0,(IF(C128<'Copy Results'!$C$3,((C128-L$2-L$5)/((L$4*L$2)-L$5)*G128*-1),(('Copy Results'!$C$3-L$2-L$5)/((L$4*L$2)-L$5)*G128*-1))),IF(C128>'Copy Results'!$C$2,((C128-L$2+L$5)/((L$4*L$2)-L$5)*G128*-1),(('Copy Results'!$C$2-L$2+L$5)/((L$4*L$2)-L$5)*G128*-1))))","v":113.30062866210937},119.44263225284527,null,null,0.61697247205071049,3832.9111125971503,{"$f":"AVERAGE(D$79:D128)","v":3790.9878857421877},{"$f":"AVERAGE(M$79:M128)","v":3815.2127733535062},3698.2498971483597,{"$f":"AVERAGE(P$79:P128)","v":3683.4425578191413},null,null,null,"T+98 sec",40098.10351851843,{"$f":"LOOKUP($V128,Data!$A$6:$A$1806,Data!$B$6:$B$1806)","v":59.889999389648437},{"$f":"LOOKUP($V128,Data!$A$6:$A$1806,Data!$C$6:$C$1806)","v":3816.814697265625},{"$f":"LOOKUP($V128,Data!$A$6:$A$1806,Data!$D$6:$D$1806)","v":335},{"$f":"IF($Z$1=\"+\",LOOKUP($V128,Data!$A$6:$A$1806,Data!$E$6:$E$1806)*-1,LOOKUP($V128,Data!$A$6:$A$1806,Data!$E$6:$E$1806))","v":225.01808166503906},{"$f":"LOOKUP($V128,Data!$A$6:$A$1806,Data!$F$6:$F$1806)","v":16},null,{"$f":"LOOKUP($V128,Data!$A$6:$A$1806,Data!$H$6:$H$1806)","v":10},{"$f":"LOOKUP($V128,Data!$A$6:$A$1806,Data!$I$6:$I$1806)","v":0},{"$f":"IF(LOOKUP($V128,Data!$A$6:$A$1806,Data!$J$6:$J$1806)>0,(LOOKUP($V128,Data!$A$6:$A$1806,Data!$J$6:$J$1806)*-1),LOOKUP($V128,Data!$A$6:$A$1806,Data!$J$6:$J$1806))","v":-103},{"$f":"LOOKUP($V128,Data!$A$6:$A$1806,Data!$K$6:$K$1806)","v":7644},113.30062866210937,"T+98 sec",40098.10351851843,null,null,null,null,null,null,null,null,null,null,null,null,171.70461895642572,-112.87012392328836,0.1100006103515625,-103]
["T+100 sec",40098.103541666576,{"$f":"LOOKUP(B129,Data!$A$6:$A$1806,Data!B$6:B$1806)","v":59.891998291015625},{"$f":"LOOKUP(B129,Data!$A$6:$A$1806,Data!C$6:C$1806)","v":3815.009765625},null,null,3090,{"$f":"(IF((C129-L$2)>0,(IF(C129<'Copy Results'!$C$3,((C129-L$2-L$5)/((L$4*L$2)-L$5)*G129*-1),(('Copy Results'!$C$3-L$2-L$5)/((L$4*L$2)-L$5)*G129*-1))),IF(C129>'Copy Results'!$C$2,((C129-L$2+L$5)/((L$4*L$2)-L$5)*G129*-1),(('Copy Results'!$C$2-L$2+L$5)/((L$4*L$2)-L$5)*G129*-1))))","v":111.24176025390626},116.57232705321661,null,null,0.61697247205071049,3830.6577798695726,{"$f":"AVERAGE(D$79:D129)","v":3791.4589029947915},{"$f":"AVERAGE(M$79:M129)","v":3815.515616618527},3698.8668696204104,{"$f":"AVERAGE(P$79:P129)","v":3683.7510440551664},null,null,null,"T+100 sec",40098.103541666576,{"$f":"LOOKUP($V129,Data!$A$6:$A$1806,Data!$B$6:$B$1806)","v":59.891998291015625},{"$f":"LOOKUP($V129,Data!$A$6:$A$1806,Data!$C$6:$C$1806)","v":3815.009765625},{"$f":"LOOKUP($V129,Data!$A$6:$A$1806,Data!$D$6:$D$1806)","v":335},{"$f":"IF($Z$1=\"+\",LOOKUP($V129,Data!$A$6:$A$1806,Data!$E$6:$E$1806)*-1,LOOKUP($V129,Data!$A$6:$A$1806,Data!$E$6:$E$1806))","v":225.01808166503906},{"$f":"LOOKUP($V129,Data!$A$6:$A$1806,Data!$F$6:$F$1806)","v":16},null,{"$f":"LOOKUP($V129,Data!$A$6:$A$1806,Data!$H$6:$H$1806)","v":10},{"$f":"LOOKUP($V129,Data!$A$6:$A$1806,Data!$I$6:$I$1806)","v":0},{"$f":"IF(LOOKUP($V129,Data!$A$6:$A$1806,Data!$J$6:$J$1806)>0,(LOOKUP($V129,Data!$A$6:$A$1806,Data!$J$6:$J$1806)*-1),LOOKUP($V129,Data!$A$6:$A$1806,Data!$J$6:$J$1806))","v":-103},{"$f":"LOOKUP($V129,Data!$A$6:$A$1806,Data!$K$6:$K$1806)","v":7645},111.24176025390626,"T+100 sec",40098.103541666576,null,null,null,null,null,null,null,null,null,null,null,null,169.89968731580072,-113.17069011580716,0.108001708984375,-103]
["T+102 sec",40098.103564814723,{"$f":"LOOKUP(B130,Data!$A$6:$A$1806,Data!B$6:B$1806)","v":59.888999938964844},{"$f":"LOOKUP(B130,Data!$A$6:$A$1806,Data!C$6:C$1806)","v":3813.78271484375},null,null,3090,{"$f":"(IF((C130-L$2)>0,(IF(C130<'Copy Results'!$C$3,((C130-L$2-L$5)/((L$4*L$2)-L$5)*G130*-1),(('Copy Results'!$C$3-L$2-L$5)/((L$4*L$2)-L$5)*G130*-1))),IF(C130>'Copy Results'!$C$2,((C130-L$2+L$5)/((L$4*L$2)-L$5)*G130*-1),(('Copy Results'!$C$2-L$2+L$5)/((L$4*L$2)-L$5)*G130*-1))))","v":114.33006286621095},115.78753458776463,null,null,0.61697247205071049,3830.4899598761713,{"$f":"AVERAGE(D$79:D130)","v":3791.8882070688101},{"$f":"AVERAGE(M$79:M130)","v":3815.8035847580973},3699.4838420924611,{"$f":"AVERAGE(P$79:P130)","v":3684.0595302911915},null,null,null,"T+102 sec",40098.103564814723,{"$f":"LOOKUP($V130,Data!$A$6:$A$1806,Data!$B$6:$B$1806)","v":59.888999938964844},{"$f":"LOOKUP($V130,Data!$A$6:$A$1806,Data!$C$6:$C$1806)","v":3813.78271484375},{"$f":"LOOKUP($V130,Data!$A$6:$A$1806,Data!$D$6:$D$1806)","v":335},{"$f":"IF($Z$1=\"+\",LOOKUP($V130,Data!$A$6:$A$1806,Data!$E$6:$E$1806)*-1,LOOKUP($V130,Data!$A$6:$A$1806,Data!$E$6:$E$1806))","v":228.36515808105469},{"$f":"LOOKUP($V130,Data!$A$6:$A$1806,Data!$F$6:$F$1806)","v":16},null,{"$f":"LOOKUP($V130,Data!$A$6:$A$1806,Data!$H$6:$H$1806)","v":10},{"$f":"LOOKUP($V130,Data!$A$6:$A$1806,Data!$I$6:$I$1806)","v":0},{"$f":"IF(LOOKUP($V130,Data!$A$6:$A$1806,Data!$J$6:$J$1806)>0,(LOOKUP($V130,Data!$A$6:$A$1806,Data!$J$6:$J$1806)*-1),LOOKUP($V130,Data!$A$6:$A$1806,Data!$J$6:$J$1806))","v":-103},{"$f":"LOOKUP($V130,Data!$A$6:$A$1806,Data!$K$6:$K$1806)","v":7647},114.33006286621095,"T+102 sec",40098.103564814723,null,null,null,null,null,null,null,null,null,null,null,null,168.67263653455072,-110.15335274010161,0.11100006103515625,-103]
["T+104 sec",40098.103587962869,{"$f":"LOOKUP(B131,Data!$A$6:$A$1806,Data!B$6:B$1806)","v":59.893001556396484},{"$f":"LOOKUP(B131,Data!$A$6:$A$1806,Data!C$6:C$1806)","v":3811.83837890625},null,null,3090,{"$f":"(IF((C131-L$2)>0,(IF(C131<'Copy Results'!$C$3,((C131-L$2-L$5)/((L$4*L$2)-L$5)*G131*-1),(('Copy Results'!$C$3-L$2-L$5)/((L$4*L$2)-L$5)*G131*-1))),IF(C131>'Copy Results'!$C$2,((C131-L$2+L$5)/((L$4*L$2)-L$5)*G131*-1),(('Copy Results'!$C$2-L$2+L$5)/((L$4*L$2)-L$5)*G131*-1))))","v":110.20839691162108},113.83483640111439,null,null,0.61697247205071049,3829.1542341615718,{"$f":"AVERAGE(D$79:D131)","v":3792.2646254053657},{"$f":"AVERAGE(M$79:M131)","v":3816.0554838034459},3700.1008145645119,{"$f":"AVERAGE(P$79:P131)","v":3684.3680165272167},null,null,null,"T+104 sec",40098.103587962869,{"$f":"LOOKUP($V131,Data!$A$6:$A$1806,Data!$B$6:$B$1806)","v":59.893001556396484},{"$f":"LOOKUP($V131,Data!$A$6:$A$1806,Data!$C$6:$C$1806)","v":3811.83837890625},{"$f":"LOOKUP($V131,Data!$A$6:$A$1806,Data!$D$6:$D$1806)","v":335},{"$f":"IF($Z$1=\"+\",LOOKUP($V131,Data!$A$6:$A$1806,Data!$E$6:$E$1806)*-1,LOOKUP($V131,Data!$A$6:$A$1806,Data!$E$6:$E$1806))","v":228.36515808105469},{"$f":"LOOKUP($V131,Data!$A$6:$A$1806,Data!$F$6:$F$1806)","v":16},null,{"$f":"LOOKUP($V131,Data!$A$6:$A$1806,Data!$H$6:$H$1806)","v":10},{"$f":"LOOKUP($V131,Data!$A$6:$A$1806,Data!$I$6:$I$1806)","v":0},{"$f":"IF(LOOKUP($V131,Data!$A$6:$A$1806,Data!$J$6:$J$1806)>0,(LOOKUP($V131,Data!$A$6:$A$1806,Data!$J$6:$J$1806)*-1),LOOKUP($V131,Data!$A$6:$A$1806,Data!$J$6:$J$1806))","v":-103},{"$f":"LOOKUP($V131,Data!$A$6:$A$1806,Data!$K$6:$K$1806)","v":7648},110.20839691162108,"T+104 sec",40098.103587962869,null,null,null,null,null,null,null,null,null,null,null,null,166.72830059705072,-111.80539084327181,0.10699844360351563,-103]
["T+106 sec",40098.103611111015,{"$f":"LOOKUP(B132,Data!$A$6:$A$1806,Data!B$6:B$1806)","v":59.898998260498047},{"$f":"LOOKUP(B132,Data!$A$6:$A$1806,Data!C$6:C$1806)","v":3809.65185546875},null,null,3090,{"$f":"(IF((C132-L$2)>0,(IF(C132<'Copy Results'!$C$3,((C132-L$2-L$5)/((L$4*L$2)-L$5)*G132*-1),(('Copy Results'!$C$3-L$2-L$5)/((L$4*L$2)-L$5)*G132*-1))),IF(C132>'Copy Results'!$C$2,((C132-L$2+L$5)/((L$4*L$2)-L$5)*G132*-1),(('Copy Results'!$C$2-L$2+L$5)/((L$4*L$2)-L$5)*G132*-1))))","v":104.0317916870117},110.40377075117846,null,null,0.61697247205071049,3826.3401409836865,{"$f":"AVERAGE(D$79:D132)","v":3792.5866111472801},{"$f":"AVERAGE(M$79:M132)","v":3816.2459404178949},3700.7177870365626,{"$f":"AVERAGE(P$79:P132)","v":3684.6765027632418},null,null,null,"T+106 sec",40098.103611111015,{"$f":"LOOKUP($V132,Data!$A$6:$A$1806,Data!$B$6:$B$1806)","v":59.898998260498047},{"$f":"LOOKUP($V132,Data!$A$6:$A$1806,Data!$C$6:$C$1806)","v":3809.65185546875},{"$f":"LOOKUP($V132,Data!$A$6:$A$1806,Data!$D$6:$D$1806)","v":335},{"$f":"IF($Z$1=\"+\",LOOKUP($V132,Data!$A$6:$A$1806,Data!$E$6:$E$1806)*-1,LOOKUP($V132,Data!$A$6:$A$1806,Data!$E$6:$E$1806))","v":228.36515808105469},{"$f":"LOOKUP($V132,Data!$A$6:$A$1806,Data!$F$6:$F$1806)","v":16},null,{"$f":"LOOKUP($V132,Data!$A$6:$A$1806,Data!$H$6:$H$1806)","v":10},{"$f":"LOOKUP($V132,Data!$A$6:$A$1806,Data!$I$6:$I$1806)","v":0},{"$f":"IF(LOOKUP($V132,Data!$A$6:$A$1806,Data!$J$6:$J$1806)>0,(LOOKUP($V132,Data!$A$6:$A$1806,Data!$J$6:$J$1806)*-1),LOOKUP($V132,Data!$A$6:$A$1806,Data!$J$6:$J$1806))","v":-103},{"$f":"LOOKUP($V132,Data!$A$6:$A$1806,Data!$K$6:$K$1806)","v":7649},104.0317916870117,"T+106 sec",40098.103611111015,null,null,null,null,null,null,null,null,null,null,null,null,164.54177715955072,-114.96210910007899,0.10100173950195312,-103]
["T+108 sec",40098.103634259161,{"$f":"LOOKUP(B133,Data!$A$6:$A$1806,Data!B$6:B$1806)","v":59.902999877929688},{"$f":"LOOKUP(B133,Data!$A$6:$A$1806,Data!C$6:C$1806)","v":3806.97216796875},null,null,3090,{"$f":"(IF((C133-L$2)>0,(IF(C133<'Copy Results'!$C$3,((C133-L$2-L$5)/((L$4*L$2)-L$5)*G133*-1),(('Copy Results'!$C$3-L$2-L$5)/((L$4*L$2)-L$5)*G133*-1))),IF(C133>'Copy Results'!$C$2,((C133-L$2+L$5)/((L$4*L$2)-L$5)*G133*-1),(('Copy Results'!$C$2-L$2+L$5)/((L$4*L$2)-L$5)*G133*-1))))","v":99.910125732421875},106.73099499461365,null,null,0.61697247205071049,3823.2843376991723,{"$f":"AVERAGE(D$79:D133)","v":3792.8481667258525},{"$f":"AVERAGE(M$79:M133)","v":3816.3739112775547},3701.3347595086134,{"$f":"AVERAGE(P$79:P133)","v":3684.9849889992674},null,null,null,"T+108 sec",40098.103634259161,{"$f":"LOOKUP($V133,Data!$A$6:$A$1806,Data!$B$6:$B$1806)","v":59.902999877929688},{"$f":"LOOKUP($V133,Data!$A$6:$A$1806,Data!$C$6:$C$1806)","v":3806.97216796875},{"$f":"LOOKUP($V133,Data!$A$6:$A$1806,Data!$D$6:$D$1806)","v":335},{"$f":"IF($Z$1=\"+\",LOOKUP($V133,Data!$A$6:$A$1806,Data!$E$6:$E$1806)*-1,LOOKUP($V133,Data!$A$6:$A$1806,Data!$E$6:$E$1806))","v":228.36515808105469},{"$f":"LOOKUP($V133,Data!$A$6:$A$1806,Data!$F$6:$F$1806)","v":16},null,{"$f":"LOOKUP($V133,Data!$A$6:$A$1806,Data!$H$6:$H$1806)","v":10},{"$f":"LOOKUP($V133,Data!$A$6:$A$1806,Data!$I$6:$I$1806)","v":0},{"$f":"IF(LOOKUP($V133,Data!$A$6:$A$1806,Data!$J$6:$J$1806)>0,(LOOKUP($V133,Data!$A$6:$A$1806,Data!$J$6:$J$1806)*-1),LOOKUP($V133,Data!$A$6:$A$1806,Data!$J$6:$J$1806))","v":-103},{"$f":"LOOKUP($V133,Data!$A$6:$A$1806,Data!$K$6:$K$1806)","v":7650},99.910125732421875,"T+108 sec",40098.103634259161,null,null,null,null,null,null,null,null,null,null,null,null,161.86208965955072,-116.34263129610481,9.70001220703125E-2,-103]
["T+110 sec",40098.103657407308,{"$f":"LOOKUP(B134,Data!$A$6:$A$1806,Data!B$6:B$1806)","v":59.902000427246094},{"$f":"LOOKUP(B134,Data!$A$6:$A$1806,Data!C$6:C$1806)","v":3805.59326171875},null,null,3090,{"$f":"(IF((C134-L$2)>0,(IF(C134<'Copy Results'!$C$3,((C134-L$2-L$5)/((L$4*L$2)-L$5)*G134*-1),(('Copy Results'!$C$3-L$2-L$5)/((L$4*L$2)-L$5)*G134*-1))),IF(C134>'Copy Results'!$C$2,((C134-L$2+L$5)/((L$4*L$2)-L$5)*G134*-1),(('Copy Results'!$C$2-L$2+L$5)/((L$4*L$2)-L$5)*G134*-1))))","v":100.93955993652345},104.70399272428207,null,null,0.61697247205071049,3821.8743079008914,{"$f":"AVERAGE(D$79:D134)","v":3793.0757577078684},{"$f":"AVERAGE(M$79:M134)","v":3816.4721326458284},3701.9517319806641,{"$f":"AVERAGE(P$79:P134)","v":3685.2934752352926},null,null,null,"T+110 sec",40098.103657407308,{"$f":"LOOKUP($V134,Data!$A$6:$A$1806,Data!$B$6:$B$1806)","v":59.902000427246094},{"$f":"LOOKUP($V134,Data!$A$6:$A$1806,Data!$C$6:$C$1806)","v":3805.59326171875},{"$f":"LOOKUP($V134,Data!$A$6:$A$1806,Data!$D$6:$D$1806)","v":335},{"$f":"IF($Z$1=\"+\",LOOKUP($V134,Data!$A$6:$A$1806,Data!$E$6:$E$1806)*-1,LOOKUP($V134,Data!$A$6:$A$1806,Data!$E$6:$E$1806))","v":228.36515808105469},{"$f":"LOOKUP($V134,Data!$A$6:$A$1806,Data!$F$6:$F$1806)","v":16},null,{"$f":"LOOKUP($V134,Data!$A$6:$A$1806,Data!$H$6:$H$1806)","v":10},{"$f":"LOOKUP($V134,Data!$A$6:$A$1806,Data!$I$6:$I$1806)","v":0},{"$f":"IF(LOOKUP($V134,Data!$A$6:$A$1806,Data!$J$6:$J$1806)>0,(LOOKUP($V134,Data!$A$6:$A$1806,Data!$J$6:$J$1806)*-1),LOOKUP($V134,Data!$A$6:$A$1806,Data!$J$6:$J$1806))","v":-103},{"$f":"LOOKUP($V134,Data!$A$6:$A$1806,Data!$K$6:$K$1806)","v":7651},100.93955993652345,"T+110 sec",40098.103657407308,null,null,null,null,null,null,null,null,null,null,null,null,160.48318340955072,-114.52875287249708,9.799957275390625E-2,-103]
["T+112 sec",40098.103680555454,{"$f":"LOOKUP(B135,Data!$A$6:$A$1806,Data!B$6:B$1806)","v":59.902000427246094},{"$f":"LOOKUP(B135,Data!$A$6:$A$1806,Data!C$6:C$1806)","v":3804.1884765625},null,null,3090,{"$f":"(IF((C135-L$2)>0,(IF(C135<'Copy Results'!$C$3,((C135-L$2-L$5)/((L$4*L$2)-L$5)*G135*-1),(('Copy Results'!$C$3-L$2-L$5)/((L$4*L$2)-L$5)*G135*-1))),IF(C135>'Copy Results'!$C$2,((C135-L$2+L$5)/((L$4*L$2)-L$5)*G135*-1),(('Copy Results'!$C$2-L$2+L$5)/((L$4*L$2)-L$5)*G135*-1))))","v":100.93955993652345},103.38644124856656,null,null,0.61697247205071049,3821.1737288972267,{"$f":"AVERAGE(D$79:D135)","v":3793.2707176877743},{"$f":"AVERAGE(M$79:M135)","v":3816.55461679059},3702.5687044527149,{"$f":"AVERAGE(P$79:P135)","v":3685.6019614713182},null,null,null,"T+112 sec",40098.103680555454,{"$f":"LOOKUP($V135,Data!$A$6:$A$1806,Data!$B$6:$B$1806)","v":59.902000427246094},{"$f":"LOOKUP($V135,Data!$A$6:$A$1806,Data!$C$6:$C$1806)","v":3804.1884765625},{"$f":"LOOKUP($V135,Data!$A$6:$A$1806,Data!$D$6:$D$1806)","v":335},{"$f":"IF($Z$1=\"+\",LOOKUP($V135,Data!$A$6:$A$1806,Data!$E$6:$E$1806)*-1,LOOKUP($V135,Data!$A$6:$A$1806,Data!$E$6:$E$1806))","v":234.07533264160156},{"$f":"LOOKUP($V135,Data!$A$6:$A$1806,Data!$F$6:$F$1806)","v":16},null,{"$f":"LOOKUP($V135,Data!$A$6:$A$1806,Data!$H$6:$H$1806)","v":10},{"$f":"LOOKUP($V135,Data!$A$6:$A$1806,Data!$I$6:$I$1806)","v":0},{"$f":"IF(LOOKUP($V135,Data!$A$6:$A$1806,Data!$J$6:$J$1806)>0,(LOOKUP($V135,Data!$A$6:$A$1806,Data!$J$6:$J$1806)*-1),LOOKUP($V135,Data!$A$6:$A$1806,Data!$J$6:$J$1806))","v":-103},{"$f":"LOOKUP($V135,Data!$A$6:$A$1806,Data!$K$6:$K$1806)","v":7652},100.93955993652345,"T+112 sec",40098.103680555454,null,null,null,null,null,null,null,null,null,null,null,null,159.07839825330072,-113.52622856695335,9.799957275390625E-2,-103]
["T+114 sec",40098.1037037036,{"$f":"LOOKUP(B136,Data!$A$6:$A$1806,Data!B$6:B$1806)","v":59.903999328613281},{"$f":"LOOKUP(B136,Data!$A$6:$A$1806,Data!C$6:C$1806)","v":3796.07763671875},null,null,3090,{"$f":"(IF((C136-L$2)>0,(IF(C136<'Copy Results'!$C$3,((C136-L$2-L$5)/((L$4*L$2)-L$5)*G136*-1),(('Copy Results'!$C$3-L$2-L$5)/((L$4*L$2)-L$5)*G136*-1))),IF(C136>'Copy Results'!$C$2,((C136-L$2+L$5)/((L$4*L$2)-L$5)*G136*-1),(('Copy Results'!$C$2-L$2+L$5)/((L$4*L$2)-L$5)*G136*-1))))","v":98.880691528320298},101.80942884648036,null,null,0.61697247205071049,3820.2136889671915,{"$f":"AVERAGE(D$79:D136)","v":3793.3191128434805},{"$f":"AVERAGE(M$79:M136)","v":3816.6177042419108},3703.1856769247656,{"$f":"AVERAGE(P$79:P136)","v":3685.9104477073433},null,null,null,"T+114 sec",40098.1037037036,{"$f":"LOOKUP($V136,Data!$A$6:$A$1806,Data!$B$6:$B$1806)","v":59.903999328613281},{"$f":"LOOKUP($V136,Data!$A$6:$A$1806,Data!$C$6:$C$1806)","v":3796.07763671875},{"$f":"LOOKUP($V136,Data!$A$6:$A$1806,Data!$D$6:$D$1806)","v":335},{"$f":"IF($Z$1=\"+\",LOOKUP($V136,Data!$A$6:$A$1806,Data!$E$6:$E$1806)*-1,LOOKUP($V136,Data!$A$6:$A$1806,Data!$E$6:$E$1806))","v":234.07533264160156},{"$f":"LOOKUP($V136,Data!$A$6:$A$1806,Data!$F$6:$F$1806)","v":16},null,{"$f":"LOOKUP($V136,Data!$A$6:$A$1806,Data!$H$6:$H$1806)","v":10},{"$f":"LOOKUP($V136,Data!$A$6:$A$1806,Data!$I$6:$I$1806)","v":0},{"$f":"IF(LOOKUP($V136,Data!$A$6:$A$1806,Data!$J$6:$J$1806)>0,(LOOKUP($V136,Data!$A$6:$A$1806,Data!$J$6:$J$1806)*-1),LOOKUP($V136,Data!$A$6:$A$1806,Data!$J$6:$J$1806))","v":-103},{"$f":"LOOKUP($V136,Data!$A$6:$A$1806,Data!$K$6:$K$1806)","v":7653},98.880691528320298,"T+114 sec",40098.1037037036,null,null,null,null,null,null,null,null,null,null,null,null,150.96755840955072,-109.2970704881421,9.600067138671875E-2,-103]
["T+116 sec",40098.103726851747,{"$f":"LOOKUP(B137,Data!$A$6:$A$1806,Data!B$6:B$1806)","v":59.907001495361328},{"$f":"LOOKUP(B137,Data!$A$6:$A$1806,Data!C$6:C$1806)","v":3793.97509765625},null,null,3090,{"$f":"(IF((C137-L$2)>0,(IF(C137<'Copy Results'!$C$3,((C137-L$2-L$5)/((L$4*L$2)-L$5)*G137*-1),(('Copy Results'!$C$3-L$2-L$5)/((L$4*L$2)-L$5)*G137*-1))),IF(C137>'Copy Results'!$C$2,((C137-L$2+L$5)/((L$4*L$2)-L$5)*G137*-1),(('Copy Results'!$C$2-L$2+L$5)/((L$4*L$2)-L$5)*G137*-1))))","v":95.788459777832031},99.70208967245344,null,null,0.61697247205071049,3818.7233222652153,{"$f":"AVERAGE(D$79:D137)","v":3793.3302312301375},{"$f":"AVERAGE(M$79:M137)","v":3816.6533926829838},3703.8026493968164,{"$f":"AVERAGE(P$79:P137)","v":3686.2189339433689},null,null,null,"T+116 sec",40098.103726851747,{"$f":"LOOKUP($V137,Data!$A$6:$A$1806,Data!$B$6:$B$1806)","v":59.907001495361328},{"$f":"LOOKUP($V137,Data!$A$6:$A$1806,Data!$C$6:$C$1806)","v":3793.97509765625},{"$f":"LOOKUP($V137,Data!$A$6:$A$1806,Data!$D$6:$D$1806)","v":335},{"$f":"IF($Z$1=\"+\",LOOKUP($V137,Data!$A$6:$A$1806,Data!$E$6:$E$1806)*-1,LOOKUP($V137,Data!$A$6:$A$1806,Data!$E$6:$E$1806))","v":234.07533264160156},{"$f":"LOOKUP($V137,Data!$A$6:$A$1806,Data!$F$6:$F$1806)","v":16},null,{"$f":"LOOKUP($V137,Data!$A$6:$A$1806,Data!$H$6:$H$1806)","v":10},{"$f":"LOOKUP($V137,Data!$A$6:$A$1806,Data!$I$6:$I$1806)","v":0},{"$f":"IF(LOOKUP($V137,Data!$A$6:$A$1806,Data!$J$6:$J$1806)>0,(LOOKUP($V137,Data!$A$6:$A$1806,Data!$J$6:$J$1806)*-1),LOOKUP($V137,Data!$A$6:$A$1806,Data!$J$6:$J$1806))","v":-103},{"$f":"LOOKUP($V137,Data!$A$6:$A$1806,Data!$K$6:$K$1806)","v":7654},95.788459777832031,"T+116 sec",40098.103726851747,null,null,null,null,null,null,null,null,null,null,null,null,148.86501934705072,-110.16941263474411,9.2998504638671875E-2,-103]
["T+118 sec",40098.103749999893,{"$f":"LOOKUP(B138,Data!$A$6:$A$1806,Data!B$6:B$1806)","v":59.910999298095703},{"$f":"LOOKUP(B138,Data!$A$6:$A$1806,Data!C$6:C$1806)","v":3792.16943359375},null,null,3090,{"$f":"(IF((C138-L$2)>0,(IF(C138<'Copy Results'!$C$3,((C138-L$2-L$5)/((L$4*L$2)-L$5)*G138*-1),(('Copy Results'!$C$3-L$2-L$5)/((L$4*L$2)-L$5)*G138*-1))),IF(C138>'Copy Results'!$C$2,((C138-L$2+L$5)/((L$4*L$2)-L$5)*G138*-1),(('Copy Results'!$C$2-L$2+L$5)/((L$4*L$2)-L$5)*G138*-1))))","v":91.670722961425781},96.891111323593762,null,null,0.61697247205071049,3816.5293163884062,{"$f":"AVERAGE(D$79:D138)","v":3793.3108846028645},{"$f":"AVERAGE(M$79:M138)","v":3816.6513247447415},3704.4196218688671,{"$f":"AVERAGE(P$79:P138)","v":3686.5274201793945},null,null,null,"T+118 sec",40098.103749999893,{"$f":"LOOKUP($V138,Data!$A$6:$A$1806,Data!$B$6:$B$1806)","v":59.910999298095703},{"$f":"LOOKUP($V138,Data!$A$6:$A$1806,Data!$C$6:$C$1806)","v":3792.16943359375},{"$f":"LOOKUP($V138,Data!$A$6:$A$1806,Data!$D$6:$D$1806)","v":335},{"$f":"IF($Z$1=\"+\",LOOKUP($V138,Data!$A$6:$A$1806,Data!$E$6:$E$1806)*-1,LOOKUP($V138,Data!$A$6:$A$1806,Data!$E$6:$E$1806))","v":234.07533264160156},{"$f":"LOOKUP($V138,Data!$A$6:$A$1806,Data!$F$6:$F$1806)","v":16},null,{"$f":"LOOKUP($V138,Data!$A$6:$A$1806,Data!$H$6:$H$1806)","v":10},{"$f":"LOOKUP($V138,Data!$A$6:$A$1806,Data!$I$6:$I$1806)","v":0},{"$f":"IF(LOOKUP($V138,Data!$A$6:$A$1806,Data!$J$6:$J$1806)>0,(LOOKUP($V138,Data!$A$6:$A$1806,Data!$J$6:$J$1806)*-1),LOOKUP($V138,Data!$A$6:$A$1806,Data!$J$6:$J$1806))","v":-103},{"$f":"LOOKUP($V138,Data!$A$6:$A$1806,Data!$K$6:$K$1806)","v":7655},91.670722961425781,"T+118 sec",40098.103749999893,null,null,null,null,null,null,null,null,null,null,null,null,147.05935528455072,-112.15124169653048,8.9000701904296875E-2,-103]
["T+120 sec",40098.103773148039,{"$f":"LOOKUP(B139,Data!$A$6:$A$1806,Data!B$6:B$1806)","v":59.916000366210938},{"$f":"LOOKUP(B139,Data!$A$6:$A$1806,Data!C$6:C$1806)","v":3791.501953125},null,null,3090,{"$f":"(IF((C139-L$2)>0,(IF(C139<'Copy Results'!$C$3,((C139-L$2-L$5)/((L$4*L$2)-L$5)*G139*-1),(('Copy Results'!$C$3-L$2-L$5)/((L$4*L$2)-L$5)*G139*-1))),IF(C139>'Copy Results'!$C$2,((C139-L$2+L$5)/((L$4*L$2)-L$5)*G139*-1),(('Copy Results'!$C$2-L$2+L$5)/((L$4*L$2)-L$5)*G139*-1))))","v":86.519622802734375},93.26109034129297,null,null,0.61697247205071049,3813.5162678781562,{"$f":"AVERAGE(D$79:D139)","v":3793.2812299884736},{"$f":"AVERAGE(M$79:M139)","v":3816.5999303698791},3705.0365943409179,{"$f":"AVERAGE(P$79:P139)","v":3686.8359064154201},null,null,null,"T+120 sec",40098.103773148039,{"$f":"LOOKUP($V139,Data!$A$6:$A$1806,Data!$B$6:$B$1806)","v":59.916000366210938},{"$f":"LOOKUP($V139,Data!$A$6:$A$1806,Data!$C$6:$C$1806)","v":3791.501953125},{"$f":"LOOKUP($V139,Data!$A$6:$A$1806,Data!$D$6:$D$1806)","v":335},{"$f":"IF($Z$1=\"+\",LOOKUP($V139,Data!$A$6:$A$1806,Data!$E$6:$E$1806)*-1,LOOKUP($V139,Data!$A$6:$A$1806,Data!$E$6:$E$1806))","v":234.07533264160156},{"$f":"LOOKUP($V139,Data!$A$6:$A$1806,Data!$F$6:$F$1806)","v":16},null,{"$f":"LOOKUP($V139,Data!$A$6:$A$1806,Data!$H$6:$H$1806)","v":10},{"$f":"LOOKUP($V139,Data!$A$6:$A$1806,Data!$I$6:$I$1806)","v":0},{"$f":"IF(LOOKUP($V139,Data!$A$6:$A$1806,Data!$J$6:$J$1806)>0,(LOOKUP($V139,Data!$A$6:$A$1806,Data!$J$6:$J$1806)*-1),LOOKUP($V139,Data!$A$6:$A$1806,Data!$J$6:$J$1806))","v":-103},{"$f":"LOOKUP($V139,Data!$A$6:$A$1806,Data!$K$6:$K$1806)","v":7655},86.519622802734375,"T+120 sec",40098.103773148039,null,null,null,null,null,null,null,null,null,null,null,null,146.39187481580072,-116.06900982359599,8.39996337890625E-2,-103]
["T+122 sec",40098.103796296185,{"$f":"LOOKUP(B140,Data!$A$6:$A$1806,Data!B$6:B$1806)","v":59.916000366210938},{"$f":"LOOKUP(B140,Data!$A$6:$A$1806,Data!C$6:C$1806)","v":3789.53369140625},null,null,3090,{"$f":"(IF((C140-L$2)>0,(IF(C140<'Copy Results'!$C$3,((C140-L$2-L$5)/((L$4*L$2)-L$5)*G140*-1),(('Copy Results'!$C$3-L$2-L$5)/((L$4*L$2)-L$5)*G140*-1))),IF(C140>'Copy Results'!$C$2,((C140-L$2+L$5)/((L$4*L$2)-L$5)*G140*-1),(('Copy Results'!$C$2-L$2+L$5)/((L$4*L$2)-L$5)*G140*-1))))","v":86.519622802734375},90.901576702797456,null,null,0.61697247205071049,3811.7737267117113,{"$f":"AVERAGE(D$79:D140)","v":3793.2207858177921},{"$f":"AVERAGE(M$79:M140)","v":3816.5220883753927},3705.6535668129686,{"$f":"AVERAGE(P$79:P140)","v":3687.1443926514457},null,null,null,"T+122 sec",40098.103796296185,{"$f":"LOOKUP($V140,Data!$A$6:$A$1806,Data!$B$6:$B$1806)","v":59.916000366210938},{"$f":"LOOKUP($V140,Data!$A$6:$A$1806,Data!$C$6:$C$1806)","v":3789.53369140625},{"$f":"LOOKUP($V140,Data!$A$6:$A$1806,Data!$D$6:$D$1806)","v":335},{"$f":"IF($Z$1=\"+\",LOOKUP($V140,Data!$A$6:$A$1806,Data!$E$6:$E$1806)*-1,LOOKUP($V140,Data!$A$6:$A$1806,Data!$E$6:$E$1806))","v":228.79815673828125},{"$f":"LOOKUP($V140,Data!$A$6:$A$1806,Data!$F$6:$F$1806)","v":16},null,{"$f":"LOOKUP($V140,Data!$A$6:$A$1806,Data!$H$6:$H$1806)","v":10},{"$f":"LOOKUP($V140,Data!$A$6:$A$1806,Data!$I$6:$I$1806)","v":0},{"$f":"IF(LOOKUP($V140,Data!$A$6:$A$1806,Data!$J$6:$J$1806)>0,(LOOKUP($V140,Data!$A$6:$A$1806,Data!$J$6:$J$1806)*-1),LOOKUP($V140,Data!$A$6:$A$1806,Data!$J$6:$J$1806))","v":-103},{"$f":"LOOKUP($V140,Data!$A$6:$A$1806,Data!$K$6:$K$1806)","v":7656},86.519622802734375,"T+122 sec",40098.103796296185,null,null,null,null,null,null,null,null,null,null,null,null,144.42361309705072,-114.5084437808668,8.39996337890625E-2,-103]
["T+124 sec",40098.103819444332,{"$f":"LOOKUP(B141,Data!$A$6:$A$1806,Data!B$6:B$1806)","v":59.916999816894531},{"$f":"LOOKUP(B141,Data!$A$6:$A$1806,Data!C$6:C$1806)","v":3788.132080078125},null,null,3090,{"$f":"(IF((C141-L$2)>0,(IF(C141<'Copy Results'!$C$3,((C141-L$2-L$5)/((L$4*L$2)-L$5)*G141*-1),(('Copy Results'!$C$3-L$2-L$5)/((L$4*L$2)-L$5)*G141*-1))),IF(C141>'Copy Results'!$C$2,((C141-L$2+L$5)/((L$4*L$2)-L$5)*G141*-1),(('Copy Results'!$C$2-L$2+L$5)/((L$4*L$2)-L$5)*G141*-1))))","v":85.490188598632813},89.007590866339825,null,null,0.61697247205071049,3810.4967133473046,{"$f":"AVERAGE(D$79:D141)","v":3793.1400127108136},{"$f":"AVERAGE(M$79:M141)","v":3816.4264475019309},3706.2705392850194,{"$f":"AVERAGE(P$79:P141)","v":3687.4528788874713},null,null,null,"T+124 sec",40098.103819444332,{"$f":"LOOKUP($V141,Data!$A$6:$A$1806,Data!$B$6:$B$1806)","v":59.916999816894531},{"$f":"LOOKUP($V141,Data!$A$6:$A$1806,Data!$C$6:$C$1806)","v":3788.132080078125},{"$f":"LOOKUP($V141,Data!$A$6:$A$1806,Data!$D$6:$D$1806)","v":335},{"$f":"IF($Z$1=\"+\",LOOKUP($V141,Data!$A$6:$A$1806,Data!$E$6:$E$1806)*-1,LOOKUP($V141,Data!$A$6:$A$1806,Data!$E$6:$E$1806))","v":228.79815673828125},{"$f":"LOOKUP($V141,Data!$A$6:$A$1806,Data!$F$6:$F$1806)","v":16},null,{"$f":"LOOKUP($V141,Data!$A$6:$A$1806,Data!$H$6:$H$1806)","v":10},{"$f":"LOOKUP($V141,Data!$A$6:$A$1806,Data!$I$6:$I$1806)","v":0},{"$f":"IF(LOOKUP($V141,Data!$A$6:$A$1806,Data!$J$6:$J$1806)>0,(LOOKUP($V141,Data!$A$6:$A$1806,Data!$J$6:$J$1806)*-1),LOOKUP($V141,Data!$A$6:$A$1806,Data!$J$6:$J$1806))","v":-103},{"$f":"LOOKUP($V141,Data!$A$6:$A$1806,Data!$K$6:$K$1806)","v":7656},85.490188598632813,"T+124 sec",40098.103819444332,null,null,null,null,null,null,null,null,null,null,null,null,143.02200176892572,-114.30292524730899,8.300018310546875E-2,-103]
["T+126 sec",40098.103842592478,{"$f":"LOOKUP(B142,Data!$A$6:$A$1806,Data!B$6:B$1806)","v":59.917999267578125},{"$f":"LOOKUP(B142,Data!$A$6:$A$1806,Data!C$6:C$1806)","v":3784.5634765625},null,null,3090,{"$f":"(IF((C142-L$2)>0,(IF(C142<'Copy Results'!$C$3,((C142-L$2-L$5)/((L$4*L$2)-L$5)*G142*-1),(('Copy Results'!$C$3-L$2-L$5)/((L$4*L$2)-L$5)*G142*-1))),IF(C142>'Copy Results'!$C$2,((C142-L$2+L$5)/((L$4*L$2)-L$5)*G142*-1),(('Copy Results'!$C$2-L$2+L$5)/((L$4*L$2)-L$5)*G142*-1))))","v":84.46075439453125},87.416198101206817,null,null,0.61697247205071049,3809.5222930542222,{"$f":"AVERAGE(D$79:D142)","v":3793.0060043334961},{"$f":"AVERAGE(M$79:M142)","v":3816.3185700886852},3706.8875117570701,{"$f":"AVERAGE(P$79:P142)","v":3687.7613651234965},null,null,null,"T+126 sec",40098.103842592478,{"$f":"LOOKUP($V142,Data!$A$6:$A$1806,Data!$B$6:$B$1806)","v":59.917999267578125},{"$f":"LOOKUP($V142,Data!$A$6:$A$1806,Data!$C$6:$C$1806)","v":3784.5634765625},{"$f":"LOOKUP($V142,Data!$A$6:$A$1806,Data!$D$6:$D$1806)","v":335},{"$f":"IF($Z$1=\"+\",LOOKUP($V142,Data!$A$6:$A$1806,Data!$E$6:$E$1806)*-1,LOOKUP($V142,Data!$A$6:$A$1806,Data!$E$6:$E$1806))","v":228.79815673828125},{"$f":"LOOKUP($V142,Data!$A$6:$A$1806,Data!$F$6:$F$1806)","v":16},null,{"$f":"LOOKUP($V142,Data!$A$6:$A$1806,Data!$H$6:$H$1806)","v":10},{"$f":"LOOKUP($V142,Data!$A$6:$A$1806,Data!$I$6:$I$1806)","v":0},{"$f":"IF(LOOKUP($V142,Data!$A$6:$A$1806,Data!$J$6:$J$1806)>0,(LOOKUP($V142,Data!$A$6:$A$1806,Data!$J$6:$J$1806)*-1),LOOKUP($V142,Data!$A$6:$A$1806,Data!$J$6:$J$1806))","v":-103},{"$f":"LOOKUP($V142,Data!$A$6:$A$1806,Data!$K$6:$K$1806)","v":7657},84.46075439453125,"T+126 sec",40098.103842592478,null,null,null,null,null,null,null,null,null,null,null,null,139.45339825330072,-112.34829609724757,8.2000732421875E-2,-103]
["T+128 sec",40098.103865740624,{"$f":"LOOKUP(B143,Data!$A$6:$A$1806,Data!B$6:B$1806)","v":59.919998168945313},{"$f":"LOOKUP(B143,Data!$A$6:$A$1806,Data!C$6:C$1806)","v":3783.0283203125},null,null,3090,{"$f":"(IF((C143-L$2)>0,(IF(C143<'Copy Results'!$C$3,((C143-L$2-L$5)/((L$4*L$2)-L$5)*G143*-1),(('Copy Results'!$C$3-L$2-L$5)/((L$4*L$2)-L$5)*G143*-1))),IF(C143>'Copy Results'!$C$2,((C143-L$2+L$5)/((L$4*L$2)-L$5)*G143*-1),(('Copy Results'!$C$2-L$2+L$5)/((L$4*L$2)-L$5)*G143*-1))))","v":82.401885986328125},85.661188860999275,null,null,0.61697247205071049,3808.3842562860655,{"$f":"AVERAGE(D$79:D143)","v":3792.8525015024038},{"$f":"AVERAGE(M$79:M143)","v":3816.1965037224909},3707.5044842291209,{"$f":"AVERAGE(P$79:P143)","v":3688.0698513595216},null,null,null,"T+128 sec",40098.103865740624,{"$f":"LOOKUP($V143,Data!$A$6:$A$1806,Data!$B$6:$B$1806)","v":59.919998168945313},{"$f":"LOOKUP($V143,Data!$A$6:$A$1806,Data!$C$6:$C$1806)","v":3783.0283203125},{"$f":"LOOKUP($V143,Data!$A$6:$A$1806,Data!$D$6:$D$1806)","v":335},{"$f":"IF($Z$1=\"+\",LOOKUP($V143,Data!$A$6:$A$1806,Data!$E$6:$E$1806)*-1,LOOKUP($V143,Data!$A$6:$A$1806,Data!$E$6:$E$1806))","v":228.79815673828125},{"$f":"LOOKUP($V143,Data!$A$6:$A$1806,Data!$F$6:$F$1806)","v":16},null,{"$f":"LOOKUP($V143,Data!$A$6:$A$1806,Data!$H$6:$H$1806)","v":10},{"$f":"LOOKUP($V143,Data!$A$6:$A$1806,Data!$I$6:$I$1806)","v":0},{"$f":"IF(LOOKUP($V143,Data!$A$6:$A$1806,Data!$J$6:$J$1806)>0,(LOOKUP($V143,Data!$A$6:$A$1806,Data!$J$6:$J$1806)*-1),LOOKUP($V143,Data!$A$6:$A$1806,Data!$J$6:$J$1806))","v":-103},{"$f":"LOOKUP($V143,Data!$A$6:$A$1806,Data!$K$6:$K$1806)","v":7657},82.401885986328125,"T+128 sec",40098.103865740624,null,null,null,null,null,null,null,null,null,null,null,null,137.91824200330072,-112.93012898445883,8.00018310546875E-2,-103]
["T+130 sec",40098.103888888771,{"$f":"LOOKUP(B144,Data!$A$6:$A$1806,Data!B$6:B$1806)","v":59.921001434326172},{"$f":"LOOKUP(B144,Data!$A$6:$A$1806,Data!C$6:C$1806)","v":3781.701171875},null,null,3090,{"$f":"(IF((C144-L$2)>0,(IF(C144<'Copy Results'!$C$3,((C144-L$2-L$5)/((L$4*L$2)-L$5)*G144*-1),(('Copy Results'!$C$3-L$2-L$5)/((L$4*L$2)-L$5)*G144*-1))),IF(C144>'Copy Results'!$C$2,((C144-L$2+L$5)/((L$4*L$2)-L$5)*G144*-1),(('Copy Results'!$C$2-L$2+L$5)/((L$4*L$2)-L$5)*G144*-1))))","v":81.368522644042969},84.158755685064563,null,null,{"$f":"IF(B144>G$3,0,(K$21*0.000023148/K$22))","v":0.61697247205071049},{"$f":"M143+L144+(I144-I143)","v":3807.4987955821816},{"$f":"AVERAGE(D$79:D144)","v":3792.6835419625945},{"$f":"AVERAGE(M$79:M144)","v":3816.0647202658197},3708.1214567011716,{"$f":"AVERAGE(P$79:P144)","v":3688.3783375955468},null,null,null,"T+130 sec",40098.103888888771,{"$f":"LOOKUP($V144,Data!$A$6:$A$1806,Data!$B$6:$B$1806)","v":59.921001434326172},{"$f":"LOOKUP($V144,Data!$A$6:$A$1806,Data!$C$6:$C$1806)","v":3781.701171875},{"$f":"LOOKUP($V144,Data!$A$6:$A$1806,Data!$D$6:$D$1806)","v":335},{"$f":"IF($Z$1=\"+\",LOOKUP($V144,Data!$A$6:$A$1806,Data!$E$6:$E$1806)*-1,LOOKUP($V144,Data!$A$6:$A$1806,Data!$E$6:$E$1806))","v":228.79815673828125},{"$f":"LOOKUP($V144,Data!$A$6:$A$1806,Data!$F$6:$F$1806)","v":16},null,{"$f":"LOOKUP($V144,Data!$A$6:$A$1806,Data!$H$6:$H$1806)","v":10},{"$f":"LOOKUP($V144,Data!$A$6:$A$1806,Data!$I$6:$I$1806)","v":0},{"$f":"IF(LOOKUP($V144,Data!$A$6:$A$1806,Data!$J$6:$J$1806)>0,(LOOKUP($V144,Data!$A$6:$A$1806,Data!$J$6:$J$1806)*-1),LOOKUP($V144,Data!$A$6:$A$1806,Data!$J$6:$J$1806))","v":-103},{"$f":"LOOKUP($V144,Data!$A$6:$A$1806,Data!$K$6:$K$1806)","v":7658},81.368522644042969,"T+130 sec",40098.103888888771,null,null,null,null,null,null,null,null,null,null,null,null,136.59109356580072,-112.76983054296247,7.8998565673828125E-2,-103]
["T+132 sec",40098.103912036917,{"$f":"LOOKUP(B145,Data!$A$6:$A$1806,Data!B$6:B$1806)","v":59.919998168945313},{"$f":"LOOKUP(B145,Data!$A$6:$A$1806,Data!C$6:C$1806)","v":3776.3583984375},null,null,3090,{"$f":"(IF((C145-L$2)>0,(IF(C145<'Copy Results'!$C$3,((C145-L$2-L$5)/((L$4*L$2)-L$5)*G145*-1),(('Copy Results'!$C$3-L$2-L$5)/((L$4*L$2)-L$5)*G145*-1))),IF(C145>'Copy Results'!$C$2,((C145-L$2+L$5)/((L$4*L$2)-L$5)*G145*-1),(('Copy Results'!$C$2-L$2+L$5)/((L$4*L$2)-L$5)*G145*-1))))","v":82.401885986328125},83.543851290506808,null,null,0.61697247205071049,3807.5008636596745,{"$f":"AVERAGE(D$79:D145)","v":3792.4398831040112},{"$f":"AVERAGE(M$79:M145)","v":3815.936901510504},3708.7384291732224,{"$f":"AVERAGE(P$79:P145)","v":3688.6868238315724},null,null,null,"T+132 sec",{"$f":"V144+TIME(0,0,$B$1)","v":40098.103912036917},{"$f":"LOOKUP($V145,Data!$A$6:$A$1806,Data!$B$6:$B$1806)","v":59.919998168945313},{"$f":"LOOKUP($V145,Data!$A$6:$A$1806,Data!$C$6:$C$1806)","v":3776.3583984375},{"$f":"LOOKUP($V145,Data!$A$6:$A$1806,Data!$D$6:$D$1806)","v":335},{"$f":"IF($Z$1=\"+\",LOOKUP($V145,Data!$A$6:$A$1806,Data!$E$6:$E$1806)*-1,LOOKUP($V145,Data!$A$6:$A$1806,Data!$E$6:$E$1806))","v":229.46696472167969},{"$f":"LOOKUP($V145,Data!$A$6:$A$1806,Data!$F$6:$F$1806)","v":16},null,{"$f":"LOOKUP($V145,Data!$A$6:$A$1806,Data!$H$6:$H$1806)","v":10},{"$f":"LOOKUP($V145,Data!$A$6:$A$1806,Data!$I$6:$I$1806)","v":0},{"$f":"IF(LOOKUP($V145,Data!$A$6:$A$1806,Data!$J$6:$J$1806)>0,(LOOKUP($V145,Data!$A$6:$A$1806,Data!$J$6:$J$1806)*-1),LOOKUP($V145,Data!$A$6:$A$1806,Data!$J$6:$J$1806))","v":-103},{"$f":"LOOKUP($V145,Data!$A$6:$A$1806,Data!$K$6:$K$1806)","v":7658},82.401885986328125,"T+132 sec",{"$f":"AI144+TIME(0,0,$B$1)","v":40098.103912036917},null,null,null,null,null,null,null,null,null,null,null,null,131.24832012830072,-107.46866771059786,8.00018310546875E-2,-103]
["T+134 sec",40098.103935185063,{"$f":"LOOKUP(B146,Data!$A$6:$A$1806,Data!B$6:B$1806)","v":59.916999816894531},{"$f":"LOOKUP(B146,Data!$A$6:$A$1806,Data!C$6:C$1806)","v":3775.635498046875},null,null,3090,{"$f":"(IF((C146-L$2)>0,(IF(C146<'Copy Results'!$C$3,((C146-L$2-L$5)/((L$4*L$2)-L$5)*G146*-1),(('Copy Results'!$C$3-L$2-L$5)/((L$4*L$2)-L$5)*G146*-1))),IF(C146>'Copy Results'!$C$2,((C146-L$2+L$5)/((L$4*L$2)-L$5)*G146*-1),(('Copy Results'!$C$2-L$2+L$5)/((L$4*L$2)-L$5)*G146*-1))))","v":85.490188598632813},84.225069348350914,null,null,0.61697247205071049,3808.7990541895692,{"$f":"AVERAGE(D$79:D146)","v":3792.1927597943472},{"$f":"AVERAGE(M$79:M146)","v":3815.8319331675484},{"$f":"P145+L146","v":3709.3554016452731},{"$f":"AVERAGE(P$79:P146)","v":3688.9953100675975},null,null,null,"T+134 sec",40098.103935185063,{"$f":"LOOKUP($V146,Data!$A$6:$A$1806,Data!$B$6:$B$1806)","v":59.916999816894531},{"$f":"LOOKUP($V146,Data!$A$6:$A$1806,Data!$C$6:$C$1806)","v":3775.635498046875},{"$f":"LOOKUP($V146,Data!$A$6:$A$1806,Data!$D$6:$D$1806)","v":335},{"$f":"IF($Z$1=\"+\",LOOKUP($V146,Data!$A$6:$A$1806,Data!$E$6:$E$1806)*-1,LOOKUP($V146,Data!$A$6:$A$1806,Data!$E$6:$E$1806))","v":229.46696472167969},{"$f":"LOOKUP($V146,Data!$A$6:$A$1806,Data!$F$6:$F$1806)","v":16},null,{"$f":"LOOKUP($V146,Data!$A$6:$A$1806,Data!$H$6:$H$1806)","v":10},{"$f":"LOOKUP($V146,Data!$A$6:$A$1806,Data!$I$6:$I$1806)","v":0},{"$f":"IF(LOOKUP($V146,Data!$A$6:$A$1806,Data!$J$6:$J$1806)>0,(LOOKUP($V146,Data!$A$6:$A$1806,Data!$J$6:$J$1806)*-1),LOOKUP($V146,Data!$A$6:$A$1806,Data!$J$6:$J$1806))","v":-103},{"$f":"LOOKUP($V146,Data!$A$6:$A$1806,Data!$K$6:$K$1806)","v":7659},85.490188598632813,"T+134 sec",40098.103935185063,null,null,null,null,null,null,null,null,null,null,null,null,{"$f":"D146-F$78+L146-AD146","v":130.52541973767572},{"$f":"IF(AW145=\" \",\" \",IF(L146=L145,AV146/((C146-E$78)*10),\" \"))","v":-104.31567948023724},8.300018310546875E-2,-103]
["T+136 sec",40098.103958333209,{"$f":"LOOKUP(B147,Data!$A$6:$A$1806,Data!B$6:B$1806)","v":59.919998168945313},{"$f":"LOOKUP(B147,Data!$A$6:$A$1806,Data!C$6:C$1806)","v":3774.604248046875},null,null,3090,{"$f":"(IF((C147-L$2)>0,(IF(C147<'Copy Results'!$C$3,((C147-L$2-L$5)/((L$4*L$2)-L$5)*G147*-1),(('Copy Results'!$C$3-L$2-L$5)/((L$4*L$2)-L$5)*G147*-1))),IF(C147>'Copy Results'!$C$2,((C147-L$2+L$5)/((L$4*L$2)-L$5)*G147*-1),(('Copy Results'!$C$2-L$2+L$5)/((L$4*L$2)-L$5)*G147*-1))))","v":82.401885986328125},83.586955171642941,null,null,0.61697247205071049,3808.7779124849121,{"$f":"AVERAGE(D$79:D147)","v":3791.937853826993},{"$f":"AVERAGE(M$79:M147)","v":3815.7297009837425},3709.9723741173239,{"$f":"AVERAGE(P$79:P147)","v":3689.3037963036227},null,null,null,"T+136 sec",40098.103958333209,{"$f":"LOOKUP($V147,Data!$A$6:$A$1806,Data!$B$6:$B$1806)","v":59.919998168945313},{"$f":"LOOKUP($V147,Data!$A$6:$A$1806,Data!$C$6:$C$1806)","v":3774.604248046875},{"$f":"LOOKUP($V147,Data!$A$6:$A$1806,Data!$D$6:$D$1806)","v":335},{"$f":"IF($Z$1=\"+\",LOOKUP($V147,Data!$A$6:$A$1806,Data!$E$6:$E$1806)*-1,LOOKUP($V147,Data!$A$6:$A$1806,Data!$E$6:$E$1806))","v":229.46696472167969},{"$f":"LOOKUP($V147,Data!$A$6:$A$1806,Data!$F$6:$F$1806)","v":16},null,{"$f":"LOOKUP($V147,Data!$A$6:$A$1806,Data!$H$6:$H$1806)","v":10},{"$f":"LOOKUP($V147,Data!$A$6:$A$1806,Data!$I$6:$I$1806)","v":0},{"$f":"IF(LOOKUP($V147,Data!$A$6:$A$1806,Data!$J$6:$J$1806)>0,(LOOKUP($V147,Data!$A$6:$A$1806,Data!$J$6:$J$1806)*-1),LOOKUP($V147,Data!$A$6:$A$1806,Data!$J$6:$J$1806))","v":-103},{"$f":"LOOKUP($V147,Data!$A$6:$A$1806,Data!$K$6:$K$1806)","v":7659},82.401885986328125,"T+136 sec",40098.103958333209,null,null,null,null,null,null,null,null,null,null,null,null,129.49416973767572,-106.03233538070432,8.00018310546875E-2,-103]
["T+138 sec",40098.103981481356,{"$f":"LOOKUP(B148,Data!$A$6:$A$1806,Data!B$6:B$1806)","v":59.921001434326172},{"$f":"LOOKUP(B148,Data!$A$6:$A$1806,Data!C$6:C$1806)","v":3773.333740234375},null,null,3090,{"$f":"(IF((C148-L$2)>0,(IF(C148<'Copy Results'!$C$3,((C148-L$2-L$5)/((L$4*L$2)-L$5)*G148*-1),(('Copy Results'!$C$3-L$2-L$5)/((L$4*L$2)-L$5)*G148*-1))),IF(C148>'Copy Results'!$C$2,((C148-L$2+L$5)/((L$4*L$2)-L$5)*G148*-1),(('Copy Results'!$C$2-L$2+L$5)/((L$4*L$2)-L$5)*G148*-1))))","v":81.368522644042969},82.810503786982949,null,null,0.61697247205071049,3808.6184335723028,{"$f":"AVERAGE(D$79:D148)","v":3791.6720807756697},{"$f":"AVERAGE(M$79:M148)","v":3815.6281114492931},3710.5893465893746,{"$f":"AVERAGE(P$79:P148)","v":3689.6122825396483},null,null,null,"T+138 sec",40098.103981481356,{"$f":"LOOKUP($V148,Data!$A$6:$A$1806,Data!$B$6:$B$1806)","v":59.921001434326172},{"$f":"LOOKUP($V148,Data!$A$6:$A$1806,Data!$C$6:$C$1806)","v":3773.333740234375},{"$f":"LOOKUP($V148,Data!$A$6:$A$1806,Data!$D$6:$D$1806)","v":335},{"$f":"IF($Z$1=\"+\",LOOKUP($V148,Data!$A$6:$A$1806,Data!$E$6:$E$1806)*-1,LOOKUP($V148,Data!$A$6:$A$1806,Data!$E$6:$E$1806))","v":229.46696472167969},{"$f":"LOOKUP($V148,Data!$A$6:$A$1806,Data!$F$6:$F$1806)","v":16},null,{"$f":"LOOKUP($V148,Data!$A$6:$A$1806,Data!$H$6:$H$1806)","v":10},{"$f":"LOOKUP($V148,Data!$A$6:$A$1806,Data!$I$6:$I$1806)","v":0},{"$f":"IF(LOOKUP($V148,Data!$A$6:$A$1806,Data!$J$6:$J$1806)>0,(LOOKUP($V148,Data!$A$6:$A$1806,Data!$J$6:$J$1806)*-1),LOOKUP($V148,Data!$A$6:$A$1806,Data!$J$6:$J$1806))","v":-103},{"$f":"LOOKUP($V148,Data!$A$6:$A$1806,Data!$K$6:$K$1806)","v":7659},81.368522644042969,"T+138 sec",40098.103981481356,null,null,null,null,null,null,null,null,null,null,null,null,128.22366192517572,-105.86166527713171,7.8998565673828125E-2,-103]
["T+140 sec",40098.104004629502,{"$f":"LOOKUP(B149,Data!$A$6:$A$1806,Data!B$6:B$1806)","v":59.923000335693359},{"$f":"LOOKUP(B149,Data!$A$6:$A$1806,Data!C$6:C$1806)","v":3773.957763671875},null,null,3090,{"$f":"(IF((C149-L$2)>0,(IF(C149<'Copy Results'!$C$3,((C149-L$2-L$5)/((L$4*L$2)-L$5)*G149*-1),(('Copy Results'!$C$3-L$2-L$5)/((L$4*L$2)-L$5)*G149*-1))),IF(C149>'Copy Results'!$C$2,((C149-L$2+L$5)/((L$4*L$2)-L$5)*G149*-1),(('Copy Results'!$C$2-L$2+L$5)/((L$4*L$2)-L$5)*G149*-1))))","v":79.309654235839844},81.585206444082871,null,null,0.61697247205071049,3808.0101087014536,{"$f":"AVERAGE(D$79:D149)","v":3791.4225833516725},{"$f":"AVERAGE(M$79:M149)","v":3815.5208156359436},3711.2063190614253,{"$f":"AVERAGE(P$79:P149)","v":3689.9207687756739},null,null,null,"T+140 sec",40098.104004629502,{"$f":"LOOKUP($V149,Data!$A$6:$A$1806,Data!$B$6:$B$1806)","v":59.923000335693359},{"$f":"LOOKUP($V149,Data!$A$6:$A$1806,Data!$C$6:$C$1806)","v":3773.957763671875},{"$f":"LOOKUP($V149,Data!$A$6:$A$1806,Data!$D$6:$D$1806)","v":335},{"$f":"IF($Z$1=\"+\",LOOKUP($V149,Data!$A$6:$A$1806,Data!$E$6:$E$1806)*-1,LOOKUP($V149,Data!$A$6:$A$1806,Data!$E$6:$E$1806))","v":229.46696472167969},{"$f":"LOOKUP($V149,Data!$A$6:$A$1806,Data!$F$6:$F$1806)","v":16},null,{"$f":"LOOKUP($V149,Data!$A$6:$A$1806,Data!$H$6:$H$1806)","v":10},{"$f":"LOOKUP($V149,Data!$A$6:$A$1806,Data!$I$6:$I$1806)","v":0},{"$f":"IF(LOOKUP($V149,Data!$A$6:$A$1806,Data!$J$6:$J$1806)>0,(LOOKUP($V149,Data!$A$6:$A$1806,Data!$J$6:$J$1806)*-1),LOOKUP($V149,Data!$A$6:$A$1806,Data!$J$6:$J$1806))","v":-103},{"$f":"LOOKUP($V149,Data!$A$6:$A$1806,Data!$K$6:$K$1806)","v":7660},79.309654235839844,"T+140 sec",40098.104004629502,null,null,null,null,null,null,null,null,null,null,null,null,128.84768536267572,-108.16185101199893,7.6999664306640625E-2,-103]
["T+142 sec",40098.104027777648,{"$f":"LOOKUP(B150,Data!$A$6:$A$1806,Data!B$6:B$1806)","v":59.925998687744141},{"$f":"LOOKUP(B150,Data!$A$6:$A$1806,Data!C$6:C$1806)","v":3772.722412109375},null,null,3090,{"$f":"(IF((C150-L$2)>0,(IF(C150<'Copy Results'!$C$3,((C150-L$2-L$5)/((L$4*L$2)-L$5)*G150*-1),(('Copy Results'!$C$3-L$2-L$5)/((L$4*L$2)-L$5)*G150*-1))),IF(C150>'Copy Results'!$C$2,((C150-L$2+L$5)/((L$4*L$2)-L$5)*G150*-1),(('Copy Results'!$C$2-L$2+L$5)/((L$4*L$2)-L$5)*G150*-1))))","v":76.221351623535156},79.707857256891174,null,null,0.61697247205071049,3806.7497319863128,{"$f":"AVERAGE(D$79:D150)","v":3791.162858751085},{"$f":"AVERAGE(M$79:M150)","v":3815.3989950296987},3711.8232915334761,{"$f":"AVERAGE(P$79:P150)","v":3690.229255011699},null,null,null,"T+142 sec",40098.104027777648,{"$f":"LOOKUP($V150,Data!$A$6:$A$1806,Data!$B$6:$B$1806)","v":59.925998687744141},{"$f":"LOOKUP($V150,Data!$A$6:$A$1806,Data!$C$6:$C$1806)","v":3772.722412109375},{"$f":"LOOKUP($V150,Data!$A$6:$A$1806,Data!$D$6:$D$1806)","v":335},{"$f":"IF($Z$1=\"+\",LOOKUP($V150,Data!$A$6:$A$1806,Data!$E$6:$E$1806)*-1,LOOKUP($V150,Data!$A$6:$A$1806,Data!$E$6:$E$1806))","v":228.98016357421875},{"$f":"LOOKUP($V150,Data!$A$6:$A$1806,Data!$F$6:$F$1806)","v":16},null,{"$f":"LOOKUP($V150,Data!$A$6:$A$1806,Data!$H$6:$H$1806)","v":10},{"$f":"LOOKUP($V150,Data!$A$6:$A$1806,Data!$I$6:$I$1806)","v":0},{"$f":"IF(LOOKUP($V150,Data!$A$6:$A$1806,Data!$J$6:$J$1806)>0,(LOOKUP($V150,Data!$A$6:$A$1806,Data!$J$6:$J$1806)*-1),LOOKUP($V150,Data!$A$6:$A$1806,Data!$J$6:$J$1806))","v":-103},{"$f":"LOOKUP($V150,Data!$A$6:$A$1806,Data!$K$6:$K$1806)","v":7660},76.221351623535156,"T+142 sec",40098.104027777648,null,null,null,null,null,null,null,null,null,null,null,null,127.6123338001757,-109.89075946114771,7.4001312255859375E-2,-103]
["T+144 sec",40098.104050925795,{"$f":"LOOKUP(B151,Data!$A$6:$A$1806,Data!B$6:B$1806)","v":59.924999237060547},{"$f":"LOOKUP(B151,Data!$A$6:$A$1806,Data!C$6:C$1806)","v":3771.67041015625},null,null,3090,{"$f":"(IF((C151-L$2)>0,(IF(C151<'Copy Results'!$C$3,((C151-L$2-L$5)/((L$4*L$2)-L$5)*G151*-1),(('Copy Results'!$C$3-L$2-L$5)/((L$4*L$2)-L$5)*G151*-1))),IF(C151>'Copy Results'!$C$2,((C151-L$2+L$5)/((L$4*L$2)-L$5)*G151*-1),(('Copy Results'!$C$2-L$2+L$5)/((L$4*L$2)-L$5)*G151*-1))))","v":77.250785827636719},78.847882256652113,null,null,0.61697247205071049,3806.5067294581245,{"$f":"AVERAGE(D$79:D151)","v":3790.89583890732},{"$f":"AVERAGE(M$79:M151)","v":3815.2771831725536},3712.4402640055268,{"$f":"AVERAGE(P$79:P151)","v":3690.5377412477246},null,null,null,"T+144 sec",40098.104050925795,{"$f":"LOOKUP($V151,Data!$A$6:$A$1806,Data!$B$6:$B$1806)","v":59.924999237060547},{"$f":"LOOKUP($V151,Data!$A$6:$A$1806,Data!$C$6:$C$1806)","v":3771.67041015625},{"$f":"LOOKUP($V151,Data!$A$6:$A$1806,Data!$D$6:$D$1806)","v":335},{"$f":"IF($Z$1=\"+\",LOOKUP($V151,Data!$A$6:$A$1806,Data!$E$6:$E$1806)*-1,LOOKUP($V151,Data!$A$6:$A$1806,Data!$E$6:$E$1806))","v":228.98016357421875},{"$f":"LOOKUP($V151,Data!$A$6:$A$1806,Data!$F$6:$F$1806)","v":16},null,{"$f":"LOOKUP($V151,Data!$A$6:$A$1806,Data!$H$6:$H$1806)","v":10},{"$f":"LOOKUP($V151,Data!$A$6:$A$1806,Data!$I$6:$I$1806)","v":0},{"$f":"IF(LOOKUP($V151,Data!$A$6:$A$1806,Data!$J$6:$J$1806)>0,(LOOKUP($V151,Data!$A$6:$A$1806,Data!$J$6:$J$1806)*-1),LOOKUP($V151,Data!$A$6:$A$1806,Data!$J$6:$J$1806))","v":-103},{"$f":"LOOKUP($V151,Data!$A$6:$A$1806,Data!$K$6:$K$1806)","v":7661},77.250785827636719,"T+144 sec",40098.104050925795,null,null,null,null,null,null,null,null,null,null,null,null,126.5603318470507,-108.05486809633396,7.5000762939453125E-2,-103]
["T+146 sec",40098.104074073941,{"$f":"LOOKUP(B152,Data!$A$6:$A$1806,Data!B$6:B$1806)","v":59.928001403808594},{"$f":"LOOKUP(B152,Data!$A$6:$A$1806,Data!C$6:C$1806)","v":3769.629638671875},null,null,3090,{"$f":"(IF((C152-L$2)>0,(IF(C152<'Copy Results'!$C$3,((C152-L$2-L$5)/((L$4*L$2)-L$5)*G152*-1),(('Copy Results'!$C$3-L$2-L$5)/((L$4*L$2)-L$5)*G152*-1))),IF(C152>'Copy Results'!$C$2,((C152-L$2+L$5)/((L$4*L$2)-L$5)*G152*-1),(('Copy Results'!$C$2-L$2+L$5)/((L$4*L$2)-L$5)*G152*-1))))","v":74.158554077148438},77.206617393825837,null,null,0.61697247205071049,3805.4824370673491,{"$f":"AVERAGE(D$79:D152)","v":3790.6084578230575},{"$f":"AVERAGE(M$79:M152)","v":3815.1448217387001},3713.0572364775776,{"$f":"AVERAGE(P$79:P152)","v":3690.8462274837498},null,null,null,"T+146 sec",40098.104074073941,{"$f":"LOOKUP($V152,Data!$A$6:$A$1806,Data!$B$6:$B$1806)","v":59.928001403808594},{"$f":"LOOKUP($V152,Data!$A$6:$A$1806,Data!$C$6:$C$1806)","v":3769.629638671875},{"$f":"LOOKUP($V152,Data!$A$6:$A$1806,Data!$D$6:$D$1806)","v":335},{"$f":"IF($Z$1=\"+\",LOOKUP($V152,Data!$A$6:$A$1806,Data!$E$6:$E$1806)*-1,LOOKUP($V152,Data!$A$6:$A$1806,Data!$E$6:$E$1806))","v":228.98016357421875},{"$f":"LOOKUP($V152,Data!$A$6:$A$1806,Data!$F$6:$F$1806)","v":16},null,{"$f":"LOOKUP($V152,Data!$A$6:$A$1806,Data!$H$6:$H$1806)","v":10},{"$f":"LOOKUP($V152,Data!$A$6:$A$1806,Data!$I$6:$I$1806)","v":0},{"$f":"IF(LOOKUP($V152,Data!$A$6:$A$1806,Data!$J$6:$J$1806)>0,(LOOKUP($V152,Data!$A$6:$A$1806,Data!$J$6:$J$1806)*-1),LOOKUP($V152,Data!$A$6:$A$1806,Data!$J$6:$J$1806))","v":-103},{"$f":"LOOKUP($V152,Data!$A$6:$A$1806,Data!$K$6:$K$1806)","v":7661},74.158554077148438,"T+146 sec",40098.104074073941,null,null,null,null,null,null,null,null,null,null,null,null,124.5195603626757,-109.10917544600919,7.199859619140625E-2,-103]
["T+148 sec",40098.104097222087,{"$f":"LOOKUP(B153,Data!$A$6:$A$1806,Data!B$6:B$1806)","v":59.926998138427734},{"$f":"LOOKUP(B153,Data!$A$6:$A$1806,Data!C$6:C$1806)","v":3768.70703125},null,null,3090,{"$f":"(IF((C153-L$2)>0,(IF(C153<'Copy Results'!$C$3,((C153-L$2-L$5)/((L$4*L$2)-L$5)*G153*-1),(('Copy Results'!$C$3-L$2-L$5)/((L$4*L$2)-L$5)*G153*-1))),IF(C153>'Copy Results'!$C$2,((C153-L$2+L$5)/((L$4*L$2)-L$5)*G153*-1),(('Copy Results'!$C$2-L$2+L$5)/((L$4*L$2)-L$5)*G153*-1))))","v":75.191917419433594},76.501472402788551,null,null,0.61697247205071049,3805.3942645483626,{"$f":"AVERAGE(D$79:D153)","v":3790.3164388020832},{"$f":"AVERAGE(M$79:M153)","v":3815.0148143094957},3713.6742089496283,{"$f":"AVERAGE(P$79:P153)","v":3691.1547137197749},null,null,null,"T+148 sec",40098.104097222087,{"$f":"LOOKUP($V153,Data!$A$6:$A$1806,Data!$B$6:$B$1806)","v":59.926998138427734},{"$f":"LOOKUP($V153,Data!$A$6:$A$1806,Data!$C$6:$C$1806)","v":3768.70703125},{"$f":"LOOKUP($V153,Data!$A$6:$A$1806,Data!$D$6:$D$1806)","v":335},{"$f":"IF($Z$1=\"+\",LOOKUP($V153,Data!$A$6:$A$1806,Data!$E$6:$E$1806)*-1,LOOKUP($V153,Data!$A$6:$A$1806,Data!$E$6:$E$1806))","v":228.98016357421875},{"$f":"LOOKUP($V153,Data!$A$6:$A$1806,Data!$F$6:$F$1806)","v":16},null,{"$f":"LOOKUP($V153,Data!$A$6:$A$1806,Data!$H$6:$H$1806)","v":10},{"$f":"LOOKUP($V153,Data!$A$6:$A$1806,Data!$I$6:$I$1806)","v":0},{"$f":"IF(LOOKUP($V153,Data!$A$6:$A$1806,Data!$J$6:$J$1806)>0,(LOOKUP($V153,Data!$A$6:$A$1806,Data!$J$6:$J$1806)*-1),LOOKUP($V153,Data!$A$6:$A$1806,Data!$J$6:$J$1806))","v":-103},{"$f":"LOOKUP($V153,Data!$A$6:$A$1806,Data!$K$6:$K$1806)","v":7662},75.191917419433594,"T+148 sec",40098.104097222087,null,null,null,null,null,null,null,null,null,null,null,null,123.5969529408007,-107.35697093415152,7.3001861572265625E-2,-103]
["T+150 sec",40098.104120370233,{"$f":"LOOKUP(B154,Data!$A$6:$A$1806,Data!B$6:B$1806)","v":59.931999206542969},{"$f":"LOOKUP(B154,Data!$A$6:$A$1806,Data!C$6:C$1806)","v":3767.642822265625},null,null,3090,{"$f":"(IF((C154-L$2)>0,(IF(C154<'Copy Results'!$C$3,((C154-L$2-L$5)/((L$4*L$2)-L$5)*G154*-1),(('Copy Results'!$C$3-L$2-L$5)/((L$4*L$2)-L$5)*G154*-1))),IF(C154>'Copy Results'!$C$2,((C154-L$2+L$5)/((L$4*L$2)-L$5)*G154*-1),(('Copy Results'!$C$2-L$2+L$5)/((L$4*L$2)-L$5)*G154*-1))))","v":70.040817260742187},74.240243103072316,null,null,0.61697247205071049,3803.7500077206969,{"$f":"AVERAGE(D$79:D154)","v":3790.0181017423929},{"$f":"AVERAGE(M$79:M154)","v":3814.8665931701698},3714.2911814216791,{"$f":"AVERAGE(P$79:P154)","v":3691.4631999558001},null,null,null,"T+150 sec",40098.104120370233,{"$f":"LOOKUP($V154,Data!$A$6:$A$1806,Data!$B$6:$B$1806)","v":59.931999206542969},{"$f":"LOOKUP($V154,Data!$A$6:$A$1806,Data!$C$6:$C$1806)","v":3767.642822265625},{"$f":"LOOKUP($V154,Data!$A$6:$A$1806,Data!$D$6:$D$1806)","v":335},{"$f":"IF($Z$1=\"+\",LOOKUP($V154,Data!$A$6:$A$1806,Data!$E$6:$E$1806)*-1,LOOKUP($V154,Data!$A$6:$A$1806,Data!$E$6:$E$1806))","v":228.98016357421875},{"$f":"LOOKUP($V154,Data!$A$6:$A$1806,Data!$F$6:$F$1806)","v":16},null,{"$f":"LOOKUP($V154,Data!$A$6:$A$1806,Data!$H$6:$H$1806)","v":10},{"$f":"LOOKUP($V154,Data!$A$6:$A$1806,Data!$I$6:$I$1806)","v":0},{"$f":"IF(LOOKUP($V154,Data!$A$6:$A$1806,Data!$J$6:$J$1806)>0,(LOOKUP($V154,Data!$A$6:$A$1806,Data!$J$6:$J$1806)*-1),LOOKUP($V154,Data!$A$6:$A$1806,Data!$J$6:$J$1806))","v":-103},{"$f":"LOOKUP($V154,Data!$A$6:$A$1806,Data!$K$6:$K$1806)","v":7662},70.040817260742187,"T+150 sec",40098.104120370233,null,null,null,null,null,null,null,null,null,null,null,null,122.5327439564257,-111.26593478863745,6.800079345703125E-2,-103]
["T+152 sec",40098.10414351838,{"$f":"LOOKUP(B155,Data!$A$6:$A$1806,Data!B$6:B$1806)","v":59.926998138427734},{"$f":"LOOKUP(B155,Data!$A$6:$A$1806,Data!C$6:C$1806)","v":3767.02099609375},null,null,3090,{"$f":"(IF((C155-L$2)>0,(IF(C155<'Copy Results'!$C$3,((C155-L$2-L$5)/((L$4*L$2)-L$5)*G155*-1),(('Copy Results'!$C$3-L$2-L$5)/((L$4*L$2)-L$5)*G155*-1))),IF(C155>'Copy Results'!$C$2,((C155-L$2+L$5)/((L$4*L$2)-L$5)*G155*-1),(('Copy Results'!$C$2-L$2+L$5)/((L$4*L$2)-L$5)*G155*-1))))","v":75.191917419433594},74.573329113798764,null,null,0.61697247205071049,3804.7000662034743,{"$f":"AVERAGE(D$79:D155)","v":3789.7194380326705},{"$f":"AVERAGE(M$79:M155)","v":3814.7345603524204},3714.9081538937298,{"$f":"AVERAGE(P$79:P155)","v":3691.7716861918252},null,null,null,"T+152 sec",40098.10414351838,{"$f":"LOOKUP($V155,Data!$A$6:$A$1806,Data!$B$6:$B$1806)","v":59.926998138427734},{"$f":"LOOKUP($V155,Data!$A$6:$A$1806,Data!$C$6:$C$1806)","v":3767.02099609375},{"$f":"LOOKUP($V155,Data!$A$6:$A$1806,Data!$D$6:$D$1806)","v":335},{"$f":"IF($Z$1=\"+\",LOOKUP($V155,Data!$A$6:$A$1806,Data!$E$6:$E$1806)*-1,LOOKUP($V155,Data!$A$6:$A$1806,Data!$E$6:$E$1806))","v":219.97555541992187},{"$f":"LOOKUP($V155,Data!$A$6:$A$1806,Data!$F$6:$F$1806)","v":16},null,{"$f":"LOOKUP($V155,Data!$A$6:$A$1806,Data!$H$6:$H$1806)","v":10},{"$f":"LOOKUP($V155,Data!$A$6:$A$1806,Data!$I$6:$I$1806)","v":0},{"$f":"IF(LOOKUP($V155,Data!$A$6:$A$1806,Data!$J$6:$J$1806)>0,(LOOKUP($V155,Data!$A$6:$A$1806,Data!$J$6:$J$1806)*-1),LOOKUP($V155,Data!$A$6:$A$1806,Data!$J$6:$J$1806))","v":-103},{"$f":"LOOKUP($V155,Data!$A$6:$A$1806,Data!$K$6:$K$1806)","v":7663},75.191917419433594,"T+152 sec",40098.10414351838,null,null,null,null,null,null,null,null,null,null,null,null,121.9109177845507,-105.89247182671652,7.3001861572265625E-2,-103]
["T+154 sec",40098.104166666526,{"$f":"LOOKUP(B156,Data!$A$6:$A$1806,Data!B$6:B$1806)","v":59.928001403808594},{"$f":"LOOKUP(B156,Data!$A$6:$A$1806,Data!C$6:C$1806)","v":3767.407958984375},null,null,3090,{"$f":"(IF((C156-L$2)>0,(IF(C156<'Copy Results'!$C$3,((C156-L$2-L$5)/((L$4*L$2)-L$5)*G156*-1),(('Copy Results'!$C$3-L$2-L$5)/((L$4*L$2)-L$5)*G156*-1))),IF(C156>'Copy Results'!$C$2,((C156-L$2+L$5)/((L$4*L$2)-L$5)*G156*-1),(('Copy Results'!$C$2-L$2+L$5)/((L$4*L$2)-L$5)*G156*-1))))","v":74.158554077148438},74.428157850971161,null,null,0.61697247205071049,3805.1718674126973,{"$f":"AVERAGE(D$79:D156)","v":3789.4333934294873},{"$f":"AVERAGE(M$79:M156)","v":3814.6119617249883},3715.5251263657806,{"$f":"AVERAGE(P$79:P156)","v":3692.0801724278504},null,null,null,"T+154 sec",40098.104166666526,{"$f":"LOOKUP($V156,Data!$A$6:$A$1806,Data!$B$6:$B$1806)","v":59.928001403808594},{"$f":"LOOKUP($V156,Data!$A$6:$A$1806,Data!$C$6:$C$1806)","v":3767.407958984375},{"$f":"LOOKUP($V156,Data!$A$6:$A$1806,Data!$D$6:$D$1806)","v":335},{"$f":"IF($Z$1=\"+\",LOOKUP($V156,Data!$A$6:$A$1806,Data!$E$6:$E$1806)*-1,LOOKUP($V156,Data!$A$6:$A$1806,Data!$E$6:$E$1806))","v":219.97555541992187},{"$f":"LOOKUP($V156,Data!$A$6:$A$1806,Data!$F$6:$F$1806)","v":16},null,{"$f":"LOOKUP($V156,Data!$A$6:$A$1806,Data!$H$6:$H$1806)","v":10},{"$f":"LOOKUP($V156,Data!$A$6:$A$1806,Data!$I$6:$I$1806)","v":0},{"$f":"IF(LOOKUP($V156,Data!$A$6:$A$1806,Data!$J$6:$J$1806)>0,(LOOKUP($V156,Data!$A$6:$A$1806,Data!$J$6:$J$1806)*-1),LOOKUP($V156,Data!$A$6:$A$1806,Data!$J$6:$J$1806))","v":-103},{"$f":"LOOKUP($V156,Data!$A$6:$A$1806,Data!$K$6:$K$1806)","v":7663},74.158554077148438,"T+154 sec",40098.104166666526,null,null,null,null,null,null,null,null,null,null,null,null,122.2978806751757,-107.1624480555314,7.199859619140625E-2,-103]
["T+156 sec",40098.104189814672,{"$f":"LOOKUP(B157,Data!$A$6:$A$1806,Data!B$6:B$1806)","v":59.930999755859375},{"$f":"LOOKUP(B157,Data!$A$6:$A$1806,Data!C$6:C$1806)","v":3766.7880859375},null,null,3090,{"$f":"(IF((C157-L$2)>0,(IF(C157<'Copy Results'!$C$3,((C157-L$2-L$5)/((L$4*L$2)-L$5)*G157*-1),(('Copy Results'!$C$3-L$2-L$5)/((L$4*L$2)-L$5)*G157*-1))),IF(C157>'Copy Results'!$C$2,((C157-L$2+L$5)/((L$4*L$2)-L$5)*G157*-1),(('Copy Results'!$C$2-L$2+L$5)/((L$4*L$2)-L$5)*G157*-1))))","v":71.07025146484375},73.252890615826573,null,null,0.61697247205071049,3804.6135726496036,{"$f":"AVERAGE(D$79:D157)","v":3789.1467439675635},{"$f":"AVERAGE(M$79:M157)","v":3814.4853998379576},3716.1420988378313,{"$f":"AVERAGE(P$79:P157)","v":3692.388658663876},null,null,null,"T+156 sec",40098.104189814672,{"$f":"LOOKUP($V157,Data!$A$6:$A$1806,Data!$B$6:$B$1806)","v":59.930999755859375},{"$f":"LOOKUP($V157,Data!$A$6:$A$1806,Data!$C$6:$C$1806)","v":3766.7880859375},{"$f":"LOOKUP($V157,Data!$A$6:$A$1806,Data!$D$6:$D$1806)","v":335},{"$f":"IF($Z$1=\"+\",LOOKUP($V157,Data!$A$6:$A$1806,Data!$E$6:$E$1806)*-1,LOOKUP($V157,Data!$A$6:$A$1806,Data!$E$6:$E$1806))","v":219.97555541992187},{"$f":"LOOKUP($V157,Data!$A$6:$A$1806,Data!$F$6:$F$1806)","v":16},null,{"$f":"LOOKUP($V157,Data!$A$6:$A$1806,Data!$H$6:$H$1806)","v":10},{"$f":"LOOKUP($V157,Data!$A$6:$A$1806,Data!$I$6:$I$1806)","v":0},{"$f":"IF(LOOKUP($V157,Data!$A$6:$A$1806,Data!$J$6:$J$1806)>0,(LOOKUP($V157,Data!$A$6:$A$1806,Data!$J$6:$J$1806)*-1),LOOKUP($V157,Data!$A$6:$A$1806,Data!$J$6:$J$1806))","v":-103},{"$f":"LOOKUP($V157,Data!$A$6:$A$1806,Data!$K$6:$K$1806)","v":7664},71.07025146484375,"T+156 sec",40098.104189814672,null,null,null,null,null,null,null,null,null,null,null,null,121.6780076283007,-109.49605747068449,6.9000244140625E-2,-103]
["T+158 sec",40098.104212962819,{"$f":"LOOKUP(B158,Data!$A$6:$A$1806,Data!B$6:B$1806)","v":59.929000854492187},{"$f":"LOOKUP(B158,Data!$A$6:$A$1806,Data!C$6:C$1806)","v":3766.259033203125},null,null,3090,{"$f":"(IF((C158-L$2)>0,(IF(C158<'Copy Results'!$C$3,((C158-L$2-L$5)/((L$4*L$2)-L$5)*G158*-1),(('Copy Results'!$C$3-L$2-L$5)/((L$4*L$2)-L$5)*G158*-1))),IF(C158>'Copy Results'!$C$2,((C158-L$2+L$5)/((L$4*L$2)-L$5)*G158*-1),(('Copy Results'!$C$2-L$2+L$5)/((L$4*L$2)-L$5)*G158*-1))))","v":73.129119873046875},73.209570855853684,null,null,0.61697247205071049,3805.1872253616816,{"$f":"AVERAGE(D$79:D158)","v":3788.8606475830079},{"$f":"AVERAGE(M$79:M158)","v":3814.3691726570046},3716.7590713098821,{"$f":"AVERAGE(P$79:P158)","v":3692.6971448999011},null,null,null,"T+158 sec",40098.104212962819,{"$f":"LOOKUP($V158,Data!$A$6:$A$1806,Data!$B$6:$B$1806)","v":59.929000854492187},{"$f":"LOOKUP($V158,Data!$A$6:$A$1806,Data!$C$6:$C$1806)","v":3766.259033203125},{"$f":"LOOKUP($V158,Data!$A$6:$A$1806,Data!$D$6:$D$1806)","v":335},{"$f":"IF($Z$1=\"+\",LOOKUP($V158,Data!$A$6:$A$1806,Data!$E$6:$E$1806)*-1,LOOKUP($V158,Data!$A$6:$A$1806,Data!$E$6:$E$1806))","v":219.97555541992187},{"$f":"LOOKUP($V158,Data!$A$6:$A$1806,Data!$F$6:$F$1806)","v":16},null,{"$f":"LOOKUP($V158,Data!$A$6:$A$1806,Data!$H$6:$H$1806)","v":10},{"$f":"LOOKUP($V158,Data!$A$6:$A$1806,Data!$I$6:$I$1806)","v":0},{"$f":"IF(LOOKUP($V158,Data!$A$6:$A$1806,Data!$J$6:$J$1806)>0,(LOOKUP($V158,Data!$A$6:$A$1806,Data!$J$6:$J$1806)*-1),LOOKUP($V158,Data!$A$6:$A$1806,Data!$J$6:$J$1806))","v":-103},{"$f":"LOOKUP($V158,Data!$A$6:$A$1806,Data!$K$6:$K$1806)","v":7664},73.129119873046875,"T+158 sec",40098.104212962819,null,null,null,null,null,null,null,null,null,null,null,null,121.1489548939257,-107.09359466770054,7.09991455078125E-2,-103]
["T+160 sec",40098.104236110965,{"$f":"LOOKUP(B159,Data!$A$6:$A$1806,Data!B$6:B$1806)","v":59.930999755859375},{"$f":"LOOKUP(B159,Data!$A$6:$A$1806,Data!C$6:C$1806)","v":3765.671630859375},null,null,3090,{"$f":"(IF((C159-L$2)>0,(IF(C159<'Copy Results'!$C$3,((C159-L$2-L$5)/((L$4*L$2)-L$5)*G159*-1),(('Copy Results'!$C$3-L$2-L$5)/((L$4*L$2)-L$5)*G159*-1))),IF(C159>'Copy Results'!$C$2,((C159-L$2+L$5)/((L$4*L$2)-L$5)*G159*-1),(('Copy Results'!$C$2-L$2+L$5)/((L$4*L$2)-L$5)*G159*-1))))","v":71.07025146484375},72.460809069000206,null,null,0.61697247205071049,3805.0554360468791,{"$f":"AVERAGE(D$79:D159)","v":3788.5743634259261},{"$f":"AVERAGE(M$79:M159)","v":3814.2541882544101},3717.3760437819328,{"$f":"AVERAGE(P$79:P159)","v":3693.0056311359267},null,null,null,"T+160 sec",40098.104236110965,{"$f":"LOOKUP($V159,Data!$A$6:$A$1806,Data!$B$6:$B$1806)","v":59.930999755859375},{"$f":"LOOKUP($V159,Data!$A$6:$A$1806,Data!$C$6:$C$1806)","v":3765.671630859375},{"$f":"LOOKUP($V159,Data!$A$6:$A$1806,Data!$D$6:$D$1806)","v":335},{"$f":"IF($Z$1=\"+\",LOOKUP($V159,Data!$A$6:$A$1806,Data!$E$6:$E$1806)*-1,LOOKUP($V159,Data!$A$6:$A$1806,Data!$E$6:$E$1806))","v":219.97555541992187},{"$f":"LOOKUP($V159,Data!$A$6:$A$1806,Data!$F$6:$F$1806)","v":16},null,{"$f":"LOOKUP($V159,Data!$A$6:$A$1806,Data!$H$6:$H$1806)","v":10},{"$f":"LOOKUP($V159,Data!$A$6:$A$1806,Data!$I$6:$I$1806)","v":0},{"$f":"IF(LOOKUP($V159,Data!$A$6:$A$1806,Data!$J$6:$J$1806)>0,(LOOKUP($V159,Data!$A$6:$A$1806,Data!$J$6:$J$1806)*-1),LOOKUP($V159,Data!$A$6:$A$1806,Data!$J$6:$J$1806))","v":-103},{"$f":"LOOKUP($V159,Data!$A$6:$A$1806,Data!$K$6:$K$1806)","v":7665},71.07025146484375,"T+160 sec",40098.104236110965,null,null,null,null,null,null,null,null,null,null,null,null,120.5615525501757,-108.49137772797164,6.9000244140625E-2,-103]
["T+162 sec",40098.104259259111,{"$f":"LOOKUP(B160,Data!$A$6:$A$1806,Data!B$6:B$1806)","v":59.932998657226562},{"$f":"LOOKUP(B160,Data!$A$6:$A$1806,Data!C$6:C$1806)","v":3766.12255859375},null,null,3090,{"$f":"(IF((C160-L$2)>0,(IF(C160<'Copy Results'!$C$3,((C160-L$2-L$5)/((L$4*L$2)-L$5)*G160*-1),(('Copy Results'!$C$3-L$2-L$5)/((L$4*L$2)-L$5)*G160*-1))),IF(C160>'Copy Results'!$C$2,((C160-L$2+L$5)/((L$4*L$2)-L$5)*G160*-1),(('Copy Results'!$C$2-L$2+L$5)/((L$4*L$2)-L$5)*G160*-1))))","v":69.011383056640625},71.25350996467435,null,null,0.61697247205071049,3804.4651094146038,{"$f":"AVERAGE(D$79:D160)","v":3788.3005609279726},{"$f":"AVERAGE(M$79:M160)","v":3814.1348092441685},3717.9930162539836,{"$f":"AVERAGE(P$79:P160)","v":3693.3141173719519},null,null,null,"T+162 sec",40098.104259259111,{"$f":"LOOKUP($V160,Data!$A$6:$A$1806,Data!$B$6:$B$1806)","v":59.932998657226562},{"$f":"LOOKUP($V160,Data!$A$6:$A$1806,Data!$C$6:$C$1806)","v":3766.12255859375},{"$f":"LOOKUP($V160,Data!$A$6:$A$1806,Data!$D$6:$D$1806)","v":335},{"$f":"IF($Z$1=\"+\",LOOKUP($V160,Data!$A$6:$A$1806,Data!$E$6:$E$1806)*-1,LOOKUP($V160,Data!$A$6:$A$1806,Data!$E$6:$E$1806))","v":229.08924865722656},{"$f":"LOOKUP($V160,Data!$A$6:$A$1806,Data!$F$6:$F$1806)","v":16},null,{"$f":"LOOKUP($V160,Data!$A$6:$A$1806,Data!$H$6:$H$1806)","v":10},{"$f":"LOOKUP($V160,Data!$A$6:$A$1806,Data!$I$6:$I$1806)","v":0},{"$f":"IF(LOOKUP($V160,Data!$A$6:$A$1806,Data!$J$6:$J$1806)>0,(LOOKUP($V160,Data!$A$6:$A$1806,Data!$J$6:$J$1806)*-1),LOOKUP($V160,Data!$A$6:$A$1806,Data!$J$6:$J$1806))","v":-103},{"$f":"LOOKUP($V160,Data!$A$6:$A$1806,Data!$K$6:$K$1806)","v":7666},69.011383056640625,"T+162 sec",40098.104259259111,null,null,null,null,null,null,null,null,null,null,null,null,121.0124802845507,-110.89185949780695,6.70013427734375E-2,-103]
["T+164 sec",40098.104282407257,{"$f":"LOOKUP(B161,Data!$A$6:$A$1806,Data!B$6:B$1806)","v":59.937000274658203},{"$f":"LOOKUP(B161,Data!$A$6:$A$1806,Data!C$6:C$1806)","v":3764.24267578125},null,null,3090,{"$f":"(IF((C161-L$2)>0,(IF(C161<'Copy Results'!$C$3,((C161-L$2-L$5)/((L$4*L$2)-L$5)*G161*-1),(('Copy Results'!$C$3-L$2-L$5)/((L$4*L$2)-L$5)*G161*-1))),IF(C161>'Copy Results'!$C$2,((C161-L$2+L$5)/((L$4*L$2)-L$5)*G161*-1),(('Copy Results'!$C$2-L$2+L$5)/((L$4*L$2)-L$5)*G161*-1))))","v":64.889717102050781},69.026182462756111,null,null,0.61697247205071049,3802.8547543847362,{"$f":"AVERAGE(D$79:D161)","v":3788.0107068900602},{"$f":"AVERAGE(M$79:M161)","v":3813.9989049687538},3718.6099887260343,{"$f":"AVERAGE(P$79:P161)","v":3693.6226036079775},null,null,null,"T+164 sec",40098.104282407257,{"$f":"LOOKUP($V161,Data!$A$6:$A$1806,Data!$B$6:$B$1806)","v":59.937000274658203},{"$f":"LOOKUP($V161,Data!$A$6:$A$1806,Data!$C$6:$C$1806)","v":3764.24267578125},{"$f":"LOOKUP($V161,Data!$A$6:$A$1806,Data!$D$6:$D$1806)","v":335},{"$f":"IF($Z$1=\"+\",LOOKUP($V161,Data!$A$6:$A$1806,Data!$E$6:$E$1806)*-1,LOOKUP($V161,Data!$A$6:$A$1806,Data!$E$6:$E$1806))","v":229.08924865722656},{"$f":"LOOKUP($V161,Data!$A$6:$A$1806,Data!$F$6:$F$1806)","v":16},null,{"$f":"LOOKUP($V161,Data!$A$6:$A$1806,Data!$H$6:$H$1806)","v":10},{"$f":"LOOKUP($V161,Data!$A$6:$A$1806,Data!$I$6:$I$1806)","v":0},{"$f":"IF(LOOKUP($V161,Data!$A$6:$A$1806,Data!$J$6:$J$1806)>0,(LOOKUP($V161,Data!$A$6:$A$1806,Data!$J$6:$J$1806)*-1),LOOKUP($V161,Data!$A$6:$A$1806,Data!$J$6:$J$1806))","v":-103},{"$f":"LOOKUP($V161,Data!$A$6:$A$1806,Data!$K$6:$K$1806)","v":7666},64.889717102050781,"T+164 sec",40098.104282407257,null,null,null,null,null,null,null,null,null,null,null,null,119.1325974720507,-113.32475973460674,6.2999725341796875E-2,-103]
["T+166 sec",40098.104305555404,{"$f":"LOOKUP(B162,Data!$A$6:$A$1806,Data!B$6:B$1806)","v":59.937000274658203},{"$f":"LOOKUP(B162,Data!$A$6:$A$1806,Data!C$6:C$1806)","v":3765.10498046875},null,null,3090,{"$f":"(IF((C162-L$2)>0,(IF(C162<'Copy Results'!$C$3,((C162-L$2-L$5)/((L$4*L$2)-L$5)*G162*-1),(('Copy Results'!$C$3-L$2-L$5)/((L$4*L$2)-L$5)*G162*-1))),IF(C162>'Copy Results'!$C$2,((C162-L$2+L$5)/((L$4*L$2)-L$5)*G162*-1),(('Copy Results'!$C$2-L$2+L$5)/((L$4*L$2)-L$5)*G162*-1))))","v":64.889717102050781},67.578419586509256,null,null,0.61697247205071049,3802.02396398054,{"$f":"AVERAGE(D$79:D162)","v":3787.7380196707591},{"$f":"AVERAGE(M$79:M162)","v":3813.8563461474655},3719.2269611980851,{"$f":"AVERAGE(P$79:P162)","v":3693.9310898440026},null,null,null,"T+166 sec",40098.104305555404,{"$f":"LOOKUP($V162,Data!$A$6:$A$1806,Data!$B$6:$B$1806)","v":59.937000274658203},{"$f":"LOOKUP($V162,Data!$A$6:$A$1806,Data!$C$6:$C$1806)","v":3765.10498046875},{"$f":"LOOKUP($V162,Data!$A$6:$A$1806,Data!$D$6:$D$1806)","v":335},{"$f":"IF($Z$1=\"+\",LOOKUP($V162,Data!$A$6:$A$1806,Data!$E$6:$E$1806)*-1,LOOKUP($V162,Data!$A$6:$A$1806,Data!$E$6:$E$1806))","v":229.08924865722656},{"$f":"LOOKUP($V162,Data!$A$6:$A$1806,Data!$F$6:$F$1806)","v":16},null,{"$f":"LOOKUP($V162,Data!$A$6:$A$1806,Data!$H$6:$H$1806)","v":10},{"$f":"LOOKUP($V162,Data!$A$6:$A$1806,Data!$I$6:$I$1806)","v":0},{"$f":"IF(LOOKUP($V162,Data!$A$6:$A$1806,Data!$J$6:$J$1806)>0,(LOOKUP($V162,Data!$A$6:$A$1806,Data!$J$6:$J$1806)*-1),LOOKUP($V162,Data!$A$6:$A$1806,Data!$J$6:$J$1806))","v":-103},{"$f":"LOOKUP($V162,Data!$A$6:$A$1806,Data!$K$6:$K$1806)","v":7667},64.889717102050781,"T+166 sec",40098.104305555404,null,null,null,null,null,null,null,null,null,null,null,null,119.9949021595507,-114.14502617387321,6.2999725341796875E-2,-103]
["T+168 sec",40098.10432870355,{"$f":"LOOKUP(B163,Data!$A$6:$A$1806,Data!B$6:B$1806)","v":59.944999694824219},{"$f":"LOOKUP(B163,Data!$A$6:$A$1806,Data!C$6:C$1806)","v":3762.935302734375},null,null,3090,{"$f":"(IF((C163-L$2)>0,(IF(C163<'Copy Results'!$C$3,((C163-L$2-L$5)/((L$4*L$2)-L$5)*G163*-1),(('Copy Results'!$C$3-L$2-L$5)/((L$4*L$2)-L$5)*G163*-1))),IF(C163>'Copy Results'!$C$2,((C163-L$2+L$5)/((L$4*L$2)-L$5)*G163*-1),(('Copy Results'!$C$2-L$2+L$5)/((L$4*L$2)-L$5)*G163*-1))))","v":56.650314331054688},63.753582747100161,null,null,0.61697247205071049,3798.8160996131814,{"$f":"AVERAGE(D$79:D163)","v":3787.446223000919},{"$f":"AVERAGE(M$79:M163)","v":3813.679402070592},3719.8439336701358,{"$f":"AVERAGE(P$79:P163)","v":3694.2395760800282},null,null,null,"T+168 sec",40098.10432870355,{"$f":"LOOKUP($V163,Data!$A$6:$A$1806,Data!$B$6:$B$1806)","v":59.944999694824219},{"$f":"LOOKUP($V163,Data!$A$6:$A$1806,Data!$C$6:$C$1806)","v":3762.935302734375},{"$f":"LOOKUP($V163,Data!$A$6:$A$1806,Data!$D$6:$D$1806)","v":335},{"$f":"IF($Z$1=\"+\",LOOKUP($V163,Data!$A$6:$A$1806,Data!$E$6:$E$1806)*-1,LOOKUP($V163,Data!$A$6:$A$1806,Data!$E$6:$E$1806))","v":229.08924865722656},{"$f":"LOOKUP($V163,Data!$A$6:$A$1806,Data!$F$6:$F$1806)","v":16},null,{"$f":"LOOKUP($V163,Data!$A$6:$A$1806,Data!$H$6:$H$1806)","v":10},{"$f":"LOOKUP($V163,Data!$A$6:$A$1806,Data!$I$6:$I$1806)","v":0},{"$f":"IF(LOOKUP($V163,Data!$A$6:$A$1806,Data!$J$6:$J$1806)>0,(LOOKUP($V163,Data!$A$6:$A$1806,Data!$J$6:$J$1806)*-1),LOOKUP($V163,Data!$A$6:$A$1806,Data!$J$6:$J$1806))","v":-103},{"$f":"LOOKUP($V163,Data!$A$6:$A$1806,Data!$K$6:$K$1806)","v":7668},56.650314331054688,"T+168 sec",40098.10432870355,null,null,null,null,null,null,null,null,null,null,null,null,117.8252244251757,-121.31231009033766,5.500030517578125E-2,-103]
["T+170 sec",40098.104351851696,{"$f":"LOOKUP(B164,Data!$A$6:$A$1806,Data!B$6:B$1806)","v":59.949001312255859},{"$f":"LOOKUP(B164,Data!$A$6:$A$1806,Data!C$6:C$1806)","v":3758.38720703125},null,null,3090,{"$f":"(IF((C164-L$2)>0,(IF(C164<'Copy Results'!$C$3,((C164-L$2-L$5)/((L$4*L$2)-L$5)*G164*-1),(('Copy Results'!$C$3-L$2-L$5)/((L$4*L$2)-L$5)*G164*-1))),IF(C164>'Copy Results'!$C$2,((C164-L$2+L$5)/((L$4*L$2)-L$5)*G164*-1),(('Copy Results'!$C$2-L$2+L$5)/((L$4*L$2)-L$5)*G164*-1))))","v":52.528648376464837},59.824855717377801,null,null,0.61697247205071049,3795.5043450555099,{"$f":"AVERAGE(D$79:D164)","v":3787.1083274663879},{"$f":"AVERAGE(M$79:M164)","v":3813.4680641983232},3720.4609061421866,{"$f":"AVERAGE(P$79:P164)","v":3694.5480623160538},null,null,null,"T+170 sec",40098.104351851696,{"$f":"LOOKUP($V164,Data!$A$6:$A$1806,Data!$B$6:$B$1806)","v":59.949001312255859},{"$f":"LOOKUP($V164,Data!$A$6:$A$1806,Data!$C$6:$C$1806)","v":3758.38720703125},{"$f":"LOOKUP($V164,Data!$A$6:$A$1806,Data!$D$6:$D$1806)","v":335},{"$f":"IF($Z$1=\"+\",LOOKUP($V164,Data!$A$6:$A$1806,Data!$E$6:$E$1806)*-1,LOOKUP($V164,Data!$A$6:$A$1806,Data!$E$6:$E$1806))","v":229.08924865722656},{"$f":"LOOKUP($V164,Data!$A$6:$A$1806,Data!$F$6:$F$1806)","v":16},null,{"$f":"LOOKUP($V164,Data!$A$6:$A$1806,Data!$H$6:$H$1806)","v":10},{"$f":"LOOKUP($V164,Data!$A$6:$A$1806,Data!$I$6:$I$1806)","v":0},{"$f":"IF(LOOKUP($V164,Data!$A$6:$A$1806,Data!$J$6:$J$1806)>0,(LOOKUP($V164,Data!$A$6:$A$1806,Data!$J$6:$J$1806)*-1),LOOKUP($V164,Data!$A$6:$A$1806,Data!$J$6:$J$1806))","v":-103},{"$f":"LOOKUP($V164,Data!$A$6:$A$1806,Data!$K$6:$K$1806)","v":7668},52.528648376464837,"T+170 sec",40098.104351851696,null,null,null,null,null,null,null,null,null,null,null,null,113.2771287220507,-121.64128987106996,5.0998687744140625E-2,-103]
["T+172 sec",40098.104374999843,{"$f":"LOOKUP(B165,Data!$A$6:$A$1806,Data!B$6:B$1806)","v":59.946998596191406},{"$f":"LOOKUP(B165,Data!$A$6:$A$1806,Data!C$6:C$1806)","v":3753.92236328125},null,null,3090,{"$f":"(IF((C165-L$2)>0,(IF(C165<'Copy Results'!$C$3,((C165-L$2-L$5)/((L$4*L$2)-L$5)*G165*-1),(('Copy Results'!$C$3-L$2-L$5)/((L$4*L$2)-L$5)*G165*-1))),IF(C165>'Copy Results'!$C$2,((C165-L$2+L$5)/((L$4*L$2)-L$5)*G165*-1),(('Copy Results'!$C$2-L$2+L$5)/((L$4*L$2)-L$5)*G165*-1))))","v":54.591445922851555},57.993162289293622,null,null,0.61697247205071049,3794.2896240994764,{"$f":"AVERAGE(D$79:D165)","v":3786.7268796021913},{"$f":"AVERAGE(M$79:M165)","v":3813.247622358107},3721.0778786142373,{"$f":"AVERAGE(P$79:P165)","v":3694.8565485520794},null,null,null,"T+172 sec",40098.104374999843,{"$f":"LOOKUP($V165,Data!$A$6:$A$1806,Data!$B$6:$B$1806)","v":59.946998596191406},{"$f":"LOOKUP($V165,Data!$A$6:$A$1806,Data!$C$6:$C$1806)","v":3753.92236328125},{"$f":"LOOKUP($V165,Data!$A$6:$A$1806,Data!$D$6:$D$1806)","v":335},{"$f":"IF($Z$1=\"+\",LOOKUP($V165,Data!$A$6:$A$1806,Data!$E$6:$E$1806)*-1,LOOKUP($V165,Data!$A$6:$A$1806,Data!$E$6:$E$1806))","v":229.66326904296875},{"$f":"LOOKUP($V165,Data!$A$6:$A$1806,Data!$F$6:$F$1806)","v":16},null,{"$f":"LOOKUP($V165,Data!$A$6:$A$1806,Data!$H$6:$H$1806)","v":10},{"$f":"LOOKUP($V165,Data!$A$6:$A$1806,Data!$I$6:$I$1806)","v":0},{"$f":"IF(LOOKUP($V165,Data!$A$6:$A$1806,Data!$J$6:$J$1806)>0,(LOOKUP($V165,Data!$A$6:$A$1806,Data!$J$6:$J$1806)*-1),LOOKUP($V165,Data!$A$6:$A$1806,Data!$J$6:$J$1806))","v":-103},{"$f":"LOOKUP($V165,Data!$A$6:$A$1806,Data!$K$6:$K$1806)","v":7669},54.591445922851555,"T+172 sec",40098.104374999843,null,null,null,null,null,null,null,null,null,null,null,null,108.8122849720507,-114.38677713912934,5.300140380859375E-2,-103]
["T+174 sec",40098.104398147989,{"$f":"LOOKUP(B166,Data!$A$6:$A$1806,Data!B$6:B$1806)","v":59.942001342773438},{"$f":"LOOKUP(B166,Data!$A$6:$A$1806,Data!C$6:C$1806)","v":3749.8671875},null,null,3090,{"$f":"(IF((C166-L$2)>0,(IF(C166<'Copy Results'!$C$3,((C166-L$2-L$5)/((L$4*L$2)-L$5)*G166*-1),(('Copy Results'!$C$3-L$2-L$5)/((L$4*L$2)-L$5)*G166*-1))),IF(C166>'Copy Results'!$C$2,((C166-L$2+L$5)/((L$4*L$2)-L$5)*G166*-1),(('Copy Results'!$C$2-L$2+L$5)/((L$4*L$2)-L$5)*G166*-1))))","v":59.738616943359375},58.604071418216634,null,null,0.61697247205071049,3795.5175057004503,{"$f":"AVERAGE(D$79:D166)","v":3786.3080194646664},{"$f":"AVERAGE(M$79:M166)","v":3813.0461437597246},3721.6948510862881,{"$f":"AVERAGE(P$79:P166)","v":3695.1650347881045},null,null,null,"T+174 sec",40098.104398147989,{"$f":"LOOKUP($V166,Data!$A$6:$A$1806,Data!$B$6:$B$1806)","v":59.942001342773438},{"$f":"LOOKUP($V166,Data!$A$6:$A$1806,Data!$C$6:$C$1806)","v":3749.8671875},{"$f":"LOOKUP($V166,Data!$A$6:$A$1806,Data!$D$6:$D$1806)","v":335},{"$f":"IF($Z$1=\"+\",LOOKUP($V166,Data!$A$6:$A$1806,Data!$E$6:$E$1806)*-1,LOOKUP($V166,Data!$A$6:$A$1806,Data!$E$6:$E$1806))","v":229.66326904296875},{"$f":"LOOKUP($V166,Data!$A$6:$A$1806,Data!$F$6:$F$1806)","v":16},null,{"$f":"LOOKUP($V166,Data!$A$6:$A$1806,Data!$H$6:$H$1806)","v":10},{"$f":"LOOKUP($V166,Data!$A$6:$A$1806,Data!$I$6:$I$1806)","v":0},{"$f":"IF(LOOKUP($V166,Data!$A$6:$A$1806,Data!$J$6:$J$1806)>0,(LOOKUP($V166,Data!$A$6:$A$1806,Data!$J$6:$J$1806)*-1),LOOKUP($V166,Data!$A$6:$A$1806,Data!$J$6:$J$1806))","v":-103},{"$f":"LOOKUP($V166,Data!$A$6:$A$1806,Data!$K$6:$K$1806)","v":7669},59.738616943359375,"T+174 sec",40098.104398147989,null,null,null,null,null,null,null,null,null,null,null,null,104.7571091908007,-104.62749425108041,5.79986572265625E-2,-103]
["T+176 sec",40098.104421296135,{"$f":"LOOKUP(B167,Data!$A$6:$A$1806,Data!B$6:B$1806)","v":59.941001892089844},{"$f":"LOOKUP(B167,Data!$A$6:$A$1806,Data!C$6:C$1806)","v":3746.888671875},null,null,3090,{"$f":"(IF((C167-L$2)>0,(IF(C167<'Copy Results'!$C$3,((C167-L$2-L$5)/((L$4*L$2)-L$5)*G167*-1),(('Copy Results'!$C$3-L$2-L$5)/((L$4*L$2)-L$5)*G167*-1))),IF(C167>'Copy Results'!$C$2,((C167-L$2+L$5)/((L$4*L$2)-L$5)*G167*-1),(('Copy Results'!$C$2-L$2+L$5)/((L$4*L$2)-L$5)*G167*-1))))","v":60.76805114746093},59.36146432345214,null,null,0.61697247205071049,3796.8918710777366,{"$f":"AVERAGE(D$79:D167)","v":3785.8651054468046},{"$f":"AVERAGE(M$79:M167)","v":3812.8646350779049},3722.3118235583388,{"$f":"AVERAGE(P$79:P167)","v":3695.4735210241302},null,null,null,"T+176 sec",40098.104421296135,{"$f":"LOOKUP($V167,Data!$A$6:$A$1806,Data!$B$6:$B$1806)","v":59.941001892089844},{"$f":"LOOKUP($V167,Data!$A$6:$A$1806,Data!$C$6:$C$1806)","v":3746.888671875},{"$f":"LOOKUP($V167,Data!$A$6:$A$1806,Data!$D$6:$D$1806)","v":335},{"$f":"IF($Z$1=\"+\",LOOKUP($V167,Data!$A$6:$A$1806,Data!$E$6:$E$1806)*-1,LOOKUP($V167,Data!$A$6:$A$1806,Data!$E$6:$E$1806))","v":229.66326904296875},{"$f":"LOOKUP($V167,Data!$A$6:$A$1806,Data!$F$6:$F$1806)","v":16},null,{"$f":"LOOKUP($V167,Data!$A$6:$A$1806,Data!$H$6:$H$1806)","v":10},{"$f":"LOOKUP($V167,Data!$A$6:$A$1806,Data!$I$6:$I$1806)","v":0},{"$f":"IF(LOOKUP($V167,Data!$A$6:$A$1806,Data!$J$6:$J$1806)>0,(LOOKUP($V167,Data!$A$6:$A$1806,Data!$J$6:$J$1806)*-1),LOOKUP($V167,Data!$A$6:$A$1806,Data!$J$6:$J$1806))","v":-103},{"$f":"LOOKUP($V167,Data!$A$6:$A$1806,Data!$K$6:$K$1806)","v":7670},60.76805114746093,"T+176 sec",40098.104421296135,null,null,null,null,null,null,null,null,null,null,null,null,101.7785935658007,-100.64798159753389,5.899810791015625E-2,-103]
["T+178 sec",40098.104444444281,{"$f":"LOOKUP(B168,Data!$A$6:$A$1806,Data!B$6:B$1806)","v":59.942001342773438},{"$f":"LOOKUP(B168,Data!$A$6:$A$1806,Data!C$6:C$1806)","v":3747.87548828125},null,null,3090,{"$f":"(IF((C168-L$2)>0,(IF(C168<'Copy Results'!$C$3,((C168-L$2-L$5)/((L$4*L$2)-L$5)*G168*-1),(('Copy Results'!$C$3-L$2-L$5)/((L$4*L$2)-L$5)*G168*-1))),IF(C168>'Copy Results'!$C$2,((C168-L$2+L$5)/((L$4*L$2)-L$5)*G168*-1),(('Copy Results'!$C$2-L$2+L$5)/((L$4*L$2)-L$5)*G168*-1))))","v":59.738616943359375},59.493467740419675,null,null,0.61697247205071049,3797.6408469667549,{"$f":"AVERAGE(D$79:D168)","v":3785.4429985894099},{"$f":"AVERAGE(M$79:M168)","v":3812.6954818766699},3722.9287960303895,{"$f":"AVERAGE(P$79:P168)","v":3695.7820072601558},null,null,null,"T+178 sec",40098.104444444281,{"$f":"LOOKUP($V168,Data!$A$6:$A$1806,Data!$B$6:$B$1806)","v":59.942001342773438},{"$f":"LOOKUP($V168,Data!$A$6:$A$1806,Data!$C$6:$C$1806)","v":3747.87548828125},{"$f":"LOOKUP($V168,Data!$A$6:$A$1806,Data!$D$6:$D$1806)","v":335},{"$f":"IF($Z$1=\"+\",LOOKUP($V168,Data!$A$6:$A$1806,Data!$E$6:$E$1806)*-1,LOOKUP($V168,Data!$A$6:$A$1806,Data!$E$6:$E$1806))","v":229.66326904296875},{"$f":"LOOKUP($V168,Data!$A$6:$A$1806,Data!$F$6:$F$1806)","v":16},null,{"$f":"LOOKUP($V168,Data!$A$6:$A$1806,Data!$H$6:$H$1806)","v":10},{"$f":"LOOKUP($V168,Data!$A$6:$A$1806,Data!$I$6:$I$1806)","v":0},{"$f":"IF(LOOKUP($V168,Data!$A$6:$A$1806,Data!$J$6:$J$1806)>0,(LOOKUP($V168,Data!$A$6:$A$1806,Data!$J$6:$J$1806)*-1),LOOKUP($V168,Data!$A$6:$A$1806,Data!$J$6:$J$1806))","v":-103},{"$f":"LOOKUP($V168,Data!$A$6:$A$1806,Data!$K$6:$K$1806)","v":7670},59.738616943359375,"T+178 sec",40098.104444444281,null,null,null,null,null,null,null,null,null,null,null,null,102.7654099720507,-102.63825934216267,5.79986572265625E-2,-103]
["T+180 sec",40098.104467592428,{"$f":"LOOKUP(B169,Data!$A$6:$A$1806,Data!B$6:B$1806)","v":59.944999694824219},{"$f":"LOOKUP(B169,Data!$A$6:$A$1806,Data!C$6:C$1806)","v":3749.59326171875},null,null,3090,{"$f":"(IF((C169-L$2)>0,(IF(C169<'Copy Results'!$C$3,((C169-L$2-L$5)/((L$4*L$2)-L$5)*G169*-1),(('Copy Results'!$C$3-L$2-L$5)/((L$4*L$2)-L$5)*G169*-1))),IF(C169>'Copy Results'!$C$2,((C169-L$2+L$5)/((L$4*L$2)-L$5)*G169*-1),(('Copy Results'!$C$2-L$2+L$5)/((L$4*L$2)-L$5)*G169*-1))))","v":56.650314331054688},58.498364047141933,null,null,0.61697247205071049,3797.2627157455281,{"$f":"AVERAGE(D$79:D169)","v":3785.0490454369847},{"$f":"AVERAGE(M$79:M169)","v":3812.5258910400644},3723.5457685024403,{"$f":"AVERAGE(P$79:P169)","v":3696.0904934961814},null,null,null,"T+180 sec",40098.104467592428,{"$f":"LOOKUP($V169,Data!$A$6:$A$1806,Data!$B$6:$B$1806)","v":59.944999694824219},{"$f":"LOOKUP($V169,Data!$A$6:$A$1806,Data!$C$6:$C$1806)","v":3749.59326171875},{"$f":"LOOKUP($V169,Data!$A$6:$A$1806,Data!$D$6:$D$1806)","v":335},{"$f":"IF($Z$1=\"+\",LOOKUP($V169,Data!$A$6:$A$1806,Data!$E$6:$E$1806)*-1,LOOKUP($V169,Data!$A$6:$A$1806,Data!$E$6:$E$1806))","v":229.66326904296875},{"$f":"LOOKUP($V169,Data!$A$6:$A$1806,Data!$F$6:$F$1806)","v":16},null,{"$f":"LOOKUP($V169,Data!$A$6:$A$1806,Data!$H$6:$H$1806)","v":10},{"$f":"LOOKUP($V169,Data!$A$6:$A$1806,Data!$I$6:$I$1806)","v":0},{"$f":"IF(LOOKUP($V169,Data!$A$6:$A$1806,Data!$J$6:$J$1806)>0,(LOOKUP($V169,Data!$A$6:$A$1806,Data!$J$6:$J$1806)*-1),LOOKUP($V169,Data!$A$6:$A$1806,Data!$J$6:$J$1806))","v":-103},{"$f":"LOOKUP($V169,Data!$A$6:$A$1806,Data!$K$6:$K$1806)","v":7671},56.650314331054688,"T+180 sec",40098.104467592428,null,null,null,null,null,null,null,null,null,null,null,null,104.4831834095507,-107.57540591874105,5.500030517578125E-2,-103]
[null,40098.104490740574,{"$f":"LOOKUP(B170,Data!$A$6:$A$1806,Data!B$6:B$1806)","v":59.948001861572266},{"$f":"LOOKUP(B170,Data!$A$6:$A$1806,Data!C$6:C$1806)","v":3748.6611328125},null,null,3090,{"$f":"(IF((C170-L$2)>0,(IF(C170<'Copy Results'!$C$3,((C170-L$2-L$5)/((L$4*L$2)-L$5)*G170*-1),(('Copy Results'!$C$3-L$2-L$5)/((L$4*L$2)-L$5)*G170*-1))),IF(C170>'Copy Results'!$C$2,((C170-L$2+L$5)/((L$4*L$2)-L$5)*G170*-1),(('Copy Results'!$C$2-L$2+L$5)/((L$4*L$2)-L$5)*G170*-1))))","v":53.558082580566413},56.769265533840503,null,null,0.61697247205071049,3796.1505897042775,{"$f":"AVERAGE(D$79:D170)","v":3784.6535246475883},{"$f":"AVERAGE(M$79:M170)","v":3812.3478986342407},3724.162740974491,{"$f":"AVERAGE(P$79:P170)","v":3696.398979732207},null,null,null,null,40098.104490740574,{"$f":"LOOKUP($V170,Data!$A$6:$A$1806,Data!$B$6:$B$1806)","v":59.948001861572266},{"$f":"LOOKUP($V170,Data!$A$6:$A$1806,Data!$C$6:$C$1806)","v":3748.6611328125},{"$f":"LOOKUP($V170,Data!$A$6:$A$1806,Data!$D$6:$D$1806)","v":335},{"$f":"IF($Z$1=\"+\",LOOKUP($V170,Data!$A$6:$A$1806,Data!$E$6:$E$1806)*-1,LOOKUP($V170,Data!$A$6:$A$1806,Data!$E$6:$E$1806))","v":229.23385620117187},{"$f":"LOOKUP($V170,Data!$A$6:$A$1806,Data!$F$6:$F$1806)","v":16},null,{"$f":"LOOKUP($V170,Data!$A$6:$A$1806,Data!$H$6:$H$1806)","v":10},{"$f":"LOOKUP($V170,Data!$A$6:$A$1806,Data!$I$6:$I$1806)","v":0},{"$f":"IF(LOOKUP($V170,Data!$A$6:$A$1806,Data!$J$6:$J$1806)>0,(LOOKUP($V170,Data!$A$6:$A$1806,Data!$J$6:$J$1806)*-1),LOOKUP($V170,Data!$A$6:$A$1806,Data!$J$6:$J$1806))","v":-103},{"$f":"LOOKUP($V170,Data!$A$6:$A$1806,Data!$K$6:$K$1806)","v":7671},53.558082580566413,null,null,null,null,null,null,null,null,null,null,null,null,null,null,103.5510545033007,-110.01631333429897,5.1998138427734375E-2,-103]
[null,40098.10451388872,{"$f":"LOOKUP(B171,Data!$A$6:$A$1806,Data!B$6:B$1806)","v":59.946998596191406},{"$f":"LOOKUP(B171,Data!$A$6:$A$1806,Data!C$6:C$1806)","v":3746.7060546875},null,null,3090,{"$f":"(IF((C171-L$2)>0,(IF(C171<'Copy Results'!$C$3,((C171-L$2-L$5)/((L$4*L$2)-L$5)*G171*-1),(('Copy Results'!$C$3-L$2-L$5)/((L$4*L$2)-L$5)*G171*-1))),IF(C171>'Copy Results'!$C$2,((C171-L$2+L$5)/((L$4*L$2)-L$5)*G171*-1),(('Copy Results'!$C$2-L$2+L$5)/((L$4*L$2)-L$5)*G171*-1))))","v":54.591445922851555},{"$f":"L$13*H171+(1-L$13)*I170","v":56.007028669994369},null,null,0.61697247205071049,3796.005325312482,{"$f":"AVERAGE(D$79:D171)","v":3784.2454873361894},{"$f":"AVERAGE(M$79:M171)","v":3812.172172039383},3724.7797134465418,{"$f":"AVERAGE(P$79:P171)","v":3696.7074659682326},null,null,null,null,40098.10451388872,{"$f":"LOOKUP($V171,Data!$A$6:$A$1806,Data!$B$6:$B$1806)","v":59.946998596191406},{"$f":"LOOKUP($V171,Data!$A$6:$A$1806,Data!$C$6:$C$1806)","v":3746.7060546875},{"$f":"LOOKUP($V171,Data!$A$6:$A$1806,Data!$D$6:$D$1806)","v":335},{"$f":"IF($Z$1=\"+\",LOOKUP($V171,Data!$A$6:$A$1806,Data!$E$6:$E$1806)*-1,LOOKUP($V171,Data!$A$6:$A$1806,Data!$E$6:$E$1806))","v":229.23385620117187},{"$f":"LOOKUP($V171,Data!$A$6:$A$1806,Data!$F$6:$F$1806)","v":16},null,{"$f":"LOOKUP($V171,Data!$A$6:$A$1806,Data!$H$6:$H$1806)","v":10},{"$f":"LOOKUP($V171,Data!$A$6:$A$1806,Data!$I$6:$I$1806)","v":0},{"$f":"IF(LOOKUP($V171,Data!$A$6:$A$1806,Data!$J$6:$J$1806)>0,(LOOKUP($V171,Data!$A$6:$A$1806,Data!$J$6:$J$1806)*-1),LOOKUP($V171,Data!$A$6:$A$1806,Data!$J$6:$J$1806))","v":-103},{"$f":"LOOKUP($V171,Data!$A$6:$A$1806,Data!$K$6:$K$1806)","v":7672},54.591445922851555,null,null,null,null,null,null,null,null,null,null,null,null,null,null,101.5959763783007,-106.80077448242115,5.300140380859375E-2,-103]
[null,40098.104537036867,{"$f":"LOOKUP(B172,Data!$A$6:$A$1806,Data!B$6:B$1806)","v":59.949001312255859},{"$f":"LOOKUP(B172,Data!$A$6:$A$1806,Data!C$6:C$1806)","v":3749.076904296875},null,null,{"$f":"AE172*-M$4*10","v":3090},{"$f":"(IF((C172-L$2)>0,(IF(C172<'Copy Results'!$C$3,((C172-L$2-L$5)/((L$4*L$2)-L$5)*G172*-1),(('Copy Results'!$C$3-L$2-L$5)/((L$4*L$2)-L$5)*G172*-1))),IF(C172>'Copy Results'!$C$2,((C172-L$2+L$5)/((L$4*L$2)-L$5)*G172*-1),(('Copy Results'!$C$2-L$2+L$5)/((L$4*L$2)-L$5)*G172*-1))))","v":52.528648376464837},54.789595567259028,null,null,0.61697247205071049,3795.4048646817973,{"$f":"AVERAGE(D$79:D172)","v":3783.8713534740691},{"$f":"AVERAGE(M$79:M172)","v":3811.9937964291958},3725.3966859185925,{"$f":"AVERAGE(P$79:P172)","v":3697.0159522042582},null,null,null,null,40098.104537036867,{"$f":"LOOKUP($V172,Data!$A$6:$A$1806,Data!$B$6:$B$1806)","v":59.949001312255859},{"$f":"LOOKUP($V172,Data!$A$6:$A$1806,Data!$C$6:$C$1806)","v":3749.076904296875},{"$f":"LOOKUP($V172,Data!$A$6:$A$1806,Data!$D$6:$D$1806)","v":335},{"$f":"IF($Z$1=\"+\",LOOKUP($V172,Data!$A$6:$A$1806,Data!$E$6:$E$1806)*-1,LOOKUP($V172,Data!$A$6:$A$1806,Data!$E$6:$E$1806))","v":229.23385620117187},{"$f":"LOOKUP($V172,Data!$A$6:$A$1806,Data!$F$6:$F$1806)","v":16},null,{"$f":"LOOKUP($V172,Data!$A$6:$A$1806,Data!$H$6:$H$1806)","v":10},{"$f":"LOOKUP($V172,Data!$A$6:$A$1806,Data!$I$6:$I$1806)","v":0},{"$f":"IF(LOOKUP($V172,Data!$A$6:$A$1806,Data!$J$6:$J$1806)>0,(LOOKUP($V172,Data!$A$6:$A$1806,Data!$J$6:$J$1806)*-1),LOOKUP($V172,Data!$A$6:$A$1806,Data!$J$6:$J$1806))","v":-103},{"$f":"LOOKUP($V172,Data!$A$6:$A$1806,Data!$K$6:$K$1806)","v":7673},{"$f":"(IF((W172-$L$2)>0,((W172-$L$2-$L$5)/(($L$4*$L$2)-$L$5)*G172*-1),((W172-$L$2+$L$5)/(($L$4*$L$2)-$L$5)*G172*-1)))","v":52.528648376464837},null,null,null,null,null,null,null,null,null,null,null,null,null,null,103.9668259876757,-111.64353263202135,{"$f":"ABS(C172-60)","v":5.0998687744140625E-2},{"$f":"IF(AX172>0.036,AE172,\" \")","v":-103}]
[null,40098.104560185013,{"$f":"LOOKUP(B173,Data!$A$6:$A$1806,Data!B$6:B$1806)","v":59.951000213623047},{"$f":"LOOKUP(B173,Data!$A$6:$A$1806,Data!C$6:C$1806)","v":3742.741455078125},null,null,3090,{"$f":"(IF((C173-L$2)>0,(IF(C173<'Copy Results'!$C$3,((C173-L$2-L$5)/((L$4*L$2)-L$5)*G173*-1),(('Copy Results'!$C$3-L$2-L$5)/((L$4*L$2)-L$5)*G173*-1))),IF(C173>'Copy Results'!$C$2,((C173-L$2+L$5)/((L$4*L$2)-L$5)*G173*-1),(('Copy Results'!$C$2-L$2+L$5)/((L$4*L$2)-L$5)*G173*-1))))","v":50.469779968261726},53.277660107609968,null,null,0.61697247205071049,3794.509901694199,{"$f":"AVERAGE(D$79:D173)","v":3783.4384071751647},{"$f":"AVERAGE(M$79:M173)","v":3811.8097554319852},3726.0136583906433,{"$f":"AVERAGE(P$79:P173)","v":3697.3244384402842},null,null,null,null,40098.104560185013,{"$f":"LOOKUP($V173,Data!$A$6:$A$1806,Data!$B$6:$B$1806)","v":59.951000213623047},{"$f":"LOOKUP($V173,Data!$A$6:$A$1806,Data!$C$6:$C$1806)","v":3742.741455078125},{"$f":"LOOKUP($V173,Data!$A$6:$A$1806,Data!$D$6:$D$1806)","v":335},{"$f":"IF($Z$1=\"+\",LOOKUP($V173,Data!$A$6:$A$1806,Data!$E$6:$E$1806)*-1,LOOKUP($V173,Data!$A$6:$A$1806,Data!$E$6:$E$1806))","v":229.23385620117187},{"$f":"LOOKUP($V173,Data!$A$6:$A$1806,Data!$F$6:$F$1806)","v":16},null,{"$f":"LOOKUP($V173,Data!$A$6:$A$1806,Data!$H$6:$H$1806)","v":10},{"$f":"LOOKUP($V173,Data!$A$6:$A$1806,Data!$I$6:$I$1806)","v":0},{"$f":"IF(LOOKUP($V173,Data!$A$6:$A$1806,Data!$J$6:$J$1806)>0,(LOOKUP($V173,Data!$A$6:$A$1806,Data!$J$6:$J$1806)*-1),LOOKUP($V173,Data!$A$6:$A$1806,Data!$J$6:$J$1806))","v":-103},{"$f":"LOOKUP($V173,Data!$A$6:$A$1806,Data!$K$6:$K$1806)","v":7673},50.469779968261726,null,null,null,null,null,null,null,null,null,null,null,null,null,null,97.631376768925705,-107.1400433555235,4.8999786376953125E-2,-103]
[null,{"$f":"B173+TIME(0,0,$B$1)","v":40098.104583333159},{"$f":"LOOKUP(B174,Data!$A$6:$A$1806,Data!B$6:B$1806)","v":59.951999664306641},{"$f":"LOOKUP(B174,Data!$A$6:$A$1806,Data!C$6:C$1806)","v":3740.259033203125},null,null,3090,{"$f":"(IF((C174-L$2)>0,(IF(C174<'Copy Results'!$C$3,((C174-L$2-L$5)/((L$4*L$2)-L$5)*G174*-1),(('Copy Results'!$C$3-L$2-L$5)/((L$4*L$2)-L$5)*G174*-1))),IF(C174>'Copy Results'!$C$2,((C174-L$2+L$5)/((L$4*L$2)-L$5)*G174*-1),(('Copy Results'!$C$2-L$2+L$5)/((L$4*L$2)-L$5)*G174*-1))))","v":49.440345764160149},51.934600087402529,null,null,0.61697247205071049,3793.7838141460425,{"$f":"AVERAGE(D$79:D174)","v":3782.9886220296225},{"$f":"AVERAGE(M$79:M174)","v":3811.6219852102568},3726.630630862694,{"$f":"AVERAGE(P$79:P174)","v":3697.6329246763089},null,null,null,null,40098.104583333159,{"$f":"LOOKUP($V174,Data!$A$6:$A$1806,Data!$B$6:$B$1806)","v":59.951999664306641},{"$f":"LOOKUP($V174,Data!$A$6:$A$1806,Data!$C$6:$C$1806)","v":3740.259033203125},{"$f":"LOOKUP($V174,Data!$A$6:$A$1806,Data!$D$6:$D$1806)","v":350},{"$f":"IF($Z$1=\"+\",LOOKUP($V174,Data!$A$6:$A$1806,Data!$E$6:$E$1806)*-1,LOOKUP($V174,Data!$A$6:$A$1806,Data!$E$6:$E$1806))","v":229.23385620117187},{"$f":"LOOKUP($V174,Data!$A$6:$A$1806,Data!$F$6:$F$1806)","v":16},null,{"$f":"LOOKUP($V174,Data!$A$6:$A$1806,Data!$H$6:$H$1806)","v":10},{"$f":"LOOKUP($V174,Data!$A$6:$A$1806,Data!$I$6:$I$1806)","v":0},{"$f":"IF(LOOKUP($V174,Data!$A$6:$A$1806,Data!$J$6:$J$1806)>0,(LOOKUP($V174,Data!$A$6:$A$1806,Data!$J$6:$J$1806)*-1),LOOKUP($V174,Data!$A$6:$A$1806,Data!$J$6:$J$1806))","v":-103},{"$f":"LOOKUP($V174,Data!$A$6:$A$1806,Data!$K$6:$K$1806)","v":7673},49.440345764160149,null,null,null,null,null,null,null,null,null,null,null,null,null,null,95.148954893925705,-105.57377295745982,4.8000335693359375E-2,-103]
[null,40098.104606481305,{"$f":"LOOKUP(B175,Data!$A$6:$A$1806,Data!B$6:B$1806)","v":59.952999114990234},{"$f":"LOOKUP(B175,Data!$A$6:$A$1806,Data!C$6:C$1806)","v":3736.13916015625},null,null,3090,{"$f":"(IF((C175-L$2)>0,(IF(C175<'Copy Results'!$C$3,((C175-L$2-L$5)/((L$4*L$2)-L$5)*G175*-1),(('Copy Results'!$C$3-L$2-L$5)/((L$4*L$2)-L$5)*G175*-1))),IF(C175>'Copy Results'!$C$2,((C175-L$2+L$5)/((L$4*L$2)-L$5)*G175*-1),(('Copy Results'!$C$2-L$2+L$5)/((L$4*L$2)-L$5)*G175*-1))))","v":48.410911560058594},50.701309102832155,null,null,0.61697247205071049,3793.1674956335228,{"$f":"AVERAGE(D$79:D175)","v":3782.5056378865979},{"$f":"AVERAGE(M$79:M175)","v":3811.4317327403937},3727.2476033347448,{"$f":"AVERAGE(P$79:P175)","v":3697.941410912334},null,null,null,null,40098.104606481305,{"$f":"LOOKUP($V175,Data!$A$6:$A$1806,Data!$B$6:$B$1806)","v":59.952999114990234},{"$f":"LOOKUP($V175,Data!$A$6:$A$1806,Data!$C$6:$C$1806)","v":3736.13916015625},{"$f":"LOOKUP($V175,Data!$A$6:$A$1806,Data!$D$6:$D$1806)","v":350},{"$f":"IF($Z$1=\"+\",LOOKUP($V175,Data!$A$6:$A$1806,Data!$E$6:$E$1806)*-1,LOOKUP($V175,Data!$A$6:$A$1806,Data!$E$6:$E$1806))","v":231.40988159179687},{"$f":"LOOKUP($V175,Data!$A$6:$A$1806,Data!$F$6:$F$1806)","v":16},null,{"$f":"LOOKUP($V175,Data!$A$6:$A$1806,Data!$H$6:$H$1806)","v":10},{"$f":"LOOKUP($V175,Data!$A$6:$A$1806,Data!$I$6:$I$1806)","v":0},{"$f":"IF(LOOKUP($V175,Data!$A$6:$A$1806,Data!$J$6:$J$1806)>0,(LOOKUP($V175,Data!$A$6:$A$1806,Data!$J$6:$J$1806)*-1),LOOKUP($V175,Data!$A$6:$A$1806,Data!$J$6:$J$1806))","v":-103},{"$f":"LOOKUP($V175,Data!$A$6:$A$1806,Data!$K$6:$K$1806)","v":7673},48.410911560058594,null,null,null,null,null,null,null,null,null,null,null,null,null,null,91.029081847050705,-102.13514509777706,4.7000885009765625E-2,-103]
[null,40098.104629629452,{"$f":"LOOKUP(B176,Data!$A$6:$A$1806,Data!B$6:B$1806)","v":59.951000213623047},{"$f":"LOOKUP(B176,Data!$A$6:$A$1806,Data!C$6:C$1806)","v":3731.382080078125},null,null,3090,{"$f":"(IF((C176-L$2)>0,(IF(C176<'Copy Results'!$C$3,((C176-L$2-L$5)/((L$4*L$2)-L$5)*G176*-1),(('Copy Results'!$C$3-L$2-L$5)/((L$4*L$2)-L$5)*G176*-1))),IF(C176>'Copy Results'!$C$2,((C176-L$2+L$5)/((L$4*L$2)-L$5)*G176*-1),(('Copy Results'!$C$2-L$2+L$5)/((L$4*L$2)-L$5)*G176*-1))))","v":50.469779968261726},50.620273905732503,null,null,0.61697247205071049,3793.703432908474,{"$f":"AVERAGE(D$79:D176)","v":3781.9839689293685},{"$f":"AVERAGE(M$79:M176)","v":3811.2508317217003},3727.8645758067955,{"$f":"AVERAGE(P$79:P176)","v":3698.2498971483592},null,null,null,null,40098.104629629452,{"$f":"LOOKUP($V176,Data!$A$6:$A$1806,Data!$B$6:$B$1806)","v":59.951000213623047},{"$f":"LOOKUP($V176,Data!$A$6:$A$1806,Data!$C$6:$C$1806)","v":3731.382080078125},{"$f":"LOOKUP($V176,Data!$A$6:$A$1806,Data!$D$6:$D$1806)","v":350},{"$f":"IF($Z$1=\"+\",LOOKUP($V176,Data!$A$6:$A$1806,Data!$E$6:$E$1806)*-1,LOOKUP($V176,Data!$A$6:$A$1806,Data!$E$6:$E$1806))","v":231.40988159179687},{"$f":"LOOKUP($V176,Data!$A$6:$A$1806,Data!$F$6:$F$1806)","v":16},null,{"$f":"LOOKUP($V176,Data!$A$6:$A$1806,Data!$H$6:$H$1806)","v":10},{"$f":"LOOKUP($V176,Data!$A$6:$A$1806,Data!$I$6:$I$1806)","v":0},{"$f":"IF(LOOKUP($V176,Data!$A$6:$A$1806,Data!$J$6:$J$1806)>0,(LOOKUP($V176,Data!$A$6:$A$1806,Data!$J$6:$J$1806)*-1),LOOKUP($V176,Data!$A$6:$A$1806,Data!$J$6:$J$1806))","v":-103},{"$f":"LOOKUP($V176,Data!$A$6:$A$1806,Data!$K$6:$K$1806)","v":7673},50.469779968261726,null,null,null,null,null,null,null,null,null,null,null,null,null,null,86.272001768925705,-94.674338473862832,4.8999786376953125E-2,-103]
[null,40098.104652777598,{"$f":"LOOKUP(B177,Data!$A$6:$A$1806,Data!B$6:B$1806)","v":59.951999664306641},{"$f":"LOOKUP(B177,Data!$A$6:$A$1806,Data!C$6:C$1806)","v":3727.83837890625},null,null,3090,{"$f":"(IF((C177-L$2)>0,(IF(C177<'Copy Results'!$C$3,((C177-L$2-L$5)/((L$4*L$2)-L$5)*G177*-1),(('Copy Results'!$C$3-L$2-L$5)/((L$4*L$2)-L$5)*G177*-1))),IF(C177>'Copy Results'!$C$2,((C177-L$2+L$5)/((L$4*L$2)-L$5)*G177*-1),(('Copy Results'!$C$2-L$2+L$5)/((L$4*L$2)-L$5)*G177*-1))))","v":49.440345764160149},50.20729905618218,null,null,0.61697247205071049,3793.9074305309746,{"$f":"AVERAGE(D$79:D177)","v":3781.4370437776201},{"$f":"AVERAGE(M$79:M177)","v":3811.0756458510873},3728.4815482788463,{"$f":"AVERAGE(P$79:P177)","v":3698.5583833843843},null,null,null,null,40098.104652777598,{"$f":"LOOKUP($V177,Data!$A$6:$A$1806,Data!$B$6:$B$1806)","v":59.951999664306641},{"$f":"LOOKUP($V177,Data!$A$6:$A$1806,Data!$C$6:$C$1806)","v":3727.83837890625},{"$f":"LOOKUP($V177,Data!$A$6:$A$1806,Data!$D$6:$D$1806)","v":350},{"$f":"IF($Z$1=\"+\",LOOKUP($V177,Data!$A$6:$A$1806,Data!$E$6:$E$1806)*-1,LOOKUP($V177,Data!$A$6:$A$1806,Data!$E$6:$E$1806))","v":231.40988159179687},{"$f":"LOOKUP($V177,Data!$A$6:$A$1806,Data!$F$6:$F$1806)","v":16},null,{"$f":"LOOKUP($V177,Data!$A$6:$A$1806,Data!$H$6:$H$1806)","v":10},{"$f":"LOOKUP($V177,Data!$A$6:$A$1806,Data!$I$6:$I$1806)","v":0},{"$f":"IF(LOOKUP($V177,Data!$A$6:$A$1806,Data!$J$6:$J$1806)>0,(LOOKUP($V177,Data!$A$6:$A$1806,Data!$J$6:$J$1806)*-1),LOOKUP($V177,Data!$A$6:$A$1806,Data!$J$6:$J$1806))","v":-103},{"$f":"LOOKUP($V177,Data!$A$6:$A$1806,Data!$K$6:$K$1806)","v":7673},49.440345764160149,null,null,null,null,null,null,null,null,null,null,null,null,null,null,82.728300597050705,-91.792272801380946,4.8000335693359375E-2,-103]
[null,40098.104675925744,{"$f":"LOOKUP(B178,Data!$A$6:$A$1806,Data!B$6:B$1806)","v":59.951999664306641},{"$f":"LOOKUP(B178,Data!$A$6:$A$1806,Data!C$6:C$1806)","v":3725.95166015625},null,null,3090,{"$f":"(IF((C178-L$2)>0,(IF(C178<'Copy Results'!$C$3,((C178-L$2-L$5)/((L$4*L$2)-L$5)*G178*-1),(('Copy Results'!$C$3-L$2-L$5)/((L$4*L$2)-L$5)*G178*-1))),IF(C178>'Copy Results'!$C$2,((C178-L$2+L$5)/((L$4*L$2)-L$5)*G178*-1),(('Copy Results'!$C$2-L$2+L$5)/((L$4*L$2)-L$5)*G178*-1))))","v":49.440345764160149},49.938865403974475,null,null,0.61697247205071049,3794.2559693508174,{"$f":"AVERAGE(D$79:D178)","v":3780.8821899414061},{"$f":"AVERAGE(M$79:M178)","v":3810.9074490860844},3729.098520750897,{"$f":"AVERAGE(P$79:P178)","v":3698.8668696204095},null,null,null,null,40098.104675925744,{"$f":"LOOKUP($V178,Data!$A$6:$A$1806,Data!$B$6:$B$1806)","v":59.951999664306641},{"$f":"LOOKUP($V178,Data!$A$6:$A$1806,Data!$C$6:$C$1806)","v":3725.95166015625},{"$f":"LOOKUP($V178,Data!$A$6:$A$1806,Data!$D$6:$D$1806)","v":350},{"$f":"IF($Z$1=\"+\",LOOKUP($V178,Data!$A$6:$A$1806,Data!$E$6:$E$1806)*-1,LOOKUP($V178,Data!$A$6:$A$1806,Data!$E$6:$E$1806))","v":231.40988159179687},{"$f":"LOOKUP($V178,Data!$A$6:$A$1806,Data!$F$6:$F$1806)","v":16},null,{"$f":"LOOKUP($V178,Data!$A$6:$A$1806,Data!$H$6:$H$1806)","v":10},{"$f":"LOOKUP($V178,Data!$A$6:$A$1806,Data!$I$6:$I$1806)","v":0},{"$f":"IF(LOOKUP($V178,Data!$A$6:$A$1806,Data!$J$6:$J$1806)>0,(LOOKUP($V178,Data!$A$6:$A$1806,Data!$J$6:$J$1806)*-1),LOOKUP($V178,Data!$A$6:$A$1806,Data!$J$6:$J$1806))","v":-103},{"$f":"LOOKUP($V178,Data!$A$6:$A$1806,Data!$K$6:$K$1806)","v":7673},49.440345764160149,null,null,null,null,null,null,null,null,null,null,null,null,null,null,80.841581847050705,-89.698839224846736,4.8000335693359375E-2,-103]
[null,40098.104699073891,{"$f":"LOOKUP(B179,Data!$A$6:$A$1806,Data!B$6:B$1806)","v":59.951999664306641},{"$f":"LOOKUP(B179,Data!$A$6:$A$1806,Data!C$6:C$1806)","v":3722.64892578125},null,null,3090,{"$f":"(IF((C179-L$2)>0,(IF(C179<'Copy Results'!$C$3,((C179-L$2-L$5)/((L$4*L$2)-L$5)*G179*-1),(('Copy Results'!$C$3-L$2-L$5)/((L$4*L$2)-L$5)*G179*-1))),IF(C179>'Copy Results'!$C$2,((C179-L$2+L$5)/((L$4*L$2)-L$5)*G179*-1),(('Copy Results'!$C$2-L$2+L$5)/((L$4*L$2)-L$5)*G179*-1))))","v":49.440345764160149},49.764383530039467,null,null,0.61697247205071049,3794.6984599489333,{"$f":"AVERAGE(D$79:D179)","v":3780.3056229695235},{"$f":"AVERAGE(M$79:M179)","v":3810.7469640451227},3729.7154932229478,{"$f":"AVERAGE(P$79:P179)","v":3699.1753558564351},null,null,null,null,40098.104699073891,{"$f":"LOOKUP($V179,Data!$A$6:$A$1806,Data!$B$6:$B$1806)","v":59.951999664306641},{"$f":"LOOKUP($V179,Data!$A$6:$A$1806,Data!$C$6:$C$1806)","v":3722.64892578125},{"$f":"LOOKUP($V179,Data!$A$6:$A$1806,Data!$D$6:$D$1806)","v":350},{"$f":"IF($Z$1=\"+\",LOOKUP($V179,Data!$A$6:$A$1806,Data!$E$6:$E$1806)*-1,LOOKUP($V179,Data!$A$6:$A$1806,Data!$E$6:$E$1806))","v":231.40988159179687},{"$f":"LOOKUP($V179,Data!$A$6:$A$1806,Data!$F$6:$F$1806)","v":16},null,{"$f":"LOOKUP($V179,Data!$A$6:$A$1806,Data!$H$6:$H$1806)","v":10},{"$f":"LOOKUP($V179,Data!$A$6:$A$1806,Data!$I$6:$I$1806)","v":0},{"$f":"IF(LOOKUP($V179,Data!$A$6:$A$1806,Data!$J$6:$J$1806)>0,(LOOKUP($V179,Data!$A$6:$A$1806,Data!$J$6:$J$1806)*-1),LOOKUP($V179,Data!$A$6:$A$1806,Data!$J$6:$J$1806))","v":-103},{"$f":"LOOKUP($V179,Data!$A$6:$A$1806,Data!$K$6:$K$1806)","v":7673},49.440345764160149,null,null,null,null,null,null,null,null,null,null,null,null,null,null,77.538847472050705,-86.034246908160057,4.8000335693359375E-2,-103]
[null,40098.104722222037,{"$f":"LOOKUP(B180,Data!$A$6:$A$1806,Data!B$6:B$1806)","v":59.955001831054688},{"$f":"LOOKUP(B180,Data!$A$6:$A$1806,Data!C$6:C$1806)","v":3720.578125},null,null,3090,{"$f":"(IF((C180-L$2)>0,(IF(C180<'Copy Results'!$C$3,((C180-L$2-L$5)/((L$4*L$2)-L$5)*G180*-1),(('Copy Results'!$C$3-L$2-L$5)/((L$4*L$2)-L$5)*G180*-1))),IF(C180>'Copy Results'!$C$2,((C180-L$2+L$5)/((L$4*L$2)-L$5)*G180*-1),(('Copy Results'!$C$2-L$2+L$5)/((L$4*L$2)-L$5)*G180*-1))))","v":46.348114013671875},48.568689199310811,null,null,0.61697247205071049,3794.1197380902554,{"$f":"AVERAGE(D$79:D180)","v":3779.7200592639401},{"$f":"AVERAGE(M$79:M180)","v":3810.5839520259574},3730.3324656949985,{"$f":"AVERAGE(P$79:P180)","v":3699.4838420924602},null,null,null,null,40098.104722222037,{"$f":"LOOKUP($V180,Data!$A$6:$A$1806,Data!$B$6:$B$1806)","v":59.955001831054688},{"$f":"LOOKUP($V180,Data!$A$6:$A$1806,Data!$C$6:$C$1806)","v":3720.578125},{"$f":"LOOKUP($V180,Data!$A$6:$A$1806,Data!$D$6:$D$1806)","v":350},{"$f":"IF($Z$1=\"+\",LOOKUP($V180,Data!$A$6:$A$1806,Data!$E$6:$E$1806)*-1,LOOKUP($V180,Data!$A$6:$A$1806,Data!$E$6:$E$1806))","v":218.62228393554687},{"$f":"LOOKUP($V180,Data!$A$6:$A$1806,Data!$F$6:$F$1806)","v":16},null,{"$f":"LOOKUP($V180,Data!$A$6:$A$1806,Data!$H$6:$H$1806)","v":10},{"$f":"LOOKUP($V180,Data!$A$6:$A$1806,Data!$I$6:$I$1806)","v":0},{"$f":"IF(LOOKUP($V180,Data!$A$6:$A$1806,Data!$J$6:$J$1806)>0,(LOOKUP($V180,Data!$A$6:$A$1806,Data!$J$6:$J$1806)*-1),LOOKUP($V180,Data!$A$6:$A$1806,Data!$J$6:$J$1806))","v":-103},{"$f":"LOOKUP($V180,Data!$A$6:$A$1806,Data!$K$6:$K$1806)","v":7673},46.348114013671875,null,null,null,null,null,null,null,null,null,null,null,null,null,null,75.468046690800705,-86.622023333956946,4.49981689453125E-2,-103]
[null,40098.104745370183,{"$f":"LOOKUP(B181,Data!$A$6:$A$1806,Data!B$6:B$1806)","v":59.951999664306641},{"$f":"LOOKUP(B181,Data!$A$6:$A$1806,Data!C$6:C$1806)","v":3717.99609375},null,null,3090,{"$f":"(IF((C181-L$2)>0,(IF(C181<'Copy Results'!$C$3,((C181-L$2-L$5)/((L$4*L$2)-L$5)*G181*-1),(('Copy Results'!$C$3-L$2-L$5)/((L$4*L$2)-L$5)*G181*-1))),IF(C181>'Copy Results'!$C$2,((C181-L$2+L$5)/((L$4*L$2)-L$5)*G181*-1),(('Copy Results'!$C$2-L$2+L$5)/((L$4*L$2)-L$5)*G181*-1))))","v":49.440345764160149},48.873768997008078,null,null,0.61697247205071049,3795.0417903600032,{"$f":"AVERAGE(D$79:D181)","v":3779.1207974628337},{"$f":"AVERAGE(M$79:M181)","v":3810.4330572525014},3730.9494381670493,{"$f":"AVERAGE(P$79:P181)","v":3699.7923283284854},null,null,null,null,40098.104745370183,{"$f":"LOOKUP($V181,Data!$A$6:$A$1806,Data!$B$6:$B$1806)","v":59.951999664306641},{"$f":"LOOKUP($V181,Data!$A$6:$A$1806,Data!$C$6:$C$1806)","v":3717.99609375},{"$f":"LOOKUP($V181,Data!$A$6:$A$1806,Data!$D$6:$D$1806)","v":350},{"$f":"IF($Z$1=\"+\",LOOKUP($V181,Data!$A$6:$A$1806,Data!$E$6:$E$1806)*-1,LOOKUP($V181,Data!$A$6:$A$1806,Data!$E$6:$E$1806))","v":218.62228393554687},{"$f":"LOOKUP($V181,Data!$A$6:$A$1806,Data!$F$6:$F$1806)","v":16},null,{"$f":"LOOKUP($V181,Data!$A$6:$A$1806,Data!$H$6:$H$1806)","v":10},{"$f":"LOOKUP($V181,Data!$A$6:$A$1806,Data!$I$6:$I$1806)","v":0},{"$f":"IF(LOOKUP($V181,Data!$A$6:$A$1806,Data!$J$6:$J$1806)>0,(LOOKUP($V181,Data!$A$6:$A$1806,Data!$J$6:$J$1806)*-1),LOOKUP($V181,Data!$A$6:$A$1806,Data!$J$6:$J$1806))","v":-103},{"$f":"LOOKUP($V181,Data!$A$6:$A$1806,Data!$K$6:$K$1806)","v":7673},49.440345764160149,null,null,null,null,null,null,null,null,null,null,null,null,null,null,72.886015440800705,-80.871635999569364,4.8000335693359375E-2,-103]
[null,40098.104768518329,{"$f":"LOOKUP(B182,Data!$A$6:$A$1806,Data!B$6:B$1806)","v":59.953998565673828},{"$f":"LOOKUP(B182,Data!$A$6:$A$1806,Data!C$6:C$1806)","v":3718.141845703125},null,null,3090,{"$f":"(IF((C182-L$2)>0,(IF(C182<'Copy Results'!$C$3,((C182-L$2-L$5)/((L$4*L$2)-L$5)*G182*-1),(('Copy Results'!$C$3-L$2-L$5)/((L$4*L$2)-L$5)*G182*-1))),IF(C182>'Copy Results'!$C$2,((C182-L$2+L$5)/((L$4*L$2)-L$5)*G182*-1),(('Copy Results'!$C$2-L$2+L$5)/((L$4*L$2)-L$5)*G182*-1))))","v":47.381477355957031},48.351466922640213,null,null,0.61697247205071049,3795.1364607576861,{"$f":"AVERAGE(D$79:D182)","v":3778.5344613882212},{"$f":"AVERAGE(M$79:M182)","v":3810.2859745938977},3731.5664106391,{"$f":"AVERAGE(P$79:P182)","v":3700.1008145645105},null,null,null,null,40098.104768518329,{"$f":"LOOKUP($V182,Data!$A$6:$A$1806,Data!$B$6:$B$1806)","v":59.953998565673828},{"$f":"LOOKUP($V182,Data!$A$6:$A$1806,Data!$C$6:$C$1806)","v":3718.141845703125},{"$f":"LOOKUP($V182,Data!$A$6:$A$1806,Data!$D$6:$D$1806)","v":350},{"$f":"IF($Z$1=\"+\",LOOKUP($V182,Data!$A$6:$A$1806,Data!$E$6:$E$1806)*-1,LOOKUP($V182,Data!$A$6:$A$1806,Data!$E$6:$E$1806))","v":218.62228393554687},{"$f":"LOOKUP($V182,Data!$A$6:$A$1806,Data!$F$6:$F$1806)","v":16},null,{"$f":"LOOKUP($V182,Data!$A$6:$A$1806,Data!$H$6:$H$1806)","v":10},{"$f":"LOOKUP($V182,Data!$A$6:$A$1806,Data!$I$6:$I$1806)","v":0},{"$f":"IF(LOOKUP($V182,Data!$A$6:$A$1806,Data!$J$6:$J$1806)>0,(LOOKUP($V182,Data!$A$6:$A$1806,Data!$J$6:$J$1806)*-1),LOOKUP($V182,Data!$A$6:$A$1806,Data!$J$6:$J$1806))","v":-103},{"$f":"LOOKUP($V182,Data!$A$6:$A$1806,Data!$K$6:$K$1806)","v":7673},47.381477355957031,null,null,null,null,null,null,null,null,null,null,null,null,null,null,73.031767393925705,-82.871367071777769,4.6001434326171875E-2,-103]
[null,40098.104791666476,{"$f":"LOOKUP(B183,Data!$A$6:$A$1806,Data!B$6:B$1806)","v":59.951999664306641},{"$f":"LOOKUP(B183,Data!$A$6:$A$1806,Data!C$6:C$1806)","v":3715.752685546875},null,null,3090,{"$f":"(IF((C183-L$2)>0,(IF(C183<'Copy Results'!$C$3,((C183-L$2-L$5)/((L$4*L$2)-L$5)*G183*-1),(('Copy Results'!$C$3-L$2-L$5)/((L$4*L$2)-L$5)*G183*-1))),IF(C183>'Copy Results'!$C$2,((C183-L$2+L$5)/((L$4*L$2)-L$5)*G183*-1),(('Copy Results'!$C$2-L$2+L$5)/((L$4*L$2)-L$5)*G183*-1))))","v":49.440345764160149},48.732574517172196,null,null,0.61697247205071049,3796.1345408242687,{"$f":"AVERAGE(D$79:D183)","v":3777.9365397135416},{"$f":"AVERAGE(M$79:M183)","v":3810.1511990341869},3732.1833831111508,{"$f":"AVERAGE(P$79:P183)","v":3700.4093008005361},null,null,null,null,40098.104791666476,{"$f":"LOOKUP($V183,Data!$A$6:$A$1806,Data!$B$6:$B$1806)","v":59.951999664306641},{"$f":"LOOKUP($V183,Data!$A$6:$A$1806,Data!$C$6:$C$1806)","v":3715.752685546875},{"$f":"LOOKUP($V183,Data!$A$6:$A$1806,Data!$D$6:$D$1806)","v":350},{"$f":"IF($Z$1=\"+\",LOOKUP($V183,Data!$A$6:$A$1806,Data!$E$6:$E$1806)*-1,LOOKUP($V183,Data!$A$6:$A$1806,Data!$E$6:$E$1806))","v":218.62228393554687},{"$f":"LOOKUP($V183,Data!$A$6:$A$1806,Data!$F$6:$F$1806)","v":16},null,{"$f":"LOOKUP($V183,Data!$A$6:$A$1806,Data!$H$6:$H$1806)","v":10},{"$f":"LOOKUP($V183,Data!$A$6:$A$1806,Data!$I$6:$I$1806)","v":0},{"$f":"IF(LOOKUP($V183,Data!$A$6:$A$1806,Data!$J$6:$J$1806)>0,(LOOKUP($V183,Data!$A$6:$A$1806,Data!$J$6:$J$1806)*-1),LOOKUP($V183,Data!$A$6:$A$1806,Data!$J$6:$J$1806))","v":-103},{"$f":"LOOKUP($V183,Data!$A$6:$A$1806,Data!$K$6:$K$1806)","v":7673},49.440345764160149,null,null,null,null,null,null,null,null,null,null,null,null,null,null,70.642607237675705,-78.382432954179521,4.8000335693359375E-2,-103]
[null,40098.104814814622,{"$f":"LOOKUP(B184,Data!$A$6:$A$1806,Data!B$6:B$1806)","v":59.952999114990234},{"$f":"LOOKUP(B184,Data!$A$6:$A$1806,Data!C$6:C$1806)","v":3713.69384765625},null,null,3090,{"$f":"(IF((C184-L$2)>0,(IF(C184<'Copy Results'!$C$3,((C184-L$2-L$5)/((L$4*L$2)-L$5)*G184*-1),(('Copy Results'!$C$3-L$2-L$5)/((L$4*L$2)-L$5)*G184*-1))),IF(C184>'Copy Results'!$C$2,((C184-L$2+L$5)/((L$4*L$2)-L$5)*G184*-1),(('Copy Results'!$C$2-L$2+L$5)/((L$4*L$2)-L$5)*G184*-1))))","v":48.410911560058594},48.61999248218244,null,null,0.61697247205071049,3796.6389312613296,{"$f":"AVERAGE(D$79:D184)","v":3777.3304765809257},{"$f":"AVERAGE(M$79:M184)","v":3810.0237248099143},3732.8003555832015,{"$f":"AVERAGE(P$79:P184)","v":3700.7177870365613},null,null,null,null,40098.104814814622,{"$f":"LOOKUP($V184,Data!$A$6:$A$1806,Data!$B$6:$B$1806)","v":59.952999114990234},{"$f":"LOOKUP($V184,Data!$A$6:$A$1806,Data!$C$6:$C$1806)","v":3713.69384765625},{"$f":"LOOKUP($V184,Data!$A$6:$A$1806,Data!$D$6:$D$1806)","v":350},{"$f":"IF($Z$1=\"+\",LOOKUP($V184,Data!$A$6:$A$1806,Data!$E$6:$E$1806)*-1,LOOKUP($V184,Data!$A$6:$A$1806,Data!$E$6:$E$1806))","v":218.62228393554687},{"$f":"LOOKUP($V184,Data!$A$6:$A$1806,Data!$F$6:$F$1806)","v":16},null,{"$f":"LOOKUP($V184,Data!$A$6:$A$1806,Data!$H$6:$H$1806)","v":10},{"$f":"LOOKUP($V184,Data!$A$6:$A$1806,Data!$I$6:$I$1806)","v":0},{"$f":"IF(LOOKUP($V184,Data!$A$6:$A$1806,Data!$J$6:$J$1806)>0,(LOOKUP($V184,Data!$A$6:$A$1806,Data!$J$6:$J$1806)*-1),LOOKUP($V184,Data!$A$6:$A$1806,Data!$J$6:$J$1806))","v":-103},{"$f":"LOOKUP($V184,Data!$A$6:$A$1806,Data!$K$6:$K$1806)","v":7673},48.410911560058594,null,null,null,null,null,null,null,null,null,null,null,null,null,null,68.583769347050705,-76.951377422252349,4.7000885009765625E-2,-103]
[null,40098.104837962768,{"$f":"LOOKUP(B185,Data!$A$6:$A$1806,Data!B$6:B$1806)","v":59.952999114990234},{"$f":"LOOKUP(B185,Data!$A$6:$A$1806,Data!C$6:C$1806)","v":3713.483642578125},null,null,3090,{"$f":"(IF((C185-L$2)>0,(IF(C185<'Copy Results'!$C$3,((C185-L$2-L$5)/((L$4*L$2)-L$5)*G185*-1),(('Copy Results'!$C$3-L$2-L$5)/((L$4*L$2)-L$5)*G185*-1))),IF(C185>'Copy Results'!$C$2,((C185-L$2+L$5)/((L$4*L$2)-L$5)*G185*-1),(('Copy Results'!$C$2-L$2+L$5)/((L$4*L$2)-L$5)*G185*-1))))","v":48.410911560058594},48.546814159439094,null,null,0.61697247205071049,3797.182725410637,{"$f":"AVERAGE(D$79:D185)","v":3776.7337771977218},{"$f":"AVERAGE(M$79:M185)","v":3809.9037154697339},3733.4173280552523,{"$f":"AVERAGE(P$79:P185)","v":3701.0262732725869},null,null,null,null,40098.104837962768,{"$f":"LOOKUP($V185,Data!$A$6:$A$1806,Data!$B$6:$B$1806)","v":59.952999114990234},{"$f":"LOOKUP($V185,Data!$A$6:$A$1806,Data!$C$6:$C$1806)","v":3713.483642578125},{"$f":"LOOKUP($V185,Data!$A$6:$A$1806,Data!$D$6:$D$1806)","v":350},{"$f":"IF($Z$1=\"+\",LOOKUP($V185,Data!$A$6:$A$1806,Data!$E$6:$E$1806)*-1,LOOKUP($V185,Data!$A$6:$A$1806,Data!$E$6:$E$1806))","v":213.53585815429687},{"$f":"LOOKUP($V185,Data!$A$6:$A$1806,Data!$F$6:$F$1806)","v":16},null,{"$f":"LOOKUP($V185,Data!$A$6:$A$1806,Data!$H$6:$H$1806)","v":10},{"$f":"LOOKUP($V185,Data!$A$6:$A$1806,Data!$I$6:$I$1806)","v":0},{"$f":"IF(LOOKUP($V185,Data!$A$6:$A$1806,Data!$J$6:$J$1806)>0,(LOOKUP($V185,Data!$A$6:$A$1806,Data!$J$6:$J$1806)*-1),LOOKUP($V185,Data!$A$6:$A$1806,Data!$J$6:$J$1806))","v":-103},{"$f":"LOOKUP($V185,Data!$A$6:$A$1806,Data!$K$6:$K$1806)","v":7673},48.410911560058594,null,null,null,null,null,null,null,null,null,null,null,null,null,null,68.373564268925705,-76.715526134741182,4.7000885009765625E-2,-103]
[null,40098.104861110914,{"$f":"LOOKUP(B186,Data!$A$6:$A$1806,Data!B$6:B$1806)","v":59.951999664306641},{"$f":"LOOKUP(B186,Data!$A$6:$A$1806,Data!C$6:C$1806)","v":3710.84814453125},null,null,3090,{"$f":"(IF((C186-L$2)>0,(IF(C186<'Copy Results'!$C$3,((C186-L$2-L$5)/((L$4*L$2)-L$5)*G186*-1),(('Copy Results'!$C$3-L$2-L$5)/((L$4*L$2)-L$5)*G186*-1))),IF(C186>'Copy Results'!$C$2,((C186-L$2+L$5)/((L$4*L$2)-L$5)*G186*-1),(('Copy Results'!$C$2-L$2+L$5)/((L$4*L$2)-L$5)*G186*-1))))","v":49.440345764160149},48.859550221091467,null,null,0.61697247205071049,3798.11243394434,{"$f":"AVERAGE(D$79:D186)","v":3776.1237250434028},{"$f":"AVERAGE(M$79:M186)","v":3809.7945369370918},3734.034300527303,{"$f":"AVERAGE(P$79:P186)","v":3701.334759508612},null,null,null,null,40098.104861110914,{"$f":"LOOKUP($V186,Data!$A$6:$A$1806,Data!$B$6:$B$1806)","v":59.951999664306641},{"$f":"LOOKUP($V186,Data!$A$6:$A$1806,Data!$C$6:$C$1806)","v":3710.84814453125},{"$f":"LOOKUP($V186,Data!$A$6:$A$1806,Data!$D$6:$D$1806)","v":350},{"$f":"IF($Z$1=\"+\",LOOKUP($V186,Data!$A$6:$A$1806,Data!$E$6:$E$1806)*-1,LOOKUP($V186,Data!$A$6:$A$1806,Data!$E$6:$E$1806))","v":213.53585815429687},{"$f":"LOOKUP($V186,Data!$A$6:$A$1806,Data!$F$6:$F$1806)","v":16},null,{"$f":"LOOKUP($V186,Data!$A$6:$A$1806,Data!$H$6:$H$1806)","v":10},{"$f":"LOOKUP($V186,Data!$A$6:$A$1806,Data!$I$6:$I$1806)","v":0},{"$f":"IF(LOOKUP($V186,Data!$A$6:$A$1806,Data!$J$6:$J$1806)>0,(LOOKUP($V186,Data!$A$6:$A$1806,Data!$J$6:$J$1806)*-1),LOOKUP($V186,Data!$A$6:$A$1806,Data!$J$6:$J$1806))","v":-103},{"$f":"LOOKUP($V186,Data!$A$6:$A$1806,Data!$K$6:$K$1806)","v":7673},49.440345764160149,null,null,null,null,null,null,null,null,null,null,null,null,null,null,65.738066222050705,-72.940535035054822,4.8000335693359375E-2,-103]
[null,40098.104884259061,{"$f":"LOOKUP(B187,Data!$A$6:$A$1806,Data!B$6:B$1806)","v":59.953998565673828},{"$f":"LOOKUP(B187,Data!$A$6:$A$1806,Data!C$6:C$1806)","v":3710.81005859375},null,null,3090,{"$f":"(IF((C187-L$2)>0,(IF(C187<'Copy Results'!$C$3,((C187-L$2-L$5)/((L$4*L$2)-L$5)*G187*-1),(('Copy Results'!$C$3-L$2-L$5)/((L$4*L$2)-L$5)*G187*-1))),IF(C187>'Copy Results'!$C$2,((C187-L$2+L$5)/((L$4*L$2)-L$5)*G187*-1),(('Copy Results'!$C$2-L$2+L$5)/((L$4*L$2)-L$5)*G187*-1))))","v":47.381477355957031},48.342224718294418,null,null,0.61697247205071049,3798.2120809135936,{"$f":"AVERAGE(D$79:D187)","v":3775.5245170943235},{"$f":"AVERAGE(M$79:M187)","v":3809.688275872656},3734.6512729993538,{"$f":"AVERAGE(P$79:P187)","v":3701.6432457446376},null,null,null,null,40098.104884259061,{"$f":"LOOKUP($V187,Data!$A$6:$A$1806,Data!$B$6:$B$1806)","v":59.953998565673828},{"$f":"LOOKUP($V187,Data!$A$6:$A$1806,Data!$C$6:$C$1806)","v":3710.81005859375},{"$f":"LOOKUP($V187,Data!$A$6:$A$1806,Data!$D$6:$D$1806)","v":350},{"$f":"IF($Z$1=\"+\",LOOKUP($V187,Data!$A$6:$A$1806,Data!$E$6:$E$1806)*-1,LOOKUP($V187,Data!$A$6:$A$1806,Data!$E$6:$E$1806))","v":213.53585815429687},{"$f":"LOOKUP($V187,Data!$A$6:$A$1806,Data!$F$6:$F$1806)","v":16},null,{"$f":"LOOKUP($V187,Data!$A$6:$A$1806,Data!$H$6:$H$1806)","v":10},{"$f":"LOOKUP($V187,Data!$A$6:$A$1806,Data!$I$6:$I$1806)","v":0},{"$f":"IF(LOOKUP($V187,Data!$A$6:$A$1806,Data!$J$6:$J$1806)>0,(LOOKUP($V187,Data!$A$6:$A$1806,Data!$J$6:$J$1806)*-1),LOOKUP($V187,Data!$A$6:$A$1806,Data!$J$6:$J$1806))","v":-103},{"$f":"LOOKUP($V187,Data!$A$6:$A$1806,Data!$K$6:$K$1806)","v":7673},47.381477355957031,null,null,null,null,null,null,null,null,null,null,null,null,null,null,65.699980284550705,-74.551765307851682,4.6001434326171875E-2,-103]
[null,40098.104907407207,{"$f":"LOOKUP(B188,Data!$A$6:$A$1806,Data!B$6:B$1806)","v":59.953998565673828},{"$f":"LOOKUP(B188,Data!$A$6:$A$1806,Data!C$6:C$1806)","v":3712.091796875},null,null,3090,{"$f":"(IF((C188-L$2)>0,(IF(C188<'Copy Results'!$C$3,((C188-L$2-L$5)/((L$4*L$2)-L$5)*G188*-1),(('Copy Results'!$C$3-L$2-L$5)/((L$4*L$2)-L$5)*G188*-1))),IF(C188>'Copy Results'!$C$2,((C188-L$2+L$5)/((L$4*L$2)-L$5)*G188*-1),(('Copy Results'!$C$2-L$2+L$5)/((L$4*L$2)-L$5)*G188*-1))))","v":47.381477355957031},48.005963141476329,null,null,0.61697247205071049,3798.492791808826,{"$f":"AVERAGE(D$79:D188)","v":3774.9478560014204},{"$f":"AVERAGE(M$79:M188)","v":3809.5864987448031},3735.2682454714045,{"$f":"AVERAGE(P$79:P188)","v":3701.9517319806628},null,null,null,null,40098.104907407207,{"$f":"LOOKUP($V188,Data!$A$6:$A$1806,Data!$B$6:$B$1806)","v":59.953998565673828},{"$f":"LOOKUP($V188,Data!$A$6:$A$1806,Data!$C$6:$C$1806)","v":3712.091796875},{"$f":"LOOKUP($V188,Data!$A$6:$A$1806,Data!$D$6:$D$1806)","v":350},{"$f":"IF($Z$1=\"+\",LOOKUP($V188,Data!$A$6:$A$1806,Data!$E$6:$E$1806)*-1,LOOKUP($V188,Data!$A$6:$A$1806,Data!$E$6:$E$1806))","v":213.53585815429687},{"$f":"LOOKUP($V188,Data!$A$6:$A$1806,Data!$F$6:$F$1806)","v":16},null,{"$f":"LOOKUP($V188,Data!$A$6:$A$1806,Data!$H$6:$H$1806)","v":10},{"$f":"LOOKUP($V188,Data!$A$6:$A$1806,Data!$I$6:$I$1806)","v":0},{"$f":"IF(LOOKUP($V188,Data!$A$6:$A$1806,Data!$J$6:$J$1806)>0,(LOOKUP($V188,Data!$A$6:$A$1806,Data!$J$6:$J$1806)*-1),LOOKUP($V188,Data!$A$6:$A$1806,Data!$J$6:$J$1806))","v":-103},{"$f":"LOOKUP($V188,Data!$A$6:$A$1806,Data!$K$6:$K$1806)","v":7674},47.381477355957031,null,null,null,null,null,null,null,null,null,null,null,null,null,null,66.981718565800705,-76.006192708225029,4.6001434326171875E-2,-103]
[null,40098.104930555353,{"$f":"LOOKUP(B189,Data!$A$6:$A$1806,Data!B$6:B$1806)","v":59.958999633789063},{"$f":"LOOKUP(B189,Data!$A$6:$A$1806,Data!C$6:C$1806)","v":3714.62255859375},null,null,3090,{"$f":"(IF((C189-L$2)>0,(IF(C189<'Copy Results'!$C$3,((C189-L$2-L$5)/((L$4*L$2)-L$5)*G189*-1),(('Copy Results'!$C$3-L$2-L$5)/((L$4*L$2)-L$5)*G189*-1))),IF(C189>'Copy Results'!$C$2,((C189-L$2+L$5)/((L$4*L$2)-L$5)*G189*-1),(('Copy Results'!$C$2-L$2+L$5)/((L$4*L$2)-L$5)*G189*-1))))","v":42.230377197265625},45.984508061002579,null,null,0.61697247205071049,3797.0883092004028,{"$f":"AVERAGE(D$79:D189)","v":3774.4043848536035},{"$f":"AVERAGE(M$79:M189)","v":3809.4739024426017},3735.8852179434552,{"$f":"AVERAGE(P$79:P189)","v":3702.2602182166884},null,null,null,null,40098.104930555353,{"$f":"LOOKUP($V189,Data!$A$6:$A$1806,Data!$B$6:$B$1806)","v":59.958999633789063},{"$f":"LOOKUP($V189,Data!$A$6:$A$1806,Data!$C$6:$C$1806)","v":3714.62255859375},{"$f":"LOOKUP($V189,Data!$A$6:$A$1806,Data!$D$6:$D$1806)","v":350},{"$f":"IF($Z$1=\"+\",LOOKUP($V189,Data!$A$6:$A$1806,Data!$E$6:$E$1806)*-1,LOOKUP($V189,Data!$A$6:$A$1806,Data!$E$6:$E$1806))","v":213.53585815429687},{"$f":"LOOKUP($V189,Data!$A$6:$A$1806,Data!$F$6:$F$1806)","v":16},null,{"$f":"LOOKUP($V189,Data!$A$6:$A$1806,Data!$H$6:$H$1806)","v":10},{"$f":"LOOKUP($V189,Data!$A$6:$A$1806,Data!$I$6:$I$1806)","v":0},{"$f":"IF(LOOKUP($V189,Data!$A$6:$A$1806,Data!$J$6:$J$1806)>0,(LOOKUP($V189,Data!$A$6:$A$1806,Data!$J$6:$J$1806)*-1),LOOKUP($V189,Data!$A$6:$A$1806,Data!$J$6:$J$1806))","v":-103},{"$f":"LOOKUP($V189,Data!$A$6:$A$1806,Data!$K$6:$K$1806)","v":7675},42.230377197265625,null,null,null,null,null,null,null,null,null,null,null,null,null,null,69.512480284550705,-83.6234416089912,4.10003662109375E-2,-103]
[null,40098.1049537035,{"$f":"LOOKUP(B190,Data!$A$6:$A$1806,Data!B$6:B$1806)","v":59.957000732421875},{"$f":"LOOKUP(B190,Data!$A$6:$A$1806,Data!C$6:C$1806)","v":3715.129638671875},null,null,3090,{"$f":"(IF((C190-L$2)>0,(IF(C190<'Copy Results'!$C$3,((C190-L$2-L$5)/((L$4*L$2)-L$5)*G190*-1),(('Copy Results'!$C$3-L$2-L$5)/((L$4*L$2)-L$5)*G190*-1))),IF(C190>'Copy Results'!$C$2,((C190-L$2+L$5)/((L$4*L$2)-L$5)*G190*-1),(('Copy Results'!$C$2-L$2+L$5)/((L$4*L$2)-L$5)*G190*-1))))","v":44.28924560546875},45.391166201565738,null,null,0.61697247205071049,3797.1119398130168,{"$f":"AVERAGE(D$79:D190)","v":3773.8751460484095},{"$f":"AVERAGE(M$79:M190)","v":3809.363527776266},3736.502190415506,{"$f":"AVERAGE(P$79:P190)","v":3702.568704452714},null,null,null,null,40098.1049537035,{"$f":"LOOKUP($V190,Data!$A$6:$A$1806,Data!$B$6:$B$1806)","v":59.957000732421875},{"$f":"LOOKUP($V190,Data!$A$6:$A$1806,Data!$C$6:$C$1806)","v":3715.129638671875},{"$f":"LOOKUP($V190,Data!$A$6:$A$1806,Data!$D$6:$D$1806)","v":350},{"$f":"IF($Z$1=\"+\",LOOKUP($V190,Data!$A$6:$A$1806,Data!$E$6:$E$1806)*-1,LOOKUP($V190,Data!$A$6:$A$1806,Data!$E$6:$E$1806))","v":225.65185546875},{"$f":"LOOKUP($V190,Data!$A$6:$A$1806,Data!$F$6:$F$1806)","v":16},null,{"$f":"LOOKUP($V190,Data!$A$6:$A$1806,Data!$H$6:$H$1806)","v":10},{"$f":"LOOKUP($V190,Data!$A$6:$A$1806,Data!$I$6:$I$1806)","v":0},{"$f":"IF(LOOKUP($V190,Data!$A$6:$A$1806,Data!$J$6:$J$1806)>0,(LOOKUP($V190,Data!$A$6:$A$1806,Data!$J$6:$J$1806)*-1),LOOKUP($V190,Data!$A$6:$A$1806,Data!$J$6:$J$1806))","v":-103},{"$f":"LOOKUP($V190,Data!$A$6:$A$1806,Data!$K$6:$K$1806)","v":7676},44.28924560546875,null,null,null,null,null,null,null,null,null,null,null,null,null,null,70.019560362675705,-82.255480399120586,4.2999267578125E-2,-103]
[null,40098.104976851646,{"$f":"LOOKUP(B191,Data!$A$6:$A$1806,Data!B$6:B$1806)","v":59.956001281738281},{"$f":"LOOKUP(B191,Data!$A$6:$A$1806,Data!C$6:C$1806)","v":3716.168212890625},null,null,3090,{"$f":"(IF((C191-L$2)>0,(IF(C191<'Copy Results'!$C$3,((C191-L$2-L$5)/((L$4*L$2)-L$5)*G191*-1),(('Copy Results'!$C$3-L$2-L$5)/((L$4*L$2)-L$5)*G191*-1))),IF(C191>'Copy Results'!$C$2,((C191-L$2+L$5)/((L$4*L$2)-L$5)*G191*-1),(('Copy Results'!$C$2-L$2+L$5)/((L$4*L$2)-L$5)*G191*-1))))","v":45.318679809570313},45.365795964367337,null,null,0.61697247205071049,3797.7035420478692,{"$f":"AVERAGE(D$79:D191)","v":3773.3644652240046},{"$f":"AVERAGE(M$79:M191)","v":3809.2603420618557},3737.1191628875567,{"$f":"AVERAGE(P$79:P191)","v":3702.8771906887391},null,null,null,null,40098.104976851646,{"$f":"LOOKUP($V191,Data!$A$6:$A$1806,Data!$B$6:$B$1806)","v":59.956001281738281},{"$f":"LOOKUP($V191,Data!$A$6:$A$1806,Data!$C$6:$C$1806)","v":3716.168212890625},{"$f":"LOOKUP($V191,Data!$A$6:$A$1806,Data!$D$6:$D$1806)","v":350},{"$f":"IF($Z$1=\"+\",LOOKUP($V191,Data!$A$6:$A$1806,Data!$E$6:$E$1806)*-1,LOOKUP($V191,Data!$A$6:$A$1806,Data!$E$6:$E$1806))","v":225.65185546875},{"$f":"LOOKUP($V191,Data!$A$6:$A$1806,Data!$F$6:$F$1806)","v":16},null,{"$f":"LOOKUP($V191,Data!$A$6:$A$1806,Data!$H$6:$H$1806)","v":10},{"$f":"LOOKUP($V191,Data!$A$6:$A$1806,Data!$I$6:$I$1806)","v":0},{"$f":"IF(LOOKUP($V191,Data!$A$6:$A$1806,Data!$J$6:$J$1806)>0,(LOOKUP($V191,Data!$A$6:$A$1806,Data!$J$6:$J$1806)*-1),LOOKUP($V191,Data!$A$6:$A$1806,Data!$J$6:$J$1806))","v":-103},{"$f":"LOOKUP($V191,Data!$A$6:$A$1806,Data!$K$6:$K$1806)","v":7677},45.318679809570313,null,null,null,null,null,null,null,null,null,null,null,null,null,null,71.058134581425705,-82.50682891991589,4.399871826171875E-2,-103]
[null,40098.104999999792,{"$f":"LOOKUP(B192,Data!$A$6:$A$1806,Data!B$6:B$1806)","v":59.953998565673828},{"$f":"LOOKUP(B192,Data!$A$6:$A$1806,Data!C$6:C$1806)","v":3716.46142578125},null,null,3090,{"$f":"(IF((C192-L$2)>0,(IF(C192<'Copy Results'!$C$3,((C192-L$2-L$5)/((L$4*L$2)-L$5)*G192*-1),(('Copy Results'!$C$3-L$2-L$5)/((L$4*L$2)-L$5)*G192*-1))),IF(C192>'Copy Results'!$C$2,((C192-L$2+L$5)/((L$4*L$2)-L$5)*G192*-1),(('Copy Results'!$C$2-L$2+L$5)/((L$4*L$2)-L$5)*G192*-1))))","v":47.381477355957031},46.071284451423729,null,null,0.61697247205071049,3799.0260030069762,{"$f":"AVERAGE(D$79:D192)","v":3772.8653157552085},{"$f":"AVERAGE(M$79:M192)","v":3809.1705671578652},3737.7361353596075,{"$f":"AVERAGE(P$79:P192)","v":3703.1856769247647},null,null,null,null,40098.104999999792,{"$f":"LOOKUP($V192,Data!$A$6:$A$1806,Data!$B$6:$B$1806)","v":59.953998565673828},{"$f":"LOOKUP($V192,Data!$A$6:$A$1806,Data!$C$6:$C$1806)","v":3716.46142578125},{"$f":"LOOKUP($V192,Data!$A$6:$A$1806,Data!$D$6:$D$1806)","v":350},{"$f":"IF($Z$1=\"+\",LOOKUP($V192,Data!$A$6:$A$1806,Data!$E$6:$E$1806)*-1,LOOKUP($V192,Data!$A$6:$A$1806,Data!$E$6:$E$1806))","v":225.65185546875},{"$f":"LOOKUP($V192,Data!$A$6:$A$1806,Data!$F$6:$F$1806)","v":16},null,{"$f":"LOOKUP($V192,Data!$A$6:$A$1806,Data!$H$6:$H$1806)","v":10},{"$f":"LOOKUP($V192,Data!$A$6:$A$1806,Data!$I$6:$I$1806)","v":0},{"$f":"IF(LOOKUP($V192,Data!$A$6:$A$1806,Data!$J$6:$J$1806)>0,(LOOKUP($V192,Data!$A$6:$A$1806,Data!$J$6:$J$1806)*-1),LOOKUP($V192,Data!$A$6:$A$1806,Data!$J$6:$J$1806))","v":-103},{"$f":"LOOKUP($V192,Data!$A$6:$A$1806,Data!$K$6:$K$1806)","v":7678},47.381477355957031,null,null,null,null,null,null,null,null,null,null,null,null,null,null,71.351347472050705,-80.964543491440679,4.6001434326171875E-2,-103]
[null,40098.105023147938,{"$f":"LOOKUP(B193,Data!$A$6:$A$1806,Data!B$6:B$1806)","v":59.956001281738281},{"$f":"LOOKUP(B193,Data!$A$6:$A$1806,Data!C$6:C$1806)","v":3716.97998046875},null,null,3090,{"$f":"(IF((C193-L$2)>0,(IF(C193<'Copy Results'!$C$3,((C193-L$2-L$5)/((L$4*L$2)-L$5)*G193*-1),(('Copy Results'!$C$3-L$2-L$5)/((L$4*L$2)-L$5)*G193*-1))),IF(C193>'Copy Results'!$C$2,((C193-L$2+L$5)/((L$4*L$2)-L$5)*G193*-1),(('Copy Results'!$C$2-L$2+L$5)/((L$4*L$2)-L$5)*G193*-1))))","v":45.318679809570313},45.807872826775032,null,null,0.61697247205071049,3799.3795638543784,{"$f":"AVERAGE(D$79:D193)","v":3772.3793563179347},{"$f":"AVERAGE(M$79:M193)","v":3809.0854279987043},3738.3531078316582,{"$f":"AVERAGE(P$79:P193)","v":3703.4941631607903},null,null,null,null,40098.105023147938,{"$f":"LOOKUP($V193,Data!$A$6:$A$1806,Data!$B$6:$B$1806)","v":59.956001281738281},{"$f":"LOOKUP($V193,Data!$A$6:$A$1806,Data!$C$6:$C$1806)","v":3716.97998046875},{"$f":"LOOKUP($V193,Data!$A$6:$A$1806,Data!$D$6:$D$1806)","v":350},{"$f":"IF($Z$1=\"+\",LOOKUP($V193,Data!$A$6:$A$1806,Data!$E$6:$E$1806)*-1,LOOKUP($V193,Data!$A$6:$A$1806,Data!$E$6:$E$1806))","v":225.65185546875},{"$f":"LOOKUP($V193,Data!$A$6:$A$1806,Data!$F$6:$F$1806)","v":16},null,{"$f":"LOOKUP($V193,Data!$A$6:$A$1806,Data!$H$6:$H$1806)","v":10},{"$f":"LOOKUP($V193,Data!$A$6:$A$1806,Data!$I$6:$I$1806)","v":0},{"$f":"IF(LOOKUP($V193,Data!$A$6:$A$1806,Data!$J$6:$J$1806)>0,(LOOKUP($V193,Data!$A$6:$A$1806,Data!$J$6:$J$1806)*-1),LOOKUP($V193,Data!$A$6:$A$1806,Data!$J$6:$J$1806))","v":-103},{"$f":"LOOKUP($V193,Data!$A$6:$A$1806,Data!$K$6:$K$1806)","v":7679},45.318679809570313,null,null,null,null,null,null,null,null,null,null,null,null,null,null,71.869902159550705,-83.449386293334484,4.399871826171875E-2,-103]
[null,40098.105046296085,{"$f":"LOOKUP(B194,Data!$A$6:$A$1806,Data!B$6:B$1806)","v":59.955001831054688},{"$f":"LOOKUP(B194,Data!$A$6:$A$1806,Data!C$6:C$1806)","v":3717.759033203125},null,null,3090,{"$f":"(IF((C194-L$2)>0,(IF(C194<'Copy Results'!$C$3,((C194-L$2-L$5)/((L$4*L$2)-L$5)*G194*-1),(('Copy Results'!$C$3-L$2-L$5)/((L$4*L$2)-L$5)*G194*-1))),IF(C194>'Copy Results'!$C$2,((C194-L$2+L$5)/((L$4*L$2)-L$5)*G194*-1),(('Copy Results'!$C$2-L$2+L$5)/((L$4*L$2)-L$5)*G194*-1))))","v":46.348114013671875},45.996957242188927,null,null,0.61697247205071049,3800.1856207418432,{"$f":"AVERAGE(D$79:D194)","v":3771.9084914634968},{"$f":"AVERAGE(M$79:M194)","v":3809.0087055223521},3738.970080303709,{"$f":"AVERAGE(P$79:P194)","v":3703.8026493968159},null,null,null,null,40098.105046296085,{"$f":"LOOKUP($V194,Data!$A$6:$A$1806,Data!$B$6:$B$1806)","v":59.955001831054688},{"$f":"LOOKUP($V194,Data!$A$6:$A$1806,Data!$C$6:$C$1806)","v":3717.759033203125},{"$f":"LOOKUP($V194,Data!$A$6:$A$1806,Data!$D$6:$D$1806)","v":350},{"$f":"IF($Z$1=\"+\",LOOKUP($V194,Data!$A$6:$A$1806,Data!$E$6:$E$1806)*-1,LOOKUP($V194,Data!$A$6:$A$1806,Data!$E$6:$E$1806))","v":225.65185546875},{"$f":"LOOKUP($V194,Data!$A$6:$A$1806,Data!$F$6:$F$1806)","v":16},null,{"$f":"LOOKUP($V194,Data!$A$6:$A$1806,Data!$H$6:$H$1806)","v":10},{"$f":"LOOKUP($V194,Data!$A$6:$A$1806,Data!$I$6:$I$1806)","v":0},{"$f":"IF(LOOKUP($V194,Data!$A$6:$A$1806,Data!$J$6:$J$1806)>0,(LOOKUP($V194,Data!$A$6:$A$1806,Data!$J$6:$J$1806)*-1),LOOKUP($V194,Data!$A$6:$A$1806,Data!$J$6:$J$1806))","v":-103},{"$f":"LOOKUP($V194,Data!$A$6:$A$1806,Data!$K$6:$K$1806)","v":7680},46.348114013671875,null,null,null,null,null,null,null,null,null,null,null,null,null,null,72.648954893925705,-83.386277265028426,4.49981689453125E-2,-103]
[null,40098.105069444231,{"$f":"LOOKUP(B195,Data!$A$6:$A$1806,Data!B$6:B$1806)","v":59.958000183105469},{"$f":"LOOKUP(B195,Data!$A$6:$A$1806,Data!C$6:C$1806)","v":3722.361328125},null,null,3090,{"$f":"(IF((C195-L$2)>0,(IF(C195<'Copy Results'!$C$3,((C195-L$2-L$5)/((L$4*L$2)-L$5)*G195*-1),(('Copy Results'!$C$3-L$2-L$5)/((L$4*L$2)-L$5)*G195*-1))),IF(C195>'Copy Results'!$C$2,((C195-L$2+L$5)/((L$4*L$2)-L$5)*G195*-1),(('Copy Results'!$C$2-L$2+L$5)/((L$4*L$2)-L$5)*G195*-1))))","v":43.259811401367188},45.038956197901314,null,null,0.61697247205071049,3799.8445921696061,{"$f":"AVERAGE(D$79:D195)","v":3771.4850114349624},{"$f":"AVERAGE(M$79:M195)","v":3808.9303797672005},3739.5870527757597,{"$f":"AVERAGE(P$79:P195)","v":3704.1111356328415},null,null,null,null,40098.105069444231,{"$f":"LOOKUP($V195,Data!$A$6:$A$1806,Data!$B$6:$B$1806)","v":59.958000183105469},{"$f":"LOOKUP($V195,Data!$A$6:$A$1806,Data!$C$6:$C$1806)","v":3722.361328125},{"$f":"LOOKUP($V195,Data!$A$6:$A$1806,Data!$D$6:$D$1806)","v":350},{"$f":"IF($Z$1=\"+\",LOOKUP($V195,Data!$A$6:$A$1806,Data!$E$6:$E$1806)*-1,LOOKUP($V195,Data!$A$6:$A$1806,Data!$E$6:$E$1806))","v":212.57363891601562},{"$f":"LOOKUP($V195,Data!$A$6:$A$1806,Data!$F$6:$F$1806)","v":16},null,{"$f":"LOOKUP($V195,Data!$A$6:$A$1806,Data!$H$6:$H$1806)","v":10},{"$f":"LOOKUP($V195,Data!$A$6:$A$1806,Data!$I$6:$I$1806)","v":0},{"$f":"IF(LOOKUP($V195,Data!$A$6:$A$1806,Data!$J$6:$J$1806)>0,(LOOKUP($V195,Data!$A$6:$A$1806,Data!$J$6:$J$1806)*-1),LOOKUP($V195,Data!$A$6:$A$1806,Data!$J$6:$J$1806))","v":-103},{"$f":"LOOKUP($V195,Data!$A$6:$A$1806,Data!$K$6:$K$1806)","v":7681},43.259811401367188,null,null,null,null,null,null,null,null,null,null,null,null,null,null,77.251249815800705,-91.829077304946679,4.199981689453125E-2,-103]
[null,40098.105092592377,{"$f":"LOOKUP(B196,Data!$A$6:$A$1806,Data!B$6:B$1806)","v":59.96099853515625},{"$f":"LOOKUP(B196,Data!$A$6:$A$1806,Data!C$6:C$1806)","v":3721.97314453125},null,null,3090,{"$f":"(IF((C196-L$2)>0,(IF(C196<'Copy Results'!$C$3,((C196-L$2-L$5)/((L$4*L$2)-L$5)*G196*-1),(('Copy Results'!$C$3-L$2-L$5)/((L$4*L$2)-L$5)*G196*-1))),IF(C196>'Copy Results'!$C$2,((C196-L$2+L$5)/((L$4*L$2)-L$5)*G196*-1),(('Copy Results'!$C$2-L$2+L$5)/((L$4*L$2)-L$5)*G196*-1))))","v":40.1715087890625},43.335349604807725,null,null,0.61697247205071049,3798.7579580485631,{"$f":"AVERAGE(D$79:D196)","v":3771.0654193425585},{"$f":"AVERAGE(M$79:M196)","v":3808.8441728034832},3740.2040252478105,{"$f":"AVERAGE(P$79:P196)","v":3704.4196218688671},null,null,null,null,40098.105092592377,{"$f":"LOOKUP($V196,Data!$A$6:$A$1806,Data!$B$6:$B$1806)","v":59.96099853515625},{"$f":"LOOKUP($V196,Data!$A$6:$A$1806,Data!$C$6:$C$1806)","v":3721.97314453125},{"$f":"LOOKUP($V196,Data!$A$6:$A$1806,Data!$D$6:$D$1806)","v":350},{"$f":"IF($Z$1=\"+\",LOOKUP($V196,Data!$A$6:$A$1806,Data!$E$6:$E$1806)*-1,LOOKUP($V196,Data!$A$6:$A$1806,Data!$E$6:$E$1806))","v":212.57363891601562},{"$f":"LOOKUP($V196,Data!$A$6:$A$1806,Data!$F$6:$F$1806)","v":16},null,{"$f":"LOOKUP($V196,Data!$A$6:$A$1806,Data!$H$6:$H$1806)","v":10},{"$f":"LOOKUP($V196,Data!$A$6:$A$1806,Data!$I$6:$I$1806)","v":0},{"$f":"IF(LOOKUP($V196,Data!$A$6:$A$1806,Data!$J$6:$J$1806)>0,(LOOKUP($V196,Data!$A$6:$A$1806,Data!$J$6:$J$1806)*-1),LOOKUP($V196,Data!$A$6:$A$1806,Data!$J$6:$J$1806))","v":-103},{"$f":"LOOKUP($V196,Data!$A$6:$A$1806,Data!$K$6:$K$1806)","v":7682},40.1715087890625,null,null,null,null,null,null,null,null,null,null,null,null,null,null,76.863066222050705,-94.74448705657629,3.900146484375E-2,-103]
[null,40098.105115740524,{"$f":"LOOKUP(B197,Data!$A$6:$A$1806,Data!B$6:B$1806)","v":59.962001800537109},{"$f":"LOOKUP(B197,Data!$A$6:$A$1806,Data!C$6:C$1806)","v":3722.657958984375},null,null,3090,{"$f":"(IF((C197-L$2)>0,(IF(C197<'Copy Results'!$C$3,((C197-L$2-L$5)/((L$4*L$2)-L$5)*G197*-1),(('Copy Results'!$C$3-L$2-L$5)/((L$4*L$2)-L$5)*G197*-1))),IF(C197>'Copy Results'!$C$2,((C197-L$2+L$5)/((L$4*L$2)-L$5)*G197*-1),(('Copy Results'!$C$2-L$2+L$5)/((L$4*L$2)-L$5)*G197*-1))))","v":39.138145446777344},41.866328149497093,null,null,0.61697247205071049,3797.9059090653031,{"$f":"AVERAGE(D$79:D197)","v":3770.6586339613968},{"$f":"AVERAGE(M$79:M197)","v":3808.7522546208097},3740.8209977198612,{"$f":"AVERAGE(P$79:P197)","v":3704.7281081048927},null,null,null,null,40098.105115740524,{"$f":"LOOKUP($V197,Data!$A$6:$A$1806,Data!$B$6:$B$1806)","v":59.962001800537109},{"$f":"LOOKUP($V197,Data!$A$6:$A$1806,Data!$C$6:$C$1806)","v":3722.657958984375},{"$f":"LOOKUP($V197,Data!$A$6:$A$1806,Data!$D$6:$D$1806)","v":350},{"$f":"IF($Z$1=\"+\",LOOKUP($V197,Data!$A$6:$A$1806,Data!$E$6:$E$1806)*-1,LOOKUP($V197,Data!$A$6:$A$1806,Data!$E$6:$E$1806))","v":212.57363891601562},{"$f":"LOOKUP($V197,Data!$A$6:$A$1806,Data!$F$6:$F$1806)","v":16},null,{"$f":"LOOKUP($V197,Data!$A$6:$A$1806,Data!$H$6:$H$1806)","v":10},{"$f":"LOOKUP($V197,Data!$A$6:$A$1806,Data!$I$6:$I$1806)","v":0},{"$f":"IF(LOOKUP($V197,Data!$A$6:$A$1806,Data!$J$6:$J$1806)>0,(LOOKUP($V197,Data!$A$6:$A$1806,Data!$J$6:$J$1806)*-1),LOOKUP($V197,Data!$A$6:$A$1806,Data!$J$6:$J$1806))","v":-103},{"$f":"LOOKUP($V197,Data!$A$6:$A$1806,Data!$K$6:$K$1806)","v":7684},39.138145446777344,null,null,null,null,null,null,null,null,null,null,null,null,null,null,77.547880675175705,-96.785529487836214,3.7998199462890625E-2,-103]
[null,40098.10513888867,{"$f":"LOOKUP(B198,Data!$A$6:$A$1806,Data!B$6:B$1806)","v":59.962001800537109},{"$f":"LOOKUP(B198,Data!$A$6:$A$1806,Data!C$6:C$1806)","v":3722.2666015625},null,null,3090,{"$f":"(IF((C198-L$2)>0,(IF(C198<'Copy Results'!$C$3,((C198-L$2-L$5)/((L$4*L$2)-L$5)*G198*-1),(('Copy Results'!$C$3-L$2-L$5)/((L$4*L$2)-L$5)*G198*-1))),IF(C198>'Copy Results'!$C$2,((C198-L$2+L$5)/((L$4*L$2)-L$5)*G198*-1),(('Copy Results'!$C$2-L$2+L$5)/((L$4*L$2)-L$5)*G198*-1))))","v":39.138145446777344},40.911464203545179,null,null,0.61697247205071049,3797.5680175914022,{"$f":"AVERAGE(D$79:D198)","v":3770.2553670247394},{"$f":"AVERAGE(M$79:M198)","v":3808.6590526455643},3741.437970191912,{"$f":"AVERAGE(P$79:P198)","v":3705.0365943409183},null,null,null,null,40098.10513888867,{"$f":"LOOKUP($V198,Data!$A$6:$A$1806,Data!$B$6:$B$1806)","v":59.962001800537109},{"$f":"LOOKUP($V198,Data!$A$6:$A$1806,Data!$C$6:$C$1806)","v":3722.2666015625},{"$f":"LOOKUP($V198,Data!$A$6:$A$1806,Data!$D$6:$D$1806)","v":350},{"$f":"IF($Z$1=\"+\",LOOKUP($V198,Data!$A$6:$A$1806,Data!$E$6:$E$1806)*-1,LOOKUP($V198,Data!$A$6:$A$1806,Data!$E$6:$E$1806))","v":212.57363891601562},{"$f":"LOOKUP($V198,Data!$A$6:$A$1806,Data!$F$6:$F$1806)","v":16},null,{"$f":"LOOKUP($V198,Data!$A$6:$A$1806,Data!$H$6:$H$1806)","v":10},{"$f":"LOOKUP($V198,Data!$A$6:$A$1806,Data!$I$6:$I$1806)","v":0},{"$f":"IF(LOOKUP($V198,Data!$A$6:$A$1806,Data!$J$6:$J$1806)>0,(LOOKUP($V198,Data!$A$6:$A$1806,Data!$J$6:$J$1806)*-1),LOOKUP($V198,Data!$A$6:$A$1806,Data!$J$6:$J$1806))","v":-103},{"$f":"LOOKUP($V198,Data!$A$6:$A$1806,Data!$K$6:$K$1806)","v":7685},39.138145446777344,null,null,null,null,null,null,null,null,null,null,null,null,null,null,77.156523253300705,-96.29708628390361,3.7998199462890625E-2,-103]
[null,40098.105162036816,{"$f":"LOOKUP(B199,Data!$A$6:$A$1806,Data!B$6:B$1806)","v":59.967998504638672},{"$f":"LOOKUP(B199,Data!$A$6:$A$1806,Data!C$6:C$1806)","v":3722.277587890625},null,null,3090,{"$f":"(IF((C199-L$2)>0,(IF(C199<'Copy Results'!$C$3,((C199-L$2-L$5)/((L$4*L$2)-L$5)*G199*-1),(('Copy Results'!$C$3-L$2-L$5)/((L$4*L$2)-L$5)*G199*-1))),IF(C199>'Copy Results'!$C$2,((C199-L$2+L$5)/((L$4*L$2)-L$5)*G199*-1),(('Copy Results'!$C$2-L$2+L$5)/((L$4*L$2)-L$5)*G199*-1))))","v":32.961540222167969},38.128990810063158,null,null,0.61697247205071049,3795.4025166699707,{"$f":"AVERAGE(D$79:D199)","v":3769.8588564533834},{"$f":"AVERAGE(M$79:M199)","v":3808.5494944970055},3742.0549426639627,{"$f":"AVERAGE(P$79:P199)","v":3705.3450805769439},null,null,null,null,40098.105162036816,{"$f":"LOOKUP($V199,Data!$A$6:$A$1806,Data!$B$6:$B$1806)","v":59.967998504638672},{"$f":"LOOKUP($V199,Data!$A$6:$A$1806,Data!$C$6:$C$1806)","v":3722.277587890625},{"$f":"LOOKUP($V199,Data!$A$6:$A$1806,Data!$D$6:$D$1806)","v":350},{"$f":"IF($Z$1=\"+\",LOOKUP($V199,Data!$A$6:$A$1806,Data!$E$6:$E$1806)*-1,LOOKUP($V199,Data!$A$6:$A$1806,Data!$E$6:$E$1806))","v":212.57363891601562},{"$f":"LOOKUP($V199,Data!$A$6:$A$1806,Data!$F$6:$F$1806)","v":16},null,{"$f":"LOOKUP($V199,Data!$A$6:$A$1806,Data!$H$6:$H$1806)","v":10},{"$f":"LOOKUP($V199,Data!$A$6:$A$1806,Data!$I$6:$I$1806)","v":0},{"$f":"IF(LOOKUP($V199,Data!$A$6:$A$1806,Data!$J$6:$J$1806)>0,(LOOKUP($V199,Data!$A$6:$A$1806,Data!$J$6:$J$1806)*-1),LOOKUP($V199,Data!$A$6:$A$1806,Data!$J$6:$J$1806))","v":-103},{"$f":"LOOKUP($V199,Data!$A$6:$A$1806,Data!$K$6:$K$1806)","v":7687},32.961540222167969,null,null,null,null,null,null,null,null,null,null,null,null,null,null,77.167509581425705,-104.10214985282306,3.2001495361328125E-2," "]
[null,40098.105185184962,{"$f":"LOOKUP(B200,Data!$A$6:$A$1806,Data!B$6:B$1806)","v":59.965999603271484},{"$f":"LOOKUP(B200,Data!$A$6:$A$1806,Data!C$6:C$1806)","v":3721.78662109375},null,null,3090,{"$f":"(IF((C200-L$2)>0,(IF(C200<'Copy Results'!$C$3,((C200-L$2-L$5)/((L$4*L$2)-L$5)*G200*-1),(('Copy Results'!$C$3-L$2-L$5)/((L$4*L$2)-L$5)*G200*-1))),IF(C200>'Copy Results'!$C$2,((C200-L$2+L$5)/((L$4*L$2)-L$5)*G200*-1),(('Copy Results'!$C$2-L$2+L$5)/((L$4*L$2)-L$5)*G200*-1))))","v":35.020408630371094},37.040987047170937,null,null,0.61697247205071049,3794.9314853791293,{"$f":"AVERAGE(D$79:D200)","v":3769.4648217373206},{"$f":"AVERAGE(M$79:M200)","v":3808.4378714714489},3742.6719151360135,{"$f":"AVERAGE(P$79:P200)","v":3705.6535668129691},null,null,null,null,40098.105185184962,{"$f":"LOOKUP($V200,Data!$A$6:$A$1806,Data!$B$6:$B$1806)","v":59.965999603271484},{"$f":"LOOKUP($V200,Data!$A$6:$A$1806,Data!$C$6:$C$1806)","v":3721.78662109375},{"$f":"LOOKUP($V200,Data!$A$6:$A$1806,Data!$D$6:$D$1806)","v":350},{"$f":"IF($Z$1=\"+\",LOOKUP($V200,Data!$A$6:$A$1806,Data!$E$6:$E$1806)*-1,LOOKUP($V200,Data!$A$6:$A$1806,Data!$E$6:$E$1806))","v":219.89729309082031},{"$f":"LOOKUP($V200,Data!$A$6:$A$1806,Data!$F$6:$F$1806)","v":16},null,{"$f":"LOOKUP($V200,Data!$A$6:$A$1806,Data!$H$6:$H$1806)","v":10},{"$f":"LOOKUP($V200,Data!$A$6:$A$1806,Data!$I$6:$I$1806)","v":0},{"$f":"IF(LOOKUP($V200,Data!$A$6:$A$1806,Data!$J$6:$J$1806)>0,(LOOKUP($V200,Data!$A$6:$A$1806,Data!$J$6:$J$1806)*-1),LOOKUP($V200,Data!$A$6:$A$1806,Data!$J$6:$J$1806))","v":-103},{"$f":"LOOKUP($V200,Data!$A$6:$A$1806,Data!$K$6:$K$1806)","v":7689},35.020408630371094,null,null,null,null,null,null,null,null,null,null,null,null,null,null,76.676542784550705,-100.72369982129703,3.4000396728515625E-2," "]
[null,40098.105208333109,{"$f":"LOOKUP(B201,Data!$A$6:$A$1806,Data!B$6:B$1806)","v":59.965999603271484},{"$f":"LOOKUP(B201,Data!$A$6:$A$1806,Data!C$6:C$1806)","v":3723.0908203125},null,null,3090,{"$f":"(IF((C201-L$2)>0,(IF(C201<'Copy Results'!$C$3,((C201-L$2-L$5)/((L$4*L$2)-L$5)*G201*-1),(('Copy Results'!$C$3-L$2-L$5)/((L$4*L$2)-L$5)*G201*-1))),IF(C201>'Copy Results'!$C$2,((C201-L$2+L$5)/((L$4*L$2)-L$5)*G201*-1),(('Copy Results'!$C$2-L$2+L$5)/((L$4*L$2)-L$5)*G201*-1))))","v":35.020408630371094},36.333784601290994,null,null,0.61697247205071049,3794.8412554053002,{"$f":"AVERAGE(D$79:D201)","v":3769.0877973354927},{"$f":"AVERAGE(M$79:M201)","v":3808.3273298774152},3743.2888876080642,{"$f":"AVERAGE(P$79:P201)","v":3705.9620530489942},null,null,null,null,40098.105208333109,{"$f":"LOOKUP($V201,Data!$A$6:$A$1806,Data!$B$6:$B$1806)","v":59.965999603271484},{"$f":"LOOKUP($V201,Data!$A$6:$A$1806,Data!$C$6:$C$1806)","v":3723.0908203125},{"$f":"LOOKUP($V201,Data!$A$6:$A$1806,Data!$D$6:$D$1806)","v":350},{"$f":"IF($Z$1=\"+\",LOOKUP($V201,Data!$A$6:$A$1806,Data!$E$6:$E$1806)*-1,LOOKUP($V201,Data!$A$6:$A$1806,Data!$E$6:$E$1806))","v":219.89729309082031},{"$f":"LOOKUP($V201,Data!$A$6:$A$1806,Data!$F$6:$F$1806)","v":16},null,{"$f":"LOOKUP($V201,Data!$A$6:$A$1806,Data!$H$6:$H$1806)","v":10},{"$f":"LOOKUP($V201,Data!$A$6:$A$1806,Data!$I$6:$I$1806)","v":0},{"$f":"IF(LOOKUP($V201,Data!$A$6:$A$1806,Data!$J$6:$J$1806)>0,(LOOKUP($V201,Data!$A$6:$A$1806,Data!$J$6:$J$1806)*-1),LOOKUP($V201,Data!$A$6:$A$1806,Data!$J$6:$J$1806))","v":-103},{"$f":"LOOKUP($V201,Data!$A$6:$A$1806,Data!$K$6:$K$1806)","v":7690},35.020408630371094,null,null,null,null,null,null,null,null,null,null,null,null,null,null,77.980742003300705,-102.4369196124613,3.4000396728515625E-2," "]
[null,40098.105231481255,{"$f":"LOOKUP(B202,Data!$A$6:$A$1806,Data!B$6:B$1806)","v":59.967998504638672},{"$f":"LOOKUP(B202,Data!$A$6:$A$1806,Data!C$6:C$1806)","v":3723.98388671875},null,null,3090,{"$f":"(IF((C202-L$2)>0,(IF(C202<'Copy Results'!$C$3,((C202-L$2-L$5)/((L$4*L$2)-L$5)*G202*-1),(('Copy Results'!$C$3-L$2-L$5)/((L$4*L$2)-L$5)*G202*-1))),IF(C202>'Copy Results'!$C$2,((C202-L$2+L$5)/((L$4*L$2)-L$5)*G202*-1),(('Copy Results'!$C$2-L$2+L$5)/((L$4*L$2)-L$5)*G202*-1))))","v":32.961540222167969},35.153499068597938,null,null,0.61697247205071049,3794.2779423446577,{"$f":"AVERAGE(D$79:D202)","v":3768.7240561208419},{"$f":"AVERAGE(M$79:M202)","v":3808.2140283650542},3743.905860080115,{"$f":"AVERAGE(P$79:P202)","v":3706.2705392850194},null,null,null,null,40098.105231481255,{"$f":"LOOKUP($V202,Data!$A$6:$A$1806,Data!$B$6:$B$1806)","v":59.967998504638672},{"$f":"LOOKUP($V202,Data!$A$6:$A$1806,Data!$C$6:$C$1806)","v":3723.98388671875},{"$f":"LOOKUP($V202,Data!$A$6:$A$1806,Data!$D$6:$D$1806)","v":350},{"$f":"IF($Z$1=\"+\",LOOKUP($V202,Data!$A$6:$A$1806,Data!$E$6:$E$1806)*-1,LOOKUP($V202,Data!$A$6:$A$1806,Data!$E$6:$E$1806))","v":219.89729309082031},{"$f":"LOOKUP($V202,Data!$A$6:$A$1806,Data!$F$6:$F$1806)","v":16},null,{"$f":"LOOKUP($V202,Data!$A$6:$A$1806,Data!$H$6:$H$1806)","v":10},{"$f":"LOOKUP($V202,Data!$A$6:$A$1806,Data!$I$6:$I$1806)","v":0},{"$f":"IF(LOOKUP($V202,Data!$A$6:$A$1806,Data!$J$6:$J$1806)>0,(LOOKUP($V202,Data!$A$6:$A$1806,Data!$J$6:$J$1806)*-1),LOOKUP($V202,Data!$A$6:$A$1806,Data!$J$6:$J$1806))","v":-103},{"$f":"LOOKUP($V202,Data!$A$6:$A$1806,Data!$K$6:$K$1806)","v":7692},32.961540222167969,null,null,null,null,null,null,null,null,null,null,null,null,null,null,78.873808409550705,-106.40401727426334,3.2001495361328125E-2," "]
[null,40098.105254629401,{"$f":"LOOKUP(B203,Data!$A$6:$A$1806,Data!B$6:B$1806)","v":59.970001220703125},{"$f":"LOOKUP(B203,Data!$A$6:$A$1806,Data!C$6:C$1806)","v":3723.4345703125},null,null,3090,{"$f":"(IF((C203-L$2)>0,(IF(C203<'Copy Results'!$C$3,((C203-L$2-L$5)/((L$4*L$2)-L$5)*G203*-1),(('Copy Results'!$C$3-L$2-L$5)/((L$4*L$2)-L$5)*G203*-1))),IF(C203>'Copy Results'!$C$2,((C203-L$2+L$5)/((L$4*L$2)-L$5)*G203*-1),(('Copy Results'!$C$2-L$2+L$5)/((L$4*L$2)-L$5)*G203*-1))))","v":30.898742675781254},33.664334331112101,null,null,0.61697247205071049,3793.4057500792228,{"$f":"AVERAGE(D$79:D203)","v":3768.3617402343748},{"$f":"AVERAGE(M$79:M203)","v":3808.0955621387675},3744.5228325521657,{"$f":"AVERAGE(P$79:P203)","v":3706.5790255210445},null,null,null,null,40098.105254629401,{"$f":"LOOKUP($V203,Data!$A$6:$A$1806,Data!$B$6:$B$1806)","v":59.970001220703125},{"$f":"LOOKUP($V203,Data!$A$6:$A$1806,Data!$C$6:$C$1806)","v":3723.4345703125},{"$f":"LOOKUP($V203,Data!$A$6:$A$1806,Data!$D$6:$D$1806)","v":350},{"$f":"IF($Z$1=\"+\",LOOKUP($V203,Data!$A$6:$A$1806,Data!$E$6:$E$1806)*-1,LOOKUP($V203,Data!$A$6:$A$1806,Data!$E$6:$E$1806))","v":219.89729309082031},{"$f":"LOOKUP($V203,Data!$A$6:$A$1806,Data!$F$6:$F$1806)","v":16},null,{"$f":"LOOKUP($V203,Data!$A$6:$A$1806,Data!$H$6:$H$1806)","v":10},{"$f":"LOOKUP($V203,Data!$A$6:$A$1806,Data!$I$6:$I$1806)","v":0},{"$f":"IF(LOOKUP($V203,Data!$A$6:$A$1806,Data!$J$6:$J$1806)>0,(LOOKUP($V203,Data!$A$6:$A$1806,Data!$J$6:$J$1806)*-1),LOOKUP($V203,Data!$A$6:$A$1806,Data!$J$6:$J$1806))","v":-103},{"$f":"LOOKUP($V203,Data!$A$6:$A$1806,Data!$K$6:$K$1806)","v":7692},30.898742675781254,null,null,null,null,null,null,null,null,null,null,null,null,null,null,78.324492003300705,-108.5969819534601,2.9998779296875E-2," "]
[null,40098.105277777548,{"$f":"LOOKUP(B204,Data!$A$6:$A$1806,Data!B$6:B$1806)","v":59.9739990234375},{"$f":"LOOKUP(B204,Data!$A$6:$A$1806,Data!C$6:C$1806)","v":3723.89306640625},null,null,3090,{"$f":"(IF((C204-L$2)>0,(IF(C204<'Copy Results'!$C$3,((C204-L$2-L$5)/((L$4*L$2)-L$5)*G204*-1),(('Copy Results'!$C$3-L$2-L$5)/((L$4*L$2)-L$5)*G204*-1))),IF(C204>'Copy Results'!$C$2,((C204-L$2+L$5)/((L$4*L$2)-L$5)*G204*-1),(('Copy Results'!$C$2-L$2+L$5)/((L$4*L$2)-L$5)*G204*-1))))","v":26.781005859375},31.255169366004118,null,null,0.61697247205071049,3791.6135575861654,{"$f":"AVERAGE(D$79:D204)","v":3768.008814251612},{"$f":"AVERAGE(M$79:M204)","v":3807.9647525788259},3745.1398050242165,{"$f":"AVERAGE(P$79:P204)","v":3706.8875117570697},null,null,null,null,40098.105277777548,{"$f":"LOOKUP($V204,Data!$A$6:$A$1806,Data!$B$6:$B$1806)","v":59.9739990234375},{"$f":"LOOKUP($V204,Data!$A$6:$A$1806,Data!$C$6:$C$1806)","v":3723.89306640625},{"$f":"LOOKUP($V204,Data!$A$6:$A$1806,Data!$D$6:$D$1806)","v":350},{"$f":"IF($Z$1=\"+\",LOOKUP($V204,Data!$A$6:$A$1806,Data!$E$6:$E$1806)*-1,LOOKUP($V204,Data!$A$6:$A$1806,Data!$E$6:$E$1806))","v":219.89729309082031},{"$f":"LOOKUP($V204,Data!$A$6:$A$1806,Data!$F$6:$F$1806)","v":16},null,{"$f":"LOOKUP($V204,Data!$A$6:$A$1806,Data!$H$6:$H$1806)","v":10},{"$f":"LOOKUP($V204,Data!$A$6:$A$1806,Data!$I$6:$I$1806)","v":0},{"$f":"IF(LOOKUP($V204,Data!$A$6:$A$1806,Data!$J$6:$J$1806)>0,(LOOKUP($V204,Data!$A$6:$A$1806,Data!$J$6:$J$1806)*-1),LOOKUP($V204,Data!$A$6:$A$1806,Data!$J$6:$J$1806))","v":-103},{"$f":"LOOKUP($V204,Data!$A$6:$A$1806,Data!$K$6:$K$1806)","v":7693},26.781005859375,null,null,null,null,null,null,null,null,null,null,null,null,null,null,78.782988097050705,-115.642713394395,2.60009765625E-2," "]
[null,40098.105300925694,{"$f":"LOOKUP(B205,Data!$A$6:$A$1806,Data!B$6:B$1806)","v":59.970001220703125},{"$f":"LOOKUP(B205,Data!$A$6:$A$1806,Data!C$6:C$1806)","v":3725.40283203125},null,null,3090,{"$f":"(IF((C205-L$2)>0,(IF(C205<'Copy Results'!$C$3,((C205-L$2-L$5)/((L$4*L$2)-L$5)*G205*-1),(('Copy Results'!$C$3-L$2-L$5)/((L$4*L$2)-L$5)*G205*-1))),IF(C205>'Copy Results'!$C$2,((C205-L$2+L$5)/((L$4*L$2)-L$5)*G205*-1),(('Copy Results'!$C$2-L$2+L$5)/((L$4*L$2)-L$5)*G205*-1))))","v":30.898742675781254},31.130420024426115,null,null,0.61697247205071049,3792.105780716638,{"$f":"AVERAGE(D$79:D205)","v":3767.6733340766486},{"$f":"AVERAGE(M$79:M205)","v":3807.8398787846354},3745.7567774962672,{"$f":"AVERAGE(P$79:P205)","v":3707.1959979930948},null,null,null,null,40098.105300925694,{"$f":"LOOKUP($V205,Data!$A$6:$A$1806,Data!$B$6:$B$1806)","v":59.970001220703125},{"$f":"LOOKUP($V205,Data!$A$6:$A$1806,Data!$C$6:$C$1806)","v":3725.40283203125},{"$f":"LOOKUP($V205,Data!$A$6:$A$1806,Data!$D$6:$D$1806)","v":350},{"$f":"IF($Z$1=\"+\",LOOKUP($V205,Data!$A$6:$A$1806,Data!$E$6:$E$1806)*-1,LOOKUP($V205,Data!$A$6:$A$1806,Data!$E$6:$E$1806))","v":231.17539978027344},{"$f":"LOOKUP($V205,Data!$A$6:$A$1806,Data!$F$6:$F$1806)","v":16},null,{"$f":"LOOKUP($V205,Data!$A$6:$A$1806,Data!$H$6:$H$1806)","v":10},{"$f":"LOOKUP($V205,Data!$A$6:$A$1806,Data!$I$6:$I$1806)","v":0},{"$f":"IF(LOOKUP($V205,Data!$A$6:$A$1806,Data!$J$6:$J$1806)>0,(LOOKUP($V205,Data!$A$6:$A$1806,Data!$J$6:$J$1806)*-1),LOOKUP($V205,Data!$A$6:$A$1806,Data!$J$6:$J$1806))","v":-103},{"$f":"LOOKUP($V205,Data!$A$6:$A$1806,Data!$K$6:$K$1806)","v":7693},30.898742675781254,null,null,null,null,null,null,null,null,null,null,null,null,null,null,80.292753722050705,-111.32597868084102,2.9998779296875E-2," "]
[null,40098.10532407384,{"$f":"LOOKUP(B206,Data!$A$6:$A$1806,Data!B$6:B$1806)","v":59.969001770019531},{"$f":"LOOKUP(B206,Data!$A$6:$A$1806,Data!C$6:C$1806)","v":3727.12109375},null,null,3090,{"$f":"(IF((C206-L$2)>0,(IF(C206<'Copy Results'!$C$3,((C206-L$2-L$5)/((L$4*L$2)-L$5)*G206*-1),(('Copy Results'!$C$3-L$2-L$5)/((L$4*L$2)-L$5)*G206*-1))),IF(C206>'Copy Results'!$C$2,((C206-L$2+L$5)/((L$4*L$2)-L$5)*G206*-1),(('Copy Results'!$C$2-L$2+L$5)/((L$4*L$2)-L$5)*G206*-1))))","v":31.928176879882809},31.409634923835959,null,null,0.61697247205071049,3793.0019680880987,{"$f":"AVERAGE(D$79:D206)","v":3767.3565196990967},{"$f":"AVERAGE(M$79:M206)","v":3807.7239576073189},3746.373749968318,{"$f":"AVERAGE(P$79:P206)","v":3707.5044842291204},null,null,null,null,40098.10532407384,{"$f":"LOOKUP($V206,Data!$A$6:$A$1806,Data!$B$6:$B$1806)","v":59.969001770019531},{"$f":"LOOKUP($V206,Data!$A$6:$A$1806,Data!$C$6:$C$1806)","v":3727.12109375},{"$f":"LOOKUP($V206,Data!$A$6:$A$1806,Data!$D$6:$D$1806)","v":350},{"$f":"IF($Z$1=\"+\",LOOKUP($V206,Data!$A$6:$A$1806,Data!$E$6:$E$1806)*-1,LOOKUP($V206,Data!$A$6:$A$1806,Data!$E$6:$E$1806))","v":231.17539978027344},{"$f":"LOOKUP($V206,Data!$A$6:$A$1806,Data!$F$6:$F$1806)","v":16},null,{"$f":"LOOKUP($V206,Data!$A$6:$A$1806,Data!$H$6:$H$1806)","v":10},{"$f":"LOOKUP($V206,Data!$A$6:$A$1806,Data!$I$6:$I$1806)","v":0},{"$f":"IF(LOOKUP($V206,Data!$A$6:$A$1806,Data!$J$6:$J$1806)>0,(LOOKUP($V206,Data!$A$6:$A$1806,Data!$J$6:$J$1806)*-1),LOOKUP($V206,Data!$A$6:$A$1806,Data!$J$6:$J$1806))","v":-103},{"$f":"LOOKUP($V206,Data!$A$6:$A$1806,Data!$K$6:$K$1806)","v":7694},31.928176879882809,null,null,null,null,null,null,null,null,null,null,null,null,null,null,82.011015440800705,-112.15418553104061,3.099822998046875E-2," "]
[null,40098.105347221986,{"$f":"LOOKUP(B207,Data!$A$6:$A$1806,Data!B$6:B$1806)","v":59.969001770019531},{"$f":"LOOKUP(B207,Data!$A$6:$A$1806,Data!C$6:C$1806)","v":3728.052978515625},null,null,3090,{"$f":"(IF((C207-L$2)>0,(IF(C207<'Copy Results'!$C$3,((C207-L$2-L$5)/((L$4*L$2)-L$5)*G207*-1),(('Copy Results'!$C$3-L$2-L$5)/((L$4*L$2)-L$5)*G207*-1))),IF(C207>'Copy Results'!$C$2,((C207-L$2+L$5)/((L$4*L$2)-L$5)*G207*-1),(('Copy Results'!$C$2-L$2+L$5)/((L$4*L$2)-L$5)*G207*-1))))","v":31.928176879882809},31.591124608452354,null,null,0.61697247205071049,3793.8004302447657,{"$f":"AVERAGE(D$79:D207)","v":3767.0518410852715},{"$f":"AVERAGE(M$79:M207)","v":3807.6160232866791},3746.9907224403687,{"$f":"AVERAGE(P$79:P207)","v":3707.8129704651456},null,null,null,null,40098.105347221986,{"$f":"LOOKUP($V207,Data!$A$6:$A$1806,Data!$B$6:$B$1806)","v":59.969001770019531},{"$f":"LOOKUP($V207,Data!$A$6:$A$1806,Data!$C$6:$C$1806)","v":3728.052978515625},{"$f":"LOOKUP($V207,Data!$A$6:$A$1806,Data!$D$6:$D$1806)","v":350},{"$f":"IF($Z$1=\"+\",LOOKUP($V207,Data!$A$6:$A$1806,Data!$E$6:$E$1806)*-1,LOOKUP($V207,Data!$A$6:$A$1806,Data!$E$6:$E$1806))","v":231.17539978027344},{"$f":"LOOKUP($V207,Data!$A$6:$A$1806,Data!$F$6:$F$1806)","v":16},null,{"$f":"LOOKUP($V207,Data!$A$6:$A$1806,Data!$H$6:$H$1806)","v":10},{"$f":"LOOKUP($V207,Data!$A$6:$A$1806,Data!$I$6:$I$1806)","v":0},{"$f":"IF(LOOKUP($V207,Data!$A$6:$A$1806,Data!$J$6:$J$1806)>0,(LOOKUP($V207,Data!$A$6:$A$1806,Data!$J$6:$J$1806)*-1),LOOKUP($V207,Data!$A$6:$A$1806,Data!$J$6:$J$1806))","v":-103},{"$f":"LOOKUP($V207,Data!$A$6:$A$1806,Data!$K$6:$K$1806)","v":7694},31.928176879882809,null,null,null,null,null,null,null,null,null,null,null,null,null,null,82.942900206425705,-113.4285847850396,3.099822998046875E-2," "]
[null,40098.105370370133,{"$f":"LOOKUP(B208,Data!$A$6:$A$1806,Data!B$6:B$1806)","v":59.970001220703125},{"$f":"LOOKUP(B208,Data!$A$6:$A$1806,Data!C$6:C$1806)","v":3731.1298828125},null,null,3090,{"$f":"(IF((C208-L$2)>0,(IF(C208<'Copy Results'!$C$3,((C208-L$2-L$5)/((L$4*L$2)-L$5)*G208*-1),(('Copy Results'!$C$3-L$2-L$5)/((L$4*L$2)-L$5)*G208*-1))),IF(C208>'Copy Results'!$C$2,((C208-L$2+L$5)/((L$4*L$2)-L$5)*G208*-1),(('Copy Results'!$C$2-L$2+L$5)/((L$4*L$2)-L$5)*G208*-1))))","v":30.898742675781254},31.348790932017469,null,null,{"$f":"IF(B208>G$3,0,(K$21*0.000023148/K$22))","v":0.61697247205071049},{"$f":"M207+L208+(I208-I207)","v":3794.1750690403815},{"$f":"AVERAGE(D$79:D208)","v":3766.775518329327},{"$f":"AVERAGE(M$79:M208)","v":3807.5126313309383},3747.6076949124194,{"$f":"AVERAGE(P$79:P208)","v":3708.1214567011707},null,null,null,null,40098.105370370133,{"$f":"LOOKUP($V208,Data!$A$6:$A$1806,Data!$B$6:$B$1806)","v":59.970001220703125},{"$f":"LOOKUP($V208,Data!$A$6:$A$1806,Data!$C$6:$C$1806)","v":3731.1298828125},{"$f":"LOOKUP($V208,Data!$A$6:$A$1806,Data!$D$6:$D$1806)","v":350},{"$f":"IF($Z$1=\"+\",LOOKUP($V208,Data!$A$6:$A$1806,Data!$E$6:$E$1806)*-1,LOOKUP($V208,Data!$A$6:$A$1806,Data!$E$6:$E$1806))","v":231.17539978027344},{"$f":"LOOKUP($V208,Data!$A$6:$A$1806,Data!$F$6:$F$1806)","v":16},null,{"$f":"LOOKUP($V208,Data!$A$6:$A$1806,Data!$H$6:$H$1806)","v":10},{"$f":"LOOKUP($V208,Data!$A$6:$A$1806,Data!$I$6:$I$1806)","v":0},{"$f":"IF(LOOKUP($V208,Data!$A$6:$A$1806,Data!$J$6:$J$1806)>0,(LOOKUP($V208,Data!$A$6:$A$1806,Data!$J$6:$J$1806)*-1),LOOKUP($V208,Data!$A$6:$A$1806,Data!$J$6:$J$1806))","v":-103},{"$f":"LOOKUP($V208,Data!$A$6:$A$1806,Data!$K$6:$K$1806)","v":7695},30.898742675781254,null,null,null,null,null,null,null,null,null,null,null,null,null,null,86.019804503300705,-119.26653998459958,2.9998779296875E-2," "]
[null,40098.105393518279,{"$f":"LOOKUP(B209,Data!$A$6:$A$1806,Data!B$6:B$1806)","v":59.971000671386719},{"$f":"LOOKUP(B209,Data!$A$6:$A$1806,Data!C$6:C$1806)","v":3732.530029296875},null,null,3090,{"$f":"(IF((C209-L$2)>0,(IF(C209<'Copy Results'!$C$3,((C209-L$2-L$5)/((L$4*L$2)-L$5)*G209*-1),(('Copy Results'!$C$3-L$2-L$5)/((L$4*L$2)-L$5)*G209*-1))),IF(C209>'Copy Results'!$C$2,((C209-L$2+L$5)/((L$4*L$2)-L$5)*G209*-1),(('Copy Results'!$C$2-L$2+L$5)/((L$4*L$2)-L$5)*G209*-1))))","v":29.869308471679688},30.830972070899247,null,null,0.61697247205071049,3794.2742226513142,{"$f":"AVERAGE(D$79:D209)","v":3766.5141023825145},{"$f":"AVERAGE(M$79:M209)","v":3807.4115747761321},3748.2246673844702,{"$f":"AVERAGE(P$79:P209)","v":3708.4299429371963},null,null,null,null,{"$f":"V208+TIME(0,0,$B$1)","v":40098.105393518279},{"$f":"LOOKUP($V209,Data!$A$6:$A$1806,Data!$B$6:$B$1806)","v":59.971000671386719},{"$f":"LOOKUP($V209,Data!$A$6:$A$1806,Data!$C$6:$C$1806)","v":3732.530029296875},{"$f":"LOOKUP($V209,Data!$A$6:$A$1806,Data!$D$6:$D$1806)","v":350},{"$f":"IF($Z$1=\"+\",LOOKUP($V209,Data!$A$6:$A$1806,Data!$E$6:$E$1806)*-1,LOOKUP($V209,Data!$A$6:$A$1806,Data!$E$6:$E$1806))","v":231.17539978027344},{"$f":"LOOKUP($V209,Data!$A$6:$A$1806,Data!$F$6:$F$1806)","v":16},null,{"$f":"LOOKUP($V209,Data!$A$6:$A$1806,Data!$H$6:$H$1806)","v":10},{"$f":"LOOKUP($V209,Data!$A$6:$A$1806,Data!$I$6:$I$1806)","v":0},{"$f":"IF(LOOKUP($V209,Data!$A$6:$A$1806,Data!$J$6:$J$1806)>0,(LOOKUP($V209,Data!$A$6:$A$1806,Data!$J$6:$J$1806)*-1),LOOKUP($V209,Data!$A$6:$A$1806,Data!$J$6:$J$1806))","v":-103},{"$f":"LOOKUP($V209,Data!$A$6:$A$1806,Data!$K$6:$K$1806)","v":7695},29.869308471679688,null,null,null,null,null,null,null,null,null,null,null,null,null,null,87.419950987675705,-122.91107144302796,2.899932861328125E-2," "]
[null,40098.105416666425,{"$f":"LOOKUP(B210,Data!$A$6:$A$1806,Data!B$6:B$1806)","v":59.972999572753906},{"$f":"LOOKUP(B210,Data!$A$6:$A$1806,Data!C$6:C$1806)","v":3733.3271484375},null,null,3090,{"$f":"(IF((C210-L$2)>0,(IF(C210<'Copy Results'!$C$3,((C210-L$2-L$5)/((L$4*L$2)-L$5)*G210*-1),(('Copy Results'!$C$3-L$2-L$5)/((L$4*L$2)-L$5)*G210*-1))),IF(C210>'Copy Results'!$C$2,((C210-L$2+L$5)/((L$4*L$2)-L$5)*G210*-1),(('Copy Results'!$C$2-L$2+L$5)/((L$4*L$2)-L$5)*G210*-1))))","v":27.810440063476566},29.773785868301307,null,null,0.61697247205071049,3793.8340089207668,{"$f":"AVERAGE(D$79:D210)","v":3766.2626860647492},{"$f":"AVERAGE(M$79:M210)","v":3807.3087144287429},{"$f":"P209+L210","v":3748.8416398565209},{"$f":"AVERAGE(P$79:P210)","v":3708.7384291732214},null,null,null,null,40098.105416666425,{"$f":"LOOKUP($V210,Data!$A$6:$A$1806,Data!$B$6:$B$1806)","v":59.972999572753906},{"$f":"LOOKUP($V210,Data!$A$6:$A$1806,Data!$C$6:$C$1806)","v":3733.3271484375},{"$f":"LOOKUP($V210,Data!$A$6:$A$1806,Data!$D$6:$D$1806)","v":350},{"$f":"IF($Z$1=\"+\",LOOKUP($V210,Data!$A$6:$A$1806,Data!$E$6:$E$1806)*-1,LOOKUP($V210,Data!$A$6:$A$1806,Data!$E$6:$E$1806))","v":226.63412475585937},{"$f":"LOOKUP($V210,Data!$A$6:$A$1806,Data!$F$6:$F$1806)","v":16},null,{"$f":"LOOKUP($V210,Data!$A$6:$A$1806,Data!$H$6:$H$1806)","v":10},{"$f":"LOOKUP($V210,Data!$A$6:$A$1806,Data!$I$6:$I$1806)","v":0},{"$f":"IF(LOOKUP($V210,Data!$A$6:$A$1806,Data!$J$6:$J$1806)>0,(LOOKUP($V210,Data!$A$6:$A$1806,Data!$J$6:$J$1806)*-1),LOOKUP($V210,Data!$A$6:$A$1806,Data!$J$6:$J$1806))","v":-103},{"$f":"LOOKUP($V210,Data!$A$6:$A$1806,Data!$K$6:$K$1806)","v":7695},27.810440063476566,null,null,null,null,null,null,null,null,null,null,null,null,null,null,{"$f":"D210-F$78+L210-AD210","v":88.217070128300705},{"$f":"IF(AW209=\" \",\" \",IF(L210=L209,AV210/((C210-E$78)*10),\" \"))","v":-127.61842698938798},2.700042724609375E-2," "]
[null,40098.105439814572,{"$f":"LOOKUP(B211,Data!$A$6:$A$1806,Data!B$6:B$1806)","v":59.972999572753906},{"$f":"LOOKUP(B211,Data!$A$6:$A$1806,Data!C$6:C$1806)","v":3736.53515625},null,null,3090,{"$f":"(IF((C211-L$2)>0,(IF(C211<'Copy Results'!$C$3,((C211-L$2-L$5)/((L$4*L$2)-L$5)*G211*-1),(('Copy Results'!$C$3-L$2-L$5)/((L$4*L$2)-L$5)*G211*-1))),IF(C211>'Copy Results'!$C$2,((C211-L$2+L$5)/((L$4*L$2)-L$5)*G211*-1),(('Copy Results'!$C$2-L$2+L$5)/((L$4*L$2)-L$5)*G211*-1))))","v":27.810440063476566},29.086614836612647,null,null,0.61697247205071049,3793.7638103611289,{"$f":"AVERAGE(D$79:D211)","v":3766.0391708029842},{"$f":"AVERAGE(M$79:M211)","v":3807.2068730447759},3749.4586123285717,{"$f":"AVERAGE(P$79:P211)","v":3709.046915409247},null,null,null,null,40098.105439814572,{"$f":"LOOKUP($V211,Data!$A$6:$A$1806,Data!$B$6:$B$1806)","v":59.972999572753906},{"$f":"LOOKUP($V211,Data!$A$6:$A$1806,Data!$C$6:$C$1806)","v":3736.53515625},{"$f":"LOOKUP($V211,Data!$A$6:$A$1806,Data!$D$6:$D$1806)","v":350},{"$f":"IF($Z$1=\"+\",LOOKUP($V211,Data!$A$6:$A$1806,Data!$E$6:$E$1806)*-1,LOOKUP($V211,Data!$A$6:$A$1806,Data!$E$6:$E$1806))","v":226.63412475585937},{"$f":"LOOKUP($V211,Data!$A$6:$A$1806,Data!$F$6:$F$1806)","v":16},null,{"$f":"LOOKUP($V211,Data!$A$6:$A$1806,Data!$H$6:$H$1806)","v":10},{"$f":"LOOKUP($V211,Data!$A$6:$A$1806,Data!$I$6:$I$1806)","v":0},{"$f":"IF(LOOKUP($V211,Data!$A$6:$A$1806,Data!$J$6:$J$1806)>0,(LOOKUP($V211,Data!$A$6:$A$1806,Data!$J$6:$J$1806)*-1),LOOKUP($V211,Data!$A$6:$A$1806,Data!$J$6:$J$1806))","v":-103},{"$f":"LOOKUP($V211,Data!$A$6:$A$1806,Data!$K$6:$K$1806)","v":7696},27.810440063476566,null,null,null,null,null,null,null,null,null,null,null,null,null,null,91.425077940800705,-132.25926248988119,2.700042724609375E-2," "]
[null,40098.105462962718,{"$f":"LOOKUP(B212,Data!$A$6:$A$1806,Data!B$6:B$1806)","v":59.976001739501953},{"$f":"LOOKUP(B212,Data!$A$6:$A$1806,Data!C$6:C$1806)","v":3736.907470703125},null,null,3090,{"$f":"(IF((C212-L$2)>0,(IF(C212<'Copy Results'!$C$3,((C212-L$2-L$5)/((L$4*L$2)-L$5)*G212*-1),(('Copy Results'!$C$3-L$2-L$5)/((L$4*L$2)-L$5)*G212*-1))),IF(C212>'Copy Results'!$C$2,((C212-L$2+L$5)/((L$4*L$2)-L$5)*G212*-1),(('Copy Results'!$C$2-L$2+L$5)/((L$4*L$2)-L$5)*G212*-1))))","v":24.718208312988281},27.557672553344119,null,null,0.61697247205071049,3792.8518405499112,{"$f":"AVERAGE(D$79:D212)","v":3765.8217700559703},{"$f":"AVERAGE(M$79:M212)","v":3807.0997459366054},3750.0755848006224,{"$f":"AVERAGE(P$79:P212)","v":3709.3554016452722},null,null,null,null,40098.105462962718,{"$f":"LOOKUP($V212,Data!$A$6:$A$1806,Data!$B$6:$B$1806)","v":59.976001739501953},{"$f":"LOOKUP($V212,Data!$A$6:$A$1806,Data!$C$6:$C$1806)","v":3736.907470703125},{"$f":"LOOKUP($V212,Data!$A$6:$A$1806,Data!$D$6:$D$1806)","v":350},{"$f":"IF($Z$1=\"+\",LOOKUP($V212,Data!$A$6:$A$1806,Data!$E$6:$E$1806)*-1,LOOKUP($V212,Data!$A$6:$A$1806,Data!$E$6:$E$1806))","v":226.63412475585937},{"$f":"LOOKUP($V212,Data!$A$6:$A$1806,Data!$F$6:$F$1806)","v":16},null,{"$f":"LOOKUP($V212,Data!$A$6:$A$1806,Data!$H$6:$H$1806)","v":10},{"$f":"LOOKUP($V212,Data!$A$6:$A$1806,Data!$I$6:$I$1806)","v":0},{"$f":"IF(LOOKUP($V212,Data!$A$6:$A$1806,Data!$J$6:$J$1806)>0,(LOOKUP($V212,Data!$A$6:$A$1806,Data!$J$6:$J$1806)*-1),LOOKUP($V212,Data!$A$6:$A$1806,Data!$J$6:$J$1806))","v":-103},{"$f":"LOOKUP($V212,Data!$A$6:$A$1806,Data!$K$6:$K$1806)","v":7696},24.718208312988281,null,null,null,null,null,null,null,null,null,null,null,null,null,null,91.797392393925705,-138.8272133710048,2.3998260498046875E-2," "]
[null,40098.105486110864,{"$f":"LOOKUP(B213,Data!$A$6:$A$1806,Data!B$6:B$1806)","v":59.978000640869141},{"$f":"LOOKUP(B213,Data!$A$6:$A$1806,Data!C$6:C$1806)","v":3736.82177734375},null,null,3090,{"$f":"(IF((C213-L$2)>0,(IF(C213<'Copy Results'!$C$3,((C213-L$2-L$5)/((L$4*L$2)-L$5)*G213*-1),(('Copy Results'!$C$3-L$2-L$5)/((L$4*L$2)-L$5)*G213*-1))),IF(C213>'Copy Results'!$C$2,((C213-L$2+L$5)/((L$4*L$2)-L$5)*G213*-1),(('Copy Results'!$C$2-L$2+L$5)/((L$4*L$2)-L$5)*G213*-1))))","v":22.659339904785156},25.843256126348482,null,null,0.61697247205071049,3791.7543965949662,{"$f":"AVERAGE(D$79:D213)","v":3765.606955295139},{"$f":"AVERAGE(M$79:M213)","v":3806.9860766822226},3750.6925572726732,{"$f":"AVERAGE(P$79:P213)","v":3709.6638878812978},null,null,null,null,40098.105486110864,{"$f":"LOOKUP($V213,Data!$A$6:$A$1806,Data!$B$6:$B$1806)","v":59.978000640869141},{"$f":"LOOKUP($V213,Data!$A$6:$A$1806,Data!$C$6:$C$1806)","v":3736.82177734375},{"$f":"LOOKUP($V213,Data!$A$6:$A$1806,Data!$D$6:$D$1806)","v":350},{"$f":"IF($Z$1=\"+\",LOOKUP($V213,Data!$A$6:$A$1806,Data!$E$6:$E$1806)*-1,LOOKUP($V213,Data!$A$6:$A$1806,Data!$E$6:$E$1806))","v":226.63412475585937},{"$f":"LOOKUP($V213,Data!$A$6:$A$1806,Data!$F$6:$F$1806)","v":16},null,{"$f":"LOOKUP($V213,Data!$A$6:$A$1806,Data!$H$6:$H$1806)","v":10},{"$f":"LOOKUP($V213,Data!$A$6:$A$1806,Data!$I$6:$I$1806)","v":0},{"$f":"IF(LOOKUP($V213,Data!$A$6:$A$1806,Data!$J$6:$J$1806)>0,(LOOKUP($V213,Data!$A$6:$A$1806,Data!$J$6:$J$1806)*-1),LOOKUP($V213,Data!$A$6:$A$1806,Data!$J$6:$J$1806))","v":-103},{"$f":"LOOKUP($V213,Data!$A$6:$A$1806,Data!$K$6:$K$1806)","v":7697},22.659339904785156,null,null,null,null,null,null,null,null,null,null,null,null,null,null,91.711699034550705,-143.02112080972202,2.1999359130859375E-2," "]
[null,40098.10550925901,{"$f":"LOOKUP(B214,Data!$A$6:$A$1806,Data!B$6:B$1806)","v":59.978000640869141},{"$f":"LOOKUP(B214,Data!$A$6:$A$1806,Data!C$6:C$1806)","v":3738.69921875},null,null,3090,{"$f":"(IF((C214-L$2)>0,(IF(C214<'Copy Results'!$C$3,((C214-L$2-L$5)/((L$4*L$2)-L$5)*G214*-1),(('Copy Results'!$C$3-L$2-L$5)/((L$4*L$2)-L$5)*G214*-1))),IF(C214>'Copy Results'!$C$2,((C214-L$2+L$5)/((L$4*L$2)-L$5)*G214*-1),(('Copy Results'!$C$2-L$2+L$5)/((L$4*L$2)-L$5)*G214*-1))))","v":22.659339904785156},24.728885448801318,null,null,0.61697247205071049,3791.25699838947,{"$f":"AVERAGE(D$79:D214)","v":3765.4091042911305},{"$f":"AVERAGE(M$79:M214)","v":3806.8704216947763},3751.3095297447239,{"$f":"AVERAGE(P$79:P214)","v":3709.9723741173229},null,null,null,null,40098.10550925901,{"$f":"LOOKUP($V214,Data!$A$6:$A$1806,Data!$B$6:$B$1806)","v":59.978000640869141},{"$f":"LOOKUP($V214,Data!$A$6:$A$1806,Data!$C$6:$C$1806)","v":3738.69921875},{"$f":"LOOKUP($V214,Data!$A$6:$A$1806,Data!$D$6:$D$1806)","v":350},{"$f":"IF($Z$1=\"+\",LOOKUP($V214,Data!$A$6:$A$1806,Data!$E$6:$E$1806)*-1,LOOKUP($V214,Data!$A$6:$A$1806,Data!$E$6:$E$1806))","v":226.63412475585937},{"$f":"LOOKUP($V214,Data!$A$6:$A$1806,Data!$F$6:$F$1806)","v":16},null,{"$f":"LOOKUP($V214,Data!$A$6:$A$1806,Data!$H$6:$H$1806)","v":10},{"$f":"LOOKUP($V214,Data!$A$6:$A$1806,Data!$I$6:$I$1806)","v":0},{"$f":"IF(LOOKUP($V214,Data!$A$6:$A$1806,Data!$J$6:$J$1806)>0,(LOOKUP($V214,Data!$A$6:$A$1806,Data!$J$6:$J$1806)*-1),LOOKUP($V214,Data!$A$6:$A$1806,Data!$J$6:$J$1806))","v":-103},{"$f":"LOOKUP($V214,Data!$A$6:$A$1806,Data!$K$6:$K$1806)","v":7697},22.659339904785156,null,null,null,null,null,null,null,null,null,null,null,null,null,null,93.589140440800705,-145.94892366369922,2.1999359130859375E-2," "]
[null,40098.105532407157,{"$f":"LOOKUP(B215,Data!$A$6:$A$1806,Data!B$6:B$1806)","v":59.976001739501953},{"$f":"LOOKUP(B215,Data!$A$6:$A$1806,Data!C$6:C$1806)","v":3739.94384765625},null,null,3090,{"$f":"(IF((C215-L$2)>0,(IF(C215<'Copy Results'!$C$3,((C215-L$2-L$5)/((L$4*L$2)-L$5)*G215*-1),(('Copy Results'!$C$3-L$2-L$5)/((L$4*L$2)-L$5)*G215*-1))),IF(C215>'Copy Results'!$C$2,((C215-L$2+L$5)/((L$4*L$2)-L$5)*G215*-1),(('Copy Results'!$C$2-L$2+L$5)/((L$4*L$2)-L$5)*G215*-1))))","v":24.718208312988281},24.725148451266755,null,null,0.61697247205071049,3791.8702338639864,{"$f":"AVERAGE(D$79:D215)","v":3765.2232265054745},{"$f":"AVERAGE(M$79:M215)","v":3806.7609312726536},3751.9265022167747,{"$f":"AVERAGE(P$79:P215)","v":3710.2808603533485},null,null,null,null,40098.105532407157,{"$f":"LOOKUP($V215,Data!$A$6:$A$1806,Data!$B$6:$B$1806)","v":59.976001739501953},{"$f":"LOOKUP($V215,Data!$A$6:$A$1806,Data!$C$6:$C$1806)","v":3739.94384765625},{"$f":"LOOKUP($V215,Data!$A$6:$A$1806,Data!$D$6:$D$1806)","v":350},{"$f":"IF($Z$1=\"+\",LOOKUP($V215,Data!$A$6:$A$1806,Data!$E$6:$E$1806)*-1,LOOKUP($V215,Data!$A$6:$A$1806,Data!$E$6:$E$1806))","v":227.25506591796875},{"$f":"LOOKUP($V215,Data!$A$6:$A$1806,Data!$F$6:$F$1806)","v":16},null,{"$f":"LOOKUP($V215,Data!$A$6:$A$1806,Data!$H$6:$H$1806)","v":10},{"$f":"LOOKUP($V215,Data!$A$6:$A$1806,Data!$I$6:$I$1806)","v":0},{"$f":"IF(LOOKUP($V215,Data!$A$6:$A$1806,Data!$J$6:$J$1806)>0,(LOOKUP($V215,Data!$A$6:$A$1806,Data!$J$6:$J$1806)*-1),LOOKUP($V215,Data!$A$6:$A$1806,Data!$J$6:$J$1806))","v":-103},{"$f":"LOOKUP($V215,Data!$A$6:$A$1806,Data!$K$6:$K$1806)","v":7697},24.718208312988281,null,null,null,null,null,null,null,null,null,null,null,null,null,null,94.833769347050705,-143.41919294856609,2.3998260498046875E-2," "]
[null,40098.105555555303,{"$f":"LOOKUP(B216,Data!$A$6:$A$1806,Data!B$6:B$1806)","v":59.978000640869141},{"$f":"LOOKUP(B216,Data!$A$6:$A$1806,Data!C$6:C$1806)","v":3740.876953125},null,null,3090,{"$f":"(IF((C216-L$2)>0,(IF(C216<'Copy Results'!$C$3,((C216-L$2-L$5)/((L$4*L$2)-L$5)*G216*-1),(('Copy Results'!$C$3-L$2-L$5)/((L$4*L$2)-L$5)*G216*-1))),IF(C216>'Copy Results'!$C$2,((C216-L$2+L$5)/((L$4*L$2)-L$5)*G216*-1),(('Copy Results'!$C$2-L$2+L$5)/((L$4*L$2)-L$5)*G216*-1))))","v":22.659339904785156},24.002115459998194,null,null,0.61697247205071049,3791.7641733447686,{"$f":"AVERAGE(D$79:D216)","v":3765.0468042346015},{"$f":"AVERAGE(M$79:M216)","v":3806.6522591137564},3752.5434746888254,{"$f":"AVERAGE(P$79:P216)","v":3710.5893465893741},null,null,null,null,40098.105555555303,{"$f":"LOOKUP($V216,Data!$A$6:$A$1806,Data!$B$6:$B$1806)","v":59.978000640869141},{"$f":"LOOKUP($V216,Data!$A$6:$A$1806,Data!$C$6:$C$1806)","v":3740.876953125},{"$f":"LOOKUP($V216,Data!$A$6:$A$1806,Data!$D$6:$D$1806)","v":350},{"$f":"IF($Z$1=\"+\",LOOKUP($V216,Data!$A$6:$A$1806,Data!$E$6:$E$1806)*-1,LOOKUP($V216,Data!$A$6:$A$1806,Data!$E$6:$E$1806))","v":227.25506591796875},{"$f":"LOOKUP($V216,Data!$A$6:$A$1806,Data!$F$6:$F$1806)","v":16},null,{"$f":"LOOKUP($V216,Data!$A$6:$A$1806,Data!$H$6:$H$1806)","v":10},{"$f":"LOOKUP($V216,Data!$A$6:$A$1806,Data!$I$6:$I$1806)","v":0},{"$f":"IF(LOOKUP($V216,Data!$A$6:$A$1806,Data!$J$6:$J$1806)>0,(LOOKUP($V216,Data!$A$6:$A$1806,Data!$J$6:$J$1806)*-1),LOOKUP($V216,Data!$A$6:$A$1806,Data!$J$6:$J$1806))","v":-103},{"$f":"LOOKUP($V216,Data!$A$6:$A$1806,Data!$K$6:$K$1806)","v":7698},22.659339904785156,null,null,null,null,null,null,null,null,null,null,null,null,null,null,95.766874815800705,-149.34502268287693,2.1999359130859375E-2," "]
[null,40098.105578703449,{"$f":"LOOKUP(B217,Data!$A$6:$A$1806,Data!B$6:B$1806)","v":59.976001739501953},{"$f":"LOOKUP(B217,Data!$A$6:$A$1806,Data!C$6:C$1806)","v":3741.793701171875},null,null,3090,{"$f":"(IF((C217-L$2)>0,(IF(C217<'Copy Results'!$C$3,((C217-L$2-L$5)/((L$4*L$2)-L$5)*G217*-1),(('Copy Results'!$C$3-L$2-L$5)/((L$4*L$2)-L$5)*G217*-1))),IF(C217>'Copy Results'!$C$2,((C217-L$2+L$5)/((L$4*L$2)-L$5)*G217*-1),(('Copy Results'!$C$2-L$2+L$5)/((L$4*L$2)-L$5)*G217*-1))))","v":24.718208312988281},24.252747958544724,null,null,0.61697247205071049,3792.6317783153659,{"$f":"AVERAGE(D$79:D217)","v":3764.879515723359},{"$f":"AVERAGE(M$79:M217)","v":3806.5513923454228},3753.1604471608762,{"$f":"AVERAGE(P$79:P217)","v":3710.8978328253993},null,null,null,null,40098.105578703449,{"$f":"LOOKUP($V217,Data!$A$6:$A$1806,Data!$B$6:$B$1806)","v":59.976001739501953},{"$f":"LOOKUP($V217,Data!$A$6:$A$1806,Data!$C$6:$C$1806)","v":3741.793701171875},{"$f":"LOOKUP($V217,Data!$A$6:$A$1806,Data!$D$6:$D$1806)","v":350},{"$f":"IF($Z$1=\"+\",LOOKUP($V217,Data!$A$6:$A$1806,Data!$E$6:$E$1806)*-1,LOOKUP($V217,Data!$A$6:$A$1806,Data!$E$6:$E$1806))","v":227.25506591796875},{"$f":"LOOKUP($V217,Data!$A$6:$A$1806,Data!$F$6:$F$1806)","v":16},null,{"$f":"LOOKUP($V217,Data!$A$6:$A$1806,Data!$H$6:$H$1806)","v":10},{"$f":"LOOKUP($V217,Data!$A$6:$A$1806,Data!$I$6:$I$1806)","v":0},{"$f":"IF(LOOKUP($V217,Data!$A$6:$A$1806,Data!$J$6:$J$1806)>0,(LOOKUP($V217,Data!$A$6:$A$1806,Data!$J$6:$J$1806)*-1),LOOKUP($V217,Data!$A$6:$A$1806,Data!$J$6:$J$1806))","v":-103},{"$f":"LOOKUP($V217,Data!$A$6:$A$1806,Data!$K$6:$K$1806)","v":7698},24.718208312988281,null,null,null,null,null,null,null,null,null,null,null,null,null,null,96.683622862675705,-146.21676706283657,2.3998260498046875E-2," "]
[null,40098.105601851596,{"$f":"LOOKUP(B218,Data!$A$6:$A$1806,Data!B$6:B$1806)","v":59.978000640869141},{"$f":"LOOKUP(B218,Data!$A$6:$A$1806,Data!C$6:C$1806)","v":3745.233642578125},null,null,3090,{"$f":"(IF((C218-L$2)>0,(IF(C218<'Copy Results'!$C$3,((C218-L$2-L$5)/((L$4*L$2)-L$5)*G218*-1),(('Copy Results'!$C$3-L$2-L$5)/((L$4*L$2)-L$5)*G218*-1))),IF(C218>'Copy Results'!$C$2,((C218-L$2+L$5)/((L$4*L$2)-L$5)*G218*-1),(('Copy Results'!$C$2-L$2+L$5)/((L$4*L$2)-L$5)*G218*-1))))","v":22.659339904785156},23.695055139728876,null,null,0.61697247205071049,3792.6910579686009,{"$f":"AVERAGE(D$79:D218)","v":3764.7391880580358},{"$f":"AVERAGE(M$79:M218)","v":3806.4523899570172},3753.7774196329269,{"$f":"AVERAGE(P$79:P218)","v":3711.2063190614249},null,null,null,null,40098.105601851596,{"$f":"LOOKUP($V218,Data!$A$6:$A$1806,Data!$B$6:$B$1806)","v":59.978000640869141},{"$f":"LOOKUP($V218,Data!$A$6:$A$1806,Data!$C$6:$C$1806)","v":3745.233642578125},{"$f":"LOOKUP($V218,Data!$A$6:$A$1806,Data!$D$6:$D$1806)","v":350},{"$f":"IF($Z$1=\"+\",LOOKUP($V218,Data!$A$6:$A$1806,Data!$E$6:$E$1806)*-1,LOOKUP($V218,Data!$A$6:$A$1806,Data!$E$6:$E$1806))","v":227.25506591796875},{"$f":"LOOKUP($V218,Data!$A$6:$A$1806,Data!$F$6:$F$1806)","v":16},null,{"$f":"LOOKUP($V218,Data!$A$6:$A$1806,Data!$H$6:$H$1806)","v":10},{"$f":"LOOKUP($V218,Data!$A$6:$A$1806,Data!$I$6:$I$1806)","v":0},{"$f":"IF(LOOKUP($V218,Data!$A$6:$A$1806,Data!$J$6:$J$1806)>0,(LOOKUP($V218,Data!$A$6:$A$1806,Data!$J$6:$J$1806)*-1),LOOKUP($V218,Data!$A$6:$A$1806,Data!$J$6:$J$1806))","v":-103},{"$f":"LOOKUP($V218,Data!$A$6:$A$1806,Data!$K$6:$K$1806)","v":7698.33},22.659339904785156,null,null,null,null,null,null,null,null,null,null,null,null,null,null,100.1235642689257,-156.13912436418033,2.1999359130859375E-2," "]
[null,40098.105624999742,{"$f":"LOOKUP(B219,Data!$A$6:$A$1806,Data!B$6:B$1806)","v":59.977001190185547},{"$f":"LOOKUP(B219,Data!$A$6:$A$1806,Data!C$6:C$1806)","v":3746.60791015625},null,null,3090,{"$f":"(IF((C219-L$2)>0,(IF(C219<'Copy Results'!$C$3,((C219-L$2-L$5)/((L$4*L$2)-L$5)*G219*-1),(('Copy Results'!$C$3-L$2-L$5)/((L$4*L$2)-L$5)*G219*-1))),IF(C219>'Copy Results'!$C$2,((C219-L$2+L$5)/((L$4*L$2)-L$5)*G219*-1),(('Copy Results'!$C$2-L$2+L$5)/((L$4*L$2)-L$5)*G219*-1))))","v":23.688774108886719},23.692856778934122,null,null,0.61697247205071049,3793.3058320798568,{"$f":"AVERAGE(D$79:D219)","v":3764.6105974346187},{"$f":"AVERAGE(M$79:M219)","v":3806.3591519578886},3754.3943921049777,{"$f":"AVERAGE(P$79:P219)","v":3711.5148052974505},null,null,null,null,40098.105624999742,{"$f":"LOOKUP($V219,Data!$A$6:$A$1806,Data!$B$6:$B$1806)","v":59.977001190185547},{"$f":"LOOKUP($V219,Data!$A$6:$A$1806,Data!$C$6:$C$1806)","v":3746.60791015625},{"$f":"LOOKUP($V219,Data!$A$6:$A$1806,Data!$D$6:$D$1806)","v":350},{"$f":"IF($Z$1=\"+\",LOOKUP($V219,Data!$A$6:$A$1806,Data!$E$6:$E$1806)*-1,LOOKUP($V219,Data!$A$6:$A$1806,Data!$E$6:$E$1806))","v":227.25506591796875},{"$f":"LOOKUP($V219,Data!$A$6:$A$1806,Data!$F$6:$F$1806)","v":16},null,{"$f":"LOOKUP($V219,Data!$A$6:$A$1806,Data!$H$6:$H$1806)","v":10},{"$f":"LOOKUP($V219,Data!$A$6:$A$1806,Data!$I$6:$I$1806)","v":0},{"$f":"IF(LOOKUP($V219,Data!$A$6:$A$1806,Data!$J$6:$J$1806)>0,(LOOKUP($V219,Data!$A$6:$A$1806,Data!$J$6:$J$1806)*-1),LOOKUP($V219,Data!$A$6:$A$1806,Data!$J$6:$J$1806))","v":-103},{"$f":"LOOKUP($V219,Data!$A$6:$A$1806,Data!$K$6:$K$1806)","v":7698.66},23.688774108886719,null,null,null,null,null,null,null,null,null,null,null,null,null,null,101.4978318470507,-155.85310712334328,2.2998809814453125E-2," "]
[null,40098.105648147888,{"$f":"LOOKUP(B220,Data!$A$6:$A$1806,Data!B$6:B$1806)","v":59.979999542236328},{"$f":"LOOKUP(B220,Data!$A$6:$A$1806,Data!C$6:C$1806)","v":3748.2998046875},null,null,3090,{"$f":"(IF((C220-L$2)>0,(IF(C220<'Copy Results'!$C$3,((C220-L$2-L$5)/((L$4*L$2)-L$5)*G220*-1),(('Copy Results'!$C$3-L$2-L$5)/((L$4*L$2)-L$5)*G220*-1))),IF(C220>'Copy Results'!$C$2,((C220-L$2+L$5)/((L$4*L$2)-L$5)*G220*-1),(('Copy Results'!$C$2-L$2+L$5)/((L$4*L$2)-L$5)*G220*-1))))","v":20.600471496582031},22.610521930110888,null,null,0.61697247205071049,3792.8404697030842,{"$f":"AVERAGE(D$79:D220)","v":3764.4957326969629},{"$f":"AVERAGE(M$79:M220)","v":3806.2639499701786},3755.0113645770284,{"$f":"AVERAGE(P$79:P220)","v":3711.8232915334761},null,null,null,null,40098.105648147888,{"$f":"LOOKUP($V220,Data!$A$6:$A$1806,Data!$B$6:$B$1806)","v":59.979999542236328},{"$f":"LOOKUP($V220,Data!$A$6:$A$1806,Data!$C$6:$C$1806)","v":3748.2998046875},{"$f":"LOOKUP($V220,Data!$A$6:$A$1806,Data!$D$6:$D$1806)","v":350},{"$f":"IF($Z$1=\"+\",LOOKUP($V220,Data!$A$6:$A$1806,Data!$E$6:$E$1806)*-1,LOOKUP($V220,Data!$A$6:$A$1806,Data!$E$6:$E$1806))","v":229.29022216796875},{"$f":"LOOKUP($V220,Data!$A$6:$A$1806,Data!$F$6:$F$1806)","v":16},null,{"$f":"LOOKUP($V220,Data!$A$6:$A$1806,Data!$H$6:$H$1806)","v":10},{"$f":"LOOKUP($V220,Data!$A$6:$A$1806,Data!$I$6:$I$1806)","v":0},{"$f":"IF(LOOKUP($V220,Data!$A$6:$A$1806,Data!$J$6:$J$1806)>0,(LOOKUP($V220,Data!$A$6:$A$1806,Data!$J$6:$J$1806)*-1),LOOKUP($V220,Data!$A$6:$A$1806,Data!$J$6:$J$1806))","v":-103},{"$f":"LOOKUP($V220,Data!$A$6:$A$1806,Data!$K$6:$K$1806)","v":7698.99},20.600471496582031,null,null,null,null,null,null,null,null,null,null,null,null,null,null,103.1897263783007,-166.09833755762745,2.0000457763671875E-2," "]
[null,40098.105671296034,{"$f":"LOOKUP(B221,Data!$A$6:$A$1806,Data!B$6:B$1806)","v":59.981998443603516},{"$f":"LOOKUP(B221,Data!$A$6:$A$1806,Data!C$6:C$1806)","v":3750.71630859375},null,null,3090,{"$f":"(IF((C221-L$2)>0,(IF(C221<'Copy Results'!$C$3,((C221-L$2-L$5)/((L$4*L$2)-L$5)*G221*-1),(('Copy Results'!$C$3-L$2-L$5)/((L$4*L$2)-L$5)*G221*-1))),IF(C221>'Copy Results'!$C$2,((C221-L$2+L$5)/((L$4*L$2)-L$5)*G221*-1),(('Copy Results'!$C$2-L$2+L$5)/((L$4*L$2)-L$5)*G221*-1))))","v":18.541603088378906},21.186400335504693,null,null,0.61697247205071049,3792.0333205805287,{"$f":"AVERAGE(D$79:D221)","v":3764.3993730878497},{"$f":"AVERAGE(M$79:M221)","v":3806.1644350793417},3755.6283370490792,{"$f":"AVERAGE(P$79:P221)","v":3712.1317777695012},null,null,null,null,40098.105671296034,{"$f":"LOOKUP($V221,Data!$A$6:$A$1806,Data!$B$6:$B$1806)","v":59.981998443603516},{"$f":"LOOKUP($V221,Data!$A$6:$A$1806,Data!$C$6:$C$1806)","v":3750.71630859375},{"$f":"LOOKUP($V221,Data!$A$6:$A$1806,Data!$D$6:$D$1806)","v":350},{"$f":"IF($Z$1=\"+\",LOOKUP($V221,Data!$A$6:$A$1806,Data!$E$6:$E$1806)*-1,LOOKUP($V221,Data!$A$6:$A$1806,Data!$E$6:$E$1806))","v":229.29022216796875},{"$f":"LOOKUP($V221,Data!$A$6:$A$1806,Data!$F$6:$F$1806)","v":16},null,{"$f":"LOOKUP($V221,Data!$A$6:$A$1806,Data!$H$6:$H$1806)","v":10},{"$f":"LOOKUP($V221,Data!$A$6:$A$1806,Data!$I$6:$I$1806)","v":0},{"$f":"IF(LOOKUP($V221,Data!$A$6:$A$1806,Data!$J$6:$J$1806)>0,(LOOKUP($V221,Data!$A$6:$A$1806,Data!$J$6:$J$1806)*-1),LOOKUP($V221,Data!$A$6:$A$1806,Data!$J$6:$J$1806))","v":-103},{"$f":"LOOKUP($V221,Data!$A$6:$A$1806,Data!$K$6:$K$1806)","v":7699.32},18.541603088378906,null,null,null,null,null,null,null,null,null,null,null,null,null,null,105.6062302845507,-175.63925377985336,1.8001556396484375E-2," "]
[null,40098.105694444181,{"$f":"LOOKUP(B222,Data!$A$6:$A$1806,Data!B$6:B$1806)","v":59.980998992919922},{"$f":"LOOKUP(B222,Data!$A$6:$A$1806,Data!C$6:C$1806)","v":3751.5576171875},null,null,3090,{"$f":"(IF((C222-L$2)>0,(IF(C222<'Copy Results'!$C$3,((C222-L$2-L$5)/((L$4*L$2)-L$5)*G222*-1),(('Copy Results'!$C$3-L$2-L$5)/((L$4*L$2)-L$5)*G222*-1))),IF(C222>'Copy Results'!$C$2,((C222-L$2+L$5)/((L$4*L$2)-L$5)*G222*-1),(('Copy Results'!$C$2-L$2+L$5)/((L$4*L$2)-L$5)*G222*-1))))","v":19.571037292480469},20.621023270446216,null,null,0.61697247205071049,3792.0849159875211,{"$f":"AVERAGE(D$79:D222)","v":3764.3101942274307},{"$f":"AVERAGE(M$79:M222)","v":3806.0666606412042},3756.2453095211299,{"$f":"AVERAGE(P$79:P222)","v":3712.4402640055264},null,null,null,null,40098.105694444181,{"$f":"LOOKUP($V222,Data!$A$6:$A$1806,Data!$B$6:$B$1806)","v":59.980998992919922},{"$f":"LOOKUP($V222,Data!$A$6:$A$1806,Data!$C$6:$C$1806)","v":3751.5576171875},{"$f":"LOOKUP($V222,Data!$A$6:$A$1806,Data!$D$6:$D$1806)","v":350},{"$f":"IF($Z$1=\"+\",LOOKUP($V222,Data!$A$6:$A$1806,Data!$E$6:$E$1806)*-1,LOOKUP($V222,Data!$A$6:$A$1806,Data!$E$6:$E$1806))","v":229.29022216796875},{"$f":"LOOKUP($V222,Data!$A$6:$A$1806,Data!$F$6:$F$1806)","v":16},null,{"$f":"LOOKUP($V222,Data!$A$6:$A$1806,Data!$H$6:$H$1806)","v":10},{"$f":"LOOKUP($V222,Data!$A$6:$A$1806,Data!$I$6:$I$1806)","v":0},{"$f":"IF(LOOKUP($V222,Data!$A$6:$A$1806,Data!$J$6:$J$1806)>0,(LOOKUP($V222,Data!$A$6:$A$1806,Data!$J$6:$J$1806)*-1),LOOKUP($V222,Data!$A$6:$A$1806,Data!$J$6:$J$1806))","v":-103},{"$f":"LOOKUP($V222,Data!$A$6:$A$1806,Data!$K$6:$K$1806)","v":7699.65},19.571037292480469,null,null,null,null,null,null,null,null,null,null,null,null,null,null,106.4475388783007,-174.14379250782511,1.9001007080078125E-2," "]
[null,40098.105717592327,{"$f":"LOOKUP(B223,Data!$A$6:$A$1806,Data!B$6:B$1806)","v":59.979999542236328},{"$f":"LOOKUP(B223,Data!$A$6:$A$1806,Data!C$6:C$1806)","v":3752.74755859375},null,null,3090,{"$f":"(IF((C223-L$2)>0,(IF(C223<'Copy Results'!$C$3,((C223-L$2-L$5)/((L$4*L$2)-L$5)*G223*-1),(('Copy Results'!$C$3-L$2-L$5)/((L$4*L$2)-L$5)*G223*-1))),IF(C223>'Copy Results'!$C$2,((C223-L$2+L$5)/((L$4*L$2)-L$5)*G223*-1),(('Copy Results'!$C$2-L$2+L$5)/((L$4*L$2)-L$5)*G223*-1))))","v":20.600471496582031},20.613830149593749,null,null,0.61697247205071049,3792.6946953387192,{"$f":"AVERAGE(D$79:D223)","v":3764.2304519127156},{"$f":"AVERAGE(M$79:M223)","v":3805.9744401908424},3756.8622819931807,{"$f":"AVERAGE(P$79:P223)","v":3712.7487502415515},null,null,null,null,40098.105717592327,{"$f":"LOOKUP($V223,Data!$A$6:$A$1806,Data!$B$6:$B$1806)","v":59.979999542236328},{"$f":"LOOKUP($V223,Data!$A$6:$A$1806,Data!$C$6:$C$1806)","v":3752.74755859375},{"$f":"LOOKUP($V223,Data!$A$6:$A$1806,Data!$D$6:$D$1806)","v":350},{"$f":"IF($Z$1=\"+\",LOOKUP($V223,Data!$A$6:$A$1806,Data!$E$6:$E$1806)*-1,LOOKUP($V223,Data!$A$6:$A$1806,Data!$E$6:$E$1806))","v":229.29022216796875},{"$f":"LOOKUP($V223,Data!$A$6:$A$1806,Data!$F$6:$F$1806)","v":16},null,{"$f":"LOOKUP($V223,Data!$A$6:$A$1806,Data!$H$6:$H$1806)","v":10},{"$f":"LOOKUP($V223,Data!$A$6:$A$1806,Data!$I$6:$I$1806)","v":0},{"$f":"IF(LOOKUP($V223,Data!$A$6:$A$1806,Data!$J$6:$J$1806)>0,(LOOKUP($V223,Data!$A$6:$A$1806,Data!$J$6:$J$1806)*-1),LOOKUP($V223,Data!$A$6:$A$1806,Data!$J$6:$J$1806))","v":-103},{"$f":"LOOKUP($V223,Data!$A$6:$A$1806,Data!$K$6:$K$1806)","v":7699.98},20.600471496582031,null,null,null,null,null,null,null,null,null,null,null,null,null,null,107.6374802845507,-173.25762129276603,2.0000457763671875E-2," "]
[null,40098.105740740473,{"$f":"LOOKUP(B224,Data!$A$6:$A$1806,Data!B$6:B$1806)","v":59.979000091552734},{"$f":"LOOKUP(B224,Data!$A$6:$A$1806,Data!C$6:C$1806)","v":3755.5986328125},null,null,3090,{"$f":"(IF((C224-L$2)>0,(IF(C224<'Copy Results'!$C$3,((C224-L$2-L$5)/((L$4*L$2)-L$5)*G224*-1),(('Copy Results'!$C$3-L$2-L$5)/((L$4*L$2)-L$5)*G224*-1))),IF(C224>'Copy Results'!$C$2,((C224-L$2+L$5)/((L$4*L$2)-L$5)*G224*-1),(('Copy Results'!$C$2-L$2+L$5)/((L$4*L$2)-L$5)*G224*-1))))","v":21.629905700683594},20.969456592475193,null,null,0.61697247205071049,3793.6672942536516,{"$f":"AVERAGE(D$79:D224)","v":3764.1713298640839},{"$f":"AVERAGE(M$79:M224)","v":3805.8901446707241},3757.4792544652314,{"$f":"AVERAGE(P$79:P224)","v":3713.0572364775767},null,null,null,null,40098.105740740473,{"$f":"LOOKUP($V224,Data!$A$6:$A$1806,Data!$B$6:$B$1806)","v":59.979000091552734},{"$f":"LOOKUP($V224,Data!$A$6:$A$1806,Data!$C$6:$C$1806)","v":3755.5986328125},{"$f":"LOOKUP($V224,Data!$A$6:$A$1806,Data!$D$6:$D$1806)","v":350},{"$f":"IF($Z$1=\"+\",LOOKUP($V224,Data!$A$6:$A$1806,Data!$E$6:$E$1806)*-1,LOOKUP($V224,Data!$A$6:$A$1806,Data!$E$6:$E$1806))","v":229.29022216796875},{"$f":"LOOKUP($V224,Data!$A$6:$A$1806,Data!$F$6:$F$1806)","v":16},null,{"$f":"LOOKUP($V224,Data!$A$6:$A$1806,Data!$H$6:$H$1806)","v":10},{"$f":"LOOKUP($V224,Data!$A$6:$A$1806,Data!$I$6:$I$1806)","v":0},{"$f":"IF(LOOKUP($V224,Data!$A$6:$A$1806,Data!$J$6:$J$1806)>0,(LOOKUP($V224,Data!$A$6:$A$1806,Data!$J$6:$J$1806)*-1),LOOKUP($V224,Data!$A$6:$A$1806,Data!$J$6:$J$1806))","v":-103},{"$f":"LOOKUP($V224,Data!$A$6:$A$1806,Data!$K$6:$K$1806)","v":7700.31},21.629905700683594,null,null,null,null,null,null,null,null,null,null,null,null,null,null,110.4885545033007,-175.03100326605838,2.0999908447265625E-2," "]
[null,40098.10576388862,{"$f":"LOOKUP(B225,Data!$A$6:$A$1806,Data!B$6:B$1806)","v":59.979999542236328},{"$f":"LOOKUP(B225,Data!$A$6:$A$1806,Data!C$6:C$1806)","v":3756.4072265625},null,null,3090,{"$f":"(IF((C225-L$2)>0,(IF(C225<'Copy Results'!$C$3,((C225-L$2-L$5)/((L$4*L$2)-L$5)*G225*-1),(('Copy Results'!$C$3-L$2-L$5)/((L$4*L$2)-L$5)*G225*-1))),IF(C225>'Copy Results'!$C$2,((C225-L$2+L$5)/((L$4*L$2)-L$5)*G225*-1),(('Copy Results'!$C$2-L$2+L$5)/((L$4*L$2)-L$5)*G225*-1))))","v":20.600471496582031},20.840311808912585,null,null,0.61697247205071049,3794.1551219421399,{"$f":"AVERAGE(D$79:D225)","v":3764.1185128348216},{"$f":"AVERAGE(M$79:M225)","v":3805.8103145841355},3758.0962269372822,{"$f":"AVERAGE(P$79:P225)","v":3713.3657227136023},null,null,null,null,40098.10576388862,{"$f":"LOOKUP($V225,Data!$A$6:$A$1806,Data!$B$6:$B$1806)","v":59.979999542236328},{"$f":"LOOKUP($V225,Data!$A$6:$A$1806,Data!$C$6:$C$1806)","v":3756.4072265625},{"$f":"LOOKUP($V225,Data!$A$6:$A$1806,Data!$D$6:$D$1806)","v":350},{"$f":"IF($Z$1=\"+\",LOOKUP($V225,Data!$A$6:$A$1806,Data!$E$6:$E$1806)*-1,LOOKUP($V225,Data!$A$6:$A$1806,Data!$E$6:$E$1806))","v":221.46136474609375},{"$f":"LOOKUP($V225,Data!$A$6:$A$1806,Data!$F$6:$F$1806)","v":16},null,{"$f":"LOOKUP($V225,Data!$A$6:$A$1806,Data!$H$6:$H$1806)","v":10},{"$f":"LOOKUP($V225,Data!$A$6:$A$1806,Data!$I$6:$I$1806)","v":0},{"$f":"IF(LOOKUP($V225,Data!$A$6:$A$1806,Data!$J$6:$J$1806)>0,(LOOKUP($V225,Data!$A$6:$A$1806,Data!$J$6:$J$1806)*-1),LOOKUP($V225,Data!$A$6:$A$1806,Data!$J$6:$J$1806))","v":-103},{"$f":"LOOKUP($V225,Data!$A$6:$A$1806,Data!$K$6:$K$1806)","v":7700.64},20.600471496582031,null,null,null,null,null,null,null,null,null,null,null,null,null,null,111.2971482533007,-179.14837017791959,2.0000457763671875E-2," "]
[null,40098.105787036766,{"$f":"LOOKUP(B226,Data!$A$6:$A$1806,Data!B$6:B$1806)","v":59.979000091552734},{"$f":"LOOKUP(B226,Data!$A$6:$A$1806,Data!C$6:C$1806)","v":3756.975341796875},null,null,3090,{"$f":"(IF((C226-L$2)>0,(IF(C226<'Copy Results'!$C$3,((C226-L$2-L$5)/((L$4*L$2)-L$5)*G226*-1),(('Copy Results'!$C$3-L$2-L$5)/((L$4*L$2)-L$5)*G226*-1))),IF(C226>'Copy Results'!$C$2,((C226-L$2+L$5)/((L$4*L$2)-L$5)*G226*-1),(('Copy Results'!$C$2-L$2+L$5)/((L$4*L$2)-L$5)*G226*-1))))","v":21.629905700683594},21.116669671032437,null,null,0.61697247205071049,3795.0484522763104,{"$f":"AVERAGE(D$79:D226)","v":3764.0702481656463},{"$f":"AVERAGE(M$79:M226)","v":3805.7375992982716},3758.7131994093329,{"$f":"AVERAGE(P$79:P226)","v":3713.6742089496274},null,null,null,null,40098.105787036766,{"$f":"LOOKUP($V226,Data!$A$6:$A$1806,Data!$B$6:$B$1806)","v":59.979000091552734},{"$f":"LOOKUP($V226,Data!$A$6:$A$1806,Data!$C$6:$C$1806)","v":3756.975341796875},{"$f":"LOOKUP($V226,Data!$A$6:$A$1806,Data!$D$6:$D$1806)","v":350},{"$f":"IF($Z$1=\"+\",LOOKUP($V226,Data!$A$6:$A$1806,Data!$E$6:$E$1806)*-1,LOOKUP($V226,Data!$A$6:$A$1806,Data!$E$6:$E$1806))","v":221.46136474609375},{"$f":"LOOKUP($V226,Data!$A$6:$A$1806,Data!$F$6:$F$1806)","v":16},null,{"$f":"LOOKUP($V226,Data!$A$6:$A$1806,Data!$H$6:$H$1806)","v":10},{"$f":"LOOKUP($V226,Data!$A$6:$A$1806,Data!$I$6:$I$1806)","v":0},{"$f":"IF(LOOKUP($V226,Data!$A$6:$A$1806,Data!$J$6:$J$1806)>0,(LOOKUP($V226,Data!$A$6:$A$1806,Data!$J$6:$J$1806)*-1),LOOKUP($V226,Data!$A$6:$A$1806,Data!$J$6:$J$1806))","v":-103},{"$f":"LOOKUP($V226,Data!$A$6:$A$1806,Data!$K$6:$K$1806)","v":7700.97},21.629905700683594,null,null,null,null,null,null,null,null,null,null,null,null,null,null,111.8652634876757,-177.21192377700012,2.0999908447265625E-2," "]
[null,40098.105810184912,{"$f":"LOOKUP(B227,Data!$A$6:$A$1806,Data!B$6:B$1806)","v":59.983001708984375},{"$f":"LOOKUP(B227,Data!$A$6:$A$1806,Data!C$6:C$1806)","v":3760.4052734375},null,null,3090,{"$f":"(IF((C227-L$2)>0,(IF(C227<'Copy Results'!$C$3,((C227-L$2-L$5)/((L$4*L$2)-L$5)*G227*-1),(('Copy Results'!$C$3-L$2-L$5)/((L$4*L$2)-L$5)*G227*-1))),IF(C227>'Copy Results'!$C$2,((C227-L$2+L$5)/((L$4*L$2)-L$5)*G227*-1),(('Copy Results'!$C$2-L$2+L$5)/((L$4*L$2)-L$5)*G227*-1))))","v":17.50823974609375},19.853719197303896,null,null,0.61697247205071049,3794.4024742746328,{"$f":"AVERAGE(D$79:D227)","v":3764.0456510198196},{"$f":"AVERAGE(M$79:M227)","v":3805.6615246336833},3759.3301718813836,{"$f":"AVERAGE(P$79:P227)","v":3713.9826951856526},null,null,null,null,40098.105810184912,{"$f":"LOOKUP($V227,Data!$A$6:$A$1806,Data!$B$6:$B$1806)","v":59.983001708984375},{"$f":"LOOKUP($V227,Data!$A$6:$A$1806,Data!$C$6:$C$1806)","v":3760.4052734375},{"$f":"LOOKUP($V227,Data!$A$6:$A$1806,Data!$D$6:$D$1806)","v":350},{"$f":"IF($Z$1=\"+\",LOOKUP($V227,Data!$A$6:$A$1806,Data!$E$6:$E$1806)*-1,LOOKUP($V227,Data!$A$6:$A$1806,Data!$E$6:$E$1806))","v":221.46136474609375},{"$f":"LOOKUP($V227,Data!$A$6:$A$1806,Data!$F$6:$F$1806)","v":16},null,{"$f":"LOOKUP($V227,Data!$A$6:$A$1806,Data!$H$6:$H$1806)","v":10},{"$f":"LOOKUP($V227,Data!$A$6:$A$1806,Data!$I$6:$I$1806)","v":0},{"$f":"IF(LOOKUP($V227,Data!$A$6:$A$1806,Data!$J$6:$J$1806)>0,(LOOKUP($V227,Data!$A$6:$A$1806,Data!$J$6:$J$1806)*-1),LOOKUP($V227,Data!$A$6:$A$1806,Data!$J$6:$J$1806))","v":-103},{"$f":"LOOKUP($V227,Data!$A$6:$A$1806,Data!$K$6:$K$1806)","v":7701.3},17.50823974609375,null,null,null,null,null,null,null,null,null,null,null,null,null,null,115.2951951283007,-195.00733847916871,1.6998291015625E-2," "]
[null,40098.105833333058,{"$f":"LOOKUP(B228,Data!$A$6:$A$1806,Data!B$6:B$1806)","v":59.983001708984375},{"$f":"LOOKUP(B228,Data!$A$6:$A$1806,Data!C$6:C$1806)","v":3760.982177734375},null,null,3090,{"$f":"(IF((C228-L$2)>0,(IF(C228<'Copy Results'!$C$3,((C228-L$2-L$5)/((L$4*L$2)-L$5)*G228*-1),(('Copy Results'!$C$3-L$2-L$5)/((L$4*L$2)-L$5)*G228*-1))),IF(C228>'Copy Results'!$C$2,((C228-L$2+L$5)/((L$4*L$2)-L$5)*G228*-1),(('Copy Results'!$C$2-L$2+L$5)/((L$4*L$2)-L$5)*G228*-1))))","v":17.50823974609375},19.032801389380346,null,null,0.61697247205071049,3794.1985289387599,{"$f":"AVERAGE(D$79:D228)","v":3764.0252278645835},{"$f":"AVERAGE(M$79:M228)","v":3805.5851046623839},3759.9471443534344,{"$f":"AVERAGE(P$79:P228)","v":3714.2911814216777},null,null,null,null,40098.105833333058,{"$f":"LOOKUP($V228,Data!$A$6:$A$1806,Data!$B$6:$B$1806)","v":59.983001708984375},{"$f":"LOOKUP($V228,Data!$A$6:$A$1806,Data!$C$6:$C$1806)","v":3760.982177734375},{"$f":"LOOKUP($V228,Data!$A$6:$A$1806,Data!$D$6:$D$1806)","v":350},{"$f":"IF($Z$1=\"+\",LOOKUP($V228,Data!$A$6:$A$1806,Data!$E$6:$E$1806)*-1,LOOKUP($V228,Data!$A$6:$A$1806,Data!$E$6:$E$1806))","v":221.46136474609375},{"$f":"LOOKUP($V228,Data!$A$6:$A$1806,Data!$F$6:$F$1806)","v":16},null,{"$f":"LOOKUP($V228,Data!$A$6:$A$1806,Data!$H$6:$H$1806)","v":10},{"$f":"LOOKUP($V228,Data!$A$6:$A$1806,Data!$I$6:$I$1806)","v":0},{"$f":"IF(LOOKUP($V228,Data!$A$6:$A$1806,Data!$J$6:$J$1806)>0,(LOOKUP($V228,Data!$A$6:$A$1806,Data!$J$6:$J$1806)*-1),LOOKUP($V228,Data!$A$6:$A$1806,Data!$J$6:$J$1806))","v":-103},{"$f":"LOOKUP($V228,Data!$A$6:$A$1806,Data!$K$6:$K$1806)","v":7701.63},17.50823974609375,null,null,null,null,null,null,null,null,null,null,null,null,null,null,115.8720994251757,-195.98309962312271,1.6998291015625E-2," "]
[null,40098.105856481205,{"$f":"LOOKUP(B229,Data!$A$6:$A$1806,Data!B$6:B$1806)","v":59.984001159667969},{"$f":"LOOKUP(B229,Data!$A$6:$A$1806,Data!C$6:C$1806)","v":3761.406982421875},null,null,3090,{"$f":"(IF((C229-L$2)>0,(IF(C229<'Copy Results'!$C$3,((C229-L$2-L$5)/((L$4*L$2)-L$5)*G229*-1),(('Copy Results'!$C$3-L$2-L$5)/((L$4*L$2)-L$5)*G229*-1))),IF(C229>'Copy Results'!$C$2,((C229-L$2+L$5)/((L$4*L$2)-L$5)*G229*-1),(('Copy Results'!$C$2-L$2+L$5)/((L$4*L$2)-L$5)*G229*-1))))","v":16.478805541992187},18.13890284279449,null,null,0.61697247205071049,3793.921602864225,{"$f":"AVERAGE(D$79:D229)","v":3764.0078884907907},{"$f":"AVERAGE(M$79:M229)","v":3805.5078629286209},3760.5641168254851,{"$f":"AVERAGE(P$79:P229)","v":3714.5996676577029},null,null,null,null,40098.105856481205,{"$f":"LOOKUP($V229,Data!$A$6:$A$1806,Data!$B$6:$B$1806)","v":59.984001159667969},{"$f":"LOOKUP($V229,Data!$A$6:$A$1806,Data!$C$6:$C$1806)","v":3761.406982421875},{"$f":"LOOKUP($V229,Data!$A$6:$A$1806,Data!$D$6:$D$1806)","v":350},{"$f":"IF($Z$1=\"+\",LOOKUP($V229,Data!$A$6:$A$1806,Data!$E$6:$E$1806)*-1,LOOKUP($V229,Data!$A$6:$A$1806,Data!$E$6:$E$1806))","v":221.46136474609375},{"$f":"LOOKUP($V229,Data!$A$6:$A$1806,Data!$F$6:$F$1806)","v":16},null,{"$f":"LOOKUP($V229,Data!$A$6:$A$1806,Data!$H$6:$H$1806)","v":10},{"$f":"LOOKUP($V229,Data!$A$6:$A$1806,Data!$I$6:$I$1806)","v":0},{"$f":"IF(LOOKUP($V229,Data!$A$6:$A$1806,Data!$J$6:$J$1806)>0,(LOOKUP($V229,Data!$A$6:$A$1806,Data!$J$6:$J$1806)*-1),LOOKUP($V229,Data!$A$6:$A$1806,Data!$J$6:$J$1806))","v":-103},{"$f":"LOOKUP($V229,Data!$A$6:$A$1806,Data!$K$6:$K$1806)","v":7701.96},16.478805541992187,null,null,null,null,null,null,null,null,null,null,null,null,null,null,116.2969041126757,-200.08391242766814,1.599884033203125E-2," "]
[null,40098.105879629351,{"$f":"LOOKUP(B230,Data!$A$6:$A$1806,Data!B$6:B$1806)","v":59.987998962402344},{"$f":"LOOKUP(B230,Data!$A$6:$A$1806,Data!C$6:C$1806)","v":3762.7373046875},null,null,3090,{"$f":"(IF((C230-L$2)>0,(IF(C230<'Copy Results'!$C$3,((C230-L$2-L$5)/((L$4*L$2)-L$5)*G230*-1),(('Copy Results'!$C$3-L$2-L$5)/((L$4*L$2)-L$5)*G230*-1))),IF(C230>'Copy Results'!$C$2,((C230-L$2+L$5)/((L$4*L$2)-L$5)*G230*-1),(('Copy Results'!$C$2-L$2+L$5)/((L$4*L$2)-L$5)*G230*-1))))","v":12.361068725585939},16.116660901771496,null,null,0.61697247205071049,3792.5163333952528,{"$f":"AVERAGE(D$79:D230)","v":3763.9995293868215},{"$f":"AVERAGE(M$79:M230)","v":3805.4223923395857},3761.1810892975359,{"$f":"AVERAGE(P$79:P230)","v":3714.9081538937285},null,null,null,null,40098.105879629351,{"$f":"LOOKUP($V230,Data!$A$6:$A$1806,Data!$B$6:$B$1806)","v":59.987998962402344},{"$f":"LOOKUP($V230,Data!$A$6:$A$1806,Data!$C$6:$C$1806)","v":3762.7373046875},{"$f":"LOOKUP($V230,Data!$A$6:$A$1806,Data!$D$6:$D$1806)","v":350},{"$f":"IF($Z$1=\"+\",LOOKUP($V230,Data!$A$6:$A$1806,Data!$E$6:$E$1806)*-1,LOOKUP($V230,Data!$A$6:$A$1806,Data!$E$6:$E$1806))","v":241.27436828613281},{"$f":"LOOKUP($V230,Data!$A$6:$A$1806,Data!$F$6:$F$1806)","v":16},null,{"$f":"LOOKUP($V230,Data!$A$6:$A$1806,Data!$H$6:$H$1806)","v":10},{"$f":"LOOKUP($V230,Data!$A$6:$A$1806,Data!$I$6:$I$1806)","v":0},{"$f":"IF(LOOKUP($V230,Data!$A$6:$A$1806,Data!$J$6:$J$1806)>0,(LOOKUP($V230,Data!$A$6:$A$1806,Data!$J$6:$J$1806)*-1),LOOKUP($V230,Data!$A$6:$A$1806,Data!$J$6:$J$1806))","v":-103},{"$f":"LOOKUP($V230,Data!$A$6:$A$1806,Data!$K$6:$K$1806)","v":7702.29},12.361068725585939,null,null,null,null,null,null,null,null,null,null,null,null,null,null,117.6272263783007,-217.32005977720758,1.200103759765625E-2," "]
[null,40098.105902777497,{"$f":"LOOKUP(B231,Data!$A$6:$A$1806,Data!B$6:B$1806)","v":59.988998413085937},{"$f":"LOOKUP(B231,Data!$A$6:$A$1806,Data!C$6:C$1806)","v":3763.212158203125},null,null,3090,{"$f":"(IF((C231-L$2)>0,(IF(C231<'Copy Results'!$C$3,((C231-L$2-L$5)/((L$4*L$2)-L$5)*G231*-1),(('Copy Results'!$C$3-L$2-L$5)/((L$4*L$2)-L$5)*G231*-1))),IF(C231>'Copy Results'!$C$2,((C231-L$2+L$5)/((L$4*L$2)-L$5)*G231*-1),(('Copy Results'!$C$2-L$2+L$5)/((L$4*L$2)-L$5)*G231*-1))))","v":11.331634521484375},14.441901668671004,null,null,0.61697247205071049,3791.4585466342032,{"$f":"AVERAGE(D$79:D231)","v":3763.9943831699347},{"$f":"AVERAGE(M$79:M231)","v":3805.3311253741908},3761.7980617695866,{"$f":"AVERAGE(P$79:P231)","v":3715.2166401297536},null,null,null,null,40098.105902777497,{"$f":"LOOKUP($V231,Data!$A$6:$A$1806,Data!$B$6:$B$1806)","v":59.988998413085937},{"$f":"LOOKUP($V231,Data!$A$6:$A$1806,Data!$C$6:$C$1806)","v":3763.212158203125},{"$f":"LOOKUP($V231,Data!$A$6:$A$1806,Data!$D$6:$D$1806)","v":350},{"$f":"IF($Z$1=\"+\",LOOKUP($V231,Data!$A$6:$A$1806,Data!$E$6:$E$1806)*-1,LOOKUP($V231,Data!$A$6:$A$1806,Data!$E$6:$E$1806))","v":241.27436828613281},{"$f":"LOOKUP($V231,Data!$A$6:$A$1806,Data!$F$6:$F$1806)","v":16},null,{"$f":"LOOKUP($V231,Data!$A$6:$A$1806,Data!$H$6:$H$1806)","v":10},{"$f":"LOOKUP($V231,Data!$A$6:$A$1806,Data!$I$6:$I$1806)","v":0},{"$f":"IF(LOOKUP($V231,Data!$A$6:$A$1806,Data!$J$6:$J$1806)>0,(LOOKUP($V231,Data!$A$6:$A$1806,Data!$J$6:$J$1806)*-1),LOOKUP($V231,Data!$A$6:$A$1806,Data!$J$6:$J$1806))","v":-103},{"$f":"LOOKUP($V231,Data!$A$6:$A$1806,Data!$K$6:$K$1806)","v":7702.62},11.331634521484375,null,null,null,null,null,null,null,null,null,null,null,null,null,null,118.1020798939257,-222.30221518979138,1.10015869140625E-2," "]
[null,40098.105925925644,{"$f":"LOOKUP(B232,Data!$A$6:$A$1806,Data!B$6:B$1806)","v":59.98699951171875},{"$f":"LOOKUP(B232,Data!$A$6:$A$1806,Data!C$6:C$1806)","v":3764.95751953125},null,null,3090,{"$f":"(IF((C232-L$2)>0,(IF(C232<'Copy Results'!$C$3,((C232-L$2-L$5)/((L$4*L$2)-L$5)*G232*-1),(('Copy Results'!$C$3-L$2-L$5)/((L$4*L$2)-L$5)*G232*-1))),IF(C232>'Copy Results'!$C$2,((C232-L$2+L$5)/((L$4*L$2)-L$5)*G232*-1),(('Copy Results'!$C$2-L$2+L$5)/((L$4*L$2)-L$5)*G232*-1))))","v":13.3905029296875},14.073912110026779,null,null,0.61697247205071049,3791.7075295476097,{"$f":"AVERAGE(D$79:D232)","v":3764.0006373021511},{"$f":"AVERAGE(M$79:M232)","v":3805.2426604662264},3762.4150342416374,{"$f":"AVERAGE(P$79:P232)","v":3715.5251263657788},null,null,null,null,40098.105925925644,{"$f":"LOOKUP($V232,Data!$A$6:$A$1806,Data!$B$6:$B$1806)","v":59.98699951171875},{"$f":"LOOKUP($V232,Data!$A$6:$A$1806,Data!$C$6:$C$1806)","v":3764.95751953125},{"$f":"LOOKUP($V232,Data!$A$6:$A$1806,Data!$D$6:$D$1806)","v":350},{"$f":"IF($Z$1=\"+\",LOOKUP($V232,Data!$A$6:$A$1806,Data!$E$6:$E$1806)*-1,LOOKUP($V232,Data!$A$6:$A$1806,Data!$E$6:$E$1806))","v":241.27436828613281},{"$f":"LOOKUP($V232,Data!$A$6:$A$1806,Data!$F$6:$F$1806)","v":16},null,{"$f":"LOOKUP($V232,Data!$A$6:$A$1806,Data!$H$6:$H$1806)","v":10},{"$f":"LOOKUP($V232,Data!$A$6:$A$1806,Data!$I$6:$I$1806)","v":0},{"$f":"IF(LOOKUP($V232,Data!$A$6:$A$1806,Data!$J$6:$J$1806)>0,(LOOKUP($V232,Data!$A$6:$A$1806,Data!$J$6:$J$1806)*-1),LOOKUP($V232,Data!$A$6:$A$1806,Data!$J$6:$J$1806))","v":-103},{"$f":"LOOKUP($V232,Data!$A$6:$A$1806,Data!$K$6:$K$1806)","v":7702.95},13.3905029296875,null,null,null,null,null,null,null,null,null,null,null,null,null,null,119.8474412220507,-217.40751083732479,1.300048828125E-2," "]
[null,40098.10594907379,{"$f":"LOOKUP(B233,Data!$A$6:$A$1806,Data!B$6:B$1806)","v":59.98699951171875},{"$f":"LOOKUP(B233,Data!$A$6:$A$1806,Data!C$6:C$1806)","v":3766.085205078125},null,null,3090,{"$f":"(IF((C233-L$2)>0,(IF(C233<'Copy Results'!$C$3,((C233-L$2-L$5)/((L$4*L$2)-L$5)*G233*-1),(('Copy Results'!$C$3-L$2-L$5)/((L$4*L$2)-L$5)*G233*-1))),IF(C233>'Copy Results'!$C$2,((C233-L$2+L$5)/((L$4*L$2)-L$5)*G233*-1),(('Copy Results'!$C$2-L$2+L$5)/((L$4*L$2)-L$5)*G233*-1))))","v":13.3905029296875},13.834718896908031,null,null,0.61697247205071049,3792.0853088065419,{"$f":"AVERAGE(D$79:D233)","v":3764.0140861265122},{"$f":"AVERAGE(M$79:M233)","v":3805.1577743264861},3763.0320067136881,{"$f":"AVERAGE(P$79:P233)","v":3715.8336126018044},null,null,null,null,40098.10594907379,{"$f":"LOOKUP($V233,Data!$A$6:$A$1806,Data!$B$6:$B$1806)","v":59.98699951171875},{"$f":"LOOKUP($V233,Data!$A$6:$A$1806,Data!$C$6:$C$1806)","v":3766.085205078125},{"$f":"LOOKUP($V233,Data!$A$6:$A$1806,Data!$D$6:$D$1806)","v":350},{"$f":"IF($Z$1=\"+\",LOOKUP($V233,Data!$A$6:$A$1806,Data!$E$6:$E$1806)*-1,LOOKUP($V233,Data!$A$6:$A$1806,Data!$E$6:$E$1806))","v":241.27436828613281},{"$f":"LOOKUP($V233,Data!$A$6:$A$1806,Data!$F$6:$F$1806)","v":16},null,{"$f":"LOOKUP($V233,Data!$A$6:$A$1806,Data!$H$6:$H$1806)","v":10},{"$f":"LOOKUP($V233,Data!$A$6:$A$1806,Data!$I$6:$I$1806)","v":0},{"$f":"IF(LOOKUP($V233,Data!$A$6:$A$1806,Data!$J$6:$J$1806)>0,(LOOKUP($V233,Data!$A$6:$A$1806,Data!$J$6:$J$1806)*-1),LOOKUP($V233,Data!$A$6:$A$1806,Data!$J$6:$J$1806))","v":-103},{"$f":"LOOKUP($V233,Data!$A$6:$A$1806,Data!$K$6:$K$1806)","v":7703.28},13.3905029296875,null,null,null,null,null,null,null,null,null,null,null,null,null,null,120.9751267689257,-219.45317243221092,1.300048828125E-2," "]
[null,40098.105972221936,{"$f":"LOOKUP(B234,Data!$A$6:$A$1806,Data!B$6:B$1806)","v":59.991001129150391},{"$f":"LOOKUP(B234,Data!$A$6:$A$1806,Data!C$6:C$1806)","v":3766.43310546875},null,null,3090,{"$f":"(IF((C234-L$2)>0,(IF(C234<'Copy Results'!$C$3,((C234-L$2-L$5)/((L$4*L$2)-L$5)*G234*-1),(('Copy Results'!$C$3-L$2-L$5)/((L$4*L$2)-L$5)*G234*-1))),IF(C234>'Copy Results'!$C$2,((C234-L$2+L$5)/((L$4*L$2)-L$5)*G234*-1),(('Copy Results'!$C$2-L$2+L$5)/((L$4*L$2)-L$5)*G234*-1))))","v":9.2688369750976563},12.2366602242744,null,null,0.61697247205071049,3791.104222605959,{"$f":"AVERAGE(D$79:D234)","v":3764.0295926607573},{"$f":"AVERAGE(M$79:M234)","v":3805.0676874564824},3763.6489791857389,{"$f":"AVERAGE(P$79:P234)","v":3716.1420988378295},null,null,null,null,40098.105972221936,{"$f":"LOOKUP($V234,Data!$A$6:$A$1806,Data!$B$6:$B$1806)","v":59.991001129150391},{"$f":"LOOKUP($V234,Data!$A$6:$A$1806,Data!$C$6:$C$1806)","v":3766.43310546875},{"$f":"LOOKUP($V234,Data!$A$6:$A$1806,Data!$D$6:$D$1806)","v":350},{"$f":"IF($Z$1=\"+\",LOOKUP($V234,Data!$A$6:$A$1806,Data!$E$6:$E$1806)*-1,LOOKUP($V234,Data!$A$6:$A$1806,Data!$E$6:$E$1806))","v":241.27436828613281},{"$f":"LOOKUP($V234,Data!$A$6:$A$1806,Data!$F$6:$F$1806)","v":16},null,{"$f":"LOOKUP($V234,Data!$A$6:$A$1806,Data!$H$6:$H$1806)","v":10},{"$f":"LOOKUP($V234,Data!$A$6:$A$1806,Data!$I$6:$I$1806)","v":0},{"$f":"IF(LOOKUP($V234,Data!$A$6:$A$1806,Data!$J$6:$J$1806)>0,(LOOKUP($V234,Data!$A$6:$A$1806,Data!$J$6:$J$1806)*-1),LOOKUP($V234,Data!$A$6:$A$1806,Data!$J$6:$J$1806))","v":-103},{"$f":"LOOKUP($V234,Data!$A$6:$A$1806,Data!$K$6:$K$1806)","v":7703.61},9.2688369750976563,null,null,null,null,null,null,null,null,null,null,null,null,null,null,121.3230271595507,-237.31085114368892,8.998870849609375E-3," "]
[null,40098.105995370082,{"$f":"LOOKUP(B235,Data!$A$6:$A$1806,Data!B$6:B$1806)","v":59.993000030517578},{"$f":"LOOKUP(B235,Data!$A$6:$A$1806,Data!C$6:C$1806)","v":3767.2509765625},null,null,3090,{"$f":"(IF((C235-L$2)>0,(IF(C235<'Copy Results'!$C$3,((C235-L$2-L$5)/((L$4*L$2)-L$5)*G235*-1),(('Copy Results'!$C$3-L$2-L$5)/((L$4*L$2)-L$5)*G235*-1))),IF(C235>'Copy Results'!$C$2,((C235-L$2+L$5)/((L$4*L$2)-L$5)*G235*-1),(('Copy Results'!$C$2-L$2+L$5)/((L$4*L$2)-L$5)*G235*-1))))","v":7.2099685668945304},{"$f":"L$13*H235+(1-L$13)*I234","v":10.477318144191447},null,null,0.61697247205071049,3789.9618529979266,{"$f":"AVERAGE(D$79:D235)","v":3764.0501110295581},{"$f":"AVERAGE(M$79:M235)","v":3804.9714719503768},3764.2659516577896,{"$f":"AVERAGE(P$79:P235)","v":3716.4505850738547},null,null,null,null,40098.105995370082,{"$f":"LOOKUP($V235,Data!$A$6:$A$1806,Data!$B$6:$B$1806)","v":59.993000030517578},{"$f":"LOOKUP($V235,Data!$A$6:$A$1806,Data!$C$6:$C$1806)","v":3767.2509765625},{"$f":"LOOKUP($V235,Data!$A$6:$A$1806,Data!$D$6:$D$1806)","v":350},{"$f":"IF($Z$1=\"+\",LOOKUP($V235,Data!$A$6:$A$1806,Data!$E$6:$E$1806)*-1,LOOKUP($V235,Data!$A$6:$A$1806,Data!$E$6:$E$1806))","v":243.07185363769531},{"$f":"LOOKUP($V235,Data!$A$6:$A$1806,Data!$F$6:$F$1806)","v":16},null,{"$f":"LOOKUP($V235,Data!$A$6:$A$1806,Data!$H$6:$H$1806)","v":10},{"$f":"LOOKUP($V235,Data!$A$6:$A$1806,Data!$I$6:$I$1806)","v":0},{"$f":"IF(LOOKUP($V235,Data!$A$6:$A$1806,Data!$J$6:$J$1806)>0,(LOOKUP($V235,Data!$A$6:$A$1806,Data!$J$6:$J$1806)*-1),LOOKUP($V235,Data!$A$6:$A$1806,Data!$J$6:$J$1806))","v":-103},{"$f":"LOOKUP($V235,Data!$A$6:$A$1806,Data!$K$6:$K$1806)","v":7703.94},7.2099685668945304,null,null,null,null,null,null,null,null,null,null,null,null,null,null,122.1408982533007,-248.63188710647728,6.999969482421875E-3," "]
[null,40098.106018518229,{"$f":"LOOKUP(B236,Data!$A$6:$A$1806,Data!B$6:B$1806)","v":59.992000579833984},{"$f":"LOOKUP(B236,Data!$A$6:$A$1806,Data!C$6:C$1806)","v":3767.79248046875},null,null,{"$f":"AE236*-M$4*10","v":3090},{"$f":"(IF((C236-L$2)>0,(IF(C236<'Copy Results'!$C$3,((C236-L$2-L$5)/((L$4*L$2)-L$5)*G236*-1),(('Copy Results'!$C$3-L$2-L$5)/((L$4*L$2)-L$5)*G236*-1))),IF(C236>'Copy Results'!$C$2,((C236-L$2+L$5)/((L$4*L$2)-L$5)*G236*-1),(('Copy Results'!$C$2-L$2+L$5)/((L$4*L$2)-L$5)*G236*-1))))","v":8.2394027709960937},9.6940477635730744,null,null,0.61697247205071049,3789.7955550893589,{"$f":"AVERAGE(D$79:D236)","v":3764.0737969120846},{"$f":"AVERAGE(M$79:M236)","v":3804.8754218436616},3764.8829241298404,{"$f":"AVERAGE(P$79:P236)","v":3716.7590713098803},null,null,null,null,40098.106018518229,{"$f":"LOOKUP($V236,Data!$A$6:$A$1806,Data!$B$6:$B$1806)","v":59.992000579833984},{"$f":"LOOKUP($V236,Data!$A$6:$A$1806,Data!$C$6:$C$1806)","v":3767.79248046875},{"$f":"LOOKUP($V236,Data!$A$6:$A$1806,Data!$D$6:$D$1806)","v":350},{"$f":"IF($Z$1=\"+\",LOOKUP($V236,Data!$A$6:$A$1806,Data!$E$6:$E$1806)*-1,LOOKUP($V236,Data!$A$6:$A$1806,Data!$E$6:$E$1806))","v":243.07185363769531},{"$f":"LOOKUP($V236,Data!$A$6:$A$1806,Data!$F$6:$F$1806)","v":16},null,{"$f":"LOOKUP($V236,Data!$A$6:$A$1806,Data!$H$6:$H$1806)","v":10},{"$f":"LOOKUP($V236,Data!$A$6:$A$1806,Data!$I$6:$I$1806)","v":0},{"$f":"IF(LOOKUP($V236,Data!$A$6:$A$1806,Data!$J$6:$J$1806)>0,(LOOKUP($V236,Data!$A$6:$A$1806,Data!$J$6:$J$1806)*-1),LOOKUP($V236,Data!$A$6:$A$1806,Data!$J$6:$J$1806))","v":-103},{"$f":"LOOKUP($V236,Data!$A$6:$A$1806,Data!$K$6:$K$1806)","v":7704.27},{"$f":"(IF((W236-$L$2)>0,((W236-$L$2-$L$5)/(($L$4*$L$2)-$L$5)*G236*-1),((W236-$L$2+$L$5)/(($L$4*$L$2)-$L$5)*G236*-1)))","v":8.2394027709960937},null,null,null,null,null,null,null,null,null,null,null,null,null,null,122.6824021595507,-244.75465430008475,{"$f":"ABS(C236-60)","v":7.999420166015625E-3},{"$f":"IF(AX236>0.036,AE236,\" \")","v":" "}]
[null,40098.106041666375,{"$f":"LOOKUP(B237,Data!$A$6:$A$1806,Data!B$6:B$1806)","v":59.991001129150391},{"$f":"LOOKUP(B237,Data!$A$6:$A$1806,Data!C$6:C$1806)","v":3768.633544921875},null,null,3090,{"$f":"(IF((C237-L$2)>0,(IF(C237<'Copy Results'!$C$3,((C237-L$2-L$5)/((L$4*L$2)-L$5)*G237*-1),(('Copy Results'!$C$3-L$2-L$5)/((L$4*L$2)-L$5)*G237*-1))),IF(C237>'Copy Results'!$C$2,((C237-L$2+L$5)/((L$4*L$2)-L$5)*G237*-1),(('Copy Results'!$C$2-L$2+L$5)/((L$4*L$2)-L$5)*G237*-1))))","v":9.2688369750976563},9.5452239876066791,null,null,0.61697247205071049,3790.2637037854433,{"$f":"AVERAGE(D$79:D237)","v":3764.1024745725235},{"$f":"AVERAGE(M$79:M237)","v":3804.7835242458113},3765.4998966018911,{"$f":"AVERAGE(P$79:P237)","v":3717.0675575459054},null,null,null,null,40098.106041666375,{"$f":"LOOKUP($V237,Data!$A$6:$A$1806,Data!$B$6:$B$1806)","v":59.991001129150391},{"$f":"LOOKUP($V237,Data!$A$6:$A$1806,Data!$C$6:$C$1806)","v":3768.633544921875},{"$f":"LOOKUP($V237,Data!$A$6:$A$1806,Data!$D$6:$D$1806)","v":350},{"$f":"IF($Z$1=\"+\",LOOKUP($V237,Data!$A$6:$A$1806,Data!$E$6:$E$1806)*-1,LOOKUP($V237,Data!$A$6:$A$1806,Data!$E$6:$E$1806))","v":243.07185363769531},{"$f":"LOOKUP($V237,Data!$A$6:$A$1806,Data!$F$6:$F$1806)","v":16},null,{"$f":"LOOKUP($V237,Data!$A$6:$A$1806,Data!$H$6:$H$1806)","v":10},{"$f":"LOOKUP($V237,Data!$A$6:$A$1806,Data!$I$6:$I$1806)","v":0},{"$f":"IF(LOOKUP($V237,Data!$A$6:$A$1806,Data!$J$6:$J$1806)>0,(LOOKUP($V237,Data!$A$6:$A$1806,Data!$J$6:$J$1806)*-1),LOOKUP($V237,Data!$A$6:$A$1806,Data!$J$6:$J$1806))","v":-103},{"$f":"LOOKUP($V237,Data!$A$6:$A$1806,Data!$K$6:$K$1806)","v":7704.6},9.2688369750976563,null,null,null,null,null,null,null,null,null,null,null,null,null,null,123.5234666126757,-241.61496530681907,8.998870849609375E-3," "]
[null,{"$f":"B237+TIME(0,0,$B$1)","v":40098.106064814521},{"$f":"LOOKUP(B238,Data!$A$6:$A$1806,Data!B$6:B$1806)","v":59.988998413085937},{"$f":"LOOKUP(B238,Data!$A$6:$A$1806,Data!C$6:C$1806)","v":3771.146484375},null,null,3090,{"$f":"(IF((C238-L$2)>0,(IF(C238<'Copy Results'!$C$3,((C238-L$2-L$5)/((L$4*L$2)-L$5)*G238*-1),(('Copy Results'!$C$3-L$2-L$5)/((L$4*L$2)-L$5)*G238*-1))),IF(C238>'Copy Results'!$C$2,((C238-L$2+L$5)/((L$4*L$2)-L$5)*G238*-1),(('Copy Results'!$C$2-L$2+L$5)/((L$4*L$2)-L$5)*G238*-1))))","v":11.331634521484375},10.170467674463872,null,null,0.61697247205071049,3791.5059199443513,{"$f":"AVERAGE(D$79:D238)","v":3764.1464996337891},{"$f":"AVERAGE(M$79:M238)","v":3804.7005392189276},3766.1168690739419,{"$f":"AVERAGE(P$79:P238)","v":3717.376043781931},null,null,null,null,40098.106064814521,{"$f":"LOOKUP($V238,Data!$A$6:$A$1806,Data!$B$6:$B$1806)","v":59.988998413085937},{"$f":"LOOKUP($V238,Data!$A$6:$A$1806,Data!$C$6:$C$1806)","v":3771.146484375},{"$f":"LOOKUP($V238,Data!$A$6:$A$1806,Data!$D$6:$D$1806)","v":350},{"$f":"IF($Z$1=\"+\",LOOKUP($V238,Data!$A$6:$A$1806,Data!$E$6:$E$1806)*-1,LOOKUP($V238,Data!$A$6:$A$1806,Data!$E$6:$E$1806))","v":243.07185363769531},{"$f":"LOOKUP($V238,Data!$A$6:$A$1806,Data!$F$6:$F$1806)","v":16},null,{"$f":"LOOKUP($V238,Data!$A$6:$A$1806,Data!$H$6:$H$1806)","v":10},{"$f":"LOOKUP($V238,Data!$A$6:$A$1806,Data!$I$6:$I$1806)","v":0},{"$f":"IF(LOOKUP($V238,Data!$A$6:$A$1806,Data!$J$6:$J$1806)>0,(LOOKUP($V238,Data!$A$6:$A$1806,Data!$J$6:$J$1806)*-1),LOOKUP($V238,Data!$A$6:$A$1806,Data!$J$6:$J$1806))","v":-103},{"$f":"LOOKUP($V238,Data!$A$6:$A$1806,Data!$K$6:$K$1806)","v":7704.93},11.331634521484375,null,null,null,null,null,null,null,null,null,null,null,null,null,null,126.0364060658007,-237.23690800494197,1.10015869140625E-2," "]
[null,40098.106087962668,{"$f":"LOOKUP(B239,Data!$A$6:$A$1806,Data!B$6:B$1806)","v":59.986000061035156},{"$f":"LOOKUP(B239,Data!$A$6:$A$1806,Data!C$6:C$1806)","v":3772.444580078125},null,null,3090,{"$f":"(IF((C239-L$2)>0,(IF(C239<'Copy Results'!$C$3,((C239-L$2-L$5)/((L$4*L$2)-L$5)*G239*-1),(('Copy Results'!$C$3-L$2-L$5)/((L$4*L$2)-L$5)*G239*-1))),IF(C239>'Copy Results'!$C$2,((C239-L$2+L$5)/((L$4*L$2)-L$5)*G239*-1),(('Copy Results'!$C$2-L$2+L$5)/((L$4*L$2)-L$5)*G239*-1))))","v":14.419937133789061},11.657781985227688,null,null,0.61697247205071049,3793.6102067271659,{"$f":"AVERAGE(D$79:D239)","v":3764.198040506114},{"$f":"AVERAGE(M$79:M239)","v":3804.6316551661839},3766.7338415459926,{"$f":"AVERAGE(P$79:P239)","v":3717.6845300179566},null,null,null,null,40098.106087962668,{"$f":"LOOKUP($V239,Data!$A$6:$A$1806,Data!$B$6:$B$1806)","v":59.986000061035156},{"$f":"LOOKUP($V239,Data!$A$6:$A$1806,Data!$C$6:$C$1806)","v":3772.444580078125},{"$f":"LOOKUP($V239,Data!$A$6:$A$1806,Data!$D$6:$D$1806)","v":350},{"$f":"IF($Z$1=\"+\",LOOKUP($V239,Data!$A$6:$A$1806,Data!$E$6:$E$1806)*-1,LOOKUP($V239,Data!$A$6:$A$1806,Data!$E$6:$E$1806))","v":243.07185363769531},{"$f":"LOOKUP($V239,Data!$A$6:$A$1806,Data!$F$6:$F$1806)","v":16},null,{"$f":"LOOKUP($V239,Data!$A$6:$A$1806,Data!$H$6:$H$1806)","v":10},{"$f":"LOOKUP($V239,Data!$A$6:$A$1806,Data!$I$6:$I$1806)","v":0},{"$f":"IF(LOOKUP($V239,Data!$A$6:$A$1806,Data!$J$6:$J$1806)>0,(LOOKUP($V239,Data!$A$6:$A$1806,Data!$J$6:$J$1806)*-1),LOOKUP($V239,Data!$A$6:$A$1806,Data!$J$6:$J$1806))","v":-103},{"$f":"LOOKUP($V239,Data!$A$6:$A$1806,Data!$K$6:$K$1806)","v":7705.26},14.419937133789061,null,null,null,null,null,null,null,null,null,null,null,null,null,null,127.3345017689257,-226.87595477915269,1.399993896484375E-2," "]
[null,40098.106111110814,{"$f":"LOOKUP(B240,Data!$A$6:$A$1806,Data!B$6:B$1806)","v":59.983001708984375},{"$f":"LOOKUP(B240,Data!$A$6:$A$1806,Data!C$6:C$1806)","v":3773.69482421875},null,null,3090,{"$f":"(IF((C240-L$2)>0,(IF(C240<'Copy Results'!$C$3,((C240-L$2-L$5)/((L$4*L$2)-L$5)*G240*-1),(('Copy Results'!$C$3-L$2-L$5)/((L$4*L$2)-L$5)*G240*-1))),IF(C240>'Copy Results'!$C$2,((C240-L$2+L$5)/((L$4*L$2)-L$5)*G240*-1),(('Copy Results'!$C$2-L$2+L$5)/((L$4*L$2)-L$5)*G240*-1))))","v":17.50823974609375},13.705442201530809,null,null,0.61697247205071049,3796.2748394155196,{"$f":"AVERAGE(D$79:D240)","v":3764.2566626277971},{"$f":"AVERAGE(M$79:M240)","v":3804.5800698837725},3767.3508140180434,{"$f":"AVERAGE(P$79:P240)","v":3717.9930162539818},null,null,null,null,40098.106111110814,{"$f":"LOOKUP($V240,Data!$A$6:$A$1806,Data!$B$6:$B$1806)","v":59.983001708984375},{"$f":"LOOKUP($V240,Data!$A$6:$A$1806,Data!$C$6:$C$1806)","v":3773.69482421875},{"$f":"LOOKUP($V240,Data!$A$6:$A$1806,Data!$D$6:$D$1806)","v":350},{"$f":"IF($Z$1=\"+\",LOOKUP($V240,Data!$A$6:$A$1806,Data!$E$6:$E$1806)*-1,LOOKUP($V240,Data!$A$6:$A$1806,Data!$E$6:$E$1806))","v":241.67021179199219},{"$f":"LOOKUP($V240,Data!$A$6:$A$1806,Data!$F$6:$F$1806)","v":16},null,{"$f":"LOOKUP($V240,Data!$A$6:$A$1806,Data!$H$6:$H$1806)","v":10},{"$f":"LOOKUP($V240,Data!$A$6:$A$1806,Data!$I$6:$I$1806)","v":0},{"$f":"IF(LOOKUP($V240,Data!$A$6:$A$1806,Data!$J$6:$J$1806)>0,(LOOKUP($V240,Data!$A$6:$A$1806,Data!$J$6:$J$1806)*-1),LOOKUP($V240,Data!$A$6:$A$1806,Data!$J$6:$J$1806))","v":-103},{"$f":"LOOKUP($V240,Data!$A$6:$A$1806,Data!$K$6:$K$1806)","v":7705.59},17.50823974609375,null,null,null,null,null,null,null,null,null,null,null,null,null,null,128.58474590955072,-217.48494411183563,1.6998291015625E-2," "]
[null,40098.10613425896,{"$f":"LOOKUP(B241,Data!$A$6:$A$1806,Data!B$6:B$1806)","v":59.983001708984375},{"$f":"LOOKUP(B241,Data!$A$6:$A$1806,Data!C$6:C$1806)","v":3774.66845703125},null,null,3090,{"$f":"(IF((C241-L$2)>0,(IF(C241<'Copy Results'!$C$3,((C241-L$2-L$5)/((L$4*L$2)-L$5)*G241*-1),(('Copy Results'!$C$3-L$2-L$5)/((L$4*L$2)-L$5)*G241*-1))),IF(C241>'Copy Results'!$C$2,((C241-L$2+L$5)/((L$4*L$2)-L$5)*G241*-1),(('Copy Results'!$C$2-L$2+L$5)/((L$4*L$2)-L$5)*G241*-1))))","v":17.50823974609375},15.03642134212784,null,null,0.61697247205071049,3798.2227910281672,{"$f":"AVERAGE(D$79:D241)","v":3764.320538667082},{"$f":"AVERAGE(M$79:M241)","v":3804.5410681730023},3767.9677864900941,{"$f":"AVERAGE(P$79:P241)","v":3718.3015024900074},null,null,null,null,40098.10613425896,{"$f":"LOOKUP($V241,Data!$A$6:$A$1806,Data!$B$6:$B$1806)","v":59.983001708984375},{"$f":"LOOKUP($V241,Data!$A$6:$A$1806,Data!$C$6:$C$1806)","v":3774.66845703125},{"$f":"LOOKUP($V241,Data!$A$6:$A$1806,Data!$D$6:$D$1806)","v":350},{"$f":"IF($Z$1=\"+\",LOOKUP($V241,Data!$A$6:$A$1806,Data!$E$6:$E$1806)*-1,LOOKUP($V241,Data!$A$6:$A$1806,Data!$E$6:$E$1806))","v":241.67021179199219},{"$f":"LOOKUP($V241,Data!$A$6:$A$1806,Data!$F$6:$F$1806)","v":16},null,{"$f":"LOOKUP($V241,Data!$A$6:$A$1806,Data!$H$6:$H$1806)","v":10},{"$f":"LOOKUP($V241,Data!$A$6:$A$1806,Data!$I$6:$I$1806)","v":0},{"$f":"IF(LOOKUP($V241,Data!$A$6:$A$1806,Data!$J$6:$J$1806)>0,(LOOKUP($V241,Data!$A$6:$A$1806,Data!$J$6:$J$1806)*-1),LOOKUP($V241,Data!$A$6:$A$1806,Data!$J$6:$J$1806))","v":-103},{"$f":"LOOKUP($V241,Data!$A$6:$A$1806,Data!$K$6:$K$1806)","v":7705.92},17.50823974609375,null,null,null,null,null,null,null,null,null,null,null,null,null,null,129.55837872205072,-219.13172170053159,1.6998291015625E-2," "]
[null,40098.106157407106,{"$f":"LOOKUP(B242,Data!$A$6:$A$1806,Data!B$6:B$1806)","v":59.987998962402344},{"$f":"LOOKUP(B242,Data!$A$6:$A$1806,Data!C$6:C$1806)","v":3775.8408203125},null,null,3090,{"$f":"(IF((C242-L$2)>0,(IF(C242<'Copy Results'!$C$3,((C242-L$2-L$5)/((L$4*L$2)-L$5)*G242*-1),(('Copy Results'!$C$3-L$2-L$5)/((L$4*L$2)-L$5)*G242*-1))),IF(C242>'Copy Results'!$C$2,((C242-L$2+L$5)/((L$4*L$2)-L$5)*G242*-1),(('Copy Results'!$C$2-L$2+L$5)/((L$4*L$2)-L$5)*G242*-1))))","v":12.361068725585939},14.100047926338174,null,null,0.61697247205071049,3797.9033900844283,{"$f":"AVERAGE(D$79:D242)","v":3764.3907842868712},{"$f":"AVERAGE(M$79:M242)","v":3804.5005945261205},3768.5847589621449,{"$f":"AVERAGE(P$79:P242)","v":3718.609988726033},null,null,null,null,40098.106157407106,{"$f":"LOOKUP($V242,Data!$A$6:$A$1806,Data!$B$6:$B$1806)","v":59.987998962402344},{"$f":"LOOKUP($V242,Data!$A$6:$A$1806,Data!$C$6:$C$1806)","v":3775.8408203125},{"$f":"LOOKUP($V242,Data!$A$6:$A$1806,Data!$D$6:$D$1806)","v":350},{"$f":"IF($Z$1=\"+\",LOOKUP($V242,Data!$A$6:$A$1806,Data!$E$6:$E$1806)*-1,LOOKUP($V242,Data!$A$6:$A$1806,Data!$E$6:$E$1806))","v":241.67021179199219},{"$f":"LOOKUP($V242,Data!$A$6:$A$1806,Data!$F$6:$F$1806)","v":16},null,{"$f":"LOOKUP($V242,Data!$A$6:$A$1806,Data!$H$6:$H$1806)","v":10},{"$f":"LOOKUP($V242,Data!$A$6:$A$1806,Data!$I$6:$I$1806)","v":0},{"$f":"IF(LOOKUP($V242,Data!$A$6:$A$1806,Data!$J$6:$J$1806)>0,(LOOKUP($V242,Data!$A$6:$A$1806,Data!$J$6:$J$1806)*-1),LOOKUP($V242,Data!$A$6:$A$1806,Data!$J$6:$J$1806))","v":-103},{"$f":"LOOKUP($V242,Data!$A$6:$A$1806,Data!$K$6:$K$1806)","v":7706.25},12.361068725585939,null,null,null,null,null,null,null,null,null,null,null,null,null,null,130.73074200330072,-241.52922364678852,1.200103759765625E-2," "]
[null,40098.106180555253,{"$f":"LOOKUP(B243,Data!$A$6:$A$1806,Data!B$6:B$1806)","v":59.993000030517578},{"$f":"LOOKUP(B243,Data!$A$6:$A$1806,Data!C$6:C$1806)","v":3775.36328125},null,null,3090,{"$f":"(IF((C243-L$2)>0,(IF(C243<'Copy Results'!$C$3,((C243-L$2-L$5)/((L$4*L$2)-L$5)*G243*-1),(('Copy Results'!$C$3-L$2-L$5)/((L$4*L$2)-L$5)*G243*-1))),IF(C243>'Copy Results'!$C$2,((C243-L$2+L$5)/((L$4*L$2)-L$5)*G243*-1),(('Copy Results'!$C$2-L$2+L$5)/((L$4*L$2)-L$5)*G243*-1))))","v":7.2099685668945304},11.688520150532899,null,null,0.61697247205071049,3796.108834780674,{"$f":"AVERAGE(D$79:D243)","v":3764.4572842684661},{"$f":"AVERAGE(M$79:M243)","v":3804.4497353761476},3769.2017314341956,{"$f":"AVERAGE(P$79:P243)","v":3718.9184749620581},null,null,null,null,40098.106180555253,{"$f":"LOOKUP($V243,Data!$A$6:$A$1806,Data!$B$6:$B$1806)","v":59.993000030517578},{"$f":"LOOKUP($V243,Data!$A$6:$A$1806,Data!$C$6:$C$1806)","v":3775.36328125},{"$f":"LOOKUP($V243,Data!$A$6:$A$1806,Data!$D$6:$D$1806)","v":350},{"$f":"IF($Z$1=\"+\",LOOKUP($V243,Data!$A$6:$A$1806,Data!$E$6:$E$1806)*-1,LOOKUP($V243,Data!$A$6:$A$1806,Data!$E$6:$E$1806))","v":241.67021179199219},{"$f":"LOOKUP($V243,Data!$A$6:$A$1806,Data!$F$6:$F$1806)","v":16},null,{"$f":"LOOKUP($V243,Data!$A$6:$A$1806,Data!$H$6:$H$1806)","v":10},{"$f":"LOOKUP($V243,Data!$A$6:$A$1806,Data!$I$6:$I$1806)","v":0},{"$f":"IF(LOOKUP($V243,Data!$A$6:$A$1806,Data!$J$6:$J$1806)>0,(LOOKUP($V243,Data!$A$6:$A$1806,Data!$J$6:$J$1806)*-1),LOOKUP($V243,Data!$A$6:$A$1806,Data!$J$6:$J$1806))","v":-103},{"$f":"LOOKUP($V243,Data!$A$6:$A$1806,Data!$K$6:$K$1806)","v":7706.58},7.2099685668945304,null,null,null,null,null,null,null,null,null,null,null,null,null,null,130.25320294080072,-265.14541903624058,6.999969482421875E-3," "]
[null,40098.106203703399,{"$f":"LOOKUP(B244,Data!$A$6:$A$1806,Data!B$6:B$1806)","v":59.995998382568359},{"$f":"LOOKUP(B244,Data!$A$6:$A$1806,Data!C$6:C$1806)","v":3774.8662109375},null,null,3090,{"$f":"(IF((C244-L$2)>0,(IF(C244<'Copy Results'!$C$3,((C244-L$2-L$5)/((L$4*L$2)-L$5)*G244*-1),(('Copy Results'!$C$3-L$2-L$5)/((L$4*L$2)-L$5)*G244*-1))),IF(C244>'Copy Results'!$C$2,((C244-L$2+L$5)/((L$4*L$2)-L$5)*G244*-1),(('Copy Results'!$C$2-L$2+L$5)/((L$4*L$2)-L$5)*G244*-1))))","v":4.1216659545898437},9.0401211819528307,null,null,0.61697247205071049,3794.0774082841444,{"$f":"AVERAGE(D$79:D244)","v":3764.51998864599},{"$f":"AVERAGE(M$79:M244)","v":3804.3872514780032},3769.8187039062464,{"$f":"AVERAGE(P$79:P244)","v":3719.2269611980837},null,null,null,null,40098.106203703399,{"$f":"LOOKUP($V244,Data!$A$6:$A$1806,Data!$B$6:$B$1806)","v":59.995998382568359},{"$f":"LOOKUP($V244,Data!$A$6:$A$1806,Data!$C$6:$C$1806)","v":3774.8662109375},{"$f":"LOOKUP($V244,Data!$A$6:$A$1806,Data!$D$6:$D$1806)","v":350},{"$f":"IF($Z$1=\"+\",LOOKUP($V244,Data!$A$6:$A$1806,Data!$E$6:$E$1806)*-1,LOOKUP($V244,Data!$A$6:$A$1806,Data!$E$6:$E$1806))","v":241.67021179199219},{"$f":"LOOKUP($V244,Data!$A$6:$A$1806,Data!$F$6:$F$1806)","v":16},null,{"$f":"LOOKUP($V244,Data!$A$6:$A$1806,Data!$H$6:$H$1806)","v":10},{"$f":"LOOKUP($V244,Data!$A$6:$A$1806,Data!$I$6:$I$1806)","v":0},{"$f":"IF(LOOKUP($V244,Data!$A$6:$A$1806,Data!$J$6:$J$1806)>0,(LOOKUP($V244,Data!$A$6:$A$1806,Data!$J$6:$J$1806)*-1),LOOKUP($V244,Data!$A$6:$A$1806,Data!$J$6:$J$1806))","v":-103},{"$f":"LOOKUP($V244,Data!$A$6:$A$1806,Data!$K$6:$K$1806)","v":7706.91},4.1216659545898437,null,null,null,null,null,null,null,null,null,null,null,null,null,null,129.75613262830072,-281.30287181858284,4.001617431640625E-3," "]
[null,40098.106226851545,{"$f":"LOOKUP(B245,Data!$A$6:$A$1806,Data!B$6:B$1806)","v":59.998001098632813},{"$f":"LOOKUP(B245,Data!$A$6:$A$1806,Data!C$6:C$1806)","v":3775.49169921875},null,null,3090,{"$f":"(IF((C245-L$2)>0,(IF(C245<'Copy Results'!$C$3,((C245-L$2-L$5)/((L$4*L$2)-L$5)*G245*-1),(('Copy Results'!$C$3-L$2-L$5)/((L$4*L$2)-L$5)*G245*-1))),IF(C245>'Copy Results'!$C$2,((C245-L$2+L$5)/((L$4*L$2)-L$5)*G245*-1),(('Copy Results'!$C$2-L$2+L$5)/((L$4*L$2)-L$5)*G245*-1))))","v":2.058868408203125},6.596682711140434,null,null,0.61697247205071049,3792.2509422853827,{"$f":"AVERAGE(D$79:D245)","v":3764.5856875116951},{"$f":"AVERAGE(M$79:M245)","v":3804.3145789678683},3770.4356763782971,{"$f":"AVERAGE(P$79:P245)","v":3719.5354474341093},null,null,null,null,40098.106226851545,{"$f":"LOOKUP($V245,Data!$A$6:$A$1806,Data!$B$6:$B$1806)","v":59.998001098632813},{"$f":"LOOKUP($V245,Data!$A$6:$A$1806,Data!$C$6:$C$1806)","v":3775.49169921875},{"$f":"LOOKUP($V245,Data!$A$6:$A$1806,Data!$D$6:$D$1806)","v":350},{"$f":"IF($Z$1=\"+\",LOOKUP($V245,Data!$A$6:$A$1806,Data!$E$6:$E$1806)*-1,LOOKUP($V245,Data!$A$6:$A$1806,Data!$E$6:$E$1806))","v":228.14930725097656},{"$f":"LOOKUP($V245,Data!$A$6:$A$1806,Data!$F$6:$F$1806)","v":16},null,{"$f":"LOOKUP($V245,Data!$A$6:$A$1806,Data!$H$6:$H$1806)","v":10},{"$f":"LOOKUP($V245,Data!$A$6:$A$1806,Data!$I$6:$I$1806)","v":0},{"$f":"IF(LOOKUP($V245,Data!$A$6:$A$1806,Data!$J$6:$J$1806)>0,(LOOKUP($V245,Data!$A$6:$A$1806,Data!$J$6:$J$1806)*-1),LOOKUP($V245,Data!$A$6:$A$1806,Data!$J$6:$J$1806))","v":-103},{"$f":"LOOKUP($V245,Data!$A$6:$A$1806,Data!$K$6:$K$1806)","v":7707.24},2.058868408203125,null,null,null,null,null,null,null,null,null,null,null,null,null,null,130.38162090955072,-295.48827692625071,1.9989013671875E-3," "]
[null,40098.106249999691,{"$f":"LOOKUP(B246,Data!$A$6:$A$1806,Data!B$6:B$1806)","v":59.999000549316406},{"$f":"LOOKUP(B246,Data!$A$6:$A$1806,Data!C$6:C$1806)","v":3776.420166015625},null,null,3090,{"$f":"(IF((C246-L$2)>0,(IF(C246<'Copy Results'!$C$3,((C246-L$2-L$5)/((L$4*L$2)-L$5)*G246*-1),(('Copy Results'!$C$3-L$2-L$5)/((L$4*L$2)-L$5)*G246*-1))),IF(C246>'Copy Results'!$C$2,((C246-L$2+L$5)/((L$4*L$2)-L$5)*G246*-1),(('Copy Results'!$C$2-L$2+L$5)/((L$4*L$2)-L$5)*G246*-1))))","v":1.0294342041015625},4.648145733676829,null,null,0.61697247205071049,3790.9193777799701,{"$f":"AVERAGE(D$79:D246)","v":3764.6561308361233},{"$f":"AVERAGE(M$79:M246)","v":3804.234845627464},3771.0526488503479,{"$f":"AVERAGE(P$79:P246)","v":3719.8439336701344},null,null,null,null,40098.106249999691,{"$f":"LOOKUP($V246,Data!$A$6:$A$1806,Data!$B$6:$B$1806)","v":59.999000549316406},{"$f":"LOOKUP($V246,Data!$A$6:$A$1806,Data!$C$6:$C$1806)","v":3776.420166015625},{"$f":"LOOKUP($V246,Data!$A$6:$A$1806,Data!$D$6:$D$1806)","v":350},{"$f":"IF($Z$1=\"+\",LOOKUP($V246,Data!$A$6:$A$1806,Data!$E$6:$E$1806)*-1,LOOKUP($V246,Data!$A$6:$A$1806,Data!$E$6:$E$1806))","v":228.14930725097656},{"$f":"LOOKUP($V246,Data!$A$6:$A$1806,Data!$F$6:$F$1806)","v":16},null,{"$f":"LOOKUP($V246,Data!$A$6:$A$1806,Data!$H$6:$H$1806)","v":10},{"$f":"LOOKUP($V246,Data!$A$6:$A$1806,Data!$I$6:$I$1806)","v":0},{"$f":"IF(LOOKUP($V246,Data!$A$6:$A$1806,Data!$J$6:$J$1806)>0,(LOOKUP($V246,Data!$A$6:$A$1806,Data!$J$6:$J$1806)*-1),LOOKUP($V246,Data!$A$6:$A$1806,Data!$J$6:$J$1806))","v":-103},{"$f":"LOOKUP($V246,Data!$A$6:$A$1806,Data!$K$6:$K$1806)","v":7707.57},1.0294342041015625,null,null,null,null,null,null,null,null,null,null,null,null,null,null,131.31008770642572,-304.48944930141431,9.9945068359375E-4," "]
[null,40098.106273147838,{"$f":"LOOKUP(B247,Data!$A$6:$A$1806,Data!B$6:B$1806)","v":60.000999450683594},{"$f":"LOOKUP(B247,Data!$A$6:$A$1806,Data!C$6:C$1806)","v":3778.5537109375},null,null,3090,{"$f":"(IF((C247-L$2)>0,(IF(C247<'Copy Results'!$C$3,((C247-L$2-L$5)/((L$4*L$2)-L$5)*G247*-1),(('Copy Results'!$C$3-L$2-L$5)/((L$4*L$2)-L$5)*G247*-1))),IF(C247>'Copy Results'!$C$2,((C247-L$2+L$5)/((L$4*L$2)-L$5)*G247*-1),(('Copy Results'!$C$2-L$2+L$5)/((L$4*L$2)-L$5)*G247*-1))))","v":-1.0294342041015625},2.6609927554543922,null,null,0,3788.9322248017475,{"$f":"AVERAGE(D$79:D247)","v":3764.738365037907},{"$f":"AVERAGE(M$79:M247)","v":3804.1442975752407},3771.0526488503479,{"$f":"AVERAGE(P$79:P247)","v":3720.1487474509695},null,null,null,null,40098.106273147838,{"$f":"LOOKUP($V247,Data!$A$6:$A$1806,Data!$B$6:$B$1806)","v":60.000999450683594},{"$f":"LOOKUP($V247,Data!$A$6:$A$1806,Data!$C$6:$C$1806)","v":3778.5537109375},{"$f":"LOOKUP($V247,Data!$A$6:$A$1806,Data!$D$6:$D$1806)","v":350},{"$f":"IF($Z$1=\"+\",LOOKUP($V247,Data!$A$6:$A$1806,Data!$E$6:$E$1806)*-1,LOOKUP($V247,Data!$A$6:$A$1806,Data!$E$6:$E$1806))","v":228.14930725097656},{"$f":"LOOKUP($V247,Data!$A$6:$A$1806,Data!$F$6:$F$1806)","v":16},null,{"$f":"LOOKUP($V247,Data!$A$6:$A$1806,Data!$H$6:$H$1806)","v":10},{"$f":"LOOKUP($V247,Data!$A$6:$A$1806,Data!$I$6:$I$1806)","v":0},{"$f":"IF(LOOKUP($V247,Data!$A$6:$A$1806,Data!$J$6:$J$1806)>0,(LOOKUP($V247,Data!$A$6:$A$1806,Data!$J$6:$J$1806)*-1),LOOKUP($V247,Data!$A$6:$A$1806,Data!$J$6:$J$1806))","v":-103},{"$f":"LOOKUP($V247,Data!$A$6:$A$1806,Data!$K$6:$K$1806)","v":7707.9},-1.0294342041015625,null,null,null,null,null,null,null,null,null,null,null,null,null,null,132.82666015625," ",9.9945068359375E-4," "]
[null,40098.106296295984,{"$f":"LOOKUP(B248,Data!$A$6:$A$1806,Data!B$6:B$1806)","v":59.999000549316406},{"$f":"LOOKUP(B248,Data!$A$6:$A$1806,Data!C$6:C$1806)","v":3779.69189453125},null,null,3090,{"$f":"(IF((C248-L$2)>0,(IF(C248<'Copy Results'!$C$3,((C248-L$2-L$5)/((L$4*L$2)-L$5)*G248*-1),(('Copy Results'!$C$3-L$2-L$5)/((L$4*L$2)-L$5)*G248*-1))),IF(C248>'Copy Results'!$C$2,((C248-L$2+L$5)/((L$4*L$2)-L$5)*G248*-1),(('Copy Results'!$C$2-L$2+L$5)/((L$4*L$2)-L$5)*G248*-1))))","v":1.0294342041015625},2.0899472624809019,null,null,0,3788.3611793087739,{"$f":"AVERAGE(D$79:D248)","v":3764.8263269761028},{"$f":"AVERAGE(M$79:M248)","v":3804.0514557030847},3771.0526488503479,{"$f":"AVERAGE(P$79:P248)","v":3720.4499539681256},null,null,null,null,40098.106296295984,{"$f":"LOOKUP($V248,Data!$A$6:$A$1806,Data!$B$6:$B$1806)","v":59.999000549316406},{"$f":"LOOKUP($V248,Data!$A$6:$A$1806,Data!$C$6:$C$1806)","v":3779.69189453125},{"$f":"LOOKUP($V248,Data!$A$6:$A$1806,Data!$D$6:$D$1806)","v":350},{"$f":"IF($Z$1=\"+\",LOOKUP($V248,Data!$A$6:$A$1806,Data!$E$6:$E$1806)*-1,LOOKUP($V248,Data!$A$6:$A$1806,Data!$E$6:$E$1806))","v":228.14930725097656},{"$f":"LOOKUP($V248,Data!$A$6:$A$1806,Data!$F$6:$F$1806)","v":16},null,{"$f":"LOOKUP($V248,Data!$A$6:$A$1806,Data!$H$6:$H$1806)","v":10},{"$f":"LOOKUP($V248,Data!$A$6:$A$1806,Data!$I$6:$I$1806)","v":0},{"$f":"IF(LOOKUP($V248,Data!$A$6:$A$1806,Data!$J$6:$J$1806)>0,(LOOKUP($V248,Data!$A$6:$A$1806,Data!$J$6:$J$1806)*-1),LOOKUP($V248,Data!$A$6:$A$1806,Data!$J$6:$J$1806))","v":-103},{"$f":"LOOKUP($V248,Data!$A$6:$A$1806,Data!$K$6:$K$1806)","v":7708.23},1.0294342041015625,null,null,null,null,null,null,null,null,null,null,null,null,null,null,133.96484375," ",9.9945068359375E-4," "]
[null,40098.10631944413,{"$f":"LOOKUP(B249,Data!$A$6:$A$1806,Data!B$6:B$1806)","v":59.999000549316406},{"$f":"LOOKUP(B249,Data!$A$6:$A$1806,Data!C$6:C$1806)","v":3781.255859375},null,null,3090,{"$f":"(IF((C249-L$2)>0,(IF(C249<'Copy Results'!$C$3,((C249-L$2-L$5)/((L$4*L$2)-L$5)*G249*-1),(('Copy Results'!$C$3-L$2-L$5)/((L$4*L$2)-L$5)*G249*-1))),IF(C249>'Copy Results'!$C$2,((C249-L$2+L$5)/((L$4*L$2)-L$5)*G249*-1),(('Copy Results'!$C$2-L$2+L$5)/((L$4*L$2)-L$5)*G249*-1))))","v":1.0294342041015625},1.7187676920481332,null,null,0,3787.9899997383413,{"$f":"AVERAGE(D$79:D249)","v":3764.9224061129385},{"$f":"AVERAGE(M$79:M249)","v":3803.9575290600155},3771.0526488503479,{"$f":"AVERAGE(P$79:P249)","v":3720.7476168791977},null,null,null,null,40098.10631944413,{"$f":"LOOKUP($V249,Data!$A$6:$A$1806,Data!$B$6:$B$1806)","v":59.999000549316406},{"$f":"LOOKUP($V249,Data!$A$6:$A$1806,Data!$C$6:$C$1806)","v":3781.255859375},{"$f":"LOOKUP($V249,Data!$A$6:$A$1806,Data!$D$6:$D$1806)","v":350},{"$f":"IF($Z$1=\"+\",LOOKUP($V249,Data!$A$6:$A$1806,Data!$E$6:$E$1806)*-1,LOOKUP($V249,Data!$A$6:$A$1806,Data!$E$6:$E$1806))","v":228.14930725097656},{"$f":"LOOKUP($V249,Data!$A$6:$A$1806,Data!$F$6:$F$1806)","v":16},null,{"$f":"LOOKUP($V249,Data!$A$6:$A$1806,Data!$H$6:$H$1806)","v":10},{"$f":"LOOKUP($V249,Data!$A$6:$A$1806,Data!$I$6:$I$1806)","v":0},{"$f":"IF(LOOKUP($V249,Data!$A$6:$A$1806,Data!$J$6:$J$1806)>0,(LOOKUP($V249,Data!$A$6:$A$1806,Data!$J$6:$J$1806)*-1),LOOKUP($V249,Data!$A$6:$A$1806,Data!$J$6:$J$1806))","v":-103},{"$f":"LOOKUP($V249,Data!$A$6:$A$1806,Data!$K$6:$K$1806)","v":7708.56},1.0294342041015625,null,null,null,null,null,null,null,null,null,null,null,null,null,null,135.52880859375," ",9.9945068359375E-4," "]
[null,40098.106342592277,{"$f":"LOOKUP(B250,Data!$A$6:$A$1806,Data!B$6:B$1806)","v":59.999000549316406},{"$f":"LOOKUP(B250,Data!$A$6:$A$1806,Data!C$6:C$1806)","v":3780.594970703125},null,null,3090,{"$f":"(IF((C250-L$2)>0,(IF(C250<'Copy Results'!$C$3,((C250-L$2-L$5)/((L$4*L$2)-L$5)*G250*-1),(('Copy Results'!$C$3-L$2-L$5)/((L$4*L$2)-L$5)*G250*-1))),IF(C250>'Copy Results'!$C$2,((C250-L$2+L$5)/((L$4*L$2)-L$5)*G250*-1),(('Copy Results'!$C$2-L$2+L$5)/((L$4*L$2)-L$5)*G250*-1))))","v":1.0294342041015625},1.4775009712668334,null,null,0,3787.74873301756,{"$f":"AVERAGE(D$79:D250)","v":3765.0135256745093},{"$f":"AVERAGE(M$79:M250)","v":3803.8632918737226},3771.0526488503479,{"$f":"AVERAGE(P$79:P250)","v":3721.0417983527132},null,null,null,null,40098.106342592277,{"$f":"LOOKUP($V250,Data!$A$6:$A$1806,Data!$B$6:$B$1806)","v":59.999000549316406},{"$f":"LOOKUP($V250,Data!$A$6:$A$1806,Data!$C$6:$C$1806)","v":3780.594970703125},{"$f":"LOOKUP($V250,Data!$A$6:$A$1806,Data!$D$6:$D$1806)","v":350},{"$f":"IF($Z$1=\"+\",LOOKUP($V250,Data!$A$6:$A$1806,Data!$E$6:$E$1806)*-1,LOOKUP($V250,Data!$A$6:$A$1806,Data!$E$6:$E$1806))","v":235.12898254394531},{"$f":"LOOKUP($V250,Data!$A$6:$A$1806,Data!$F$6:$F$1806)","v":16},null,{"$f":"LOOKUP($V250,Data!$A$6:$A$1806,Data!$H$6:$H$1806)","v":10},{"$f":"LOOKUP($V250,Data!$A$6:$A$1806,Data!$I$6:$I$1806)","v":0},{"$f":"IF(LOOKUP($V250,Data!$A$6:$A$1806,Data!$J$6:$J$1806)>0,(LOOKUP($V250,Data!$A$6:$A$1806,Data!$J$6:$J$1806)*-1),LOOKUP($V250,Data!$A$6:$A$1806,Data!$J$6:$J$1806))","v":-103},{"$f":"LOOKUP($V250,Data!$A$6:$A$1806,Data!$K$6:$K$1806)","v":7708.89},1.0294342041015625,null,null,null,null,null,null,null,null,null,null,null,null,null,null,134.867919921875," ",9.9945068359375E-4," "]
[null,40098.106365740423,{"$f":"LOOKUP(B251,Data!$A$6:$A$1806,Data!B$6:B$1806)","v":60.001998901367188},{"$f":"LOOKUP(B251,Data!$A$6:$A$1806,Data!C$6:C$1806)","v":3783.092041015625},null,null,3090,{"$f":"(IF((C251-L$2)>0,(IF(C251<'Copy Results'!$C$3,((C251-L$2-L$5)/((L$4*L$2)-L$5)*G251*-1),(('Copy Results'!$C$3-L$2-L$5)/((L$4*L$2)-L$5)*G251*-1))),IF(C251>'Copy Results'!$C$2,((C251-L$2+L$5)/((L$4*L$2)-L$5)*G251*-1),(('Copy Results'!$C$2-L$2+L$5)/((L$4*L$2)-L$5)*G251*-1))))","v":-2.058868408203125},0.23977168845234798,null,null,0,3786.5110037347454,{"$f":"AVERAGE(D$79:D251)","v":3765.1180257631863},{"$f":"AVERAGE(M$79:M251)","v":3803.7629896301446},3771.0526488503479,{"$f":"AVERAGE(P$79:P251)","v":3721.3325591114203},null,null,null,null,40098.106365740423,{"$f":"LOOKUP($V251,Data!$A$6:$A$1806,Data!$B$6:$B$1806)","v":60.001998901367188},{"$f":"LOOKUP($V251,Data!$A$6:$A$1806,Data!$C$6:$C$1806)","v":3783.092041015625},{"$f":"LOOKUP($V251,Data!$A$6:$A$1806,Data!$D$6:$D$1806)","v":350},{"$f":"IF($Z$1=\"+\",LOOKUP($V251,Data!$A$6:$A$1806,Data!$E$6:$E$1806)*-1,LOOKUP($V251,Data!$A$6:$A$1806,Data!$E$6:$E$1806))","v":235.12898254394531},{"$f":"LOOKUP($V251,Data!$A$6:$A$1806,Data!$F$6:$F$1806)","v":16},null,{"$f":"LOOKUP($V251,Data!$A$6:$A$1806,Data!$H$6:$H$1806)","v":10},{"$f":"LOOKUP($V251,Data!$A$6:$A$1806,Data!$I$6:$I$1806)","v":0},{"$f":"IF(LOOKUP($V251,Data!$A$6:$A$1806,Data!$J$6:$J$1806)>0,(LOOKUP($V251,Data!$A$6:$A$1806,Data!$J$6:$J$1806)*-1),LOOKUP($V251,Data!$A$6:$A$1806,Data!$J$6:$J$1806))","v":-103},{"$f":"LOOKUP($V251,Data!$A$6:$A$1806,Data!$K$6:$K$1806)","v":7709.22},-2.058868408203125,null,null,null,null,null,null,null,null,null,null,null,null,null,null,137.364990234375," ",1.9989013671875E-3," "]
[null,40098.106388888569,{"$f":"LOOKUP(B252,Data!$A$6:$A$1806,Data!B$6:B$1806)","v":60.005001068115234},{"$f":"LOOKUP(B252,Data!$A$6:$A$1806,Data!C$6:C$1806)","v":3783.8955078125},null,null,3090,{"$f":"(IF((C252-L$2)>0,(IF(C252<'Copy Results'!$C$3,((C252-L$2-L$5)/((L$4*L$2)-L$5)*G252*-1),(('Copy Results'!$C$3-L$2-L$5)/((L$4*L$2)-L$5)*G252*-1))),IF(C252>'Copy Results'!$C$2,((C252-L$2+L$5)/((L$4*L$2)-L$5)*G252*-1),(('Copy Results'!$C$2-L$2+L$5)/((L$4*L$2)-L$5)*G252*-1))))","v":-5.1511001586914062},-1.6470334580479657,null,null,0,3784.6241985882452,{"$f":"AVERAGE(D$79:D252)","v":3765.2259423266883},{"$f":"AVERAGE(M$79:M252)","v":3803.6529965781797},3771.0526488503479,{"$f":"AVERAGE(P$79:P252)","v":3721.6199584740734},null,null,null,null,40098.106388888569,{"$f":"LOOKUP($V252,Data!$A$6:$A$1806,Data!$B$6:$B$1806)","v":60.005001068115234},{"$f":"LOOKUP($V252,Data!$A$6:$A$1806,Data!$C$6:$C$1806)","v":3783.8955078125},{"$f":"LOOKUP($V252,Data!$A$6:$A$1806,Data!$D$6:$D$1806)","v":350},{"$f":"IF($Z$1=\"+\",LOOKUP($V252,Data!$A$6:$A$1806,Data!$E$6:$E$1806)*-1,LOOKUP($V252,Data!$A$6:$A$1806,Data!$E$6:$E$1806))","v":235.12898254394531},{"$f":"LOOKUP($V252,Data!$A$6:$A$1806,Data!$F$6:$F$1806)","v":16},null,{"$f":"LOOKUP($V252,Data!$A$6:$A$1806,Data!$H$6:$H$1806)","v":10},{"$f":"LOOKUP($V252,Data!$A$6:$A$1806,Data!$I$6:$I$1806)","v":0},{"$f":"IF(LOOKUP($V252,Data!$A$6:$A$1806,Data!$J$6:$J$1806)>0,(LOOKUP($V252,Data!$A$6:$A$1806,Data!$J$6:$J$1806)*-1),LOOKUP($V252,Data!$A$6:$A$1806,Data!$J$6:$J$1806))","v":-103},{"$f":"LOOKUP($V252,Data!$A$6:$A$1806,Data!$K$6:$K$1806)","v":7709.55},-5.1511001586914062,null,null,null,null,null,null,null,null,null,null,null,null,null,null,138.16845703125," ",5.001068115234375E-3," "]
[null,40098.106412036715,{"$f":"LOOKUP(B253,Data!$A$6:$A$1806,Data!B$6:B$1806)","v":60.006999969482422},{"$f":"LOOKUP(B253,Data!$A$6:$A$1806,Data!C$6:C$1806)","v":3784.4208984375},null,null,3090,{"$f":"(IF((C253-L$2)>0,(IF(C253<'Copy Results'!$C$3,((C253-L$2-L$5)/((L$4*L$2)-L$5)*G253*-1),(('Copy Results'!$C$3-L$2-L$5)/((L$4*L$2)-L$5)*G253*-1))),IF(C253>'Copy Results'!$C$2,((C253-L$2+L$5)/((L$4*L$2)-L$5)*G253*-1),(('Copy Results'!$C$2-L$2+L$5)/((L$4*L$2)-L$5)*G253*-1))))","v":-7.2099685668945304},-3.5940607461442635,null,null,0,3782.677171300149,{"$f":"AVERAGE(D$79:D253)","v":3765.3356277901785},{"$f":"AVERAGE(M$79:M253)","v":3803.5331347194478},3771.0526488503479,{"$f":"AVERAGE(P$79:P253)","v":3721.9040543957763},null,null,null,null,40098.106412036715,{"$f":"LOOKUP($V253,Data!$A$6:$A$1806,Data!$B$6:$B$1806)","v":60.006999969482422},{"$f":"LOOKUP($V253,Data!$A$6:$A$1806,Data!$C$6:$C$1806)","v":3784.4208984375},{"$f":"LOOKUP($V253,Data!$A$6:$A$1806,Data!$D$6:$D$1806)","v":350},{"$f":"IF($Z$1=\"+\",LOOKUP($V253,Data!$A$6:$A$1806,Data!$E$6:$E$1806)*-1,LOOKUP($V253,Data!$A$6:$A$1806,Data!$E$6:$E$1806))","v":235.12898254394531},{"$f":"LOOKUP($V253,Data!$A$6:$A$1806,Data!$F$6:$F$1806)","v":16},null,{"$f":"LOOKUP($V253,Data!$A$6:$A$1806,Data!$H$6:$H$1806)","v":10},{"$f":"LOOKUP($V253,Data!$A$6:$A$1806,Data!$I$6:$I$1806)","v":0},{"$f":"IF(LOOKUP($V253,Data!$A$6:$A$1806,Data!$J$6:$J$1806)>0,(LOOKUP($V253,Data!$A$6:$A$1806,Data!$J$6:$J$1806)*-1),LOOKUP($V253,Data!$A$6:$A$1806,Data!$J$6:$J$1806))","v":-103},{"$f":"LOOKUP($V253,Data!$A$6:$A$1806,Data!$K$6:$K$1806)","v":7709.88},-7.2099685668945304,null,null,null,null,null,null,null,null,null,null,null,null,null,null,138.69384765625," ",6.999969482421875E-3," "]
[null,40098.106435184862,{"$f":"LOOKUP(B254,Data!$A$6:$A$1806,Data!B$6:B$1806)","v":60.007999420166016},{"$f":"LOOKUP(B254,Data!$A$6:$A$1806,Data!C$6:C$1806)","v":3785.76806640625},null,null,3090,{"$f":"(IF((C254-L$2)>0,(IF(C254<'Copy Results'!$C$3,((C254-L$2-L$5)/((L$4*L$2)-L$5)*G254*-1),(('Copy Results'!$C$3-L$2-L$5)/((L$4*L$2)-L$5)*G254*-1))),IF(C254>'Copy Results'!$C$2,((C254-L$2+L$5)/((L$4*L$2)-L$5)*G254*-1),(('Copy Results'!$C$2-L$2+L$5)/((L$4*L$2)-L$5)*G254*-1))))","v":-8.2394027709960937},-5.2199304548424044,null,null,0,3781.0513015914507,{"$f":"AVERAGE(D$79:D254)","v":3765.4517211914062},{"$f":"AVERAGE(M$79:M254)","v":3803.4053970312207},3771.0526488503479,{"$f":"AVERAGE(P$79:P254)","v":3722.1849035069454},null,null,null,null,40098.106435184862,{"$f":"LOOKUP($V254,Data!$A$6:$A$1806,Data!$B$6:$B$1806)","v":60.007999420166016},{"$f":"LOOKUP($V254,Data!$A$6:$A$1806,Data!$C$6:$C$1806)","v":3785.76806640625},{"$f":"LOOKUP($V254,Data!$A$6:$A$1806,Data!$D$6:$D$1806)","v":350},{"$f":"IF($Z$1=\"+\",LOOKUP($V254,Data!$A$6:$A$1806,Data!$E$6:$E$1806)*-1,LOOKUP($V254,Data!$A$6:$A$1806,Data!$E$6:$E$1806))","v":235.12898254394531},{"$f":"LOOKUP($V254,Data!$A$6:$A$1806,Data!$F$6:$F$1806)","v":16},null,{"$f":"LOOKUP($V254,Data!$A$6:$A$1806,Data!$H$6:$H$1806)","v":10},{"$f":"LOOKUP($V254,Data!$A$6:$A$1806,Data!$I$6:$I$1806)","v":0},{"$f":"IF(LOOKUP($V254,Data!$A$6:$A$1806,Data!$J$6:$J$1806)>0,(LOOKUP($V254,Data!$A$6:$A$1806,Data!$J$6:$J$1806)*-1),LOOKUP($V254,Data!$A$6:$A$1806,Data!$J$6:$J$1806))","v":-103},{"$f":"LOOKUP($V254,Data!$A$6:$A$1806,Data!$K$6:$K$1806)","v":7710.21},-8.2394027709960937,null,null,null,null,null,null,null,null,null,null,null,null,null,null,140.041015625," ",7.999420166015625E-3," "]
[null,40098.106458333008,{"$f":"LOOKUP(B255,Data!$A$6:$A$1806,Data!B$6:B$1806)","v":60.011001586914063},{"$f":"LOOKUP(B255,Data!$A$6:$A$1806,Data!C$6:C$1806)","v":3785.462646484375},null,null,3090,{"$f":"(IF((C255-L$2)>0,(IF(C255<'Copy Results'!$C$3,((C255-L$2-L$5)/((L$4*L$2)-L$5)*G255*-1),(('Copy Results'!$C$3-L$2-L$5)/((L$4*L$2)-L$5)*G255*-1))),IF(C255>'Copy Results'!$C$2,((C255-L$2+L$5)/((L$4*L$2)-L$5)*G255*-1),(('Copy Results'!$C$2-L$2+L$5)/((L$4*L$2)-L$5)*G255*-1))))","v":-11.331634521484375},-7.3590268781670938,null,null,0,3778.9122051681261,{"$f":"AVERAGE(D$79:D255)","v":3765.5647772665079},{"$f":"AVERAGE(M$79:M255)","v":3803.2670174161753},3771.0526488503479,{"$f":"AVERAGE(P$79:P255)","v":3722.4625611509418},null,null,null,null,40098.106458333008,{"$f":"LOOKUP($V255,Data!$A$6:$A$1806,Data!$B$6:$B$1806)","v":60.011001586914063},{"$f":"LOOKUP($V255,Data!$A$6:$A$1806,Data!$C$6:$C$1806)","v":3785.462646484375},{"$f":"LOOKUP($V255,Data!$A$6:$A$1806,Data!$D$6:$D$1806)","v":350},{"$f":"IF($Z$1=\"+\",LOOKUP($V255,Data!$A$6:$A$1806,Data!$E$6:$E$1806)*-1,LOOKUP($V255,Data!$A$6:$A$1806,Data!$E$6:$E$1806))","v":246.43313598632812},{"$f":"LOOKUP($V255,Data!$A$6:$A$1806,Data!$F$6:$F$1806)","v":16},null,{"$f":"LOOKUP($V255,Data!$A$6:$A$1806,Data!$H$6:$H$1806)","v":10},{"$f":"LOOKUP($V255,Data!$A$6:$A$1806,Data!$I$6:$I$1806)","v":0},{"$f":"IF(LOOKUP($V255,Data!$A$6:$A$1806,Data!$J$6:$J$1806)>0,(LOOKUP($V255,Data!$A$6:$A$1806,Data!$J$6:$J$1806)*-1),LOOKUP($V255,Data!$A$6:$A$1806,Data!$J$6:$J$1806))","v":-103},{"$f":"LOOKUP($V255,Data!$A$6:$A$1806,Data!$K$6:$K$1806)","v":7710.54},-11.331634521484375,null,null,null,null,null,null,null,null,null,null,null,null,null,null,139.735595703125," ",1.10015869140625E-2," "]
[null,40098.106481481154,{"$f":"LOOKUP(B256,Data!$A$6:$A$1806,Data!B$6:B$1806)","v":60.013999938964844},{"$f":"LOOKUP(B256,Data!$A$6:$A$1806,Data!C$6:C$1806)","v":3786.850341796875},null,null,3090,{"$f":"(IF((C256-L$2)>0,(IF(C256<'Copy Results'!$C$3,((C256-L$2-L$5)/((L$4*L$2)-L$5)*G256*-1),(('Copy Results'!$C$3-L$2-L$5)/((L$4*L$2)-L$5)*G256*-1))),IF(C256>'Copy Results'!$C$2,((C256-L$2+L$5)/((L$4*L$2)-L$5)*G256*-1),(('Copy Results'!$C$2-L$2+L$5)/((L$4*L$2)-L$5)*G256*-1))))","v":-14.419937133789061},-9.8303454676347819,null,null,0,3776.4408865786586,{"$f":"AVERAGE(D$79:D256)","v":3765.684359089712},{"$f":"AVERAGE(M$79:M256)","v":3803.1163088159642},3771.0526488503479,{"$f":"AVERAGE(P$79:P256)","v":3722.7370814204301},null,null,null,null,40098.106481481154,{"$f":"LOOKUP($V256,Data!$A$6:$A$1806,Data!$B$6:$B$1806)","v":60.013999938964844},{"$f":"LOOKUP($V256,Data!$A$6:$A$1806,Data!$C$6:$C$1806)","v":3786.850341796875},{"$f":"LOOKUP($V256,Data!$A$6:$A$1806,Data!$D$6:$D$1806)","v":350},{"$f":"IF($Z$1=\"+\",LOOKUP($V256,Data!$A$6:$A$1806,Data!$E$6:$E$1806)*-1,LOOKUP($V256,Data!$A$6:$A$1806,Data!$E$6:$E$1806))","v":246.43313598632812},{"$f":"LOOKUP($V256,Data!$A$6:$A$1806,Data!$F$6:$F$1806)","v":16},null,{"$f":"LOOKUP($V256,Data!$A$6:$A$1806,Data!$H$6:$H$1806)","v":10},{"$f":"LOOKUP($V256,Data!$A$6:$A$1806,Data!$I$6:$I$1806)","v":0},{"$f":"IF(LOOKUP($V256,Data!$A$6:$A$1806,Data!$J$6:$J$1806)>0,(LOOKUP($V256,Data!$A$6:$A$1806,Data!$J$6:$J$1806)*-1),LOOKUP($V256,Data!$A$6:$A$1806,Data!$J$6:$J$1806))","v":-103},{"$f":"LOOKUP($V256,Data!$A$6:$A$1806,Data!$K$6:$K$1806)","v":7710.87},-14.419937133789061,null,null,null,null,null,null,null,null,null,null,null,null,null,null,141.123291015625," ",1.399993896484375E-2," "]
[null,40098.106504629301,{"$f":"LOOKUP(B257,Data!$A$6:$A$1806,Data!B$6:B$1806)","v":60.016998291015625},{"$f":"LOOKUP(B257,Data!$A$6:$A$1806,Data!C$6:C$1806)","v":3786.30419921875},null,null,3090,{"$f":"(IF((C257-L$2)>0,(IF(C257<'Copy Results'!$C$3,((C257-L$2-L$5)/((L$4*L$2)-L$5)*G257*-1),(('Copy Results'!$C$3-L$2-L$5)/((L$4*L$2)-L$5)*G257*-1))),IF(C257>'Copy Results'!$C$2,((C257-L$2+L$5)/((L$4*L$2)-L$5)*G257*-1),(('Copy Results'!$C$2-L$2+L$5)/((L$4*L$2)-L$5)*G257*-1))))","v":-17.50823974609375},-12.517608465095421,null,null,0,3773.7536235811981,{"$f":"AVERAGE(D$79:D257)","v":3765.7995537273046},{"$f":"AVERAGE(M$79:M257)","v":3802.9522714682839},3771.0526488503479,{"$f":"AVERAGE(P$79:P257)","v":3723.0085171925084},null,null,null,null,40098.106504629301,{"$f":"LOOKUP($V257,Data!$A$6:$A$1806,Data!$B$6:$B$1806)","v":60.016998291015625},{"$f":"LOOKUP($V257,Data!$A$6:$A$1806,Data!$C$6:$C$1806)","v":3786.30419921875},{"$f":"LOOKUP($V257,Data!$A$6:$A$1806,Data!$D$6:$D$1806)","v":350},{"$f":"IF($Z$1=\"+\",LOOKUP($V257,Data!$A$6:$A$1806,Data!$E$6:$E$1806)*-1,LOOKUP($V257,Data!$A$6:$A$1806,Data!$E$6:$E$1806))","v":246.43313598632812},{"$f":"LOOKUP($V257,Data!$A$6:$A$1806,Data!$F$6:$F$1806)","v":16},null,{"$f":"LOOKUP($V257,Data!$A$6:$A$1806,Data!$H$6:$H$1806)","v":10},{"$f":"LOOKUP($V257,Data!$A$6:$A$1806,Data!$I$6:$I$1806)","v":0},{"$f":"IF(LOOKUP($V257,Data!$A$6:$A$1806,Data!$J$6:$J$1806)>0,(LOOKUP($V257,Data!$A$6:$A$1806,Data!$J$6:$J$1806)*-1),LOOKUP($V257,Data!$A$6:$A$1806,Data!$J$6:$J$1806))","v":-103},{"$f":"LOOKUP($V257,Data!$A$6:$A$1806,Data!$K$6:$K$1806)","v":7711.2},-17.50823974609375,null,null,null,null,null,null,null,null,null,null,null,null,null,null,140.5771484375," ",1.6998291015625E-2," "]
[null,40098.106527777447,{"$f":"LOOKUP(B258,Data!$A$6:$A$1806,Data!B$6:B$1806)","v":60.019001007080078},{"$f":"LOOKUP(B258,Data!$A$6:$A$1806,Data!C$6:C$1806)","v":3787.25927734375},null,null,3090,{"$f":"(IF((C258-L$2)>0,(IF(C258<'Copy Results'!$C$3,((C258-L$2-L$5)/((L$4*L$2)-L$5)*G258*-1),(('Copy Results'!$C$3-L$2-L$5)/((L$4*L$2)-L$5)*G258*-1))),IF(C258>'Copy Results'!$C$2,((C258-L$2+L$5)/((L$4*L$2)-L$5)*G258*-1),(('Copy Results'!$C$2-L$2+L$5)/((L$4*L$2)-L$5)*G258*-1))))","v":-19.571037292480469},-14.986308554680187,null,null,0,3771.2849234916134,{"$f":"AVERAGE(D$79:D258)","v":3765.9187744140627},{"$f":"AVERAGE(M$79:M258)","v":3802.7763417573024},3771.0526488503479,{"$f":"AVERAGE(P$79:P258)","v":3723.2769201626643},null,null,null,null,40098.106527777447,{"$f":"LOOKUP($V258,Data!$A$6:$A$1806,Data!$B$6:$B$1806)","v":60.019001007080078},{"$f":"LOOKUP($V258,Data!$A$6:$A$1806,Data!$C$6:$C$1806)","v":3787.25927734375},{"$f":"LOOKUP($V258,Data!$A$6:$A$1806,Data!$D$6:$D$1806)","v":350},{"$f":"IF($Z$1=\"+\",LOOKUP($V258,Data!$A$6:$A$1806,Data!$E$6:$E$1806)*-1,LOOKUP($V258,Data!$A$6:$A$1806,Data!$E$6:$E$1806))","v":246.43313598632812},{"$f":"LOOKUP($V258,Data!$A$6:$A$1806,Data!$F$6:$F$1806)","v":16},null,{"$f":"LOOKUP($V258,Data!$A$6:$A$1806,Data!$H$6:$H$1806)","v":10},{"$f":"LOOKUP($V258,Data!$A$6:$A$1806,Data!$I$6:$I$1806)","v":0},{"$f":"IF(LOOKUP($V258,Data!$A$6:$A$1806,Data!$J$6:$J$1806)>0,(LOOKUP($V258,Data!$A$6:$A$1806,Data!$J$6:$J$1806)*-1),LOOKUP($V258,Data!$A$6:$A$1806,Data!$J$6:$J$1806))","v":-103},{"$f":"LOOKUP($V258,Data!$A$6:$A$1806,Data!$K$6:$K$1806)","v":7711.53},-19.571037292480469,null,null,null,null,null,null,null,null,null,null,null,null,null,null,141.5322265625," ",1.9001007080078125E-2," "]
[null,40098.106550925593,{"$f":"LOOKUP(B259,Data!$A$6:$A$1806,Data!B$6:B$1806)","v":60.020999908447266},{"$f":"LOOKUP(B259,Data!$A$6:$A$1806,Data!C$6:C$1806)","v":3787.515869140625},null,null,3090,{"$f":"(IF((C259-L$2)>0,(IF(C259<'Copy Results'!$C$3,((C259-L$2-L$5)/((L$4*L$2)-L$5)*G259*-1),(('Copy Results'!$C$3-L$2-L$5)/((L$4*L$2)-L$5)*G259*-1))),IF(C259>'Copy Results'!$C$2,((C259-L$2+L$5)/((L$4*L$2)-L$5)*G259*-1),(('Copy Results'!$C$2-L$2+L$5)/((L$4*L$2)-L$5)*G259*-1))))","v":-21.629905700683594},-17.31156755578138,null,null,0,3768.9596644905123,{"$f":"AVERAGE(D$79:D259)","v":3766.0380953794024},{"$f":"AVERAGE(M$79:M259)","v":3802.5895092862156},3771.0526488503479,{"$f":"AVERAGE(P$79:P259)","v":3723.542340877596},null,null,null,null,40098.106550925593,{"$f":"LOOKUP($V259,Data!$A$6:$A$1806,Data!$B$6:$B$1806)","v":60.020999908447266},{"$f":"LOOKUP($V259,Data!$A$6:$A$1806,Data!$C$6:$C$1806)","v":3787.515869140625},{"$f":"LOOKUP($V259,Data!$A$6:$A$1806,Data!$D$6:$D$1806)","v":350},{"$f":"IF($Z$1=\"+\",LOOKUP($V259,Data!$A$6:$A$1806,Data!$E$6:$E$1806)*-1,LOOKUP($V259,Data!$A$6:$A$1806,Data!$E$6:$E$1806))","v":246.43313598632812},{"$f":"LOOKUP($V259,Data!$A$6:$A$1806,Data!$F$6:$F$1806)","v":16},null,{"$f":"LOOKUP($V259,Data!$A$6:$A$1806,Data!$H$6:$H$1806)","v":10},{"$f":"LOOKUP($V259,Data!$A$6:$A$1806,Data!$I$6:$I$1806)","v":0},{"$f":"IF(LOOKUP($V259,Data!$A$6:$A$1806,Data!$J$6:$J$1806)>0,(LOOKUP($V259,Data!$A$6:$A$1806,Data!$J$6:$J$1806)*-1),LOOKUP($V259,Data!$A$6:$A$1806,Data!$J$6:$J$1806))","v":-103},{"$f":"LOOKUP($V259,Data!$A$6:$A$1806,Data!$K$6:$K$1806)","v":7711.86},-21.629905700683594,null,null,null,null,null,null,null,null,null,null,null,null,null,null,141.788818359375," ",2.0999908447265625E-2," "]
[null,40098.106574073739,{"$f":"LOOKUP(B260,Data!$A$6:$A$1806,Data!B$6:B$1806)","v":60.016998291015625},{"$f":"LOOKUP(B260,Data!$A$6:$A$1806,Data!C$6:C$1806)","v":3787.955078125},null,null,3090,{"$f":"(IF((C260-L$2)>0,(IF(C260<'Copy Results'!$C$3,((C260-L$2-L$5)/((L$4*L$2)-L$5)*G260*-1),(('Copy Results'!$C$3-L$2-L$5)/((L$4*L$2)-L$5)*G260*-1))),IF(C260>'Copy Results'!$C$2,((C260-L$2+L$5)/((L$4*L$2)-L$5)*G260*-1),(('Copy Results'!$C$2-L$2+L$5)/((L$4*L$2)-L$5)*G260*-1))))","v":-17.50823974609375},-17.38040282239071,null,null,0,3768.890829223903,{"$f":"AVERAGE(D$79:D260)","v":3766.1585183615211},{"$f":"AVERAGE(M$79:M260)","v":3802.4043517034556},3771.0526488503479,{"$f":"AVERAGE(P$79:P260)","v":3723.804828766948},null,null,null,null,40098.106574073739,{"$f":"LOOKUP($V260,Data!$A$6:$A$1806,Data!$B$6:$B$1806)","v":60.016998291015625},{"$f":"LOOKUP($V260,Data!$A$6:$A$1806,Data!$C$6:$C$1806)","v":3787.955078125},{"$f":"LOOKUP($V260,Data!$A$6:$A$1806,Data!$D$6:$D$1806)","v":350},{"$f":"IF($Z$1=\"+\",LOOKUP($V260,Data!$A$6:$A$1806,Data!$E$6:$E$1806)*-1,LOOKUP($V260,Data!$A$6:$A$1806,Data!$E$6:$E$1806))","v":236.55354309082031},{"$f":"LOOKUP($V260,Data!$A$6:$A$1806,Data!$F$6:$F$1806)","v":16},null,{"$f":"LOOKUP($V260,Data!$A$6:$A$1806,Data!$H$6:$H$1806)","v":10},{"$f":"LOOKUP($V260,Data!$A$6:$A$1806,Data!$I$6:$I$1806)","v":0},{"$f":"IF(LOOKUP($V260,Data!$A$6:$A$1806,Data!$J$6:$J$1806)>0,(LOOKUP($V260,Data!$A$6:$A$1806,Data!$J$6:$J$1806)*-1),LOOKUP($V260,Data!$A$6:$A$1806,Data!$J$6:$J$1806))","v":-103},{"$f":"LOOKUP($V260,Data!$A$6:$A$1806,Data!$K$6:$K$1806)","v":7712.19},-17.50823974609375,null,null,null,null,null,null,null,null,null,null,null,null,null,null,142.22802734375," ",1.6998291015625E-2," "]
[null,40098.106597221886,{"$f":"LOOKUP(B261,Data!$A$6:$A$1806,Data!B$6:B$1806)","v":60.016998291015625},{"$f":"LOOKUP(B261,Data!$A$6:$A$1806,Data!C$6:C$1806)","v":3788.0302734375},null,null,3090,{"$f":"(IF((C261-L$2)>0,(IF(C261<'Copy Results'!$C$3,((C261-L$2-L$5)/((L$4*L$2)-L$5)*G261*-1),(('Copy Results'!$C$3-L$2-L$5)/((L$4*L$2)-L$5)*G261*-1))),IF(C261>'Copy Results'!$C$2,((C261-L$2+L$5)/((L$4*L$2)-L$5)*G261*-1),(('Copy Results'!$C$2-L$2+L$5)/((L$4*L$2)-L$5)*G261*-1))))","v":-17.50823974609375},-17.425145745686777,null,null,0,3768.8460863006071,{"$f":"AVERAGE(D$79:D261)","v":3766.2780361488217},{"$f":"AVERAGE(M$79:M261)","v":3802.220973203986},3771.0526488503479,{"$f":"AVERAGE(P$79:P261)","v":3724.0644321740001},null,null,null,null,40098.106597221886,{"$f":"LOOKUP($V261,Data!$A$6:$A$1806,Data!$B$6:$B$1806)","v":60.016998291015625},{"$f":"LOOKUP($V261,Data!$A$6:$A$1806,Data!$C$6:$C$1806)","v":3788.0302734375},{"$f":"LOOKUP($V261,Data!$A$6:$A$1806,Data!$D$6:$D$1806)","v":350},{"$f":"IF($Z$1=\"+\",LOOKUP($V261,Data!$A$6:$A$1806,Data!$E$6:$E$1806)*-1,LOOKUP($V261,Data!$A$6:$A$1806,Data!$E$6:$E$1806))","v":236.55354309082031},{"$f":"LOOKUP($V261,Data!$A$6:$A$1806,Data!$F$6:$F$1806)","v":16},null,{"$f":"LOOKUP($V261,Data!$A$6:$A$1806,Data!$H$6:$H$1806)","v":10},{"$f":"LOOKUP($V261,Data!$A$6:$A$1806,Data!$I$6:$I$1806)","v":0},{"$f":"IF(LOOKUP($V261,Data!$A$6:$A$1806,Data!$J$6:$J$1806)>0,(LOOKUP($V261,Data!$A$6:$A$1806,Data!$J$6:$J$1806)*-1),LOOKUP($V261,Data!$A$6:$A$1806,Data!$J$6:$J$1806))","v":-103},{"$f":"LOOKUP($V261,Data!$A$6:$A$1806,Data!$K$6:$K$1806)","v":7712.52},-17.50823974609375,null,null,null,null,null,null,null,null,null,null,null,null,null,null,142.30322265625," ",1.6998291015625E-2," "]
[null,40098.106620370032,{"$f":"LOOKUP(B262,Data!$A$6:$A$1806,Data!B$6:B$1806)","v":60.019001007080078},{"$f":"LOOKUP(B262,Data!$A$6:$A$1806,Data!C$6:C$1806)","v":3788.606689453125},null,null,3090,{"$f":"(IF((C262-L$2)>0,(IF(C262<'Copy Results'!$C$3,((C262-L$2-L$5)/((L$4*L$2)-L$5)*G262*-1),(('Copy Results'!$C$3-L$2-L$5)/((L$4*L$2)-L$5)*G262*-1))),IF(C262>'Copy Results'!$C$2,((C262-L$2+L$5)/((L$4*L$2)-L$5)*G262*-1),(('Copy Results'!$C$2-L$2+L$5)/((L$4*L$2)-L$5)*G262*-1))))","v":-19.571037292480469},-18.17620778706457,null,null,0,3768.0950242592294,{"$f":"AVERAGE(D$79:D262)","v":3766.3993875254755},{"$f":"AVERAGE(M$79:M262)","v":3802.0355060901556},3771.0526488503479,{"$f":"AVERAGE(P$79:P262)","v":3724.3211983853462},null,null,null,null,40098.106620370032,{"$f":"LOOKUP($V262,Data!$A$6:$A$1806,Data!$B$6:$B$1806)","v":60.019001007080078},{"$f":"LOOKUP($V262,Data!$A$6:$A$1806,Data!$C$6:$C$1806)","v":3788.606689453125},{"$f":"LOOKUP($V262,Data!$A$6:$A$1806,Data!$D$6:$D$1806)","v":350},{"$f":"IF($Z$1=\"+\",LOOKUP($V262,Data!$A$6:$A$1806,Data!$E$6:$E$1806)*-1,LOOKUP($V262,Data!$A$6:$A$1806,Data!$E$6:$E$1806))","v":236.55354309082031},{"$f":"LOOKUP($V262,Data!$A$6:$A$1806,Data!$F$6:$F$1806)","v":16},null,{"$f":"LOOKUP($V262,Data!$A$6:$A$1806,Data!$H$6:$H$1806)","v":10},{"$f":"LOOKUP($V262,Data!$A$6:$A$1806,Data!$I$6:$I$1806)","v":0},{"$f":"IF(LOOKUP($V262,Data!$A$6:$A$1806,Data!$J$6:$J$1806)>0,(LOOKUP($V262,Data!$A$6:$A$1806,Data!$J$6:$J$1806)*-1),LOOKUP($V262,Data!$A$6:$A$1806,Data!$J$6:$J$1806))","v":-103},{"$f":"LOOKUP($V262,Data!$A$6:$A$1806,Data!$K$6:$K$1806)","v":7712.85},-19.571037292480469,null,null,null,null,null,null,null,null,null,null,null,null,null,null,142.879638671875," ",1.9001007080078125E-2," "]
[null,40098.106643518178,{"$f":"LOOKUP(B263,Data!$A$6:$A$1806,Data!B$6:B$1806)","v":60.022998809814453},{"$f":"LOOKUP(B263,Data!$A$6:$A$1806,Data!C$6:C$1806)","v":3789.2158203125},null,null,3090,{"$f":"(IF((C263-L$2)>0,(IF(C263<'Copy Results'!$C$3,((C263-L$2-L$5)/((L$4*L$2)-L$5)*G263*-1),(('Copy Results'!$C$3-L$2-L$5)/((L$4*L$2)-L$5)*G263*-1))),IF(C263>'Copy Results'!$C$2,((C263-L$2+L$5)/((L$4*L$2)-L$5)*G263*-1),(('Copy Results'!$C$2-L$2+L$5)/((L$4*L$2)-L$5)*G263*-1))))","v":-23.688774108886719},-20.10560599970232,null,null,0,3766.1656260465916,{"$f":"AVERAGE(D$79:D263)","v":3766.5227195945945},{"$f":"AVERAGE(M$79:M263)","v":3801.8416148466767},3771.0526488503479,{"$f":"AVERAGE(P$79:P263)","v":3724.5751736596126},null,null,null,null,40098.106643518178,{"$f":"LOOKUP($V263,Data!$A$6:$A$1806,Data!$B$6:$B$1806)","v":60.022998809814453},{"$f":"LOOKUP($V263,Data!$A$6:$A$1806,Data!$C$6:$C$1806)","v":3789.2158203125},{"$f":"LOOKUP($V263,Data!$A$6:$A$1806,Data!$D$6:$D$1806)","v":350},{"$f":"IF($Z$1=\"+\",LOOKUP($V263,Data!$A$6:$A$1806,Data!$E$6:$E$1806)*-1,LOOKUP($V263,Data!$A$6:$A$1806,Data!$E$6:$E$1806))","v":236.55354309082031},{"$f":"LOOKUP($V263,Data!$A$6:$A$1806,Data!$F$6:$F$1806)","v":16},null,{"$f":"LOOKUP($V263,Data!$A$6:$A$1806,Data!$H$6:$H$1806)","v":10},{"$f":"LOOKUP($V263,Data!$A$6:$A$1806,Data!$I$6:$I$1806)","v":0},{"$f":"IF(LOOKUP($V263,Data!$A$6:$A$1806,Data!$J$6:$J$1806)>0,(LOOKUP($V263,Data!$A$6:$A$1806,Data!$J$6:$J$1806)*-1),LOOKUP($V263,Data!$A$6:$A$1806,Data!$J$6:$J$1806))","v":-103},{"$f":"LOOKUP($V263,Data!$A$6:$A$1806,Data!$K$6:$K$1806)","v":7713.18},-23.688774108886719,null,null,null,null,null,null,null,null,null,null,null,null,null,null,143.48876953125," ",2.2998809814453125E-2," "]
[null,40098.106666666325,{"$f":"LOOKUP(B264,Data!$A$6:$A$1806,Data!B$6:B$1806)","v":60.023998260498047},{"$f":"LOOKUP(B264,Data!$A$6:$A$1806,Data!C$6:C$1806)","v":3787.53662109375},null,null,3090,{"$f":"(IF((C264-L$2)>0,(IF(C264<'Copy Results'!$C$3,((C264-L$2-L$5)/((L$4*L$2)-L$5)*G264*-1),(('Copy Results'!$C$3-L$2-L$5)/((L$4*L$2)-L$5)*G264*-1))),IF(C264>'Copy Results'!$C$2,((C264-L$2+L$5)/((L$4*L$2)-L$5)*G264*-1),(('Copy Results'!$C$2-L$2+L$5)/((L$4*L$2)-L$5)*G264*-1))))","v":-24.718208312988281},-21.720016809352408,null,null,0,3764.5512152369415,{"$f":"AVERAGE(D$79:D264)","v":3766.6356975596436},{"$f":"AVERAGE(M$79:M264)","v":3801.6411288272693},3771.0526488503479,{"$f":"AVERAGE(P$79:P264)","v":3724.8264032552383},null,null,null,null,40098.106666666325,{"$f":"LOOKUP($V264,Data!$A$6:$A$1806,Data!$B$6:$B$1806)","v":60.023998260498047},{"$f":"LOOKUP($V264,Data!$A$6:$A$1806,Data!$C$6:$C$1806)","v":3787.53662109375},{"$f":"LOOKUP($V264,Data!$A$6:$A$1806,Data!$D$6:$D$1806)","v":350},{"$f":"IF($Z$1=\"+\",LOOKUP($V264,Data!$A$6:$A$1806,Data!$E$6:$E$1806)*-1,LOOKUP($V264,Data!$A$6:$A$1806,Data!$E$6:$E$1806))","v":236.55354309082031},{"$f":"LOOKUP($V264,Data!$A$6:$A$1806,Data!$F$6:$F$1806)","v":16},null,{"$f":"LOOKUP($V264,Data!$A$6:$A$1806,Data!$H$6:$H$1806)","v":10},{"$f":"LOOKUP($V264,Data!$A$6:$A$1806,Data!$I$6:$I$1806)","v":0},{"$f":"IF(LOOKUP($V264,Data!$A$6:$A$1806,Data!$J$6:$J$1806)>0,(LOOKUP($V264,Data!$A$6:$A$1806,Data!$J$6:$J$1806)*-1),LOOKUP($V264,Data!$A$6:$A$1806,Data!$J$6:$J$1806))","v":-103},{"$f":"LOOKUP($V264,Data!$A$6:$A$1806,Data!$K$6:$K$1806)","v":7713.51},-24.718208312988281,null,null,null,null,null,null,null,null,null,null,null,null,null,null,141.8095703125," ",2.3998260498046875E-2," "]
[null,40098.106689814471,{"$f":"LOOKUP(B265,Data!$A$6:$A$1806,Data!B$6:B$1806)","v":60.025001525878906},{"$f":"LOOKUP(B265,Data!$A$6:$A$1806,Data!C$6:C$1806)","v":3785.841796875},null,null,3090,{"$f":"(IF((C265-L$2)>0,(IF(C265<'Copy Results'!$C$3,((C265-L$2-L$5)/((L$4*L$2)-L$5)*G265*-1),(('Copy Results'!$C$3-L$2-L$5)/((L$4*L$2)-L$5)*G265*-1))),IF(C265>'Copy Results'!$C$2,((C265-L$2+L$5)/((L$4*L$2)-L$5)*G265*-1),(('Copy Results'!$C$2-L$2+L$5)/((L$4*L$2)-L$5)*G265*-1))))","v":-25.751571655273434},-23.131061005424769,null,null,0,3763.1401710408691,{"$f":"AVERAGE(D$79:D265)","v":3766.738403973095},{"$f":"AVERAGE(M$79:M265)","v":3801.4352413524762},3771.0526488503479,{"$f":"AVERAGE(P$79:P265)","v":3725.0749314573627},null,null,null,null,40098.106689814471,{"$f":"LOOKUP($V265,Data!$A$6:$A$1806,Data!$B$6:$B$1806)","v":60.025001525878906},{"$f":"LOOKUP($V265,Data!$A$6:$A$1806,Data!$C$6:$C$1806)","v":3785.841796875},{"$f":"LOOKUP($V265,Data!$A$6:$A$1806,Data!$D$6:$D$1806)","v":350},{"$f":"IF($Z$1=\"+\",LOOKUP($V265,Data!$A$6:$A$1806,Data!$E$6:$E$1806)*-1,LOOKUP($V265,Data!$A$6:$A$1806,Data!$E$6:$E$1806))","v":230.29756164550781},{"$f":"LOOKUP($V265,Data!$A$6:$A$1806,Data!$F$6:$F$1806)","v":16},null,{"$f":"LOOKUP($V265,Data!$A$6:$A$1806,Data!$H$6:$H$1806)","v":10},{"$f":"LOOKUP($V265,Data!$A$6:$A$1806,Data!$I$6:$I$1806)","v":0},{"$f":"IF(LOOKUP($V265,Data!$A$6:$A$1806,Data!$J$6:$J$1806)>0,(LOOKUP($V265,Data!$A$6:$A$1806,Data!$J$6:$J$1806)*-1),LOOKUP($V265,Data!$A$6:$A$1806,Data!$J$6:$J$1806))","v":-103},{"$f":"LOOKUP($V265,Data!$A$6:$A$1806,Data!$K$6:$K$1806)","v":7713.84},-25.751571655273434,null,null,null,null,null,null,null,null,null,null,null,null,null,null,140.11474609375," ",2.500152587890625E-2," "]
[null,40098.106712962617,{"$f":"LOOKUP(B266,Data!$A$6:$A$1806,Data!B$6:B$1806)","v":60.020999908447266},{"$f":"LOOKUP(B266,Data!$A$6:$A$1806,Data!C$6:C$1806)","v":3786.07666015625},null,null,3090,{"$f":"(IF((C266-L$2)>0,(IF(C266<'Copy Results'!$C$3,((C266-L$2-L$5)/((L$4*L$2)-L$5)*G266*-1),(('Copy Results'!$C$3-L$2-L$5)/((L$4*L$2)-L$5)*G266*-1))),IF(C266>'Copy Results'!$C$2,((C266-L$2+L$5)/((L$4*L$2)-L$5)*G266*-1),(('Copy Results'!$C$2-L$2+L$5)/((L$4*L$2)-L$5)*G266*-1))))","v":-21.629905700683594},-22.605656648765358,null,null,0,3763.6655753975283,{"$f":"AVERAGE(D$79:D266)","v":3766.8412670378989},{"$f":"AVERAGE(M$79:M266)","v":3801.2343388739923},3771.0526488503479,{"$f":"AVERAGE(P$79:P266)","v":3725.3208016038493},null,null,null,null,40098.106712962617,{"$f":"LOOKUP($V266,Data!$A$6:$A$1806,Data!$B$6:$B$1806)","v":60.020999908447266},{"$f":"LOOKUP($V266,Data!$A$6:$A$1806,Data!$C$6:$C$1806)","v":3786.07666015625},{"$f":"LOOKUP($V266,Data!$A$6:$A$1806,Data!$D$6:$D$1806)","v":350},{"$f":"IF($Z$1=\"+\",LOOKUP($V266,Data!$A$6:$A$1806,Data!$E$6:$E$1806)*-1,LOOKUP($V266,Data!$A$6:$A$1806,Data!$E$6:$E$1806))","v":230.29756164550781},{"$f":"LOOKUP($V266,Data!$A$6:$A$1806,Data!$F$6:$F$1806)","v":16},null,{"$f":"LOOKUP($V266,Data!$A$6:$A$1806,Data!$H$6:$H$1806)","v":10},{"$f":"LOOKUP($V266,Data!$A$6:$A$1806,Data!$I$6:$I$1806)","v":0},{"$f":"IF(LOOKUP($V266,Data!$A$6:$A$1806,Data!$J$6:$J$1806)>0,(LOOKUP($V266,Data!$A$6:$A$1806,Data!$J$6:$J$1806)*-1),LOOKUP($V266,Data!$A$6:$A$1806,Data!$J$6:$J$1806))","v":-103},{"$f":"LOOKUP($V266,Data!$A$6:$A$1806,Data!$K$6:$K$1806)","v":7714.17},-21.629905700683594,null,null,null,null,null,null,null,null,null,null,null,null,null,null,140.349609375," ",2.0999908447265625E-2," "]
[null,40098.106736110763,{"$f":"LOOKUP(B267,Data!$A$6:$A$1806,Data!B$6:B$1806)","v":60.019001007080078},{"$f":"LOOKUP(B267,Data!$A$6:$A$1806,Data!C$6:C$1806)","v":3787.930419921875},null,null,3090,{"$f":"(IF((C267-L$2)>0,(IF(C267<'Copy Results'!$C$3,((C267-L$2-L$5)/((L$4*L$2)-L$5)*G267*-1),(('Copy Results'!$C$3-L$2-L$5)/((L$4*L$2)-L$5)*G267*-1))),IF(C267>'Copy Results'!$C$2,((C267-L$2+L$5)/((L$4*L$2)-L$5)*G267*-1),(('Copy Results'!$C$2-L$2+L$5)/((L$4*L$2)-L$5)*G267*-1))))","v":-19.571037292480469},-21.543539874065647,null,null,0,3764.7276921722282,{"$f":"AVERAGE(D$79:D267)","v":3766.9528498573909},{"$f":"AVERAGE(M$79:M267)","v":3801.0411820131367},3771.0526488503479,{"$f":"AVERAGE(P$79:P267)","v":3725.5640561104797},null,null,null,null,40098.106736110763,{"$f":"LOOKUP($V267,Data!$A$6:$A$1806,Data!$B$6:$B$1806)","v":60.019001007080078},{"$f":"LOOKUP($V267,Data!$A$6:$A$1806,Data!$C$6:$C$1806)","v":3787.930419921875},{"$f":"LOOKUP($V267,Data!$A$6:$A$1806,Data!$D$6:$D$1806)","v":350},{"$f":"IF($Z$1=\"+\",LOOKUP($V267,Data!$A$6:$A$1806,Data!$E$6:$E$1806)*-1,LOOKUP($V267,Data!$A$6:$A$1806,Data!$E$6:$E$1806))","v":230.29756164550781},{"$f":"LOOKUP($V267,Data!$A$6:$A$1806,Data!$F$6:$F$1806)","v":16},null,{"$f":"LOOKUP($V267,Data!$A$6:$A$1806,Data!$H$6:$H$1806)","v":10},{"$f":"LOOKUP($V267,Data!$A$6:$A$1806,Data!$I$6:$I$1806)","v":0},{"$f":"IF(LOOKUP($V267,Data!$A$6:$A$1806,Data!$J$6:$J$1806)>0,(LOOKUP($V267,Data!$A$6:$A$1806,Data!$J$6:$J$1806)*-1),LOOKUP($V267,Data!$A$6:$A$1806,Data!$J$6:$J$1806))","v":-103},{"$f":"LOOKUP($V267,Data!$A$6:$A$1806,Data!$K$6:$K$1806)","v":7714.5},-19.571037292480469,null,null,null,null,null,null,null,null,null,null,null,null,null,null,142.203369140625," ",1.9001007080078125E-2," "]
[null,40098.10675925891,{"$f":"LOOKUP(B268,Data!$A$6:$A$1806,Data!B$6:B$1806)","v":60.023998260498047},{"$f":"LOOKUP(B268,Data!$A$6:$A$1806,Data!C$6:C$1806)","v":3788.76025390625},null,null,3090,{"$f":"(IF((C268-L$2)>0,(IF(C268<'Copy Results'!$C$3,((C268-L$2-L$5)/((L$4*L$2)-L$5)*G268*-1),(('Copy Results'!$C$3-L$2-L$5)/((L$4*L$2)-L$5)*G268*-1))),IF(C268>'Copy Results'!$C$2,((C268-L$2+L$5)/((L$4*L$2)-L$5)*G268*-1),(('Copy Results'!$C$2-L$2+L$5)/((L$4*L$2)-L$5)*G268*-1))))","v":-24.718208312988281},-22.654673827688569,null,null,0,3763.6165582186054,{"$f":"AVERAGE(D$79:D268)","v":3767.0676256681745},{"$f":"AVERAGE(M$79:M268)","v":3800.8442103089551},3771.0526488503479,{"$f":"AVERAGE(P$79:P268)","v":3725.8047364953468},null,null,null,null,40098.10675925891,{"$f":"LOOKUP($V268,Data!$A$6:$A$1806,Data!$B$6:$B$1806)","v":60.023998260498047},{"$f":"LOOKUP($V268,Data!$A$6:$A$1806,Data!$C$6:$C$1806)","v":3788.76025390625},{"$f":"LOOKUP($V268,Data!$A$6:$A$1806,Data!$D$6:$D$1806)","v":350},{"$f":"IF($Z$1=\"+\",LOOKUP($V268,Data!$A$6:$A$1806,Data!$E$6:$E$1806)*-1,LOOKUP($V268,Data!$A$6:$A$1806,Data!$E$6:$E$1806))","v":230.29756164550781},{"$f":"LOOKUP($V268,Data!$A$6:$A$1806,Data!$F$6:$F$1806)","v":16},null,{"$f":"LOOKUP($V268,Data!$A$6:$A$1806,Data!$H$6:$H$1806)","v":10},{"$f":"LOOKUP($V268,Data!$A$6:$A$1806,Data!$I$6:$I$1806)","v":0},{"$f":"IF(LOOKUP($V268,Data!$A$6:$A$1806,Data!$J$6:$J$1806)>0,(LOOKUP($V268,Data!$A$6:$A$1806,Data!$J$6:$J$1806)*-1),LOOKUP($V268,Data!$A$6:$A$1806,Data!$J$6:$J$1806))","v":-103},{"$f":"LOOKUP($V268,Data!$A$6:$A$1806,Data!$K$6:$K$1806)","v":7714.83},-24.718208312988281,null,null,null,null,null,null,null,null,null,null,null,null,null,null,143.033203125," ",2.3998260498046875E-2," "]
[null,40098.106782407056,{"$f":"LOOKUP(B269,Data!$A$6:$A$1806,Data!B$6:B$1806)","v":60.023998260498047},{"$f":"LOOKUP(B269,Data!$A$6:$A$1806,Data!C$6:C$1806)","v":3786.874755859375},null,null,3090,{"$f":"(IF((C269-L$2)>0,(IF(C269<'Copy Results'!$C$3,((C269-L$2-L$5)/((L$4*L$2)-L$5)*G269*-1),(('Copy Results'!$C$3-L$2-L$5)/((L$4*L$2)-L$5)*G269*-1))),IF(C269>'Copy Results'!$C$2,((C269-L$2+L$5)/((L$4*L$2)-L$5)*G269*-1),(('Copy Results'!$C$2-L$2+L$5)/((L$4*L$2)-L$5)*G269*-1))))","v":-24.718208312988281},-23.376910897543468,null,null,0,3762.8943211487504,{"$f":"AVERAGE(D$79:D269)","v":3767.1713279204841},{"$f":"AVERAGE(M$79:M269)","v":3800.6455197897917},3771.0526488503479,{"$f":"AVERAGE(P$79:P269)","v":3726.0428834024788},null,null,null,null,40098.106782407056,{"$f":"LOOKUP($V269,Data!$A$6:$A$1806,Data!$B$6:$B$1806)","v":60.023998260498047},{"$f":"LOOKUP($V269,Data!$A$6:$A$1806,Data!$C$6:$C$1806)","v":3786.874755859375},{"$f":"LOOKUP($V269,Data!$A$6:$A$1806,Data!$D$6:$D$1806)","v":350},{"$f":"IF($Z$1=\"+\",LOOKUP($V269,Data!$A$6:$A$1806,Data!$E$6:$E$1806)*-1,LOOKUP($V269,Data!$A$6:$A$1806,Data!$E$6:$E$1806))","v":230.29756164550781},{"$f":"LOOKUP($V269,Data!$A$6:$A$1806,Data!$F$6:$F$1806)","v":16},null,{"$f":"LOOKUP($V269,Data!$A$6:$A$1806,Data!$H$6:$H$1806)","v":10},{"$f":"LOOKUP($V269,Data!$A$6:$A$1806,Data!$I$6:$I$1806)","v":0},{"$f":"IF(LOOKUP($V269,Data!$A$6:$A$1806,Data!$J$6:$J$1806)>0,(LOOKUP($V269,Data!$A$6:$A$1806,Data!$J$6:$J$1806)*-1),LOOKUP($V269,Data!$A$6:$A$1806,Data!$J$6:$J$1806))","v":-103},{"$f":"LOOKUP($V269,Data!$A$6:$A$1806,Data!$K$6:$K$1806)","v":7715.16},-24.718208312988281,null,null,null,null,null,null,null,null,null,null,null,null,null,null,141.147705078125," ",2.3998260498046875E-2," "]
[null,40098.106805555202,{"$f":"LOOKUP(B270,Data!$A$6:$A$1806,Data!B$6:B$1806)","v":60.020999908447266},{"$f":"LOOKUP(B270,Data!$A$6:$A$1806,Data!C$6:C$1806)","v":3786.5498046875},null,null,3090,{"$f":"(IF((C270-L$2)>0,(IF(C270<'Copy Results'!$C$3,((C270-L$2-L$5)/((L$4*L$2)-L$5)*G270*-1),(('Copy Results'!$C$3-L$2-L$5)/((L$4*L$2)-L$5)*G270*-1))),IF(C270>'Copy Results'!$C$2,((C270-L$2+L$5)/((L$4*L$2)-L$5)*G270*-1),(('Copy Results'!$C$2-L$2+L$5)/((L$4*L$2)-L$5)*G270*-1))))","v":-21.629905700683594},-22.765459078642511,null,null,0,3763.5057729676514,{"$f":"AVERAGE(D$79:D270)","v":3767.272257486979},{"$f":"AVERAGE(M$79:M270)","v":3800.4520836084266},3771.0526488503479,{"$f":"AVERAGE(P$79:P270)","v":3726.278536624719},null,null,null,null,40098.106805555202,{"$f":"LOOKUP($V270,Data!$A$6:$A$1806,Data!$B$6:$B$1806)","v":60.020999908447266},{"$f":"LOOKUP($V270,Data!$A$6:$A$1806,Data!$C$6:$C$1806)","v":3786.5498046875},{"$f":"LOOKUP($V270,Data!$A$6:$A$1806,Data!$D$6:$D$1806)","v":350},{"$f":"IF($Z$1=\"+\",LOOKUP($V270,Data!$A$6:$A$1806,Data!$E$6:$E$1806)*-1,LOOKUP($V270,Data!$A$6:$A$1806,Data!$E$6:$E$1806))","v":231.175537109375},{"$f":"LOOKUP($V270,Data!$A$6:$A$1806,Data!$F$6:$F$1806)","v":16},null,{"$f":"LOOKUP($V270,Data!$A$6:$A$1806,Data!$H$6:$H$1806)","v":10},{"$f":"LOOKUP($V270,Data!$A$6:$A$1806,Data!$I$6:$I$1806)","v":0},{"$f":"IF(LOOKUP($V270,Data!$A$6:$A$1806,Data!$J$6:$J$1806)>0,(LOOKUP($V270,Data!$A$6:$A$1806,Data!$J$6:$J$1806)*-1),LOOKUP($V270,Data!$A$6:$A$1806,Data!$J$6:$J$1806))","v":-103},{"$f":"LOOKUP($V270,Data!$A$6:$A$1806,Data!$K$6:$K$1806)","v":7715.49},-21.629905700683594,null,null,null,null,null,null,null,null,null,null,null,null,null,null,140.82275390625," ",2.0999908447265625E-2," "]
[null,40098.106828703349,{"$f":"LOOKUP(B271,Data!$A$6:$A$1806,Data!B$6:B$1806)","v":60.020000457763672},{"$f":"LOOKUP(B271,Data!$A$6:$A$1806,Data!C$6:C$1806)","v":3787.357666015625},null,null,3090,{"$f":"(IF((C271-L$2)>0,(IF(C271<'Copy Results'!$C$3,((C271-L$2-L$5)/((L$4*L$2)-L$5)*G271*-1),(('Copy Results'!$C$3-L$2-L$5)/((L$4*L$2)-L$5)*G271*-1))),IF(C271>'Copy Results'!$C$2,((C271-L$2+L$5)/((L$4*L$2)-L$5)*G271*-1),(('Copy Results'!$C$2-L$2+L$5)/((L$4*L$2)-L$5)*G271*-1))))","v":-20.600471496582031},-22.007713424921342,null,null,0,3764.2635186213724,{"$f":"AVERAGE(D$79:D271)","v":3767.3763269612209},{"$f":"AVERAGE(M$79:M271)","v":3800.2645780903586},3771.0526488503479,{"$f":"AVERAGE(P$79:P271)","v":3726.5117351258941},null,null,null,null,40098.106828703349,{"$f":"LOOKUP($V271,Data!$A$6:$A$1806,Data!$B$6:$B$1806)","v":60.020000457763672},{"$f":"LOOKUP($V271,Data!$A$6:$A$1806,Data!$C$6:$C$1806)","v":3787.357666015625},{"$f":"LOOKUP($V271,Data!$A$6:$A$1806,Data!$D$6:$D$1806)","v":350},{"$f":"IF($Z$1=\"+\",LOOKUP($V271,Data!$A$6:$A$1806,Data!$E$6:$E$1806)*-1,LOOKUP($V271,Data!$A$6:$A$1806,Data!$E$6:$E$1806))","v":231.175537109375},{"$f":"LOOKUP($V271,Data!$A$6:$A$1806,Data!$F$6:$F$1806)","v":16},null,{"$f":"LOOKUP($V271,Data!$A$6:$A$1806,Data!$H$6:$H$1806)","v":10},{"$f":"LOOKUP($V271,Data!$A$6:$A$1806,Data!$I$6:$I$1806)","v":0},{"$f":"IF(LOOKUP($V271,Data!$A$6:$A$1806,Data!$J$6:$J$1806)>0,(LOOKUP($V271,Data!$A$6:$A$1806,Data!$J$6:$J$1806)*-1),LOOKUP($V271,Data!$A$6:$A$1806,Data!$J$6:$J$1806))","v":-103},{"$f":"LOOKUP($V271,Data!$A$6:$A$1806,Data!$K$6:$K$1806)","v":7715.82},-20.600471496582031,null,null,null,null,null,null,null,null,null,null,null,null,null,null,141.630615234375," ",2.0000457763671875E-2," "]
[null,40098.106851851495,{"$f":"LOOKUP(B272,Data!$A$6:$A$1806,Data!B$6:B$1806)","v":60.025001525878906},{"$f":"LOOKUP(B272,Data!$A$6:$A$1806,Data!C$6:C$1806)","v":3785.01806640625},null,null,3090,{"$f":"(IF((C272-L$2)>0,(IF(C272<'Copy Results'!$C$3,((C272-L$2-L$5)/((L$4*L$2)-L$5)*G272*-1),(('Copy Results'!$C$3-L$2-L$5)/((L$4*L$2)-L$5)*G272*-1))),IF(C272>'Copy Results'!$C$2,((C272-L$2+L$5)/((L$4*L$2)-L$5)*G272*-1),(('Copy Results'!$C$2-L$2+L$5)/((L$4*L$2)-L$5)*G272*-1))))","v":-25.751571655273434},-23.318063805544575,null,null,{"$f":"IF(B272>G$3,0,(K$21*0.000023148/K$22))","v":0},{"$f":"M271+L272+(I272-I271)","v":3762.9531682407492},{"$f":"AVERAGE(D$79:D272)","v":3767.467263762484},{"$f":"AVERAGE(M$79:M272)","v":3800.0722512354637},3771.0526488503479,{"$f":"AVERAGE(P$79:P272)","v":3726.7425170622905},null,null,null,null,40098.106851851495,{"$f":"LOOKUP($V272,Data!$A$6:$A$1806,Data!$B$6:$B$1806)","v":60.025001525878906},{"$f":"LOOKUP($V272,Data!$A$6:$A$1806,Data!$C$6:$C$1806)","v":3785.01806640625},{"$f":"LOOKUP($V272,Data!$A$6:$A$1806,Data!$D$6:$D$1806)","v":350},{"$f":"IF($Z$1=\"+\",LOOKUP($V272,Data!$A$6:$A$1806,Data!$E$6:$E$1806)*-1,LOOKUP($V272,Data!$A$6:$A$1806,Data!$E$6:$E$1806))","v":231.175537109375},{"$f":"LOOKUP($V272,Data!$A$6:$A$1806,Data!$F$6:$F$1806)","v":16},null,{"$f":"LOOKUP($V272,Data!$A$6:$A$1806,Data!$H$6:$H$1806)","v":10},{"$f":"LOOKUP($V272,Data!$A$6:$A$1806,Data!$I$6:$I$1806)","v":0},{"$f":"IF(LOOKUP($V272,Data!$A$6:$A$1806,Data!$J$6:$J$1806)>0,(LOOKUP($V272,Data!$A$6:$A$1806,Data!$J$6:$J$1806)*-1),LOOKUP($V272,Data!$A$6:$A$1806,Data!$J$6:$J$1806))","v":-103},{"$f":"LOOKUP($V272,Data!$A$6:$A$1806,Data!$K$6:$K$1806)","v":7716.15},-25.751571655273434,null,null,null,null,null,null,null,null,null,null,null,null,null,null,139.291015625," ",2.500152587890625E-2," "]
[null,40098.106874999641,{"$f":"LOOKUP(B273,Data!$A$6:$A$1806,Data!B$6:B$1806)","v":60.023998260498047},{"$f":"LOOKUP(B273,Data!$A$6:$A$1806,Data!C$6:C$1806)","v":3785.614013671875},null,null,3090,{"$f":"(IF((C273-L$2)>0,(IF(C273<'Copy Results'!$C$3,((C273-L$2-L$5)/((L$4*L$2)-L$5)*G273*-1),(('Copy Results'!$C$3-L$2-L$5)/((L$4*L$2)-L$5)*G273*-1))),IF(C273>'Copy Results'!$C$2,((C273-L$2+L$5)/((L$4*L$2)-L$5)*G273*-1),(('Copy Results'!$C$2-L$2+L$5)/((L$4*L$2)-L$5)*G273*-1))))","v":-24.718208312988281},-23.808114383149871,null,null,0,3762.4631176631437,{"$f":"AVERAGE(D$79:D273)","v":3767.5603240184296},{"$f":"AVERAGE(M$79:M273)","v":3799.879383883811},3771.0526488503479,{"$f":"AVERAGE(P$79:P273)","v":3726.9709198034661},null,null,null,null,{"$f":"V272+TIME(0,0,$B$1)","v":40098.106874999641},{"$f":"LOOKUP($V273,Data!$A$6:$A$1806,Data!$B$6:$B$1806)","v":60.023998260498047},{"$f":"LOOKUP($V273,Data!$A$6:$A$1806,Data!$C$6:$C$1806)","v":3785.614013671875},{"$f":"LOOKUP($V273,Data!$A$6:$A$1806,Data!$D$6:$D$1806)","v":350},{"$f":"IF($Z$1=\"+\",LOOKUP($V273,Data!$A$6:$A$1806,Data!$E$6:$E$1806)*-1,LOOKUP($V273,Data!$A$6:$A$1806,Data!$E$6:$E$1806))","v":231.175537109375},{"$f":"LOOKUP($V273,Data!$A$6:$A$1806,Data!$F$6:$F$1806)","v":16},null,{"$f":"LOOKUP($V273,Data!$A$6:$A$1806,Data!$H$6:$H$1806)","v":10},{"$f":"LOOKUP($V273,Data!$A$6:$A$1806,Data!$I$6:$I$1806)","v":0},{"$f":"IF(LOOKUP($V273,Data!$A$6:$A$1806,Data!$J$6:$J$1806)>0,(LOOKUP($V273,Data!$A$6:$A$1806,Data!$J$6:$J$1806)*-1),LOOKUP($V273,Data!$A$6:$A$1806,Data!$J$6:$J$1806))","v":-103},{"$f":"LOOKUP($V273,Data!$A$6:$A$1806,Data!$K$6:$K$1806)","v":7716.48},-24.718208312988281,null,null,null,null,null,null,null,null,null,null,null,null,null,null,139.886962890625," ",2.3998260498046875E-2," "]
[null,40098.106898147787,{"$f":"LOOKUP(B274,Data!$A$6:$A$1806,Data!B$6:B$1806)","v":60.020000457763672},{"$f":"LOOKUP(B274,Data!$A$6:$A$1806,Data!C$6:C$1806)","v":3785.94921875},null,null,3090,{"$f":"(IF((C274-L$2)>0,(IF(C274<'Copy Results'!$C$3,((C274-L$2-L$5)/((L$4*L$2)-L$5)*G274*-1),(('Copy Results'!$C$3-L$2-L$5)/((L$4*L$2)-L$5)*G274*-1))),IF(C274>'Copy Results'!$C$2,((C274-L$2+L$5)/((L$4*L$2)-L$5)*G274*-1),(('Copy Results'!$C$2-L$2+L$5)/((L$4*L$2)-L$5)*G274*-1))))","v":-20.600471496582031},-22.685439372851125,null,null,0,3763.5857926734425,{"$f":"AVERAGE(D$79:D274)","v":3767.6541449099172},{"$f":"AVERAGE(M$79:M274)","v":3799.6942125000842},{"$f":"P273+L274","v":3771.0526488503479},{"$f":"AVERAGE(P$79:P274)","v":3727.1969799524245},null,null,null,null,40098.106898147787,{"$f":"LOOKUP($V274,Data!$A$6:$A$1806,Data!$B$6:$B$1806)","v":60.020000457763672},{"$f":"LOOKUP($V274,Data!$A$6:$A$1806,Data!$C$6:$C$1806)","v":3785.94921875},{"$f":"LOOKUP($V274,Data!$A$6:$A$1806,Data!$D$6:$D$1806)","v":350},{"$f":"IF($Z$1=\"+\",LOOKUP($V274,Data!$A$6:$A$1806,Data!$E$6:$E$1806)*-1,LOOKUP($V274,Data!$A$6:$A$1806,Data!$E$6:$E$1806))","v":231.175537109375},{"$f":"LOOKUP($V274,Data!$A$6:$A$1806,Data!$F$6:$F$1806)","v":16},null,{"$f":"LOOKUP($V274,Data!$A$6:$A$1806,Data!$H$6:$H$1806)","v":10},{"$f":"LOOKUP($V274,Data!$A$6:$A$1806,Data!$I$6:$I$1806)","v":0},{"$f":"IF(LOOKUP($V274,Data!$A$6:$A$1806,Data!$J$6:$J$1806)>0,(LOOKUP($V274,Data!$A$6:$A$1806,Data!$J$6:$J$1806)*-1),LOOKUP($V274,Data!$A$6:$A$1806,Data!$J$6:$J$1806))","v":-103},{"$f":"LOOKUP($V274,Data!$A$6:$A$1806,Data!$K$6:$K$1806)","v":7716.81},-20.600471496582031,null,null,null,null,null,null,null,null,null,null,null,null,null,null,{"$f":"D274-F$78+L274-AD274","v":140.22216796875},{"$f":"IF(AW273=\" \",\" \",IF(L274=L273,AV274/((C274-E$78)*10),\" \"))","v":" "},2.0000457763671875E-2," "]
[null,40098.106921295934,{"$f":"LOOKUP(B275,Data!$A$6:$A$1806,Data!B$6:B$1806)","v":60.020000457763672},{"$f":"LOOKUP(B275,Data!$A$6:$A$1806,Data!C$6:C$1806)","v":3785.8037109375},null,null,3090,{"$f":"(IF((C275-L$2)>0,(IF(C275<'Copy Results'!$C$3,((C275-L$2-L$5)/((L$4*L$2)-L$5)*G275*-1),(('Copy Results'!$C$3-L$2-L$5)/((L$4*L$2)-L$5)*G275*-1))),IF(C275>'Copy Results'!$C$2,((C275-L$2+L$5)/((L$4*L$2)-L$5)*G275*-1),(('Copy Results'!$C$2-L$2+L$5)/((L$4*L$2)-L$5)*G275*-1))))","v":-20.600471496582031},-21.955700616156943,null,null,0,3764.3155314301366,{"$f":"AVERAGE(D$79:D275)","v":3767.7462746867068},{"$f":"AVERAGE(M$79:M275)","v":3799.5146252865316},3771.0526488503479,{"$f":"AVERAGE(P$79:P275)","v":3727.4207333651689},null,null,null,null,40098.106921295934,{"$f":"LOOKUP($V275,Data!$A$6:$A$1806,Data!$B$6:$B$1806)","v":60.020000457763672},{"$f":"LOOKUP($V275,Data!$A$6:$A$1806,Data!$C$6:$C$1806)","v":3785.8037109375},{"$f":"LOOKUP($V275,Data!$A$6:$A$1806,Data!$D$6:$D$1806)","v":350},{"$f":"IF($Z$1=\"+\",LOOKUP($V275,Data!$A$6:$A$1806,Data!$E$6:$E$1806)*-1,LOOKUP($V275,Data!$A$6:$A$1806,Data!$E$6:$E$1806))","v":225.61763000488281},{"$f":"LOOKUP($V275,Data!$A$6:$A$1806,Data!$F$6:$F$1806)","v":16},null,{"$f":"LOOKUP($V275,Data!$A$6:$A$1806,Data!$H$6:$H$1806)","v":10},{"$f":"LOOKUP($V275,Data!$A$6:$A$1806,Data!$I$6:$I$1806)","v":0},{"$f":"IF(LOOKUP($V275,Data!$A$6:$A$1806,Data!$J$6:$J$1806)>0,(LOOKUP($V275,Data!$A$6:$A$1806,Data!$J$6:$J$1806)*-1),LOOKUP($V275,Data!$A$6:$A$1806,Data!$J$6:$J$1806))","v":-103},{"$f":"LOOKUP($V275,Data!$A$6:$A$1806,Data!$K$6:$K$1806)","v":7717.14},-20.600471496582031,null,null,null,null,null,null,null,null,null,null,null,null,null,null,140.07666015625," ",2.0000457763671875E-2," "]
[null,40098.10694444408,{"$f":"LOOKUP(B276,Data!$A$6:$A$1806,Data!B$6:B$1806)","v":60.021999359130859},{"$f":"LOOKUP(B276,Data!$A$6:$A$1806,Data!C$6:C$1806)","v":3786.8642578125},null,null,3090,{"$f":"(IF((C276-L$2)>0,(IF(C276<'Copy Results'!$C$3,((C276-L$2-L$5)/((L$4*L$2)-L$5)*G276*-1),(('Copy Results'!$C$3-L$2-L$5)/((L$4*L$2)-L$5)*G276*-1))),IF(C276>'Copy Results'!$C$2,((C276-L$2+L$5)/((L$4*L$2)-L$5)*G276*-1),(('Copy Results'!$C$2-L$2+L$5)/((L$4*L$2)-L$5)*G276*-1))))","v":-22.659339904785156},-22.201974367176817,null,null,0,3764.0692576791166,{"$f":"AVERAGE(D$79:D276)","v":3767.8428301570393},{"$f":"AVERAGE(M$79:M276)","v":3799.3356082784135},3771.0526488503479,{"$f":"AVERAGE(P$79:P276)","v":3727.6422151696624},null,null,null,null,40098.10694444408,{"$f":"LOOKUP($V276,Data!$A$6:$A$1806,Data!$B$6:$B$1806)","v":60.021999359130859},{"$f":"LOOKUP($V276,Data!$A$6:$A$1806,Data!$C$6:$C$1806)","v":3786.8642578125},{"$f":"LOOKUP($V276,Data!$A$6:$A$1806,Data!$D$6:$D$1806)","v":350},{"$f":"IF($Z$1=\"+\",LOOKUP($V276,Data!$A$6:$A$1806,Data!$E$6:$E$1806)*-1,LOOKUP($V276,Data!$A$6:$A$1806,Data!$E$6:$E$1806))","v":225.61763000488281},{"$f":"LOOKUP($V276,Data!$A$6:$A$1806,Data!$F$6:$F$1806)","v":16},null,{"$f":"LOOKUP($V276,Data!$A$6:$A$1806,Data!$H$6:$H$1806)","v":10},{"$f":"LOOKUP($V276,Data!$A$6:$A$1806,Data!$I$6:$I$1806)","v":0},{"$f":"IF(LOOKUP($V276,Data!$A$6:$A$1806,Data!$J$6:$J$1806)>0,(LOOKUP($V276,Data!$A$6:$A$1806,Data!$J$6:$J$1806)*-1),LOOKUP($V276,Data!$A$6:$A$1806,Data!$J$6:$J$1806))","v":-103},{"$f":"LOOKUP($V276,Data!$A$6:$A$1806,Data!$K$6:$K$1806)","v":7717.47},-22.659339904785156,null,null,null,null,null,null,null,null,null,null,null,null,null,null,141.13720703125," ",2.1999359130859375E-2," "]
[null,40098.106967592226,{"$f":"LOOKUP(B277,Data!$A$6:$A$1806,Data!B$6:B$1806)","v":60.021999359130859},{"$f":"LOOKUP(B277,Data!$A$6:$A$1806,Data!C$6:C$1806)","v":3786.877197265625},null,null,3090,{"$f":"(IF((C277-L$2)>0,(IF(C277<'Copy Results'!$C$3,((C277-L$2-L$5)/((L$4*L$2)-L$5)*G277*-1),(('Copy Results'!$C$3-L$2-L$5)/((L$4*L$2)-L$5)*G277*-1))),IF(C277>'Copy Results'!$C$2,((C277-L$2+L$5)/((L$4*L$2)-L$5)*G277*-1),(('Copy Results'!$C$2-L$2+L$5)/((L$4*L$2)-L$5)*G277*-1))))","v":-22.659339904785156},-22.362052305339734,null,null,0,3763.9091797409537,{"$f":"AVERAGE(D$79:D277)","v":3767.9384802430118},{"$f":"AVERAGE(M$79:M277)","v":3799.1575860244566},3771.0526488503479,{"$f":"AVERAGE(P$79:P277)","v":3727.8614597842115},null,null,null,null,40098.106967592226,{"$f":"LOOKUP($V277,Data!$A$6:$A$1806,Data!$B$6:$B$1806)","v":60.021999359130859},{"$f":"LOOKUP($V277,Data!$A$6:$A$1806,Data!$C$6:$C$1806)","v":3786.877197265625},{"$f":"LOOKUP($V277,Data!$A$6:$A$1806,Data!$D$6:$D$1806)","v":350},{"$f":"IF($Z$1=\"+\",LOOKUP($V277,Data!$A$6:$A$1806,Data!$E$6:$E$1806)*-1,LOOKUP($V277,Data!$A$6:$A$1806,Data!$E$6:$E$1806))","v":225.61763000488281},{"$f":"LOOKUP($V277,Data!$A$6:$A$1806,Data!$F$6:$F$1806)","v":16},null,{"$f":"LOOKUP($V277,Data!$A$6:$A$1806,Data!$H$6:$H$1806)","v":10},{"$f":"LOOKUP($V277,Data!$A$6:$A$1806,Data!$I$6:$I$1806)","v":0},{"$f":"IF(LOOKUP($V277,Data!$A$6:$A$1806,Data!$J$6:$J$1806)>0,(LOOKUP($V277,Data!$A$6:$A$1806,Data!$J$6:$J$1806)*-1),LOOKUP($V277,Data!$A$6:$A$1806,Data!$J$6:$J$1806))","v":-103},{"$f":"LOOKUP($V277,Data!$A$6:$A$1806,Data!$K$6:$K$1806)","v":7717.8},-22.659339904785156,null,null,null,null,null,null,null,null,null,null,null,null,null,null,141.150146484375," ",2.1999359130859375E-2," "]
[null,40098.106990740373,{"$f":"LOOKUP(B278,Data!$A$6:$A$1806,Data!B$6:B$1806)","v":60.021999359130859},{"$f":"LOOKUP(B278,Data!$A$6:$A$1806,Data!C$6:C$1806)","v":3785.25390625},null,null,3090,{"$f":"(IF((C278-L$2)>0,(IF(C278<'Copy Results'!$C$3,((C278-L$2-L$5)/((L$4*L$2)-L$5)*G278*-1),(('Copy Results'!$C$3-L$2-L$5)/((L$4*L$2)-L$5)*G278*-1))),IF(C278>'Copy Results'!$C$2,((C278-L$2+L$5)/((L$4*L$2)-L$5)*G278*-1),(('Copy Results'!$C$2-L$2+L$5)/((L$4*L$2)-L$5)*G278*-1))))","v":-22.659339904785156},-22.46610296514563,null,null,0,3763.8051290811477,{"$f":"AVERAGE(D$79:D278)","v":3768.0250573730468},{"$f":"AVERAGE(M$79:M278)","v":3798.9808237397397},3771.0526488503479,{"$f":"AVERAGE(P$79:P278)","v":3728.0785009352976},null,null,null,null,40098.106990740373,{"$f":"LOOKUP($V278,Data!$A$6:$A$1806,Data!$B$6:$B$1806)","v":60.021999359130859},{"$f":"LOOKUP($V278,Data!$A$6:$A$1806,Data!$C$6:$C$1806)","v":3785.25390625},{"$f":"LOOKUP($V278,Data!$A$6:$A$1806,Data!$D$6:$D$1806)","v":350},{"$f":"IF($Z$1=\"+\",LOOKUP($V278,Data!$A$6:$A$1806,Data!$E$6:$E$1806)*-1,LOOKUP($V278,Data!$A$6:$A$1806,Data!$E$6:$E$1806))","v":225.61763000488281},{"$f":"LOOKUP($V278,Data!$A$6:$A$1806,Data!$F$6:$F$1806)","v":16},null,{"$f":"LOOKUP($V278,Data!$A$6:$A$1806,Data!$H$6:$H$1806)","v":10},{"$f":"LOOKUP($V278,Data!$A$6:$A$1806,Data!$I$6:$I$1806)","v":0},{"$f":"IF(LOOKUP($V278,Data!$A$6:$A$1806,Data!$J$6:$J$1806)>0,(LOOKUP($V278,Data!$A$6:$A$1806,Data!$J$6:$J$1806)*-1),LOOKUP($V278,Data!$A$6:$A$1806,Data!$J$6:$J$1806))","v":-103},{"$f":"LOOKUP($V278,Data!$A$6:$A$1806,Data!$K$6:$K$1806)","v":7718.13},-22.659339904785156,null,null,null,null,null,null,null,null,null,null,null,null,null,null,139.52685546875," ",2.1999359130859375E-2," "]
[null,40098.107013888519,{"$f":"LOOKUP(B279,Data!$A$6:$A$1806,Data!B$6:B$1806)","v":60.020999908447266},{"$f":"LOOKUP(B279,Data!$A$6:$A$1806,Data!C$6:C$1806)","v":3785.72607421875},null,null,3090,{"$f":"(IF((C279-L$2)>0,(IF(C279<'Copy Results'!$C$3,((C279-L$2-L$5)/((L$4*L$2)-L$5)*G279*-1),(('Copy Results'!$C$3-L$2-L$5)/((L$4*L$2)-L$5)*G279*-1))),IF(C279>'Copy Results'!$C$2,((C279-L$2+L$5)/((L$4*L$2)-L$5)*G279*-1),(('Copy Results'!$C$2-L$2+L$5)/((L$4*L$2)-L$5)*G279*-1))))","v":-21.629905700683594},-22.173433922583918,null,null,0,3764.0977981237093,{"$f":"AVERAGE(D$79:D279)","v":3768.1131221334731},{"$f":"AVERAGE(M$79:M279)","v":3798.8072763486152},3771.0526488503479,{"$f":"AVERAGE(P$79:P279)","v":3728.293371674873},null,null,null,null,40098.107013888519,{"$f":"LOOKUP($V279,Data!$A$6:$A$1806,Data!$B$6:$B$1806)","v":60.020999908447266},{"$f":"LOOKUP($V279,Data!$A$6:$A$1806,Data!$C$6:$C$1806)","v":3785.72607421875},{"$f":"LOOKUP($V279,Data!$A$6:$A$1806,Data!$D$6:$D$1806)","v":350},{"$f":"IF($Z$1=\"+\",LOOKUP($V279,Data!$A$6:$A$1806,Data!$E$6:$E$1806)*-1,LOOKUP($V279,Data!$A$6:$A$1806,Data!$E$6:$E$1806))","v":225.61763000488281},{"$f":"LOOKUP($V279,Data!$A$6:$A$1806,Data!$F$6:$F$1806)","v":16},null,{"$f":"LOOKUP($V279,Data!$A$6:$A$1806,Data!$H$6:$H$1806)","v":10},{"$f":"LOOKUP($V279,Data!$A$6:$A$1806,Data!$I$6:$I$1806)","v":0},{"$f":"IF(LOOKUP($V279,Data!$A$6:$A$1806,Data!$J$6:$J$1806)>0,(LOOKUP($V279,Data!$A$6:$A$1806,Data!$J$6:$J$1806)*-1),LOOKUP($V279,Data!$A$6:$A$1806,Data!$J$6:$J$1806))","v":-103},{"$f":"LOOKUP($V279,Data!$A$6:$A$1806,Data!$K$6:$K$1806)","v":7718.46},-21.629905700683594,null,null,null,null,null,null,null,null,null,null,null,null,null,null,139.9990234375," ",2.0999908447265625E-2," "]
[null,40098.107037036665,{"$f":"LOOKUP(B280,Data!$A$6:$A$1806,Data!B$6:B$1806)","v":60.020999908447266},{"$f":"LOOKUP(B280,Data!$A$6:$A$1806,Data!C$6:C$1806)","v":3786.346923828125},null,null,3090,{"$f":"(IF((C280-L$2)>0,(IF(C280<'Copy Results'!$C$3,((C280-L$2-L$5)/((L$4*L$2)-L$5)*G280*-1),(('Copy Results'!$C$3-L$2-L$5)/((L$4*L$2)-L$5)*G280*-1))),IF(C280>'Copy Results'!$C$2,((C280-L$2+L$5)/((L$4*L$2)-L$5)*G280*-1),(('Copy Results'!$C$2-L$2+L$5)/((L$4*L$2)-L$5)*G280*-1))))","v":-21.629905700683594},-21.983199044918805,null,null,0,3764.2880330013745,{"$f":"AVERAGE(D$79:D280)","v":3768.2033884784964},{"$f":"AVERAGE(M$79:M280)","v":3798.6363890053121},3771.0526488503479,{"$f":"AVERAGE(P$79:P280)","v":3728.5061043971391},null,null,null,null,40098.107037036665,{"$f":"LOOKUP($V280,Data!$A$6:$A$1806,Data!$B$6:$B$1806)","v":60.020999908447266},{"$f":"LOOKUP($V280,Data!$A$6:$A$1806,Data!$C$6:$C$1806)","v":3786.346923828125},{"$f":"LOOKUP($V280,Data!$A$6:$A$1806,Data!$D$6:$D$1806)","v":350},{"$f":"IF($Z$1=\"+\",LOOKUP($V280,Data!$A$6:$A$1806,Data!$E$6:$E$1806)*-1,LOOKUP($V280,Data!$A$6:$A$1806,Data!$E$6:$E$1806))","v":230.73442077636719},{"$f":"LOOKUP($V280,Data!$A$6:$A$1806,Data!$F$6:$F$1806)","v":16},null,{"$f":"LOOKUP($V280,Data!$A$6:$A$1806,Data!$H$6:$H$1806)","v":10},{"$f":"LOOKUP($V280,Data!$A$6:$A$1806,Data!$I$6:$I$1806)","v":0},{"$f":"IF(LOOKUP($V280,Data!$A$6:$A$1806,Data!$J$6:$J$1806)>0,(LOOKUP($V280,Data!$A$6:$A$1806,Data!$J$6:$J$1806)*-1),LOOKUP($V280,Data!$A$6:$A$1806,Data!$J$6:$J$1806))","v":-103},{"$f":"LOOKUP($V280,Data!$A$6:$A$1806,Data!$K$6:$K$1806)","v":7718.79},-21.629905700683594,null,null,null,null,null,null,null,null,null,null,null,null,null,null,140.619873046875," ",2.0999908447265625E-2," "]
[null,40098.107060184811,{"$f":"LOOKUP(B281,Data!$A$6:$A$1806,Data!B$6:B$1806)","v":60.022998809814453},{"$f":"LOOKUP(B281,Data!$A$6:$A$1806,Data!C$6:C$1806)","v":3785.821044921875},null,null,3090,{"$f":"(IF((C281-L$2)>0,(IF(C281<'Copy Results'!$C$3,((C281-L$2-L$5)/((L$4*L$2)-L$5)*G281*-1),(('Copy Results'!$C$3-L$2-L$5)/((L$4*L$2)-L$5)*G281*-1))),IF(C281>'Copy Results'!$C$2,((C281-L$2+L$5)/((L$4*L$2)-L$5)*G281*-1),(('Copy Results'!$C$2-L$2+L$5)/((L$4*L$2)-L$5)*G281*-1))))","v":-23.688774108886719},-22.580150317307577,null,null,0,3763.6910817289859,{"$f":"AVERAGE(D$79:D281)","v":3768.2901749634389},{"$f":"AVERAGE(M$79:M281)","v":3798.4642446344928},3771.0526488503479,{"$f":"AVERAGE(P$79:P281)","v":3728.7167308548283},null,null,null,null,40098.107060184811,{"$f":"LOOKUP($V281,Data!$A$6:$A$1806,Data!$B$6:$B$1806)","v":60.022998809814453},{"$f":"LOOKUP($V281,Data!$A$6:$A$1806,Data!$C$6:$C$1806)","v":3785.821044921875},{"$f":"LOOKUP($V281,Data!$A$6:$A$1806,Data!$D$6:$D$1806)","v":350},{"$f":"IF($Z$1=\"+\",LOOKUP($V281,Data!$A$6:$A$1806,Data!$E$6:$E$1806)*-1,LOOKUP($V281,Data!$A$6:$A$1806,Data!$E$6:$E$1806))","v":230.73442077636719},{"$f":"LOOKUP($V281,Data!$A$6:$A$1806,Data!$F$6:$F$1806)","v":16},null,{"$f":"LOOKUP($V281,Data!$A$6:$A$1806,Data!$H$6:$H$1806)","v":10},{"$f":"LOOKUP($V281,Data!$A$6:$A$1806,Data!$I$6:$I$1806)","v":0},{"$f":"IF(LOOKUP($V281,Data!$A$6:$A$1806,Data!$J$6:$J$1806)>0,(LOOKUP($V281,Data!$A$6:$A$1806,Data!$J$6:$J$1806)*-1),LOOKUP($V281,Data!$A$6:$A$1806,Data!$J$6:$J$1806))","v":-103},{"$f":"LOOKUP($V281,Data!$A$6:$A$1806,Data!$K$6:$K$1806)","v":7719.12},-23.688774108886719,null,null,null,null,null,null,null,null,null,null,null,null,null,null,140.093994140625," ",2.2998809814453125E-2," "]
[null,40098.107083332958,{"$f":"LOOKUP(B282,Data!$A$6:$A$1806,Data!B$6:B$1806)","v":60.022998809814453},{"$f":"LOOKUP(B282,Data!$A$6:$A$1806,Data!C$6:C$1806)","v":3785.79833984375},null,null,3090,{"$f":"(IF((C282-L$2)>0,(IF(C282<'Copy Results'!$C$3,((C282-L$2-L$5)/((L$4*L$2)-L$5)*G282*-1),(('Copy Results'!$C$3-L$2-L$5)/((L$4*L$2)-L$5)*G282*-1))),IF(C282>'Copy Results'!$C$2,((C282-L$2+L$5)/((L$4*L$2)-L$5)*G282*-1),(('Copy Results'!$C$2-L$2+L$5)/((L$4*L$2)-L$5)*G282*-1))))","v":-23.688774108886719},-22.968168644360276,null,null,0,3763.3030634019333,{"$f":"AVERAGE(D$79:D282)","v":3768.3759993010876},{"$f":"AVERAGE(M$79:M282)","v":3798.291885902961},3771.0526488503479,{"$f":"AVERAGE(P$79:P282)","v":3728.9252821750033},null,null,null,null,40098.107083332958,{"$f":"LOOKUP($V282,Data!$A$6:$A$1806,Data!$B$6:$B$1806)","v":60.022998809814453},{"$f":"LOOKUP($V282,Data!$A$6:$A$1806,Data!$C$6:$C$1806)","v":3785.79833984375},{"$f":"LOOKUP($V282,Data!$A$6:$A$1806,Data!$D$6:$D$1806)","v":350},{"$f":"IF($Z$1=\"+\",LOOKUP($V282,Data!$A$6:$A$1806,Data!$E$6:$E$1806)*-1,LOOKUP($V282,Data!$A$6:$A$1806,Data!$E$6:$E$1806))","v":230.73442077636719},{"$f":"LOOKUP($V282,Data!$A$6:$A$1806,Data!$F$6:$F$1806)","v":16},null,{"$f":"LOOKUP($V282,Data!$A$6:$A$1806,Data!$H$6:$H$1806)","v":10},{"$f":"LOOKUP($V282,Data!$A$6:$A$1806,Data!$I$6:$I$1806)","v":0},{"$f":"IF(LOOKUP($V282,Data!$A$6:$A$1806,Data!$J$6:$J$1806)>0,(LOOKUP($V282,Data!$A$6:$A$1806,Data!$J$6:$J$1806)*-1),LOOKUP($V282,Data!$A$6:$A$1806,Data!$J$6:$J$1806))","v":-103},{"$f":"LOOKUP($V282,Data!$A$6:$A$1806,Data!$K$6:$K$1806)","v":7719.45},-23.688774108886719,null,null,null,null,null,null,null,null,null,null,null,null,null,null,140.0712890625," ",2.2998809814453125E-2," "]
[null,40098.107106481104,{"$f":"LOOKUP(B283,Data!$A$6:$A$1806,Data!B$6:B$1806)","v":60.021999359130859},{"$f":"LOOKUP(B283,Data!$A$6:$A$1806,Data!C$6:C$1806)","v":3786.2841796875},null,null,3090,{"$f":"(IF((C283-L$2)>0,(IF(C283<'Copy Results'!$C$3,((C283-L$2-L$5)/((L$4*L$2)-L$5)*G283*-1),(('Copy Results'!$C$3-L$2-L$5)/((L$4*L$2)-L$5)*G283*-1))),IF(C283>'Copy Results'!$C$2,((C283-L$2+L$5)/((L$4*L$2)-L$5)*G283*-1),(('Copy Results'!$C$2-L$2+L$5)/((L$4*L$2)-L$5)*G283*-1))))","v":-22.659339904785156},-22.860078585508983,null,null,0,3763.4111534607846,{"$f":"AVERAGE(D$79:D283)","v":3768.4633562785825},{"$f":"AVERAGE(M$79:M283)","v":3798.1217359886086},3771.0526488503479,{"$f":"AVERAGE(P$79:P283)","v":3729.1317888743924},null,null,null,null,40098.107106481104,{"$f":"LOOKUP($V283,Data!$A$6:$A$1806,Data!$B$6:$B$1806)","v":60.021999359130859},{"$f":"LOOKUP($V283,Data!$A$6:$A$1806,Data!$C$6:$C$1806)","v":3786.2841796875},{"$f":"LOOKUP($V283,Data!$A$6:$A$1806,Data!$D$6:$D$1806)","v":350},{"$f":"IF($Z$1=\"+\",LOOKUP($V283,Data!$A$6:$A$1806,Data!$E$6:$E$1806)*-1,LOOKUP($V283,Data!$A$6:$A$1806,Data!$E$6:$E$1806))","v":230.73442077636719},{"$f":"LOOKUP($V283,Data!$A$6:$A$1806,Data!$F$6:$F$1806)","v":16},null,{"$f":"LOOKUP($V283,Data!$A$6:$A$1806,Data!$H$6:$H$1806)","v":10},{"$f":"LOOKUP($V283,Data!$A$6:$A$1806,Data!$I$6:$I$1806)","v":0},{"$f":"IF(LOOKUP($V283,Data!$A$6:$A$1806,Data!$J$6:$J$1806)>0,(LOOKUP($V283,Data!$A$6:$A$1806,Data!$J$6:$J$1806)*-1),LOOKUP($V283,Data!$A$6:$A$1806,Data!$J$6:$J$1806))","v":-103},{"$f":"LOOKUP($V283,Data!$A$6:$A$1806,Data!$K$6:$K$1806)","v":7719.78},-22.659339904785156,null,null,null,null,null,null,null,null,null,null,null,null,null,null,140.55712890625," ",2.1999359130859375E-2," "]
[null,40098.10712962925,{"$f":"LOOKUP(B284,Data!$A$6:$A$1806,Data!B$6:B$1806)","v":60.019001007080078},{"$f":"LOOKUP(B284,Data!$A$6:$A$1806,Data!C$6:C$1806)","v":3786.939208984375},null,null,3090,{"$f":"(IF((C284-L$2)>0,(IF(C284<'Copy Results'!$C$3,((C284-L$2-L$5)/((L$4*L$2)-L$5)*G284*-1),(('Copy Results'!$C$3-L$2-L$5)/((L$4*L$2)-L$5)*G284*-1))),IF(C284>'Copy Results'!$C$2,((C284-L$2+L$5)/((L$4*L$2)-L$5)*G284*-1),(('Copy Results'!$C$2-L$2+L$5)/((L$4*L$2)-L$5)*G284*-1))))","v":-19.571037292480469},-21.708914132949005,null,null,0,3764.5623179133445,{"$f":"AVERAGE(D$79:D284)","v":3768.5530448839504},{"$f":"AVERAGE(M$79:M284)","v":3797.9588261921267},3771.0526488503479,{"$f":"AVERAGE(P$79:P284)","v":3729.3362808742754},null,null,null,null,40098.10712962925,{"$f":"LOOKUP($V284,Data!$A$6:$A$1806,Data!$B$6:$B$1806)","v":60.019001007080078},{"$f":"LOOKUP($V284,Data!$A$6:$A$1806,Data!$C$6:$C$1806)","v":3786.939208984375},{"$f":"LOOKUP($V284,Data!$A$6:$A$1806,Data!$D$6:$D$1806)","v":350},{"$f":"IF($Z$1=\"+\",LOOKUP($V284,Data!$A$6:$A$1806,Data!$E$6:$E$1806)*-1,LOOKUP($V284,Data!$A$6:$A$1806,Data!$E$6:$E$1806))","v":230.73442077636719},{"$f":"LOOKUP($V284,Data!$A$6:$A$1806,Data!$F$6:$F$1806)","v":16},null,{"$f":"LOOKUP($V284,Data!$A$6:$A$1806,Data!$H$6:$H$1806)","v":10},{"$f":"LOOKUP($V284,Data!$A$6:$A$1806,Data!$I$6:$I$1806)","v":0},{"$f":"IF(LOOKUP($V284,Data!$A$6:$A$1806,Data!$J$6:$J$1806)>0,(LOOKUP($V284,Data!$A$6:$A$1806,Data!$J$6:$J$1806)*-1),LOOKUP($V284,Data!$A$6:$A$1806,Data!$J$6:$J$1806))","v":-103},{"$f":"LOOKUP($V284,Data!$A$6:$A$1806,Data!$K$6:$K$1806)","v":7720.11},-19.571037292480469,null,null,null,null,null,null,null,null,null,null,null,null,null,null,141.212158203125," ",1.9001007080078125E-2," "]
[null,40098.107152777397,{"$f":"LOOKUP(B285,Data!$A$6:$A$1806,Data!B$6:B$1806)","v":60.015998840332031},{"$f":"LOOKUP(B285,Data!$A$6:$A$1806,Data!C$6:C$1806)","v":3787.62744140625},null,null,3090,{"$f":"(IF((C285-L$2)>0,(IF(C285<'Copy Results'!$C$3,((C285-L$2-L$5)/((L$4*L$2)-L$5)*G285*-1),(('Copy Results'!$C$3-L$2-L$5)/((L$4*L$2)-L$5)*G285*-1))),IF(C285>'Copy Results'!$C$2,((C285-L$2+L$5)/((L$4*L$2)-L$5)*G285*-1),(('Copy Results'!$C$2-L$2+L$5)/((L$4*L$2)-L$5)*G285*-1))))","v":-16.478805541992187},-19.878376126114119,null,null,0,3766.3928559201795,{"$f":"AVERAGE(D$79:D285)","v":3768.6451917270533},{"$f":"AVERAGE(M$79:M285)","v":3797.8063335821171},3771.0526488503479,{"$f":"AVERAGE(P$79:P285)","v":3729.5387875149358},null,null,null,null,40098.107152777397,{"$f":"LOOKUP($V285,Data!$A$6:$A$1806,Data!$B$6:$B$1806)","v":60.015998840332031},{"$f":"LOOKUP($V285,Data!$A$6:$A$1806,Data!$C$6:$C$1806)","v":3787.62744140625},{"$f":"LOOKUP($V285,Data!$A$6:$A$1806,Data!$D$6:$D$1806)","v":350},{"$f":"IF($Z$1=\"+\",LOOKUP($V285,Data!$A$6:$A$1806,Data!$E$6:$E$1806)*-1,LOOKUP($V285,Data!$A$6:$A$1806,Data!$E$6:$E$1806))","v":234.84710693359375},{"$f":"LOOKUP($V285,Data!$A$6:$A$1806,Data!$F$6:$F$1806)","v":16},null,{"$f":"LOOKUP($V285,Data!$A$6:$A$1806,Data!$H$6:$H$1806)","v":10},{"$f":"LOOKUP($V285,Data!$A$6:$A$1806,Data!$I$6:$I$1806)","v":0},{"$f":"IF(LOOKUP($V285,Data!$A$6:$A$1806,Data!$J$6:$J$1806)>0,(LOOKUP($V285,Data!$A$6:$A$1806,Data!$J$6:$J$1806)*-1),LOOKUP($V285,Data!$A$6:$A$1806,Data!$J$6:$J$1806))","v":-103},{"$f":"LOOKUP($V285,Data!$A$6:$A$1806,Data!$K$6:$K$1806)","v":7720.44},-16.478805541992187,null,null,null,null,null,null,null,null,null,null,null,null,null,null,141.900390625," ",1.599884033203125E-2," "]
[null,40098.107175925543,{"$f":"LOOKUP(B286,Data!$A$6:$A$1806,Data!B$6:B$1806)","v":60.018001556396484},{"$f":"LOOKUP(B286,Data!$A$6:$A$1806,Data!C$6:C$1806)","v":3789.4443359375},null,null,3090,{"$f":"(IF((C286-L$2)>0,(IF(C286<'Copy Results'!$C$3,((C286-L$2-L$5)/((L$4*L$2)-L$5)*G286*-1),(('Copy Results'!$C$3-L$2-L$5)/((L$4*L$2)-L$5)*G286*-1))),IF(C286>'Copy Results'!$C$2,((C286-L$2+L$5)/((L$4*L$2)-L$5)*G286*-1),(('Copy Results'!$C$2-L$2+L$5)/((L$4*L$2)-L$5)*G286*-1))))","v":-18.541603088378906},-19.410505562906796,null,null,0,3766.8607264833868,{"$f":"AVERAGE(D$79:D286)","v":3768.7451876126802},{"$f":"AVERAGE(M$79:M286)","v":3797.6575566249116},3771.0526488503479,{"$f":"AVERAGE(P$79:P286)","v":3729.7393375696965},null,null,null,null,40098.107175925543,{"$f":"LOOKUP($V286,Data!$A$6:$A$1806,Data!$B$6:$B$1806)","v":60.018001556396484},{"$f":"LOOKUP($V286,Data!$A$6:$A$1806,Data!$C$6:$C$1806)","v":3789.4443359375},{"$f":"LOOKUP($V286,Data!$A$6:$A$1806,Data!$D$6:$D$1806)","v":350},{"$f":"IF($Z$1=\"+\",LOOKUP($V286,Data!$A$6:$A$1806,Data!$E$6:$E$1806)*-1,LOOKUP($V286,Data!$A$6:$A$1806,Data!$E$6:$E$1806))","v":234.84710693359375},{"$f":"LOOKUP($V286,Data!$A$6:$A$1806,Data!$F$6:$F$1806)","v":16},null,{"$f":"LOOKUP($V286,Data!$A$6:$A$1806,Data!$H$6:$H$1806)","v":10},{"$f":"LOOKUP($V286,Data!$A$6:$A$1806,Data!$I$6:$I$1806)","v":0},{"$f":"IF(LOOKUP($V286,Data!$A$6:$A$1806,Data!$J$6:$J$1806)>0,(LOOKUP($V286,Data!$A$6:$A$1806,Data!$J$6:$J$1806)*-1),LOOKUP($V286,Data!$A$6:$A$1806,Data!$J$6:$J$1806))","v":-103},{"$f":"LOOKUP($V286,Data!$A$6:$A$1806,Data!$K$6:$K$1806)","v":7720.77},-18.541603088378906,null,null,null,null,null,null,null,null,null,null,null,null,null,null,143.71728515625," ",1.8001556396484375E-2," "]
[null,40098.107199073689,{"$f":"LOOKUP(B287,Data!$A$6:$A$1806,Data!B$6:B$1806)","v":60.018001556396484},{"$f":"LOOKUP(B287,Data!$A$6:$A$1806,Data!C$6:C$1806)","v":3789.67333984375},null,null,3090,{"$f":"(IF((C287-L$2)>0,(IF(C287<'Copy Results'!$C$3,((C287-L$2-L$5)/((L$4*L$2)-L$5)*G287*-1),(('Copy Results'!$C$3-L$2-L$5)/((L$4*L$2)-L$5)*G287*-1))),IF(C287>'Copy Results'!$C$2,((C287-L$2+L$5)/((L$4*L$2)-L$5)*G287*-1),(('Copy Results'!$C$2-L$2+L$5)/((L$4*L$2)-L$5)*G287*-1))))","v":-18.541603088378906},-19.106389696822035,null,null,0,3767.1648423494717,{"$f":"AVERAGE(D$79:D287)","v":3768.8453223123506},{"$f":"AVERAGE(M$79:M287)","v":3797.5116584704838},3771.0526488503479,{"$f":"AVERAGE(P$79:P287)","v":3729.937959258546},null,null,null,null,40098.107199073689,{"$f":"LOOKUP($V287,Data!$A$6:$A$1806,Data!$B$6:$B$1806)","v":60.018001556396484},{"$f":"LOOKUP($V287,Data!$A$6:$A$1806,Data!$C$6:$C$1806)","v":3789.67333984375},{"$f":"LOOKUP($V287,Data!$A$6:$A$1806,Data!$D$6:$D$1806)","v":350},{"$f":"IF($Z$1=\"+\",LOOKUP($V287,Data!$A$6:$A$1806,Data!$E$6:$E$1806)*-1,LOOKUP($V287,Data!$A$6:$A$1806,Data!$E$6:$E$1806))","v":234.84710693359375},{"$f":"LOOKUP($V287,Data!$A$6:$A$1806,Data!$F$6:$F$1806)","v":16},null,{"$f":"LOOKUP($V287,Data!$A$6:$A$1806,Data!$H$6:$H$1806)","v":10},{"$f":"LOOKUP($V287,Data!$A$6:$A$1806,Data!$I$6:$I$1806)","v":0},{"$f":"IF(LOOKUP($V287,Data!$A$6:$A$1806,Data!$J$6:$J$1806)>0,(LOOKUP($V287,Data!$A$6:$A$1806,Data!$J$6:$J$1806)*-1),LOOKUP($V287,Data!$A$6:$A$1806,Data!$J$6:$J$1806))","v":-103},{"$f":"LOOKUP($V287,Data!$A$6:$A$1806,Data!$K$6:$K$1806)","v":7721.1},-18.541603088378906,null,null,null,null,null,null,null,null,null,null,null,null,null,null,143.9462890625," ",1.8001556396484375E-2," "]
[null,40098.107222221835,{"$f":"LOOKUP(B288,Data!$A$6:$A$1806,Data!B$6:B$1806)","v":60.018001556396484},{"$f":"LOOKUP(B288,Data!$A$6:$A$1806,Data!C$6:C$1806)","v":3789.404296875},null,null,3090,{"$f":"(IF((C288-L$2)>0,(IF(C288<'Copy Results'!$C$3,((C288-L$2-L$5)/((L$4*L$2)-L$5)*G288*-1),(('Copy Results'!$C$3-L$2-L$5)/((L$4*L$2)-L$5)*G288*-1))),IF(C288>'Copy Results'!$C$2,((C288-L$2+L$5)/((L$4*L$2)-L$5)*G288*-1),(('Copy Results'!$C$2-L$2+L$5)/((L$4*L$2)-L$5)*G288*-1))))","v":-18.541603088378906},-18.90871438386694,null,null,0,3767.3625176624269,{"$f":"AVERAGE(D$79:D288)","v":3768.9432221912202},{"$f":"AVERAGE(M$79:M288)","v":3797.3680911333026},3771.0526488503479,{"$f":"AVERAGE(P$79:P288)","v":3730.1346802613775},null,null,null,null,40098.107222221835,{"$f":"LOOKUP($V288,Data!$A$6:$A$1806,Data!$B$6:$B$1806)","v":60.018001556396484},{"$f":"LOOKUP($V288,Data!$A$6:$A$1806,Data!$C$6:$C$1806)","v":3789.404296875},{"$f":"LOOKUP($V288,Data!$A$6:$A$1806,Data!$D$6:$D$1806)","v":350},{"$f":"IF($Z$1=\"+\",LOOKUP($V288,Data!$A$6:$A$1806,Data!$E$6:$E$1806)*-1,LOOKUP($V288,Data!$A$6:$A$1806,Data!$E$6:$E$1806))","v":234.84710693359375},{"$f":"LOOKUP($V288,Data!$A$6:$A$1806,Data!$F$6:$F$1806)","v":16},null,{"$f":"LOOKUP($V288,Data!$A$6:$A$1806,Data!$H$6:$H$1806)","v":10},{"$f":"LOOKUP($V288,Data!$A$6:$A$1806,Data!$I$6:$I$1806)","v":0},{"$f":"IF(LOOKUP($V288,Data!$A$6:$A$1806,Data!$J$6:$J$1806)>0,(LOOKUP($V288,Data!$A$6:$A$1806,Data!$J$6:$J$1806)*-1),LOOKUP($V288,Data!$A$6:$A$1806,Data!$J$6:$J$1806))","v":-103},{"$f":"LOOKUP($V288,Data!$A$6:$A$1806,Data!$K$6:$K$1806)","v":7721.43},-18.541603088378906,null,null,null,null,null,null,null,null,null,null,null,null,null,null,143.67724609375," ",1.8001556396484375E-2," "]
[null,40098.107245369982,{"$f":"LOOKUP(B289,Data!$A$6:$A$1806,Data!B$6:B$1806)","v":60.019001007080078},{"$f":"LOOKUP(B289,Data!$A$6:$A$1806,Data!C$6:C$1806)","v":3788.478759765625},null,null,3090,{"$f":"(IF((C289-L$2)>0,(IF(C289<'Copy Results'!$C$3,((C289-L$2-L$5)/((L$4*L$2)-L$5)*G289*-1),(('Copy Results'!$C$3-L$2-L$5)/((L$4*L$2)-L$5)*G289*-1))),IF(C289>'Copy Results'!$C$2,((C289-L$2+L$5)/((L$4*L$2)-L$5)*G289*-1),(('Copy Results'!$C$2-L$2+L$5)/((L$4*L$2)-L$5)*G289*-1))))","v":-19.571037292480469},-19.140527401881677,null,null,0,3767.1307046444122,{"$f":"AVERAGE(D$79:D289)","v":3769.035807677355},{"$f":"AVERAGE(M$79:M289)","v":3797.2247859840663},3771.0526488503479,{"$f":"AVERAGE(P$79:P289)","v":3730.3295277308489},null,null,null,null,40098.107245369982,{"$f":"LOOKUP($V289,Data!$A$6:$A$1806,Data!$B$6:$B$1806)","v":60.019001007080078},{"$f":"LOOKUP($V289,Data!$A$6:$A$1806,Data!$C$6:$C$1806)","v":3788.478759765625},{"$f":"LOOKUP($V289,Data!$A$6:$A$1806,Data!$D$6:$D$1806)","v":350},{"$f":"IF($Z$1=\"+\",LOOKUP($V289,Data!$A$6:$A$1806,Data!$E$6:$E$1806)*-1,LOOKUP($V289,Data!$A$6:$A$1806,Data!$E$6:$E$1806))","v":234.84710693359375},{"$f":"LOOKUP($V289,Data!$A$6:$A$1806,Data!$F$6:$F$1806)","v":16},null,{"$f":"LOOKUP($V289,Data!$A$6:$A$1806,Data!$H$6:$H$1806)","v":10},{"$f":"LOOKUP($V289,Data!$A$6:$A$1806,Data!$I$6:$I$1806)","v":0},{"$f":"IF(LOOKUP($V289,Data!$A$6:$A$1806,Data!$J$6:$J$1806)>0,(LOOKUP($V289,Data!$A$6:$A$1806,Data!$J$6:$J$1806)*-1),LOOKUP($V289,Data!$A$6:$A$1806,Data!$J$6:$J$1806))","v":-103},{"$f":"LOOKUP($V289,Data!$A$6:$A$1806,Data!$K$6:$K$1806)","v":7721.76},-19.571037292480469,null,null,null,null,null,null,null,null,null,null,null,null,null,null,142.751708984375," ",1.9001007080078125E-2," "]
[null,40098.107268518128,{"$f":"LOOKUP(B290,Data!$A$6:$A$1806,Data!B$6:B$1806)","v":60.019001007080078},{"$f":"LOOKUP(B290,Data!$A$6:$A$1806,Data!C$6:C$1806)","v":3789.183349609375},null,null,3090,{"$f":"(IF((C290-L$2)>0,(IF(C290<'Copy Results'!$C$3,((C290-L$2-L$5)/((L$4*L$2)-L$5)*G290*-1),(('Copy Results'!$C$3-L$2-L$5)/((L$4*L$2)-L$5)*G290*-1))),IF(C290>'Copy Results'!$C$2,((C290-L$2+L$5)/((L$4*L$2)-L$5)*G290*-1),(('Copy Results'!$C$2-L$2+L$5)/((L$4*L$2)-L$5)*G290*-1))))","v":-19.571037292480469},-19.291205863591255,null,null,0,3766.9800261827027,{"$f":"AVERAGE(D$79:D290)","v":3769.1308432525061},{"$f":"AVERAGE(M$79:M290)","v":3797.082122022739},3771.0526488503479,{"$f":"AVERAGE(P$79:P290)","v":3730.5225283048753},null,null,null,null,40098.107268518128,{"$f":"LOOKUP($V290,Data!$A$6:$A$1806,Data!$B$6:$B$1806)","v":60.019001007080078},{"$f":"LOOKUP($V290,Data!$A$6:$A$1806,Data!$C$6:$C$1806)","v":3789.183349609375},{"$f":"LOOKUP($V290,Data!$A$6:$A$1806,Data!$D$6:$D$1806)","v":350},{"$f":"IF($Z$1=\"+\",LOOKUP($V290,Data!$A$6:$A$1806,Data!$E$6:$E$1806)*-1,LOOKUP($V290,Data!$A$6:$A$1806,Data!$E$6:$E$1806))","v":228.96092224121094},{"$f":"LOOKUP($V290,Data!$A$6:$A$1806,Data!$F$6:$F$1806)","v":16},null,{"$f":"LOOKUP($V290,Data!$A$6:$A$1806,Data!$H$6:$H$1806)","v":10},{"$f":"LOOKUP($V290,Data!$A$6:$A$1806,Data!$I$6:$I$1806)","v":0},{"$f":"IF(LOOKUP($V290,Data!$A$6:$A$1806,Data!$J$6:$J$1806)>0,(LOOKUP($V290,Data!$A$6:$A$1806,Data!$J$6:$J$1806)*-1),LOOKUP($V290,Data!$A$6:$A$1806,Data!$J$6:$J$1806))","v":-103},{"$f":"LOOKUP($V290,Data!$A$6:$A$1806,Data!$K$6:$K$1806)","v":7722.09},-19.571037292480469,null,null,null,null,null,null,null,null,null,null,null,null,null,null,143.456298828125," ",1.9001007080078125E-2," "]
[null,40098.107291666274,{"$f":"LOOKUP(B291,Data!$A$6:$A$1806,Data!B$6:B$1806)","v":60.015998840332031},{"$f":"LOOKUP(B291,Data!$A$6:$A$1806,Data!C$6:C$1806)","v":3789.368896484375},null,null,3090,{"$f":"(IF((C291-L$2)>0,(IF(C291<'Copy Results'!$C$3,((C291-L$2-L$5)/((L$4*L$2)-L$5)*G291*-1),(('Copy Results'!$C$3-L$2-L$5)/((L$4*L$2)-L$5)*G291*-1))),IF(C291>'Copy Results'!$C$2,((C291-L$2+L$5)/((L$4*L$2)-L$5)*G291*-1),(('Copy Results'!$C$2-L$2+L$5)/((L$4*L$2)-L$5)*G291*-1))))","v":-16.478805541992187},-18.30686575103158,null,null,0,3767.9643662952622,{"$f":"AVERAGE(D$79:D291)","v":3769.2258575869278},{"$f":"AVERAGE(M$79:M291)","v":3796.9454189442063},3771.0526488503479,{"$f":"AVERAGE(P$79:P291)","v":3730.7137081187689},null,null,null,null,40098.107291666274,{"$f":"LOOKUP($V291,Data!$A$6:$A$1806,Data!$B$6:$B$1806)","v":60.015998840332031},{"$f":"LOOKUP($V291,Data!$A$6:$A$1806,Data!$C$6:$C$1806)","v":3789.368896484375},{"$f":"LOOKUP($V291,Data!$A$6:$A$1806,Data!$D$6:$D$1806)","v":350},{"$f":"IF($Z$1=\"+\",LOOKUP($V291,Data!$A$6:$A$1806,Data!$E$6:$E$1806)*-1,LOOKUP($V291,Data!$A$6:$A$1806,Data!$E$6:$E$1806))","v":228.96092224121094},{"$f":"LOOKUP($V291,Data!$A$6:$A$1806,Data!$F$6:$F$1806)","v":16},null,{"$f":"LOOKUP($V291,Data!$A$6:$A$1806,Data!$H$6:$H$1806)","v":10},{"$f":"LOOKUP($V291,Data!$A$6:$A$1806,Data!$I$6:$I$1806)","v":0},{"$f":"IF(LOOKUP($V291,Data!$A$6:$A$1806,Data!$J$6:$J$1806)>0,(LOOKUP($V291,Data!$A$6:$A$1806,Data!$J$6:$J$1806)*-1),LOOKUP($V291,Data!$A$6:$A$1806,Data!$J$6:$J$1806))","v":-103},{"$f":"LOOKUP($V291,Data!$A$6:$A$1806,Data!$K$6:$K$1806)","v":7722.42},-16.478805541992187,null,null,null,null,null,null,null,null,null,null,null,null,null,null,143.641845703125," ",1.599884033203125E-2," "]
[null,40098.107314814421,{"$f":"LOOKUP(B292,Data!$A$6:$A$1806,Data!B$6:B$1806)","v":60.014999389648438},{"$f":"LOOKUP(B292,Data!$A$6:$A$1806,Data!C$6:C$1806)","v":3789.0048828125},null,null,3090,{"$f":"(IF((C292-L$2)>0,(IF(C292<'Copy Results'!$C$3,((C292-L$2-L$5)/((L$4*L$2)-L$5)*G292*-1),(('Copy Results'!$C$3-L$2-L$5)/((L$4*L$2)-L$5)*G292*-1))),IF(C292>'Copy Results'!$C$2,((C292-L$2+L$5)/((L$4*L$2)-L$5)*G292*-1),(('Copy Results'!$C$2-L$2+L$5)/((L$4*L$2)-L$5)*G292*-1))))","v":-15.449371337890627},-17.306742706432246,null,null,0,3768.9644893398613,{"$f":"AVERAGE(D$79:D292)","v":3769.3182829384491},{"$f":"AVERAGE(M$79:M292)","v":3796.8146669367093},3771.0526488503479,{"$f":"AVERAGE(P$79:P292)","v":3730.9030928170396},null,null,null,null,40098.107314814421,{"$f":"LOOKUP($V292,Data!$A$6:$A$1806,Data!$B$6:$B$1806)","v":60.014999389648438},{"$f":"LOOKUP($V292,Data!$A$6:$A$1806,Data!$C$6:$C$1806)","v":3789.0048828125},{"$f":"LOOKUP($V292,Data!$A$6:$A$1806,Data!$D$6:$D$1806)","v":350},{"$f":"IF($Z$1=\"+\",LOOKUP($V292,Data!$A$6:$A$1806,Data!$E$6:$E$1806)*-1,LOOKUP($V292,Data!$A$6:$A$1806,Data!$E$6:$E$1806))","v":228.96092224121094},{"$f":"LOOKUP($V292,Data!$A$6:$A$1806,Data!$F$6:$F$1806)","v":16},null,{"$f":"LOOKUP($V292,Data!$A$6:$A$1806,Data!$H$6:$H$1806)","v":10},{"$f":"LOOKUP($V292,Data!$A$6:$A$1806,Data!$I$6:$I$1806)","v":0},{"$f":"IF(LOOKUP($V292,Data!$A$6:$A$1806,Data!$J$6:$J$1806)>0,(LOOKUP($V292,Data!$A$6:$A$1806,Data!$J$6:$J$1806)*-1),LOOKUP($V292,Data!$A$6:$A$1806,Data!$J$6:$J$1806))","v":-103},{"$f":"LOOKUP($V292,Data!$A$6:$A$1806,Data!$K$6:$K$1806)","v":7722.75},-15.449371337890627,null,null,null,null,null,null,null,null,null,null,null,null,null,null,143.27783203125," ",1.49993896484375E-2," "]
[null,40098.107337962567,{"$f":"LOOKUP(B293,Data!$A$6:$A$1806,Data!B$6:B$1806)","v":60.015998840332031},{"$f":"LOOKUP(B293,Data!$A$6:$A$1806,Data!C$6:C$1806)","v":3788.66455078125},null,null,3090,{"$f":"(IF((C293-L$2)>0,(IF(C293<'Copy Results'!$C$3,((C293-L$2-L$5)/((L$4*L$2)-L$5)*G293*-1),(('Copy Results'!$C$3-L$2-L$5)/((L$4*L$2)-L$5)*G293*-1))),IF(C293>'Copy Results'!$C$2,((C293-L$2+L$5)/((L$4*L$2)-L$5)*G293*-1),(('Copy Results'!$C$2-L$2+L$5)/((L$4*L$2)-L$5)*G293*-1))))","v":-16.478805541992187},-17.016964698878226,null,null,0,3769.2542673474154,{"$f":"AVERAGE(D$79:D293)","v":3769.4082655795787},{"$f":"AVERAGE(M$79:M293)","v":3796.6864790316426},3771.0526488503479,{"$f":"AVERAGE(P$79:P293)","v":3731.0907075648588},null,null,null,null,40098.107337962567,{"$f":"LOOKUP($V293,Data!$A$6:$A$1806,Data!$B$6:$B$1806)","v":60.015998840332031},{"$f":"LOOKUP($V293,Data!$A$6:$A$1806,Data!$C$6:$C$1806)","v":3788.66455078125},{"$f":"LOOKUP($V293,Data!$A$6:$A$1806,Data!$D$6:$D$1806)","v":350},{"$f":"IF($Z$1=\"+\",LOOKUP($V293,Data!$A$6:$A$1806,Data!$E$6:$E$1806)*-1,LOOKUP($V293,Data!$A$6:$A$1806,Data!$E$6:$E$1806))","v":228.96092224121094},{"$f":"LOOKUP($V293,Data!$A$6:$A$1806,Data!$F$6:$F$1806)","v":16},null,{"$f":"LOOKUP($V293,Data!$A$6:$A$1806,Data!$H$6:$H$1806)","v":10},{"$f":"LOOKUP($V293,Data!$A$6:$A$1806,Data!$I$6:$I$1806)","v":0},{"$f":"IF(LOOKUP($V293,Data!$A$6:$A$1806,Data!$J$6:$J$1806)>0,(LOOKUP($V293,Data!$A$6:$A$1806,Data!$J$6:$J$1806)*-1),LOOKUP($V293,Data!$A$6:$A$1806,Data!$J$6:$J$1806))","v":-103},{"$f":"LOOKUP($V293,Data!$A$6:$A$1806,Data!$K$6:$K$1806)","v":7723.08},-16.478805541992187,null,null,null,null,null,null,null,null,null,null,null,null,null,null,142.9375," ",1.599884033203125E-2," "]
[null,40098.107361110713,{"$f":"LOOKUP(B294,Data!$A$6:$A$1806,Data!B$6:B$1806)","v":60.013999938964844},{"$f":"LOOKUP(B294,Data!$A$6:$A$1806,Data!C$6:C$1806)","v":3788.932861328125},null,null,3090,{"$f":"(IF((C294-L$2)>0,(IF(C294<'Copy Results'!$C$3,((C294-L$2-L$5)/((L$4*L$2)-L$5)*G294*-1),(('Copy Results'!$C$3-L$2-L$5)/((L$4*L$2)-L$5)*G294*-1))),IF(C294>'Copy Results'!$C$2,((C294-L$2+L$5)/((L$4*L$2)-L$5)*G294*-1),(('Copy Results'!$C$2-L$2+L$5)/((L$4*L$2)-L$5)*G294*-1))))","v":-14.419937133789061},-16.108005051097017,null,null,0,3770.1632269951965,{"$f":"AVERAGE(D$79:D294)","v":3769.4986572265625},{"$f":"AVERAGE(M$79:M294)","v":3796.5636861981407},3771.0526488503479,{"$f":"AVERAGE(P$79:P294)","v":3731.27657705921},null,null,null,null,40098.107361110713,{"$f":"LOOKUP($V294,Data!$A$6:$A$1806,Data!$B$6:$B$1806)","v":60.013999938964844},{"$f":"LOOKUP($V294,Data!$A$6:$A$1806,Data!$C$6:$C$1806)","v":3788.932861328125},{"$f":"LOOKUP($V294,Data!$A$6:$A$1806,Data!$D$6:$D$1806)","v":350},{"$f":"IF($Z$1=\"+\",LOOKUP($V294,Data!$A$6:$A$1806,Data!$E$6:$E$1806)*-1,LOOKUP($V294,Data!$A$6:$A$1806,Data!$E$6:$E$1806))","v":228.96092224121094},{"$f":"LOOKUP($V294,Data!$A$6:$A$1806,Data!$F$6:$F$1806)","v":16},null,{"$f":"LOOKUP($V294,Data!$A$6:$A$1806,Data!$H$6:$H$1806)","v":10},{"$f":"LOOKUP($V294,Data!$A$6:$A$1806,Data!$I$6:$I$1806)","v":0},{"$f":"IF(LOOKUP($V294,Data!$A$6:$A$1806,Data!$J$6:$J$1806)>0,(LOOKUP($V294,Data!$A$6:$A$1806,Data!$J$6:$J$1806)*-1),LOOKUP($V294,Data!$A$6:$A$1806,Data!$J$6:$J$1806))","v":-103},{"$f":"LOOKUP($V294,Data!$A$6:$A$1806,Data!$K$6:$K$1806)","v":7723.41},-14.419937133789061,null,null,null,null,null,null,null,null,null,null,null,null,null,null,143.205810546875," ",1.399993896484375E-2," "]
[null,40098.107384258859,{"$f":"LOOKUP(B295,Data!$A$6:$A$1806,Data!B$6:B$1806)","v":60.01300048828125},{"$f":"LOOKUP(B295,Data!$A$6:$A$1806,Data!C$6:C$1806)","v":3790.6669921875},null,null,3090,{"$f":"(IF((C295-L$2)>0,(IF(C295<'Copy Results'!$C$3,((C295-L$2-L$5)/((L$4*L$2)-L$5)*G295*-1),(('Copy Results'!$C$3-L$2-L$5)/((L$4*L$2)-L$5)*G295*-1))),IF(C295>'Copy Results'!$C$2,((C295-L$2+L$5)/((L$4*L$2)-L$5)*G295*-1),(('Copy Results'!$C$2-L$2+L$5)/((L$4*L$2)-L$5)*G295*-1))))","v":-13.3905029296875},-15.156879308603687,null,null,0,3771.1143527376898,{"$f":"AVERAGE(D$79:D295)","v":3769.596207157258},{"$f":"AVERAGE(M$79:M295)","v":3796.4464081637602},3771.0526488503479,{"$f":"AVERAGE(P$79:P295)","v":3731.4607255397245},null,null,null,null,40098.107384258859,{"$f":"LOOKUP($V295,Data!$A$6:$A$1806,Data!$B$6:$B$1806)","v":60.01300048828125},{"$f":"LOOKUP($V295,Data!$A$6:$A$1806,Data!$C$6:$C$1806)","v":3790.6669921875},{"$f":"LOOKUP($V295,Data!$A$6:$A$1806,Data!$D$6:$D$1806)","v":350},{"$f":"IF($Z$1=\"+\",LOOKUP($V295,Data!$A$6:$A$1806,Data!$E$6:$E$1806)*-1,LOOKUP($V295,Data!$A$6:$A$1806,Data!$E$6:$E$1806))","v":231.17791748046875},{"$f":"LOOKUP($V295,Data!$A$6:$A$1806,Data!$F$6:$F$1806)","v":16},null,{"$f":"LOOKUP($V295,Data!$A$6:$A$1806,Data!$H$6:$H$1806)","v":10},{"$f":"LOOKUP($V295,Data!$A$6:$A$1806,Data!$I$6:$I$1806)","v":0},{"$f":"IF(LOOKUP($V295,Data!$A$6:$A$1806,Data!$J$6:$J$1806)>0,(LOOKUP($V295,Data!$A$6:$A$1806,Data!$J$6:$J$1806)*-1),LOOKUP($V295,Data!$A$6:$A$1806,Data!$J$6:$J$1806))","v":-103},{"$f":"LOOKUP($V295,Data!$A$6:$A$1806,Data!$K$6:$K$1806)","v":7723.74},-13.3905029296875,null,null,null,null,null,null,null,null,null,null,null,null,null,null,144.93994140625," ",1.300048828125E-2," "]
[null,40098.107407407006,{"$f":"LOOKUP(B296,Data!$A$6:$A$1806,Data!B$6:B$1806)","v":60.012001037597656},{"$f":"LOOKUP(B296,Data!$A$6:$A$1806,Data!C$6:C$1806)","v":3790.80517578125},null,null,3090,{"$f":"(IF((C296-L$2)>0,(IF(C296<'Copy Results'!$C$3,((C296-L$2-L$5)/((L$4*L$2)-L$5)*G296*-1),(('Copy Results'!$C$3-L$2-L$5)/((L$4*L$2)-L$5)*G296*-1))),IF(C296>'Copy Results'!$C$2,((C296-L$2+L$5)/((L$4*L$2)-L$5)*G296*-1),(('Copy Results'!$C$2-L$2+L$5)/((L$4*L$2)-L$5)*G296*-1))))","v":-12.361068725585939},-14.178345604547475,null,null,0,3772.092886441746,{"$f":"AVERAGE(D$79:D296)","v":3769.6934960041572},{"$f":"AVERAGE(M$79:M296)","v":3796.3346947613659},3771.0526488503479,{"$f":"AVERAGE(P$79:P296)","v":3731.6431767992203},null,null,null,null,40098.107407407006,{"$f":"LOOKUP($V296,Data!$A$6:$A$1806,Data!$B$6:$B$1806)","v":60.012001037597656},{"$f":"LOOKUP($V296,Data!$A$6:$A$1806,Data!$C$6:$C$1806)","v":3790.80517578125},{"$f":"LOOKUP($V296,Data!$A$6:$A$1806,Data!$D$6:$D$1806)","v":350},{"$f":"IF($Z$1=\"+\",LOOKUP($V296,Data!$A$6:$A$1806,Data!$E$6:$E$1806)*-1,LOOKUP($V296,Data!$A$6:$A$1806,Data!$E$6:$E$1806))","v":231.17791748046875},{"$f":"LOOKUP($V296,Data!$A$6:$A$1806,Data!$F$6:$F$1806)","v":16},null,{"$f":"LOOKUP($V296,Data!$A$6:$A$1806,Data!$H$6:$H$1806)","v":10},{"$f":"LOOKUP($V296,Data!$A$6:$A$1806,Data!$I$6:$I$1806)","v":0},{"$f":"IF(LOOKUP($V296,Data!$A$6:$A$1806,Data!$J$6:$J$1806)>0,(LOOKUP($V296,Data!$A$6:$A$1806,Data!$J$6:$J$1806)*-1),LOOKUP($V296,Data!$A$6:$A$1806,Data!$J$6:$J$1806))","v":-103},{"$f":"LOOKUP($V296,Data!$A$6:$A$1806,Data!$K$6:$K$1806)","v":7724.07},-12.361068725585939,null,null,null,null,null,null,null,null,null,null,null,null,null,null,145.078125," ",1.200103759765625E-2," "]
[null,40098.107430555152,{"$f":"LOOKUP(B297,Data!$A$6:$A$1806,Data!B$6:B$1806)","v":60.012001037597656},{"$f":"LOOKUP(B297,Data!$A$6:$A$1806,Data!C$6:C$1806)","v":3790.4111328125},null,null,3090,{"$f":"(IF((C297-L$2)>0,(IF(C297<'Copy Results'!$C$3,((C297-L$2-L$5)/((L$4*L$2)-L$5)*G297*-1),(('Copy Results'!$C$3-L$2-L$5)/((L$4*L$2)-L$5)*G297*-1))),IF(C297>'Copy Results'!$C$2,((C297-L$2+L$5)/((L$4*L$2)-L$5)*G297*-1),(('Copy Results'!$C$2-L$2+L$5)/((L$4*L$2)-L$5)*G297*-1))))","v":-12.361068725585939},-13.542298696910937,null,null,0,3772.7289333493827,{"$f":"AVERAGE(D$79:D297)","v":3769.788097085474},{"$f":"AVERAGE(M$79:M297)","v":3796.2269058964707},3771.0526488503479,{"$f":"AVERAGE(P$79:P297)","v":3731.8239541939506},null,null,null,null,40098.107430555152,{"$f":"LOOKUP($V297,Data!$A$6:$A$1806,Data!$B$6:$B$1806)","v":60.012001037597656},{"$f":"LOOKUP($V297,Data!$A$6:$A$1806,Data!$C$6:$C$1806)","v":3790.4111328125},{"$f":"LOOKUP($V297,Data!$A$6:$A$1806,Data!$D$6:$D$1806)","v":350},{"$f":"IF($Z$1=\"+\",LOOKUP($V297,Data!$A$6:$A$1806,Data!$E$6:$E$1806)*-1,LOOKUP($V297,Data!$A$6:$A$1806,Data!$E$6:$E$1806))","v":231.17791748046875},{"$f":"LOOKUP($V297,Data!$A$6:$A$1806,Data!$F$6:$F$1806)","v":16},null,{"$f":"LOOKUP($V297,Data!$A$6:$A$1806,Data!$H$6:$H$1806)","v":10},{"$f":"LOOKUP($V297,Data!$A$6:$A$1806,Data!$I$6:$I$1806)","v":0},{"$f":"IF(LOOKUP($V297,Data!$A$6:$A$1806,Data!$J$6:$J$1806)>0,(LOOKUP($V297,Data!$A$6:$A$1806,Data!$J$6:$J$1806)*-1),LOOKUP($V297,Data!$A$6:$A$1806,Data!$J$6:$J$1806))","v":-103},{"$f":"LOOKUP($V297,Data!$A$6:$A$1806,Data!$K$6:$K$1806)","v":7724.4},-12.361068725585939,null,null,null,null,null,null,null,null,null,null,null,null,null,null,144.68408203125," ",1.200103759765625E-2," "]
[null,40098.107453703298,{"$f":"LOOKUP(B298,Data!$A$6:$A$1806,Data!B$6:B$1806)","v":60.009998321533203},{"$f":"LOOKUP(B298,Data!$A$6:$A$1806,Data!C$6:C$1806)","v":3789.7685546875},null,null,3090,{"$f":"(IF((C298-L$2)>0,(IF(C298<'Copy Results'!$C$3,((C298-L$2-L$5)/((L$4*L$2)-L$5)*G298*-1),(('Copy Results'!$C$3-L$2-L$5)/((L$4*L$2)-L$5)*G298*-1))),IF(C298>'Copy Results'!$C$2,((C298-L$2+L$5)/((L$4*L$2)-L$5)*G298*-1),(('Copy Results'!$C$2-L$2+L$5)/((L$4*L$2)-L$5)*G298*-1))))","v":-10.298271179199219},-12.406889065711836,null,null,0,3773.864342980582,{"$f":"AVERAGE(D$79:D298)","v":3769.878917347301},{"$f":"AVERAGE(M$79:M298)","v":3796.1252578832168},3771.0526488503479,{"$f":"AVERAGE(P$79:P298)","v":3732.0030806535688},null,null,null,null,40098.107453703298,{"$f":"LOOKUP($V298,Data!$A$6:$A$1806,Data!$B$6:$B$1806)","v":60.009998321533203},{"$f":"LOOKUP($V298,Data!$A$6:$A$1806,Data!$C$6:$C$1806)","v":3789.7685546875},{"$f":"LOOKUP($V298,Data!$A$6:$A$1806,Data!$D$6:$D$1806)","v":350},{"$f":"IF($Z$1=\"+\",LOOKUP($V298,Data!$A$6:$A$1806,Data!$E$6:$E$1806)*-1,LOOKUP($V298,Data!$A$6:$A$1806,Data!$E$6:$E$1806))","v":231.17791748046875},{"$f":"LOOKUP($V298,Data!$A$6:$A$1806,Data!$F$6:$F$1806)","v":16},null,{"$f":"LOOKUP($V298,Data!$A$6:$A$1806,Data!$H$6:$H$1806)","v":10},{"$f":"LOOKUP($V298,Data!$A$6:$A$1806,Data!$I$6:$I$1806)","v":0},{"$f":"IF(LOOKUP($V298,Data!$A$6:$A$1806,Data!$J$6:$J$1806)>0,(LOOKUP($V298,Data!$A$6:$A$1806,Data!$J$6:$J$1806)*-1),LOOKUP($V298,Data!$A$6:$A$1806,Data!$J$6:$J$1806))","v":-103},{"$f":"LOOKUP($V298,Data!$A$6:$A$1806,Data!$K$6:$K$1806)","v":7724.73},-10.298271179199219,null,null,null,null,null,null,null,null,null,null,null,null,null,null,144.04150390625," ",9.998321533203125E-3," "]
[null,40098.107476851445,{"$f":"LOOKUP(B299,Data!$A$6:$A$1806,Data!B$6:B$1806)","v":60.006999969482422},{"$f":"LOOKUP(B299,Data!$A$6:$A$1806,Data!C$6:C$1806)","v":3791.539794921875},null,null,3090,{"$f":"(IF((C299-L$2)>0,(IF(C299<'Copy Results'!$C$3,((C299-L$2-L$5)/((L$4*L$2)-L$5)*G299*-1),(('Copy Results'!$C$3-L$2-L$5)/((L$4*L$2)-L$5)*G299*-1))),IF(C299>'Copy Results'!$C$2,((C299-L$2+L$5)/((L$4*L$2)-L$5)*G299*-1),(('Copy Results'!$C$2-L$2+L$5)/((L$4*L$2)-L$5)*G299*-1))))","v":-7.2099685668945304},{"$f":"L$13*H299+(1-L$13)*I298","v":-10.587966891125779},null,null,0,3775.6832651551681,{"$f":"AVERAGE(D$79:D299)","v":3769.9769303680005},{"$f":"AVERAGE(M$79:M299)","v":3796.0327601785648},3771.0526488503479,{"$f":"AVERAGE(P$79:P299)","v":3732.1805786908271},null,null,null,null,40098.107476851445,{"$f":"LOOKUP($V299,Data!$A$6:$A$1806,Data!$B$6:$B$1806)","v":60.006999969482422},{"$f":"LOOKUP($V299,Data!$A$6:$A$1806,Data!$C$6:$C$1806)","v":3791.539794921875},{"$f":"LOOKUP($V299,Data!$A$6:$A$1806,Data!$D$6:$D$1806)","v":350},{"$f":"IF($Z$1=\"+\",LOOKUP($V299,Data!$A$6:$A$1806,Data!$E$6:$E$1806)*-1,LOOKUP($V299,Data!$A$6:$A$1806,Data!$E$6:$E$1806))","v":231.17791748046875},{"$f":"LOOKUP($V299,Data!$A$6:$A$1806,Data!$F$6:$F$1806)","v":16},null,{"$f":"LOOKUP($V299,Data!$A$6:$A$1806,Data!$H$6:$H$1806)","v":10},{"$f":"LOOKUP($V299,Data!$A$6:$A$1806,Data!$I$6:$I$1806)","v":0},{"$f":"IF(LOOKUP($V299,Data!$A$6:$A$1806,Data!$J$6:$J$1806)>0,(LOOKUP($V299,Data!$A$6:$A$1806,Data!$J$6:$J$1806)*-1),LOOKUP($V299,Data!$A$6:$A$1806,Data!$J$6:$J$1806))","v":-103},{"$f":"LOOKUP($V299,Data!$A$6:$A$1806,Data!$K$6:$K$1806)","v":7725.06},-7.2099685668945304,null,null,null,null,null,null,null,null,null,null,null,null,null,null,145.812744140625," ",6.999969482421875E-3," "]
[null,40098.107499999591,{"$f":"LOOKUP(B300,Data!$A$6:$A$1806,Data!B$6:B$1806)","v":60.006999969482422},{"$f":"LOOKUP(B300,Data!$A$6:$A$1806,Data!C$6:C$1806)","v":3792.9453125},null,null,{"$f":"AE300*-M$4*10","v":3090},{"$f":"(IF((C300-L$2)>0,(IF(C300<'Copy Results'!$C$3,((C300-L$2-L$5)/((L$4*L$2)-L$5)*G300*-1),(('Copy Results'!$C$3-L$2-L$5)/((L$4*L$2)-L$5)*G300*-1))),IF(C300>'Copy Results'!$C$2,((C300-L$2+L$5)/((L$4*L$2)-L$5)*G300*-1),(('Copy Results'!$C$2-L$2+L$5)/((L$4*L$2)-L$5)*G300*-1))))","v":-7.2099685668945304},-9.4056674776448421,null,null,0,3776.865564568649,{"$f":"AVERAGE(D$79:D300)","v":3770.0803915487754},{"$f":"AVERAGE(M$79:M300)","v":3795.9464214596014},3771.0526488503479,{"$f":"AVERAGE(P$79:P300)","v":3732.3564704110058},null,null,null,null,40098.107499999591,{"$f":"LOOKUP($V300,Data!$A$6:$A$1806,Data!$B$6:$B$1806)","v":60.006999969482422},{"$f":"LOOKUP($V300,Data!$A$6:$A$1806,Data!$C$6:$C$1806)","v":3792.9453125},{"$f":"LOOKUP($V300,Data!$A$6:$A$1806,Data!$D$6:$D$1806)","v":350},{"$f":"IF($Z$1=\"+\",LOOKUP($V300,Data!$A$6:$A$1806,Data!$E$6:$E$1806)*-1,LOOKUP($V300,Data!$A$6:$A$1806,Data!$E$6:$E$1806))","v":236.48928833007812},{"$f":"LOOKUP($V300,Data!$A$6:$A$1806,Data!$F$6:$F$1806)","v":16},null,{"$f":"LOOKUP($V300,Data!$A$6:$A$1806,Data!$H$6:$H$1806)","v":10},{"$f":"LOOKUP($V300,Data!$A$6:$A$1806,Data!$I$6:$I$1806)","v":0},{"$f":"IF(LOOKUP($V300,Data!$A$6:$A$1806,Data!$J$6:$J$1806)>0,(LOOKUP($V300,Data!$A$6:$A$1806,Data!$J$6:$J$1806)*-1),LOOKUP($V300,Data!$A$6:$A$1806,Data!$J$6:$J$1806))","v":-103},{"$f":"LOOKUP($V300,Data!$A$6:$A$1806,Data!$K$6:$K$1806)","v":7725.39},{"$f":"(IF((W300-$L$2)>0,((W300-$L$2-$L$5)/(($L$4*$L$2)-$L$5)*G300*-1),((W300-$L$2+$L$5)/(($L$4*$L$2)-$L$5)*G300*-1)))","v":-7.2099685668945304},null,null,null,null,null,null,null,null,null,null,null,null,null,null,147.21826171875," ",{"$f":"ABS(C300-60)","v":6.999969482421875E-3},{"$f":"IF(AX300>0.036,AE300,\" \")","v":" "}]
[null,40098.107523147737,{"$f":"LOOKUP(B301,Data!$A$6:$A$1806,Data!B$6:B$1806)","v":60.008998870849609},{"$f":"LOOKUP(B301,Data!$A$6:$A$1806,Data!C$6:C$1806)","v":3791.027099609375},null,null,3090,{"$f":"(IF((C301-L$2)>0,(IF(C301<'Copy Results'!$C$3,((C301-L$2-L$5)/((L$4*L$2)-L$5)*G301*-1),(('Copy Results'!$C$3-L$2-L$5)/((L$4*L$2)-L$5)*G301*-1))),IF(C301>'Copy Results'!$C$2,((C301-L$2+L$5)/((L$4*L$2)-L$5)*G301*-1),(('Copy Results'!$C$2-L$2+L$5)/((L$4*L$2)-L$5)*G301*-1))))","v":-9.2688369750976563},-9.357776801753328,null,null,0,3776.9134552445407,{"$f":"AVERAGE(D$79:D301)","v":3770.1743229750559},{"$f":"AVERAGE(M$79:M301)","v":3795.8610718353184},3771.0526488503479,{"$f":"AVERAGE(P$79:P301)","v":3732.5307775210931},null,null,null,null,40098.107523147737,{"$f":"LOOKUP($V301,Data!$A$6:$A$1806,Data!$B$6:$B$1806)","v":60.008998870849609},{"$f":"LOOKUP($V301,Data!$A$6:$A$1806,Data!$C$6:$C$1806)","v":3791.027099609375},{"$f":"LOOKUP($V301,Data!$A$6:$A$1806,Data!$D$6:$D$1806)","v":350},{"$f":"IF($Z$1=\"+\",LOOKUP($V301,Data!$A$6:$A$1806,Data!$E$6:$E$1806)*-1,LOOKUP($V301,Data!$A$6:$A$1806,Data!$E$6:$E$1806))","v":236.48928833007812},{"$f":"LOOKUP($V301,Data!$A$6:$A$1806,Data!$F$6:$F$1806)","v":16},null,{"$f":"LOOKUP($V301,Data!$A$6:$A$1806,Data!$H$6:$H$1806)","v":10},{"$f":"LOOKUP($V301,Data!$A$6:$A$1806,Data!$I$6:$I$1806)","v":0},{"$f":"IF(LOOKUP($V301,Data!$A$6:$A$1806,Data!$J$6:$J$1806)>0,(LOOKUP($V301,Data!$A$6:$A$1806,Data!$J$6:$J$1806)*-1),LOOKUP($V301,Data!$A$6:$A$1806,Data!$J$6:$J$1806))","v":-103},{"$f":"LOOKUP($V301,Data!$A$6:$A$1806,Data!$K$6:$K$1806)","v":7725.72},-9.2688369750976563,null,null,null,null,null,null,null,null,null,null,null,null,null,null,145.300048828125," ",8.998870849609375E-3," "]
[null,{"$f":"B301+TIME(0,0,$B$1)","v":40098.107546295883},{"$f":"LOOKUP(B302,Data!$A$6:$A$1806,Data!B$6:B$1806)","v":60.008998870849609},{"$f":"LOOKUP(B302,Data!$A$6:$A$1806,Data!C$6:C$1806)","v":3791.443115234375},null,null,3090,{"$f":"(IF((C302-L$2)>0,(IF(C302<'Copy Results'!$C$3,((C302-L$2-L$5)/((L$4*L$2)-L$5)*G302*-1),(('Copy Results'!$C$3-L$2-L$5)/((L$4*L$2)-L$5)*G302*-1))),IF(C302>'Copy Results'!$C$2,((C302-L$2+L$5)/((L$4*L$2)-L$5)*G302*-1),(('Copy Results'!$C$2-L$2+L$5)/((L$4*L$2)-L$5)*G302*-1))))","v":-9.2688369750976563},-9.3266478624238438,null,null,0,3776.9445841838701,{"$f":"AVERAGE(D$79:D302)","v":3770.2692729404994},{"$f":"AVERAGE(M$79:M302)","v":3795.7766232297317},3771.0526488503479,{"$f":"AVERAGE(P$79:P302)","v":3732.7035213387135},null,null,null,null,40098.107546295883,{"$f":"LOOKUP($V302,Data!$A$6:$A$1806,Data!$B$6:$B$1806)","v":60.008998870849609},{"$f":"LOOKUP($V302,Data!$A$6:$A$1806,Data!$C$6:$C$1806)","v":3791.443115234375},{"$f":"LOOKUP($V302,Data!$A$6:$A$1806,Data!$D$6:$D$1806)","v":350},{"$f":"IF($Z$1=\"+\",LOOKUP($V302,Data!$A$6:$A$1806,Data!$E$6:$E$1806)*-1,LOOKUP($V302,Data!$A$6:$A$1806,Data!$E$6:$E$1806))","v":236.48928833007812},{"$f":"LOOKUP($V302,Data!$A$6:$A$1806,Data!$F$6:$F$1806)","v":16},null,{"$f":"LOOKUP($V302,Data!$A$6:$A$1806,Data!$H$6:$H$1806)","v":10},{"$f":"LOOKUP($V302,Data!$A$6:$A$1806,Data!$I$6:$I$1806)","v":0},{"$f":"IF(LOOKUP($V302,Data!$A$6:$A$1806,Data!$J$6:$J$1806)>0,(LOOKUP($V302,Data!$A$6:$A$1806,Data!$J$6:$J$1806)*-1),LOOKUP($V302,Data!$A$6:$A$1806,Data!$J$6:$J$1806))","v":-103},{"$f":"LOOKUP($V302,Data!$A$6:$A$1806,Data!$K$6:$K$1806)","v":7726.05},-9.2688369750976563,null,null,null,null,null,null,null,null,null,null,null,null,null,null,145.716064453125," ",8.998870849609375E-3," "]
[null,40098.10756944403,{"$f":"LOOKUP(B303,Data!$A$6:$A$1806,Data!B$6:B$1806)","v":60.009998321533203},{"$f":"LOOKUP(B303,Data!$A$6:$A$1806,Data!C$6:C$1806)","v":3791.426025390625},null,null,3090,{"$f":"(IF((C303-L$2)>0,(IF(C303<'Copy Results'!$C$3,((C303-L$2-L$5)/((L$4*L$2)-L$5)*G303*-1),(('Copy Results'!$C$3-L$2-L$5)/((L$4*L$2)-L$5)*G303*-1))),IF(C303>'Copy Results'!$C$2,((C303-L$2+L$5)/((L$4*L$2)-L$5)*G303*-1),(('Copy Results'!$C$2-L$2+L$5)/((L$4*L$2)-L$5)*G303*-1))))","v":-10.298271179199219},-9.6667160232952245,null,null,0,3776.6045160229987,{"$f":"AVERAGE(D$79:D303)","v":3770.363302951389},{"$f":"AVERAGE(M$79:M303)","v":3795.6914138643683},3771.0526488503479,{"$f":"AVERAGE(P$79:P303)","v":3732.8747228008187},null,null,null,null,40098.10756944403,{"$f":"LOOKUP($V303,Data!$A$6:$A$1806,Data!$B$6:$B$1806)","v":60.009998321533203},{"$f":"LOOKUP($V303,Data!$A$6:$A$1806,Data!$C$6:$C$1806)","v":3791.426025390625},{"$f":"LOOKUP($V303,Data!$A$6:$A$1806,Data!$D$6:$D$1806)","v":350},{"$f":"IF($Z$1=\"+\",LOOKUP($V303,Data!$A$6:$A$1806,Data!$E$6:$E$1806)*-1,LOOKUP($V303,Data!$A$6:$A$1806,Data!$E$6:$E$1806))","v":236.48928833007812},{"$f":"LOOKUP($V303,Data!$A$6:$A$1806,Data!$F$6:$F$1806)","v":16},null,{"$f":"LOOKUP($V303,Data!$A$6:$A$1806,Data!$H$6:$H$1806)","v":10},{"$f":"LOOKUP($V303,Data!$A$6:$A$1806,Data!$I$6:$I$1806)","v":0},{"$f":"IF(LOOKUP($V303,Data!$A$6:$A$1806,Data!$J$6:$J$1806)>0,(LOOKUP($V303,Data!$A$6:$A$1806,Data!$J$6:$J$1806)*-1),LOOKUP($V303,Data!$A$6:$A$1806,Data!$J$6:$J$1806))","v":-103},{"$f":"LOOKUP($V303,Data!$A$6:$A$1806,Data!$K$6:$K$1806)","v":7726.38},-10.298271179199219,null,null,null,null,null,null,null,null,null,null,null,null,null,null,145.698974609375," ",9.998321533203125E-3," "]
[null,40098.107592592176,{"$f":"LOOKUP(B304,Data!$A$6:$A$1806,Data!B$6:B$1806)","v":60.002998352050781},{"$f":"LOOKUP(B304,Data!$A$6:$A$1806,Data!C$6:C$1806)","v":3790.60302734375},null,null,3090,{"$f":"(IF((C304-L$2)>0,(IF(C304<'Copy Results'!$C$3,((C304-L$2-L$5)/((L$4*L$2)-L$5)*G304*-1),(('Copy Results'!$C$3-L$2-L$5)/((L$4*L$2)-L$5)*G304*-1))),IF(C304>'Copy Results'!$C$2,((C304-L$2+L$5)/((L$4*L$2)-L$5)*G304*-1),(('Copy Results'!$C$2-L$2+L$5)/((L$4*L$2)-L$5)*G304*-1))))","v":-3.0883026123046875},-7.3642713294485365,null,null,0,3778.9069607168453,{"$f":"AVERAGE(D$79:D304)","v":3770.45285925401},{"$f":"AVERAGE(M$79:M304)","v":3795.617146372565},3771.0526488503479,{"$f":"AVERAGE(P$79:P304)","v":3733.0444024721501},null,null,null,null,40098.107592592176,{"$f":"LOOKUP($V304,Data!$A$6:$A$1806,Data!$B$6:$B$1806)","v":60.002998352050781},{"$f":"LOOKUP($V304,Data!$A$6:$A$1806,Data!$C$6:$C$1806)","v":3790.60302734375},{"$f":"LOOKUP($V304,Data!$A$6:$A$1806,Data!$D$6:$D$1806)","v":350},{"$f":"IF($Z$1=\"+\",LOOKUP($V304,Data!$A$6:$A$1806,Data!$E$6:$E$1806)*-1,LOOKUP($V304,Data!$A$6:$A$1806,Data!$E$6:$E$1806))","v":236.48928833007812},{"$f":"LOOKUP($V304,Data!$A$6:$A$1806,Data!$F$6:$F$1806)","v":16},null,{"$f":"LOOKUP($V304,Data!$A$6:$A$1806,Data!$H$6:$H$1806)","v":10},{"$f":"LOOKUP($V304,Data!$A$6:$A$1806,Data!$I$6:$I$1806)","v":0},{"$f":"IF(LOOKUP($V304,Data!$A$6:$A$1806,Data!$J$6:$J$1806)>0,(LOOKUP($V304,Data!$A$6:$A$1806,Data!$J$6:$J$1806)*-1),LOOKUP($V304,Data!$A$6:$A$1806,Data!$J$6:$J$1806))","v":-103},{"$f":"LOOKUP($V304,Data!$A$6:$A$1806,Data!$K$6:$K$1806)","v":7726.71},-3.0883026123046875,null,null,null,null,null,null,null,null,null,null,null,null,null,null,144.8759765625," ",2.99835205078125E-3," "]
[null,40098.107615740322,{"$f":"LOOKUP(B305,Data!$A$6:$A$1806,Data!B$6:B$1806)","v":59.999000549316406},{"$f":"LOOKUP(B305,Data!$A$6:$A$1806,Data!C$6:C$1806)","v":3790.457275390625},null,null,3090,{"$f":"(IF((C305-L$2)>0,(IF(C305<'Copy Results'!$C$3,((C305-L$2-L$5)/((L$4*L$2)-L$5)*G305*-1),(('Copy Results'!$C$3-L$2-L$5)/((L$4*L$2)-L$5)*G305*-1))),IF(C305>'Copy Results'!$C$2,((C305-L$2+L$5)/((L$4*L$2)-L$5)*G305*-1),(('Copy Results'!$C$2-L$2+L$5)/((L$4*L$2)-L$5)*G305*-1))))","v":1.0294342041015625},-4.4264743927060017,null,null,0,3781.8447576535877,{"$f":"AVERAGE(D$79:D305)","v":3770.5409844352284},{"$f":"AVERAGE(M$79:M305)","v":3795.5564750566218},3771.0526488503479,{"$f":"AVERAGE(P$79:P305)","v":3733.2125805534697},null,null,null,null,40098.107615740322,{"$f":"LOOKUP($V305,Data!$A$6:$A$1806,Data!$B$6:$B$1806)","v":59.999000549316406},{"$f":"LOOKUP($V305,Data!$A$6:$A$1806,Data!$C$6:$C$1806)","v":3790.457275390625},{"$f":"LOOKUP($V305,Data!$A$6:$A$1806,Data!$D$6:$D$1806)","v":350},{"$f":"IF($Z$1=\"+\",LOOKUP($V305,Data!$A$6:$A$1806,Data!$E$6:$E$1806)*-1,LOOKUP($V305,Data!$A$6:$A$1806,Data!$E$6:$E$1806))","v":245.03892517089844},{"$f":"LOOKUP($V305,Data!$A$6:$A$1806,Data!$F$6:$F$1806)","v":16},null,{"$f":"LOOKUP($V305,Data!$A$6:$A$1806,Data!$H$6:$H$1806)","v":10},{"$f":"LOOKUP($V305,Data!$A$6:$A$1806,Data!$I$6:$I$1806)","v":0},{"$f":"IF(LOOKUP($V305,Data!$A$6:$A$1806,Data!$J$6:$J$1806)>0,(LOOKUP($V305,Data!$A$6:$A$1806,Data!$J$6:$J$1806)*-1),LOOKUP($V305,Data!$A$6:$A$1806,Data!$J$6:$J$1806))","v":-103},{"$f":"LOOKUP($V305,Data!$A$6:$A$1806,Data!$K$6:$K$1806)","v":7727.04},1.0294342041015625,null,null,null,null,null,null,null,null,null,null,null,null,null,null,144.730224609375," ",9.9945068359375E-4," "]
[null,40098.107638888469,{"$f":"LOOKUP(B306,Data!$A$6:$A$1806,Data!B$6:B$1806)","v":59.994998931884766},{"$f":"LOOKUP(B306,Data!$A$6:$A$1806,Data!C$6:C$1806)","v":3790.21630859375},null,null,3090,{"$f":"(IF((C306-L$2)>0,(IF(C306<'Copy Results'!$C$3,((C306-L$2-L$5)/((L$4*L$2)-L$5)*G306*-1),(('Copy Results'!$C$3-L$2-L$5)/((L$4*L$2)-L$5)*G306*-1))),IF(C306>'Copy Results'!$C$2,((C306-L$2+L$5)/((L$4*L$2)-L$5)*G306*-1),(('Copy Results'!$C$2-L$2+L$5)/((L$4*L$2)-L$5)*G306*-1))))","v":5.1511001586914062},-1.0743232997169094,null,null,0,3785.1969087465768,{"$f":"AVERAGE(D$79:D306)","v":3770.6272797166257},{"$f":"AVERAGE(M$79:M306)","v":3795.51103836228},3771.0526488503479,{"$f":"AVERAGE(P$79:P306)","v":3733.3792768895796},null,null,null,null,40098.107638888469,{"$f":"LOOKUP($V306,Data!$A$6:$A$1806,Data!$B$6:$B$1806)","v":59.994998931884766},{"$f":"LOOKUP($V306,Data!$A$6:$A$1806,Data!$C$6:$C$1806)","v":3790.21630859375},{"$f":"LOOKUP($V306,Data!$A$6:$A$1806,Data!$D$6:$D$1806)","v":350},{"$f":"IF($Z$1=\"+\",LOOKUP($V306,Data!$A$6:$A$1806,Data!$E$6:$E$1806)*-1,LOOKUP($V306,Data!$A$6:$A$1806,Data!$E$6:$E$1806))","v":245.03892517089844},{"$f":"LOOKUP($V306,Data!$A$6:$A$1806,Data!$F$6:$F$1806)","v":16},null,{"$f":"LOOKUP($V306,Data!$A$6:$A$1806,Data!$H$6:$H$1806)","v":10},{"$f":"LOOKUP($V306,Data!$A$6:$A$1806,Data!$I$6:$I$1806)","v":0},{"$f":"IF(LOOKUP($V306,Data!$A$6:$A$1806,Data!$J$6:$J$1806)>0,(LOOKUP($V306,Data!$A$6:$A$1806,Data!$J$6:$J$1806)*-1),LOOKUP($V306,Data!$A$6:$A$1806,Data!$J$6:$J$1806))","v":-103},{"$f":"LOOKUP($V306,Data!$A$6:$A$1806,Data!$K$6:$K$1806)","v":7727.37},5.1511001586914062,null,null,null,null,null,null,null,null,null,null,null,null,null,null,144.4892578125," ",5.001068115234375E-3," "]
[null,40098.107662036615,{"$f":"LOOKUP(B307,Data!$A$6:$A$1806,Data!B$6:B$1806)","v":59.992000579833984},{"$f":"LOOKUP(B307,Data!$A$6:$A$1806,Data!C$6:C$1806)","v":3789.5849609375},null,null,3090,{"$f":"(IF((C307-L$2)>0,(IF(C307<'Copy Results'!$C$3,((C307-L$2-L$5)/((L$4*L$2)-L$5)*G307*-1),(('Copy Results'!$C$3-L$2-L$5)/((L$4*L$2)-L$5)*G307*-1))),IF(C307>'Copy Results'!$C$2,((C307-L$2+L$5)/((L$4*L$2)-L$5)*G307*-1),(('Copy Results'!$C$2-L$2+L$5)/((L$4*L$2)-L$5)*G307*-1))))","v":8.2394027709960937},2.1854808250326414,null,null,0,3788.4567128713265,{"$f":"AVERAGE(D$79:D307)","v":3770.7100643507779},{"$f":"AVERAGE(M$79:M307)","v":3795.4802334474721},3771.0526488503479,{"$f":"AVERAGE(P$79:P307)","v":3733.5445109771267},null,null,null,null,40098.107662036615,{"$f":"LOOKUP($V307,Data!$A$6:$A$1806,Data!$B$6:$B$1806)","v":59.992000579833984},{"$f":"LOOKUP($V307,Data!$A$6:$A$1806,Data!$C$6:$C$1806)","v":3789.5849609375},{"$f":"LOOKUP($V307,Data!$A$6:$A$1806,Data!$D$6:$D$1806)","v":350},{"$f":"IF($Z$1=\"+\",LOOKUP($V307,Data!$A$6:$A$1806,Data!$E$6:$E$1806)*-1,LOOKUP($V307,Data!$A$6:$A$1806,Data!$E$6:$E$1806))","v":245.03892517089844},{"$f":"LOOKUP($V307,Data!$A$6:$A$1806,Data!$F$6:$F$1806)","v":16},null,{"$f":"LOOKUP($V307,Data!$A$6:$A$1806,Data!$H$6:$H$1806)","v":10},{"$f":"LOOKUP($V307,Data!$A$6:$A$1806,Data!$I$6:$I$1806)","v":0},{"$f":"IF(LOOKUP($V307,Data!$A$6:$A$1806,Data!$J$6:$J$1806)>0,(LOOKUP($V307,Data!$A$6:$A$1806,Data!$J$6:$J$1806)*-1),LOOKUP($V307,Data!$A$6:$A$1806,Data!$J$6:$J$1806))","v":-103},{"$f":"LOOKUP($V307,Data!$A$6:$A$1806,Data!$K$6:$K$1806)","v":7727.7},8.2394027709960937,null,null,null,null,null,null,null,null,null,null,null,null,null,null,143.85791015625," ",7.999420166015625E-3," "]
[null,40098.107685184761,{"$f":"LOOKUP(B308,Data!$A$6:$A$1806,Data!B$6:B$1806)","v":59.991001129150391},{"$f":"LOOKUP(B308,Data!$A$6:$A$1806,Data!C$6:C$1806)","v":3788.45703125},null,null,3090,{"$f":"(IF((C308-L$2)>0,(IF(C308<'Copy Results'!$C$3,((C308-L$2-L$5)/((L$4*L$2)-L$5)*G308*-1),(('Copy Results'!$C$3-L$2-L$5)/((L$4*L$2)-L$5)*G308*-1))),IF(C308>'Copy Results'!$C$2,((C308-L$2+L$5)/((L$4*L$2)-L$5)*G308*-1),(('Copy Results'!$C$2-L$2+L$5)/((L$4*L$2)-L$5)*G308*-1))))","v":9.2688369750976563},4.6646554775553968,null,null,0,3790.9358875238495,{"$f":"AVERAGE(D$79:D308)","v":3770.7872250764267},{"$f":"AVERAGE(M$79:M308)","v":3795.4604754217171},3771.0526488503479,{"$f":"AVERAGE(P$79:P308)","v":3733.7083019722063},null,null,null,null,40098.107685184761,{"$f":"LOOKUP($V308,Data!$A$6:$A$1806,Data!$B$6:$B$1806)","v":59.991001129150391},{"$f":"LOOKUP($V308,Data!$A$6:$A$1806,Data!$C$6:$C$1806)","v":3788.45703125},{"$f":"LOOKUP($V308,Data!$A$6:$A$1806,Data!$D$6:$D$1806)","v":350},{"$f":"IF($Z$1=\"+\",LOOKUP($V308,Data!$A$6:$A$1806,Data!$E$6:$E$1806)*-1,LOOKUP($V308,Data!$A$6:$A$1806,Data!$E$6:$E$1806))","v":245.03892517089844},{"$f":"LOOKUP($V308,Data!$A$6:$A$1806,Data!$F$6:$F$1806)","v":16},null,{"$f":"LOOKUP($V308,Data!$A$6:$A$1806,Data!$H$6:$H$1806)","v":10},{"$f":"LOOKUP($V308,Data!$A$6:$A$1806,Data!$I$6:$I$1806)","v":0},{"$f":"IF(LOOKUP($V308,Data!$A$6:$A$1806,Data!$J$6:$J$1806)>0,(LOOKUP($V308,Data!$A$6:$A$1806,Data!$J$6:$J$1806)*-1),LOOKUP($V308,Data!$A$6:$A$1806,Data!$J$6:$J$1806))","v":-103},{"$f":"LOOKUP($V308,Data!$A$6:$A$1806,Data!$K$6:$K$1806)","v":7728.03},9.2688369750976563,null,null,null,null,null,null,null,null,null,null,null,null,null,null,142.72998046875," ",8.998870849609375E-3," "]
[null,40098.107708332907,{"$f":"LOOKUP(B309,Data!$A$6:$A$1806,Data!B$6:B$1806)","v":59.992000579833984},{"$f":"LOOKUP(B309,Data!$A$6:$A$1806,Data!C$6:C$1806)","v":3788.10498046875},null,null,3090,{"$f":"(IF((C309-L$2)>0,(IF(C309<'Copy Results'!$C$3,((C309-L$2-L$5)/((L$4*L$2)-L$5)*G309*-1),(('Copy Results'!$C$3-L$2-L$5)/((L$4*L$2)-L$5)*G309*-1))),IF(C309>'Copy Results'!$C$2,((C309-L$2+L$5)/((L$4*L$2)-L$5)*G309*-1),(('Copy Results'!$C$2-L$2+L$5)/((L$4*L$2)-L$5)*G309*-1))))","v":8.2394027709960937},5.9158170302596407,null,null,0,3792.1870490765536,{"$f":"AVERAGE(D$79:D309)","v":3770.8621937144885},{"$f":"AVERAGE(M$79:M309)","v":3795.446304744898},3771.0526488503479,{"$f":"AVERAGE(P$79:P309)","v":3733.8706686977634},null,null,null,null,40098.107708332907,{"$f":"LOOKUP($V309,Data!$A$6:$A$1806,Data!$B$6:$B$1806)","v":59.992000579833984},{"$f":"LOOKUP($V309,Data!$A$6:$A$1806,Data!$C$6:$C$1806)","v":3788.10498046875},{"$f":"LOOKUP($V309,Data!$A$6:$A$1806,Data!$D$6:$D$1806)","v":350},{"$f":"IF($Z$1=\"+\",LOOKUP($V309,Data!$A$6:$A$1806,Data!$E$6:$E$1806)*-1,LOOKUP($V309,Data!$A$6:$A$1806,Data!$E$6:$E$1806))","v":245.03892517089844},{"$f":"LOOKUP($V309,Data!$A$6:$A$1806,Data!$F$6:$F$1806)","v":16},null,{"$f":"LOOKUP($V309,Data!$A$6:$A$1806,Data!$H$6:$H$1806)","v":10},{"$f":"LOOKUP($V309,Data!$A$6:$A$1806,Data!$I$6:$I$1806)","v":0},{"$f":"IF(LOOKUP($V309,Data!$A$6:$A$1806,Data!$J$6:$J$1806)>0,(LOOKUP($V309,Data!$A$6:$A$1806,Data!$J$6:$J$1806)*-1),LOOKUP($V309,Data!$A$6:$A$1806,Data!$J$6:$J$1806))","v":-103},{"$f":"LOOKUP($V309,Data!$A$6:$A$1806,Data!$K$6:$K$1806)","v":7728.36},8.2394027709960937,null,null,null,null,null,null,null,null,null,null,null,null,null,null,142.3779296875," ",7.999420166015625E-3," "]
[null,40098.107731481054,{"$f":"LOOKUP(B310,Data!$A$6:$A$1806,Data!B$6:B$1806)","v":59.992000579833984},{"$f":"LOOKUP(B310,Data!$A$6:$A$1806,Data!C$6:C$1806)","v":3788.05712890625},null,null,3090,{"$f":"(IF((C310-L$2)>0,(IF(C310<'Copy Results'!$C$3,((C310-L$2-L$5)/((L$4*L$2)-L$5)*G310*-1),(('Copy Results'!$C$3-L$2-L$5)/((L$4*L$2)-L$5)*G310*-1))),IF(C310>'Copy Results'!$C$2,((C310-L$2+L$5)/((L$4*L$2)-L$5)*G310*-1),(('Copy Results'!$C$2-L$2+L$5)/((L$4*L$2)-L$5)*G310*-1))))","v":8.2394027709960937},6.7290720395173995,null,null,0,3793.0003040858114,{"$f":"AVERAGE(D$79:D310)","v":3770.9363098144531},{"$f":"AVERAGE(M$79:M310)","v":3795.4357616386087},3771.0526488503479,{"$f":"AVERAGE(P$79:P310)","v":3734.0316296508054},null,null,null,null,40098.107731481054,{"$f":"LOOKUP($V310,Data!$A$6:$A$1806,Data!$B$6:$B$1806)","v":59.992000579833984},{"$f":"LOOKUP($V310,Data!$A$6:$A$1806,Data!$C$6:$C$1806)","v":3788.05712890625},{"$f":"LOOKUP($V310,Data!$A$6:$A$1806,Data!$D$6:$D$1806)","v":350},{"$f":"IF($Z$1=\"+\",LOOKUP($V310,Data!$A$6:$A$1806,Data!$E$6:$E$1806)*-1,LOOKUP($V310,Data!$A$6:$A$1806,Data!$E$6:$E$1806))","v":223.60568237304687},{"$f":"LOOKUP($V310,Data!$A$6:$A$1806,Data!$F$6:$F$1806)","v":16},null,{"$f":"LOOKUP($V310,Data!$A$6:$A$1806,Data!$H$6:$H$1806)","v":10},{"$f":"LOOKUP($V310,Data!$A$6:$A$1806,Data!$I$6:$I$1806)","v":0},{"$f":"IF(LOOKUP($V310,Data!$A$6:$A$1806,Data!$J$6:$J$1806)>0,(LOOKUP($V310,Data!$A$6:$A$1806,Data!$J$6:$J$1806)*-1),LOOKUP($V310,Data!$A$6:$A$1806,Data!$J$6:$J$1806))","v":-103},{"$f":"LOOKUP($V310,Data!$A$6:$A$1806,Data!$K$6:$K$1806)","v":7728.69},8.2394027709960937,null,null,null,null,null,null,null,null,null,null,null,null,null,null,142.330078125," ",7.999420166015625E-3," "]
[null,40098.1077546292,{"$f":"LOOKUP(B311,Data!$A$6:$A$1806,Data!B$6:B$1806)","v":59.987998962402344},{"$f":"LOOKUP(B311,Data!$A$6:$A$1806,Data!C$6:C$1806)","v":3788.189453125},null,null,3090,{"$f":"(IF((C311-L$2)>0,(IF(C311<'Copy Results'!$C$3,((C311-L$2-L$5)/((L$4*L$2)-L$5)*G311*-1),(('Copy Results'!$C$3-L$2-L$5)/((L$4*L$2)-L$5)*G311*-1))),IF(C311>'Copy Results'!$C$2,((C311-L$2+L$5)/((L$4*L$2)-L$5)*G311*-1),(('Copy Results'!$C$2-L$2+L$5)/((L$4*L$2)-L$5)*G311*-1))))","v":12.361068725585939},8.700270879641387,null,null,0,3794.9715029259355,{"$f":"AVERAGE(D$79:D311)","v":3771.0103576398201},{"$f":"AVERAGE(M$79:M311)","v":3795.4337691119454},3771.0526488503479,{"$f":"AVERAGE(P$79:P311)","v":3734.191203009424},null,null,null,null,40098.1077546292,{"$f":"LOOKUP($V311,Data!$A$6:$A$1806,Data!$B$6:$B$1806)","v":59.987998962402344},{"$f":"LOOKUP($V311,Data!$A$6:$A$1806,Data!$C$6:$C$1806)","v":3788.189453125},{"$f":"LOOKUP($V311,Data!$A$6:$A$1806,Data!$D$6:$D$1806)","v":350},{"$f":"IF($Z$1=\"+\",LOOKUP($V311,Data!$A$6:$A$1806,Data!$E$6:$E$1806)*-1,LOOKUP($V311,Data!$A$6:$A$1806,Data!$E$6:$E$1806))","v":223.60568237304687},{"$f":"LOOKUP($V311,Data!$A$6:$A$1806,Data!$F$6:$F$1806)","v":16},null,{"$f":"LOOKUP($V311,Data!$A$6:$A$1806,Data!$H$6:$H$1806)","v":10},{"$f":"LOOKUP($V311,Data!$A$6:$A$1806,Data!$I$6:$I$1806)","v":0},{"$f":"IF(LOOKUP($V311,Data!$A$6:$A$1806,Data!$J$6:$J$1806)>0,(LOOKUP($V311,Data!$A$6:$A$1806,Data!$J$6:$J$1806)*-1),LOOKUP($V311,Data!$A$6:$A$1806,Data!$J$6:$J$1806))","v":-103},{"$f":"LOOKUP($V311,Data!$A$6:$A$1806,Data!$K$6:$K$1806)","v":7729.02},12.361068725585939,null,null,null,null,null,null,null,null,null,null,null,null,null,null,142.46240234375," ",1.200103759765625E-2," "]
[null,40098.107777777346,{"$f":"LOOKUP(B312,Data!$A$6:$A$1806,Data!B$6:B$1806)","v":59.986000061035156},{"$f":"LOOKUP(B312,Data!$A$6:$A$1806,Data!C$6:C$1806)","v":3788.497314453125},null,null,3090,{"$f":"(IF((C312-L$2)>0,(IF(C312<'Copy Results'!$C$3,((C312-L$2-L$5)/((L$4*L$2)-L$5)*G312*-1),(('Copy Results'!$C$3-L$2-L$5)/((L$4*L$2)-L$5)*G312*-1))),IF(C312>'Copy Results'!$C$2,((C312-L$2+L$5)/((L$4*L$2)-L$5)*G312*-1),(('Copy Results'!$C$2-L$2+L$5)/((L$4*L$2)-L$5)*G312*-1))))","v":14.419937133789061},10.702154068593073,null,null,0,3796.973386114887,{"$f":"AVERAGE(D$79:D312)","v":3771.0850882244927},{"$f":"AVERAGE(M$79:M312)","v":3795.440348671787},3771.0526488503479,{"$f":"AVERAGE(P$79:P312)","v":3734.3494066396424},null,null,null,null,40098.107777777346,{"$f":"LOOKUP($V312,Data!$A$6:$A$1806,Data!$B$6:$B$1806)","v":59.986000061035156},{"$f":"LOOKUP($V312,Data!$A$6:$A$1806,Data!$C$6:$C$1806)","v":3788.497314453125},{"$f":"LOOKUP($V312,Data!$A$6:$A$1806,Data!$D$6:$D$1806)","v":350},{"$f":"IF($Z$1=\"+\",LOOKUP($V312,Data!$A$6:$A$1806,Data!$E$6:$E$1806)*-1,LOOKUP($V312,Data!$A$6:$A$1806,Data!$E$6:$E$1806))","v":223.60568237304687},{"$f":"LOOKUP($V312,Data!$A$6:$A$1806,Data!$F$6:$F$1806)","v":16},null,{"$f":"LOOKUP($V312,Data!$A$6:$A$1806,Data!$H$6:$H$1806)","v":10},{"$f":"LOOKUP($V312,Data!$A$6:$A$1806,Data!$I$6:$I$1806)","v":0},{"$f":"IF(LOOKUP($V312,Data!$A$6:$A$1806,Data!$J$6:$J$1806)>0,(LOOKUP($V312,Data!$A$6:$A$1806,Data!$J$6:$J$1806)*-1),LOOKUP($V312,Data!$A$6:$A$1806,Data!$J$6:$J$1806))","v":-103},{"$f":"LOOKUP($V312,Data!$A$6:$A$1806,Data!$K$6:$K$1806)","v":7729.35},14.419937133789061,null,null,null,null,null,null,null,null,null,null,null,null,null,null,142.770263671875," ",1.399993896484375E-2," "]
[null,40098.107800925492,{"$f":"LOOKUP(B313,Data!$A$6:$A$1806,Data!B$6:B$1806)","v":59.985000610351563},{"$f":"LOOKUP(B313,Data!$A$6:$A$1806,Data!C$6:C$1806)","v":3788.5400390625},null,null,3090,{"$f":"(IF((C313-L$2)>0,(IF(C313<'Copy Results'!$C$3,((C313-L$2-L$5)/((L$4*L$2)-L$5)*G313*-1),(('Copy Results'!$C$3-L$2-L$5)/((L$4*L$2)-L$5)*G313*-1))),IF(C313>'Copy Results'!$C$2,((C313-L$2+L$5)/((L$4*L$2)-L$5)*G313*-1),(('Copy Results'!$C$2-L$2+L$5)/((L$4*L$2)-L$5)*G313*-1))))","v":15.449371337890627},12.363680112847216,null,null,0,3798.6349121591411,{"$f":"AVERAGE(D$79:D313)","v":3771.1593646110373},{"$f":"AVERAGE(M$79:M313)","v":3795.4539425589674},3771.0526488503479,{"$f":"AVERAGE(P$79:P313)","v":3734.5062581020816},null,null,null,null,40098.107800925492,{"$f":"LOOKUP($V313,Data!$A$6:$A$1806,Data!$B$6:$B$1806)","v":59.985000610351563},{"$f":"LOOKUP($V313,Data!$A$6:$A$1806,Data!$C$6:$C$1806)","v":3788.5400390625},{"$f":"LOOKUP($V313,Data!$A$6:$A$1806,Data!$D$6:$D$1806)","v":350},{"$f":"IF($Z$1=\"+\",LOOKUP($V313,Data!$A$6:$A$1806,Data!$E$6:$E$1806)*-1,LOOKUP($V313,Data!$A$6:$A$1806,Data!$E$6:$E$1806))","v":223.60568237304687},{"$f":"LOOKUP($V313,Data!$A$6:$A$1806,Data!$F$6:$F$1806)","v":16},null,{"$f":"LOOKUP($V313,Data!$A$6:$A$1806,Data!$H$6:$H$1806)","v":10},{"$f":"LOOKUP($V313,Data!$A$6:$A$1806,Data!$I$6:$I$1806)","v":0},{"$f":"IF(LOOKUP($V313,Data!$A$6:$A$1806,Data!$J$6:$J$1806)>0,(LOOKUP($V313,Data!$A$6:$A$1806,Data!$J$6:$J$1806)*-1),LOOKUP($V313,Data!$A$6:$A$1806,Data!$J$6:$J$1806))","v":-103},{"$f":"LOOKUP($V313,Data!$A$6:$A$1806,Data!$K$6:$K$1806)","v":7729.68},15.449371337890627,null,null,null,null,null,null,null,null,null,null,null,null,null,null,142.81298828125," ",1.49993896484375E-2," "]
[null,40098.107824073639,{"$f":"LOOKUP(B314,Data!$A$6:$A$1806,Data!B$6:B$1806)","v":59.984001159667969},{"$f":"LOOKUP(B314,Data!$A$6:$A$1806,Data!C$6:C$1806)","v":3788.57080078125},null,null,3090,{"$f":"(IF((C314-L$2)>0,(IF(C314<'Copy Results'!$C$3,((C314-L$2-L$5)/((L$4*L$2)-L$5)*G314*-1),(('Copy Results'!$C$3-L$2-L$5)/((L$4*L$2)-L$5)*G314*-1))),IF(C314>'Copy Results'!$C$2,((C314-L$2+L$5)/((L$4*L$2)-L$5)*G314*-1),(('Copy Results'!$C$2-L$2+L$5)/((L$4*L$2)-L$5)*G314*-1))))","v":16.478805541992187},13.803974013047956,null,null,0,3800.0752060593418,{"$f":"AVERAGE(D$79:D314)","v":3771.2331418829449},{"$f":"AVERAGE(M$79:M314)","v":3795.4735241839694},3771.0526488503479,{"$f":"AVERAGE(P$79:P314)","v":3734.6617746584575},null,null,null,null,40098.107824073639,{"$f":"LOOKUP($V314,Data!$A$6:$A$1806,Data!$B$6:$B$1806)","v":59.984001159667969},{"$f":"LOOKUP($V314,Data!$A$6:$A$1806,Data!$C$6:$C$1806)","v":3788.57080078125},{"$f":"LOOKUP($V314,Data!$A$6:$A$1806,Data!$D$6:$D$1806)","v":350},{"$f":"IF($Z$1=\"+\",LOOKUP($V314,Data!$A$6:$A$1806,Data!$E$6:$E$1806)*-1,LOOKUP($V314,Data!$A$6:$A$1806,Data!$E$6:$E$1806))","v":223.60568237304687},{"$f":"LOOKUP($V314,Data!$A$6:$A$1806,Data!$F$6:$F$1806)","v":16},null,{"$f":"LOOKUP($V314,Data!$A$6:$A$1806,Data!$H$6:$H$1806)","v":10},{"$f":"LOOKUP($V314,Data!$A$6:$A$1806,Data!$I$6:$I$1806)","v":0},{"$f":"IF(LOOKUP($V314,Data!$A$6:$A$1806,Data!$J$6:$J$1806)>0,(LOOKUP($V314,Data!$A$6:$A$1806,Data!$J$6:$J$1806)*-1),LOOKUP($V314,Data!$A$6:$A$1806,Data!$J$6:$J$1806))","v":-103},{"$f":"LOOKUP($V314,Data!$A$6:$A$1806,Data!$K$6:$K$1806)","v":7730.01},16.478805541992187,null,null,null,null,null,null,null,null,null,null,null,null,null,null,142.84375," ",1.599884033203125E-2," "]
[null,40098.107847221785,{"$f":"LOOKUP(B315,Data!$A$6:$A$1806,Data!B$6:B$1806)","v":59.985000610351563},{"$f":"LOOKUP(B315,Data!$A$6:$A$1806,Data!C$6:C$1806)","v":3788.10107421875},null,null,3090,{"$f":"(IF((C315-L$2)>0,(IF(C315<'Copy Results'!$C$3,((C315-L$2-L$5)/((L$4*L$2)-L$5)*G315*-1),(('Copy Results'!$C$3-L$2-L$5)/((L$4*L$2)-L$5)*G315*-1))),IF(C315>'Copy Results'!$C$2,((C315-L$2+L$5)/((L$4*L$2)-L$5)*G315*-1),(('Copy Results'!$C$2-L$2+L$5)/((L$4*L$2)-L$5)*G315*-1))))","v":15.449371337890627},14.37986307674289,null,null,0,3800.6510951230366,{"$f":"AVERAGE(D$79:D315)","v":3771.3043145932224},{"$f":"AVERAGE(M$79:M315)","v":3795.4953704748514},3771.0526488503479,{"$f":"AVERAGE(P$79:P315)","v":3734.8159732779145},null,null,null,null,40098.107847221785,{"$f":"LOOKUP($V315,Data!$A$6:$A$1806,Data!$B$6:$B$1806)","v":59.985000610351563},{"$f":"LOOKUP($V315,Data!$A$6:$A$1806,Data!$C$6:$C$1806)","v":3788.10107421875},{"$f":"LOOKUP($V315,Data!$A$6:$A$1806,Data!$D$6:$D$1806)","v":350},{"$f":"IF($Z$1=\"+\",LOOKUP($V315,Data!$A$6:$A$1806,Data!$E$6:$E$1806)*-1,LOOKUP($V315,Data!$A$6:$A$1806,Data!$E$6:$E$1806))","v":231.11935424804687},{"$f":"LOOKUP($V315,Data!$A$6:$A$1806,Data!$F$6:$F$1806)","v":16},null,{"$f":"LOOKUP($V315,Data!$A$6:$A$1806,Data!$H$6:$H$1806)","v":10},{"$f":"LOOKUP($V315,Data!$A$6:$A$1806,Data!$I$6:$I$1806)","v":0},{"$f":"IF(LOOKUP($V315,Data!$A$6:$A$1806,Data!$J$6:$J$1806)>0,(LOOKUP($V315,Data!$A$6:$A$1806,Data!$J$6:$J$1806)*-1),LOOKUP($V315,Data!$A$6:$A$1806,Data!$J$6:$J$1806))","v":-103},{"$f":"LOOKUP($V315,Data!$A$6:$A$1806,Data!$K$6:$K$1806)","v":7730.34},15.449371337890627,null,null,null,null,null,null,null,null,null,null,null,null,null,null,142.3740234375," ",1.49993896484375E-2," "]
[null,40098.107870369931,{"$f":"LOOKUP(B316,Data!$A$6:$A$1806,Data!B$6:B$1806)","v":59.984001159667969},{"$f":"LOOKUP(B316,Data!$A$6:$A$1806,Data!C$6:C$1806)","v":3787.13330078125},null,null,3090,{"$f":"(IF((C316-L$2)>0,(IF(C316<'Copy Results'!$C$3,((C316-L$2-L$5)/((L$4*L$2)-L$5)*G316*-1),(('Copy Results'!$C$3-L$2-L$5)/((L$4*L$2)-L$5)*G316*-1))),IF(C316>'Copy Results'!$C$2,((C316-L$2+L$5)/((L$4*L$2)-L$5)*G316*-1),(('Copy Results'!$C$2-L$2+L$5)/((L$4*L$2)-L$5)*G316*-1))))","v":16.478805541992187},15.114492939580144,null,null,0,3801.3857249858738,{"$f":"AVERAGE(D$79:D316)","v":3771.3708229385506},{"$f":"AVERAGE(M$79:M316)","v":3795.5201198635532},3771.0526488503479,{"$f":"AVERAGE(P$79:P316)","v":3734.9688706431994},null,null,null,null,40098.107870369931,{"$f":"LOOKUP($V316,Data!$A$6:$A$1806,Data!$B$6:$B$1806)","v":59.984001159667969},{"$f":"LOOKUP($V316,Data!$A$6:$A$1806,Data!$C$6:$C$1806)","v":3787.13330078125},{"$f":"LOOKUP($V316,Data!$A$6:$A$1806,Data!$D$6:$D$1806)","v":350},{"$f":"IF($Z$1=\"+\",LOOKUP($V316,Data!$A$6:$A$1806,Data!$E$6:$E$1806)*-1,LOOKUP($V316,Data!$A$6:$A$1806,Data!$E$6:$E$1806))","v":231.11935424804687},{"$f":"LOOKUP($V316,Data!$A$6:$A$1806,Data!$F$6:$F$1806)","v":16},null,{"$f":"LOOKUP($V316,Data!$A$6:$A$1806,Data!$H$6:$H$1806)","v":10},{"$f":"LOOKUP($V316,Data!$A$6:$A$1806,Data!$I$6:$I$1806)","v":0},{"$f":"IF(LOOKUP($V316,Data!$A$6:$A$1806,Data!$J$6:$J$1806)>0,(LOOKUP($V316,Data!$A$6:$A$1806,Data!$J$6:$J$1806)*-1),LOOKUP($V316,Data!$A$6:$A$1806,Data!$J$6:$J$1806))","v":-103},{"$f":"LOOKUP($V316,Data!$A$6:$A$1806,Data!$K$6:$K$1806)","v":7730.67},16.478805541992187,null,null,null,null,null,null,null,null,null,null,null,null,null,null,141.40625," ",1.599884033203125E-2," "]
[null,40098.107893518078,{"$f":"LOOKUP(B317,Data!$A$6:$A$1806,Data!B$6:B$1806)","v":59.981998443603516},{"$f":"LOOKUP(B317,Data!$A$6:$A$1806,Data!C$6:C$1806)","v":3786.452880859375},null,null,3090,{"$f":"(IF((C317-L$2)>0,(IF(C317<'Copy Results'!$C$3,((C317-L$2-L$5)/((L$4*L$2)-L$5)*G317*-1),(('Copy Results'!$C$3-L$2-L$5)/((L$4*L$2)-L$5)*G317*-1))),IF(C317>'Copy Results'!$C$2,((C317-L$2+L$5)/((L$4*L$2)-L$5)*G317*-1),(('Copy Results'!$C$2-L$2+L$5)/((L$4*L$2)-L$5)*G317*-1))))","v":18.541603088378906},16.31398149165971,null,null,0,3802.5852135379532,{"$f":"AVERAGE(D$79:D317)","v":3771.4339277834074},{"$f":"AVERAGE(M$79:M317)","v":3795.5496809249521},3771.0526488503479,{"$f":"AVERAGE(P$79:P317)","v":3735.1204831566747},null,null,null,null,40098.107893518078,{"$f":"LOOKUP($V317,Data!$A$6:$A$1806,Data!$B$6:$B$1806)","v":59.981998443603516},{"$f":"LOOKUP($V317,Data!$A$6:$A$1806,Data!$C$6:$C$1806)","v":3786.452880859375},{"$f":"LOOKUP($V317,Data!$A$6:$A$1806,Data!$D$6:$D$1806)","v":350},{"$f":"IF($Z$1=\"+\",LOOKUP($V317,Data!$A$6:$A$1806,Data!$E$6:$E$1806)*-1,LOOKUP($V317,Data!$A$6:$A$1806,Data!$E$6:$E$1806))","v":231.11935424804687},{"$f":"LOOKUP($V317,Data!$A$6:$A$1806,Data!$F$6:$F$1806)","v":16},null,{"$f":"LOOKUP($V317,Data!$A$6:$A$1806,Data!$H$6:$H$1806)","v":10},{"$f":"LOOKUP($V317,Data!$A$6:$A$1806,Data!$I$6:$I$1806)","v":0},{"$f":"IF(LOOKUP($V317,Data!$A$6:$A$1806,Data!$J$6:$J$1806)>0,(LOOKUP($V317,Data!$A$6:$A$1806,Data!$J$6:$J$1806)*-1),LOOKUP($V317,Data!$A$6:$A$1806,Data!$J$6:$J$1806))","v":-103},{"$f":"LOOKUP($V317,Data!$A$6:$A$1806,Data!$K$6:$K$1806)","v":7731},18.541603088378906,null,null,null,null,null,null,null,null,null,null,null,null,null,null,140.725830078125," ",1.8001556396484375E-2," "]
[null,40098.107916666224,{"$f":"LOOKUP(B318,Data!$A$6:$A$1806,Data!B$6:B$1806)","v":59.980998992919922},{"$f":"LOOKUP(B318,Data!$A$6:$A$1806,Data!C$6:C$1806)","v":3787.732421875},null,null,3090,{"$f":"(IF((C318-L$2)>0,(IF(C318<'Copy Results'!$C$3,((C318-L$2-L$5)/((L$4*L$2)-L$5)*G318*-1),(('Copy Results'!$C$3-L$2-L$5)/((L$4*L$2)-L$5)*G318*-1))),IF(C318>'Copy Results'!$C$2,((C318-L$2+L$5)/((L$4*L$2)-L$5)*G318*-1),(('Copy Results'!$C$2-L$2+L$5)/((L$4*L$2)-L$5)*G318*-1))))","v":19.571037292480469},17.453951021946978,null,null,0,3803.7251830682403,{"$f":"AVERAGE(D$79:D318)","v":3771.5018381754558},{"$f":"AVERAGE(M$79:M318)","v":3795.5837455172154},3771.0526488503479,{"$f":"AVERAGE(P$79:P318)","v":3735.2708269461882},null,null,null,null,40098.107916666224,{"$f":"LOOKUP($V318,Data!$A$6:$A$1806,Data!$B$6:$B$1806)","v":59.980998992919922},{"$f":"LOOKUP($V318,Data!$A$6:$A$1806,Data!$C$6:$C$1806)","v":3787.732421875},{"$f":"LOOKUP($V318,Data!$A$6:$A$1806,Data!$D$6:$D$1806)","v":350},{"$f":"IF($Z$1=\"+\",LOOKUP($V318,Data!$A$6:$A$1806,Data!$E$6:$E$1806)*-1,LOOKUP($V318,Data!$A$6:$A$1806,Data!$E$6:$E$1806))","v":231.11935424804687},{"$f":"LOOKUP($V318,Data!$A$6:$A$1806,Data!$F$6:$F$1806)","v":16},null,{"$f":"LOOKUP($V318,Data!$A$6:$A$1806,Data!$H$6:$H$1806)","v":10},{"$f":"LOOKUP($V318,Data!$A$6:$A$1806,Data!$I$6:$I$1806)","v":0},{"$f":"IF(LOOKUP($V318,Data!$A$6:$A$1806,Data!$J$6:$J$1806)>0,(LOOKUP($V318,Data!$A$6:$A$1806,Data!$J$6:$J$1806)*-1),LOOKUP($V318,Data!$A$6:$A$1806,Data!$J$6:$J$1806))","v":-103},{"$f":"LOOKUP($V318,Data!$A$6:$A$1806,Data!$K$6:$K$1806)","v":7731.33},19.571037292480469,null,null,null,null,null,null,null,null,null,null,null,null,null,null,142.00537109375," ",1.9001007080078125E-2," "]
[null,40098.10793981437,{"$f":"LOOKUP(B319,Data!$A$6:$A$1806,Data!B$6:B$1806)","v":59.981998443603516},{"$f":"LOOKUP(B319,Data!$A$6:$A$1806,Data!C$6:C$1806)","v":3788.8134765625},null,null,3090,{"$f":"(IF((C319-L$2)>0,(IF(C319<'Copy Results'!$C$3,((C319-L$2-L$5)/((L$4*L$2)-L$5)*G319*-1),(('Copy Results'!$C$3-L$2-L$5)/((L$4*L$2)-L$5)*G319*-1))),IF(C319>'Copy Results'!$C$2,((C319-L$2+L$5)/((L$4*L$2)-L$5)*G319*-1),(('Copy Results'!$C$2-L$2+L$5)/((L$4*L$2)-L$5)*G319*-1))))","v":18.541603088378906},17.834629245198151,null,null,0,3804.1058612914917,{"$f":"AVERAGE(D$79:D319)","v":3771.5736706998832},{"$f":"AVERAGE(M$79:M319)","v":3795.6191069934575},3771.0526488503479,{"$f":"AVERAGE(P$79:P319)","v":3735.4199178707886},null,null,null,null,40098.10793981437,{"$f":"LOOKUP($V319,Data!$A$6:$A$1806,Data!$B$6:$B$1806)","v":59.981998443603516},{"$f":"LOOKUP($V319,Data!$A$6:$A$1806,Data!$C$6:$C$1806)","v":3788.8134765625},{"$f":"LOOKUP($V319,Data!$A$6:$A$1806,Data!$D$6:$D$1806)","v":350},{"$f":"IF($Z$1=\"+\",LOOKUP($V319,Data!$A$6:$A$1806,Data!$E$6:$E$1806)*-1,LOOKUP($V319,Data!$A$6:$A$1806,Data!$E$6:$E$1806))","v":231.11935424804687},{"$f":"LOOKUP($V319,Data!$A$6:$A$1806,Data!$F$6:$F$1806)","v":16},null,{"$f":"LOOKUP($V319,Data!$A$6:$A$1806,Data!$H$6:$H$1806)","v":10},{"$f":"LOOKUP($V319,Data!$A$6:$A$1806,Data!$I$6:$I$1806)","v":0},{"$f":"IF(LOOKUP($V319,Data!$A$6:$A$1806,Data!$J$6:$J$1806)>0,(LOOKUP($V319,Data!$A$6:$A$1806,Data!$J$6:$J$1806)*-1),LOOKUP($V319,Data!$A$6:$A$1806,Data!$J$6:$J$1806))","v":-103},{"$f":"LOOKUP($V319,Data!$A$6:$A$1806,Data!$K$6:$K$1806)","v":7731.66},18.541603088378906,null,null,null,null,null,null,null,null,null,null,null,null,null,null,143.08642578125," ",1.8001556396484375E-2," "]
[null,40098.107962962516,{"$f":"LOOKUP(B320,Data!$A$6:$A$1806,Data!B$6:B$1806)","v":59.979000091552734},{"$f":"LOOKUP(B320,Data!$A$6:$A$1806,Data!C$6:C$1806)","v":3789.28515625},null,null,3090,{"$f":"(IF((C320-L$2)>0,(IF(C320<'Copy Results'!$C$3,((C320-L$2-L$5)/((L$4*L$2)-L$5)*G320*-1),(('Copy Results'!$C$3-L$2-L$5)/((L$4*L$2)-L$5)*G320*-1))),IF(C320>'Copy Results'!$C$2,((C320-L$2+L$5)/((L$4*L$2)-L$5)*G320*-1),(('Copy Results'!$C$2-L$2+L$5)/((L$4*L$2)-L$5)*G320*-1))))","v":21.629905700683594},19.162976004618056,null,null,0,3805.4342080509118,{"$f":"AVERAGE(D$79:D320)","v":3771.6468586567021},{"$f":"AVERAGE(M$79:M320)","v":3795.6596652622902},3771.0526488503479,{"$f":"AVERAGE(P$79:P320)","v":3735.5677715263055},null,null,null,null,40098.107962962516,{"$f":"LOOKUP($V320,Data!$A$6:$A$1806,Data!$B$6:$B$1806)","v":59.979000091552734},{"$f":"LOOKUP($V320,Data!$A$6:$A$1806,Data!$C$6:$C$1806)","v":3789.28515625},{"$f":"LOOKUP($V320,Data!$A$6:$A$1806,Data!$D$6:$D$1806)","v":350},{"$f":"IF($Z$1=\"+\",LOOKUP($V320,Data!$A$6:$A$1806,Data!$E$6:$E$1806)*-1,LOOKUP($V320,Data!$A$6:$A$1806,Data!$E$6:$E$1806))","v":237.20664978027344},{"$f":"LOOKUP($V320,Data!$A$6:$A$1806,Data!$F$6:$F$1806)","v":16},null,{"$f":"LOOKUP($V320,Data!$A$6:$A$1806,Data!$H$6:$H$1806)","v":10},{"$f":"LOOKUP($V320,Data!$A$6:$A$1806,Data!$I$6:$I$1806)","v":0},{"$f":"IF(LOOKUP($V320,Data!$A$6:$A$1806,Data!$J$6:$J$1806)>0,(LOOKUP($V320,Data!$A$6:$A$1806,Data!$J$6:$J$1806)*-1),LOOKUP($V320,Data!$A$6:$A$1806,Data!$J$6:$J$1806))","v":-103},{"$f":"LOOKUP($V320,Data!$A$6:$A$1806,Data!$K$6:$K$1806)","v":7731.99},21.629905700683594,null,null,null,null,null,null,null,null,null,null,null,null,null,null,143.55810546875," ",2.0999908447265625E-2," "]
[null,40098.107986110663,{"$f":"LOOKUP(B321,Data!$A$6:$A$1806,Data!B$6:B$1806)","v":59.977001190185547},{"$f":"LOOKUP(B321,Data!$A$6:$A$1806,Data!C$6:C$1806)","v":3788.25634765625},null,null,3090,{"$f":"(IF((C321-L$2)>0,(IF(C321<'Copy Results'!$C$3,((C321-L$2-L$5)/((L$4*L$2)-L$5)*G321*-1),(('Copy Results'!$C$3-L$2-L$5)/((L$4*L$2)-L$5)*G321*-1))),IF(C321>'Copy Results'!$C$2,((C321-L$2+L$5)/((L$4*L$2)-L$5)*G321*-1),(('Copy Results'!$C$2-L$2+L$5)/((L$4*L$2)-L$5)*G321*-1))))","v":23.688774108886719},20.747005341112086,null,null,0,3807.0182373874059,{"$f":"AVERAGE(D$79:D321)","v":3771.7152104632846},{"$f":"AVERAGE(M$79:M321)","v":3795.7064083574551},3771.0526488503479,{"$f":"AVERAGE(P$79:P321)","v":3735.7144032507854},null,null,null,null,40098.107986110663,{"$f":"LOOKUP($V321,Data!$A$6:$A$1806,Data!$B$6:$B$1806)","v":59.977001190185547},{"$f":"LOOKUP($V321,Data!$A$6:$A$1806,Data!$C$6:$C$1806)","v":3788.25634765625},{"$f":"LOOKUP($V321,Data!$A$6:$A$1806,Data!$D$6:$D$1806)","v":350},{"$f":"IF($Z$1=\"+\",LOOKUP($V321,Data!$A$6:$A$1806,Data!$E$6:$E$1806)*-1,LOOKUP($V321,Data!$A$6:$A$1806,Data!$E$6:$E$1806))","v":237.20664978027344},{"$f":"LOOKUP($V321,Data!$A$6:$A$1806,Data!$F$6:$F$1806)","v":16},null,{"$f":"LOOKUP($V321,Data!$A$6:$A$1806,Data!$H$6:$H$1806)","v":10},{"$f":"LOOKUP($V321,Data!$A$6:$A$1806,Data!$I$6:$I$1806)","v":0},{"$f":"IF(LOOKUP($V321,Data!$A$6:$A$1806,Data!$J$6:$J$1806)>0,(LOOKUP($V321,Data!$A$6:$A$1806,Data!$J$6:$J$1806)*-1),LOOKUP($V321,Data!$A$6:$A$1806,Data!$J$6:$J$1806))","v":-103},{"$f":"LOOKUP($V321,Data!$A$6:$A$1806,Data!$K$6:$K$1806)","v":7732.32},23.688774108886719,null,null,null,null,null,null,null,null,null,null,null,null,null,null,142.529296875," ",2.2998809814453125E-2," "]
[null,40098.108009258809,{"$f":"LOOKUP(B322,Data!$A$6:$A$1806,Data!B$6:B$1806)","v":59.976001739501953},{"$f":"LOOKUP(B322,Data!$A$6:$A$1806,Data!C$6:C$1806)","v":3788.40966796875},null,null,3090,{"$f":"(IF((C322-L$2)>0,(IF(C322<'Copy Results'!$C$3,((C322-L$2-L$5)/((L$4*L$2)-L$5)*G322*-1),(('Copy Results'!$C$3-L$2-L$5)/((L$4*L$2)-L$5)*G322*-1))),IF(C322>'Copy Results'!$C$2,((C322-L$2+L$5)/((L$4*L$2)-L$5)*G322*-1),(('Copy Results'!$C$2-L$2+L$5)/((L$4*L$2)-L$5)*G322*-1))))","v":24.718208312988281},22.136926381268754,null,null,0,3808.4081584275627,{"$f":"AVERAGE(D$79:D322)","v":3771.7836303710937},{"$f":"AVERAGE(M$79:M322)","v":3795.7584647102017},3771.0526488503479,{"$f":"AVERAGE(P$79:P322)","v":3735.8598281297959},null,null,null,null,40098.108009258809,{"$f":"LOOKUP($V322,Data!$A$6:$A$1806,Data!$B$6:$B$1806)","v":59.976001739501953},{"$f":"LOOKUP($V322,Data!$A$6:$A$1806,Data!$C$6:$C$1806)","v":3788.40966796875},{"$f":"LOOKUP($V322,Data!$A$6:$A$1806,Data!$D$6:$D$1806)","v":350},{"$f":"IF($Z$1=\"+\",LOOKUP($V322,Data!$A$6:$A$1806,Data!$E$6:$E$1806)*-1,LOOKUP($V322,Data!$A$6:$A$1806,Data!$E$6:$E$1806))","v":237.20664978027344},{"$f":"LOOKUP($V322,Data!$A$6:$A$1806,Data!$F$6:$F$1806)","v":16},null,{"$f":"LOOKUP($V322,Data!$A$6:$A$1806,Data!$H$6:$H$1806)","v":10},{"$f":"LOOKUP($V322,Data!$A$6:$A$1806,Data!$I$6:$I$1806)","v":0},{"$f":"IF(LOOKUP($V322,Data!$A$6:$A$1806,Data!$J$6:$J$1806)>0,(LOOKUP($V322,Data!$A$6:$A$1806,Data!$J$6:$J$1806)*-1),LOOKUP($V322,Data!$A$6:$A$1806,Data!$J$6:$J$1806))","v":-103},{"$f":"LOOKUP($V322,Data!$A$6:$A$1806,Data!$K$6:$K$1806)","v":7732.65},24.718208312988281,null,null,null,null,null,null,null,null,null,null,null,null,null,null,142.6826171875," ",2.3998260498046875E-2," "]
[null,40098.108032406955,{"$f":"LOOKUP(B323,Data!$A$6:$A$1806,Data!B$6:B$1806)","v":59.976001739501953},{"$f":"LOOKUP(B323,Data!$A$6:$A$1806,Data!C$6:C$1806)","v":3790.46728515625},null,null,3090,{"$f":"(IF((C323-L$2)>0,(IF(C323<'Copy Results'!$C$3,((C323-L$2-L$5)/((L$4*L$2)-L$5)*G323*-1),(('Copy Results'!$C$3-L$2-L$5)/((L$4*L$2)-L$5)*G323*-1))),IF(C323>'Copy Results'!$C$2,((C323-L$2+L$5)/((L$4*L$2)-L$5)*G323*-1),(('Copy Results'!$C$2-L$2+L$5)/((L$4*L$2)-L$5)*G323*-1))))","v":24.718208312988281},23.040375057370589,null,null,0,3809.3116071036648,{"$f":"AVERAGE(D$79:D323)","v":3771.8598901865435},{"$f":"AVERAGE(M$79:M323)","v":3795.8137836587462},3771.0526488503479,{"$f":"AVERAGE(P$79:P323)","v":3736.0040610016017},null,null,null,null,40098.108032406955,{"$f":"LOOKUP($V323,Data!$A$6:$A$1806,Data!$B$6:$B$1806)","v":59.976001739501953},{"$f":"LOOKUP($V323,Data!$A$6:$A$1806,Data!$C$6:$C$1806)","v":3790.46728515625},{"$f":"LOOKUP($V323,Data!$A$6:$A$1806,Data!$D$6:$D$1806)","v":350},{"$f":"IF($Z$1=\"+\",LOOKUP($V323,Data!$A$6:$A$1806,Data!$E$6:$E$1806)*-1,LOOKUP($V323,Data!$A$6:$A$1806,Data!$E$6:$E$1806))","v":237.20664978027344},{"$f":"LOOKUP($V323,Data!$A$6:$A$1806,Data!$F$6:$F$1806)","v":16},null,{"$f":"LOOKUP($V323,Data!$A$6:$A$1806,Data!$H$6:$H$1806)","v":10},{"$f":"LOOKUP($V323,Data!$A$6:$A$1806,Data!$I$6:$I$1806)","v":0},{"$f":"IF(LOOKUP($V323,Data!$A$6:$A$1806,Data!$J$6:$J$1806)>0,(LOOKUP($V323,Data!$A$6:$A$1806,Data!$J$6:$J$1806)*-1),LOOKUP($V323,Data!$A$6:$A$1806,Data!$J$6:$J$1806))","v":-103},{"$f":"LOOKUP($V323,Data!$A$6:$A$1806,Data!$K$6:$K$1806)","v":7732.98},24.718208312988281,null,null,null,null,null,null,null,null,null,null,null,null,null,null,144.740234375," ",2.3998260498046875E-2," "]
[null,40098.108055555102,{"$f":"LOOKUP(B324,Data!$A$6:$A$1806,Data!B$6:B$1806)","v":59.979000091552734},{"$f":"LOOKUP(B324,Data!$A$6:$A$1806,Data!C$6:C$1806)","v":3790.66455078125},null,null,3090,{"$f":"(IF((C324-L$2)>0,(IF(C324<'Copy Results'!$C$3,((C324-L$2-L$5)/((L$4*L$2)-L$5)*G324*-1),(('Copy Results'!$C$3-L$2-L$5)/((L$4*L$2)-L$5)*G324*-1))),IF(C324>'Copy Results'!$C$2,((C324-L$2+L$5)/((L$4*L$2)-L$5)*G324*-1),(('Copy Results'!$C$2-L$2+L$5)/((L$4*L$2)-L$5)*G324*-1))))","v":21.629905700683594},22.546710782530141,null,null,0,3808.8179428288245,{"$f":"AVERAGE(D$79:D324)","v":3771.9363318962778},{"$f":"AVERAGE(M$79:M324)","v":3795.8666460943973},3771.0526488503479,{"$f":"AVERAGE(P$79:P324)","v":3736.1471164622089},null,null,null,null,40098.108055555102,{"$f":"LOOKUP($V324,Data!$A$6:$A$1806,Data!$B$6:$B$1806)","v":59.979000091552734},{"$f":"LOOKUP($V324,Data!$A$6:$A$1806,Data!$C$6:$C$1806)","v":3790.66455078125},{"$f":"LOOKUP($V324,Data!$A$6:$A$1806,Data!$D$6:$D$1806)","v":350},{"$f":"IF($Z$1=\"+\",LOOKUP($V324,Data!$A$6:$A$1806,Data!$E$6:$E$1806)*-1,LOOKUP($V324,Data!$A$6:$A$1806,Data!$E$6:$E$1806))","v":237.20664978027344},{"$f":"LOOKUP($V324,Data!$A$6:$A$1806,Data!$F$6:$F$1806)","v":16},null,{"$f":"LOOKUP($V324,Data!$A$6:$A$1806,Data!$H$6:$H$1806)","v":10},{"$f":"LOOKUP($V324,Data!$A$6:$A$1806,Data!$I$6:$I$1806)","v":0},{"$f":"IF(LOOKUP($V324,Data!$A$6:$A$1806,Data!$J$6:$J$1806)>0,(LOOKUP($V324,Data!$A$6:$A$1806,Data!$J$6:$J$1806)*-1),LOOKUP($V324,Data!$A$6:$A$1806,Data!$J$6:$J$1806))","v":-103},{"$f":"LOOKUP($V324,Data!$A$6:$A$1806,Data!$K$6:$K$1806)","v":7733.31},21.629905700683594,null,null,null,null,null,null,null,null,null,null,null,null,null,null,144.9375," ",2.0999908447265625E-2," "]
[null,40098.108078703248,{"$f":"LOOKUP(B325,Data!$A$6:$A$1806,Data!B$6:B$1806)","v":59.981998443603516},{"$f":"LOOKUP(B325,Data!$A$6:$A$1806,Data!C$6:C$1806)","v":3790.42041015625},null,null,3090,{"$f":"(IF((C325-L$2)>0,(IF(C325<'Copy Results'!$C$3,((C325-L$2-L$5)/((L$4*L$2)-L$5)*G325*-1),(('Copy Results'!$C$3-L$2-L$5)/((L$4*L$2)-L$5)*G325*-1))),IF(C325>'Copy Results'!$C$2,((C325-L$2+L$5)/((L$4*L$2)-L$5)*G325*-1),(('Copy Results'!$C$2-L$2+L$5)/((L$4*L$2)-L$5)*G325*-1))))","v":18.541603088378906},21.144923089577212,null,null,0,3807.4161551358716,{"$f":"AVERAGE(D$79:D325)","v":3772.0111662212171},{"$f":"AVERAGE(M$79:M325)","v":3795.9134052403142},3771.0526488503479,{"$f":"AVERAGE(P$79:P325)","v":3736.2890088702907},null,null,null,null,40098.108078703248,{"$f":"LOOKUP($V325,Data!$A$6:$A$1806,Data!$B$6:$B$1806)","v":59.981998443603516},{"$f":"LOOKUP($V325,Data!$A$6:$A$1806,Data!$C$6:$C$1806)","v":3790.42041015625},{"$f":"LOOKUP($V325,Data!$A$6:$A$1806,Data!$D$6:$D$1806)","v":350},{"$f":"IF($Z$1=\"+\",LOOKUP($V325,Data!$A$6:$A$1806,Data!$E$6:$E$1806)*-1,LOOKUP($V325,Data!$A$6:$A$1806,Data!$E$6:$E$1806))","v":240.51637268066406},{"$f":"LOOKUP($V325,Data!$A$6:$A$1806,Data!$F$6:$F$1806)","v":16},null,{"$f":"LOOKUP($V325,Data!$A$6:$A$1806,Data!$H$6:$H$1806)","v":10},{"$f":"LOOKUP($V325,Data!$A$6:$A$1806,Data!$I$6:$I$1806)","v":0},{"$f":"IF(LOOKUP($V325,Data!$A$6:$A$1806,Data!$J$6:$J$1806)>0,(LOOKUP($V325,Data!$A$6:$A$1806,Data!$J$6:$J$1806)*-1),LOOKUP($V325,Data!$A$6:$A$1806,Data!$J$6:$J$1806))","v":-103},{"$f":"LOOKUP($V325,Data!$A$6:$A$1806,Data!$K$6:$K$1806)","v":7733.64},18.541603088378906,null,null,null,null,null,null,null,null,null,null,null,null,null,null,144.693359375," ",1.8001556396484375E-2," "]
[null,40098.108101851394,{"$f":"LOOKUP(B326,Data!$A$6:$A$1806,Data!B$6:B$1806)","v":59.978000640869141},{"$f":"LOOKUP(B326,Data!$A$6:$A$1806,Data!C$6:C$1806)","v":3789.673828125},null,null,3090,{"$f":"(IF((C326-L$2)>0,(IF(C326<'Copy Results'!$C$3,((C326-L$2-L$5)/((L$4*L$2)-L$5)*G326*-1),(('Copy Results'!$C$3-L$2-L$5)/((L$4*L$2)-L$5)*G326*-1))),IF(C326>'Copy Results'!$C$2,((C326-L$2+L$5)/((L$4*L$2)-L$5)*G326*-1),(('Copy Results'!$C$2-L$2+L$5)/((L$4*L$2)-L$5)*G326*-1))))","v":22.659339904785156},21.674968974899993,null,null,0,3807.9462010211942,{"$f":"AVERAGE(D$79:D326)","v":3772.0823866321193},{"$f":"AVERAGE(M$79:M326)","v":3795.96192457814},3771.0526488503479,{"$f":"AVERAGE(P$79:P326)","v":3736.4297523519913},null,null,null,null,40098.108101851394,{"$f":"LOOKUP($V326,Data!$A$6:$A$1806,Data!$B$6:$B$1806)","v":59.978000640869141},{"$f":"LOOKUP($V326,Data!$A$6:$A$1806,Data!$C$6:$C$1806)","v":3789.673828125},{"$f":"LOOKUP($V326,Data!$A$6:$A$1806,Data!$D$6:$D$1806)","v":350},{"$f":"IF($Z$1=\"+\",LOOKUP($V326,Data!$A$6:$A$1806,Data!$E$6:$E$1806)*-1,LOOKUP($V326,Data!$A$6:$A$1806,Data!$E$6:$E$1806))","v":240.51637268066406},{"$f":"LOOKUP($V326,Data!$A$6:$A$1806,Data!$F$6:$F$1806)","v":16},null,{"$f":"LOOKUP($V326,Data!$A$6:$A$1806,Data!$H$6:$H$1806)","v":10},{"$f":"LOOKUP($V326,Data!$A$6:$A$1806,Data!$I$6:$I$1806)","v":0},{"$f":"IF(LOOKUP($V326,Data!$A$6:$A$1806,Data!$J$6:$J$1806)>0,(LOOKUP($V326,Data!$A$6:$A$1806,Data!$J$6:$J$1806)*-1),LOOKUP($V326,Data!$A$6:$A$1806,Data!$J$6:$J$1806))","v":-103},{"$f":"LOOKUP($V326,Data!$A$6:$A$1806,Data!$K$6:$K$1806)","v":7733.97},22.659339904785156,null,null,null,null,null,null,null,null,null,null,null,null,null,null,143.94677734375," ",2.1999359130859375E-2," "]
[null,40098.10812499954,{"$f":"LOOKUP(B327,Data!$A$6:$A$1806,Data!B$6:B$1806)","v":59.976001739501953},{"$f":"LOOKUP(B327,Data!$A$6:$A$1806,Data!C$6:C$1806)","v":3789.26708984375},null,null,3090,{"$f":"(IF((C327-L$2)>0,(IF(C327<'Copy Results'!$C$3,((C327-L$2-L$5)/((L$4*L$2)-L$5)*G327*-1),(('Copy Results'!$C$3-L$2-L$5)/((L$4*L$2)-L$5)*G327*-1))),IF(C327>'Copy Results'!$C$2,((C327-L$2+L$5)/((L$4*L$2)-L$5)*G327*-1),(('Copy Results'!$C$2-L$2+L$5)/((L$4*L$2)-L$5)*G327*-1))))","v":24.718208312988281},22.740102743230892,null,null,0,3809.0113347895249,{"$f":"AVERAGE(D$79:D327)","v":3772.1514015044554},{"$f":"AVERAGE(M$79:M327)","v":3796.0143318480655},3771.0526488503479,{"$f":"AVERAGE(P$79:P327)","v":3736.569360805614},null,null,null,null,40098.10812499954,{"$f":"LOOKUP($V327,Data!$A$6:$A$1806,Data!$B$6:$B$1806)","v":59.976001739501953},{"$f":"LOOKUP($V327,Data!$A$6:$A$1806,Data!$C$6:$C$1806)","v":3789.26708984375},{"$f":"LOOKUP($V327,Data!$A$6:$A$1806,Data!$D$6:$D$1806)","v":350},{"$f":"IF($Z$1=\"+\",LOOKUP($V327,Data!$A$6:$A$1806,Data!$E$6:$E$1806)*-1,LOOKUP($V327,Data!$A$6:$A$1806,Data!$E$6:$E$1806))","v":240.51637268066406},{"$f":"LOOKUP($V327,Data!$A$6:$A$1806,Data!$F$6:$F$1806)","v":16},null,{"$f":"LOOKUP($V327,Data!$A$6:$A$1806,Data!$H$6:$H$1806)","v":10},{"$f":"LOOKUP($V327,Data!$A$6:$A$1806,Data!$I$6:$I$1806)","v":0},{"$f":"IF(LOOKUP($V327,Data!$A$6:$A$1806,Data!$J$6:$J$1806)>0,(LOOKUP($V327,Data!$A$6:$A$1806,Data!$J$6:$J$1806)*-1),LOOKUP($V327,Data!$A$6:$A$1806,Data!$J$6:$J$1806))","v":-103},{"$f":"LOOKUP($V327,Data!$A$6:$A$1806,Data!$K$6:$K$1806)","v":7734.3},24.718208312988281,null,null,null,null,null,null,null,null,null,null,null,null,null,null,143.5400390625," ",2.3998260498046875E-2," "]
[null,40098.108148147687,{"$f":"LOOKUP(B328,Data!$A$6:$A$1806,Data!B$6:B$1806)","v":59.9739990234375},{"$f":"LOOKUP(B328,Data!$A$6:$A$1806,Data!C$6:C$1806)","v":3789.14794921875},null,null,3090,{"$f":"(IF((C328-L$2)>0,(IF(C328<'Copy Results'!$C$3,((C328-L$2-L$5)/((L$4*L$2)-L$5)*G328*-1),(('Copy Results'!$C$3-L$2-L$5)/((L$4*L$2)-L$5)*G328*-1))),IF(C328>'Copy Results'!$C$2,((C328-L$2+L$5)/((L$4*L$2)-L$5)*G328*-1),(('Copy Results'!$C$2-L$2+L$5)/((L$4*L$2)-L$5)*G328*-1))))","v":26.781005859375},24.15441883388133,null,null,0,3810.4256508801755,{"$f":"AVERAGE(D$79:D328)","v":3772.2193876953124},{"$f":"AVERAGE(M$79:M328)","v":3796.0719771241943},3771.0526488503479,{"$f":"AVERAGE(P$79:P328)","v":3736.7078479061952},null,null,null,null,40098.108148147687,{"$f":"LOOKUP($V328,Data!$A$6:$A$1806,Data!$B$6:$B$1806)","v":59.9739990234375},{"$f":"LOOKUP($V328,Data!$A$6:$A$1806,Data!$C$6:$C$1806)","v":3789.14794921875},{"$f":"LOOKUP($V328,Data!$A$6:$A$1806,Data!$D$6:$D$1806)","v":350},{"$f":"IF($Z$1=\"+\",LOOKUP($V328,Data!$A$6:$A$1806,Data!$E$6:$E$1806)*-1,LOOKUP($V328,Data!$A$6:$A$1806,Data!$E$6:$E$1806))","v":240.51637268066406},{"$f":"LOOKUP($V328,Data!$A$6:$A$1806,Data!$F$6:$F$1806)","v":16},null,{"$f":"LOOKUP($V328,Data!$A$6:$A$1806,Data!$H$6:$H$1806)","v":10},{"$f":"LOOKUP($V328,Data!$A$6:$A$1806,Data!$I$6:$I$1806)","v":0},{"$f":"IF(LOOKUP($V328,Data!$A$6:$A$1806,Data!$J$6:$J$1806)>0,(LOOKUP($V328,Data!$A$6:$A$1806,Data!$J$6:$J$1806)*-1),LOOKUP($V328,Data!$A$6:$A$1806,Data!$J$6:$J$1806))","v":-103},{"$f":"LOOKUP($V328,Data!$A$6:$A$1806,Data!$K$6:$K$1806)","v":7734.63},26.781005859375,null,null,null,null,null,null,null,null,null,null,null,null,null,null,143.4208984375," ",2.60009765625E-2," "]
[null,40098.108171295833,{"$f":"LOOKUP(B329,Data!$A$6:$A$1806,Data!B$6:B$1806)","v":59.976001739501953},{"$f":"LOOKUP(B329,Data!$A$6:$A$1806,Data!C$6:C$1806)","v":3790.430419921875},null,null,3090,{"$f":"(IF((C329-L$2)>0,(IF(C329<'Copy Results'!$C$3,((C329-L$2-L$5)/((L$4*L$2)-L$5)*G329*-1),(('Copy Results'!$C$3-L$2-L$5)/((L$4*L$2)-L$5)*G329*-1))),IF(C329>'Copy Results'!$C$2,((C329-L$2+L$5)/((L$4*L$2)-L$5)*G329*-1),(('Copy Results'!$C$2-L$2+L$5)/((L$4*L$2)-L$5)*G329*-1))))","v":24.718208312988281},24.351745151568764,null,null,0,3810.6229771978628,{"$f":"AVERAGE(D$79:D329)","v":3772.2919416085656},{"$f":"AVERAGE(M$79:M329)","v":3796.1299492360413},3771.0526488503479,{"$f":"AVERAGE(P$79:P329)","v":3736.8452271099718},null,null,null,null,40098.108171295833,{"$f":"LOOKUP($V329,Data!$A$6:$A$1806,Data!$B$6:$B$1806)","v":59.976001739501953},{"$f":"LOOKUP($V329,Data!$A$6:$A$1806,Data!$C$6:$C$1806)","v":3790.430419921875},{"$f":"LOOKUP($V329,Data!$A$6:$A$1806,Data!$D$6:$D$1806)","v":350},{"$f":"IF($Z$1=\"+\",LOOKUP($V329,Data!$A$6:$A$1806,Data!$E$6:$E$1806)*-1,LOOKUP($V329,Data!$A$6:$A$1806,Data!$E$6:$E$1806))","v":240.51637268066406},{"$f":"LOOKUP($V329,Data!$A$6:$A$1806,Data!$F$6:$F$1806)","v":16},null,{"$f":"LOOKUP($V329,Data!$A$6:$A$1806,Data!$H$6:$H$1806)","v":10},{"$f":"LOOKUP($V329,Data!$A$6:$A$1806,Data!$I$6:$I$1806)","v":0},{"$f":"IF(LOOKUP($V329,Data!$A$6:$A$1806,Data!$J$6:$J$1806)>0,(LOOKUP($V329,Data!$A$6:$A$1806,Data!$J$6:$J$1806)*-1),LOOKUP($V329,Data!$A$6:$A$1806,Data!$J$6:$J$1806))","v":-103},{"$f":"LOOKUP($V329,Data!$A$6:$A$1806,Data!$K$6:$K$1806)","v":7734.96},24.718208312988281,null,null,null,null,null,null,null,null,null,null,null,null,null,null,144.703369140625," ",2.3998260498046875E-2," "]
[null,40098.108194443979,{"$f":"LOOKUP(B330,Data!$A$6:$A$1806,Data!B$6:B$1806)","v":59.977001190185547},{"$f":"LOOKUP(B330,Data!$A$6:$A$1806,Data!C$6:C$1806)","v":3789.914306640625},null,null,3090,{"$f":"(IF((C330-L$2)>0,(IF(C330<'Copy Results'!$C$3,((C330-L$2-L$5)/((L$4*L$2)-L$5)*G330*-1),(('Copy Results'!$C$3-L$2-L$5)/((L$4*L$2)-L$5)*G330*-1))),IF(C330>'Copy Results'!$C$2,((C330-L$2+L$5)/((L$4*L$2)-L$5)*G330*-1),(('Copy Results'!$C$2-L$2+L$5)/((L$4*L$2)-L$5)*G330*-1))))","v":23.688774108886719},24.119705286630051,null,null,0,3810.3909373329243,{"$f":"AVERAGE(D$79:D330)","v":3772.3618716285341},{"$f":"AVERAGE(M$79:M330)","v":3796.1865404586479},3771.0526488503479,{"$f":"AVERAGE(P$79:P330)","v":3736.9815116587383},null,null,null,null,40098.108194443979,{"$f":"LOOKUP($V330,Data!$A$6:$A$1806,Data!$B$6:$B$1806)","v":59.977001190185547},{"$f":"LOOKUP($V330,Data!$A$6:$A$1806,Data!$C$6:$C$1806)","v":3789.914306640625},{"$f":"LOOKUP($V330,Data!$A$6:$A$1806,Data!$D$6:$D$1806)","v":350},{"$f":"IF($Z$1=\"+\",LOOKUP($V330,Data!$A$6:$A$1806,Data!$E$6:$E$1806)*-1,LOOKUP($V330,Data!$A$6:$A$1806,Data!$E$6:$E$1806))","v":237.56605529785156},{"$f":"LOOKUP($V330,Data!$A$6:$A$1806,Data!$F$6:$F$1806)","v":16},null,{"$f":"LOOKUP($V330,Data!$A$6:$A$1806,Data!$H$6:$H$1806)","v":10},{"$f":"LOOKUP($V330,Data!$A$6:$A$1806,Data!$I$6:$I$1806)","v":0},{"$f":"IF(LOOKUP($V330,Data!$A$6:$A$1806,Data!$J$6:$J$1806)>0,(LOOKUP($V330,Data!$A$6:$A$1806,Data!$J$6:$J$1806)*-1),LOOKUP($V330,Data!$A$6:$A$1806,Data!$J$6:$J$1806))","v":-103},{"$f":"LOOKUP($V330,Data!$A$6:$A$1806,Data!$K$6:$K$1806)","v":7735.29},23.688774108886719,null,null,null,null,null,null,null,null,null,null,null,null,null,null,144.187255859375," ",2.2998809814453125E-2," "]
[null,40098.108217592126,{"$f":"LOOKUP(B331,Data!$A$6:$A$1806,Data!B$6:B$1806)","v":59.977001190185547},{"$f":"LOOKUP(B331,Data!$A$6:$A$1806,Data!C$6:C$1806)","v":3786.2431640625},null,null,3090,{"$f":"(IF((C331-L$2)>0,(IF(C331<'Copy Results'!$C$3,((C331-L$2-L$5)/((L$4*L$2)-L$5)*G331*-1),(('Copy Results'!$C$3-L$2-L$5)/((L$4*L$2)-L$5)*G331*-1))),IF(C331>'Copy Results'!$C$2,((C331-L$2+L$5)/((L$4*L$2)-L$5)*G331*-1),(('Copy Results'!$C$2-L$2+L$5)/((L$4*L$2)-L$5)*G331*-1))))","v":23.688774108886719},23.968879374419885,null,null,0,3810.2401114207141,{"$f":"AVERAGE(D$79:D331)","v":3772.416738397048},{"$f":"AVERAGE(M$79:M331)","v":3796.2420881699604},3771.0526488503479,{"$f":"AVERAGE(P$79:P331)","v":3737.1167145841018},null,null,null,null,40098.108217592126,{"$f":"LOOKUP($V331,Data!$A$6:$A$1806,Data!$B$6:$B$1806)","v":59.977001190185547},{"$f":"LOOKUP($V331,Data!$A$6:$A$1806,Data!$C$6:$C$1806)","v":3786.2431640625},{"$f":"LOOKUP($V331,Data!$A$6:$A$1806,Data!$D$6:$D$1806)","v":350},{"$f":"IF($Z$1=\"+\",LOOKUP($V331,Data!$A$6:$A$1806,Data!$E$6:$E$1806)*-1,LOOKUP($V331,Data!$A$6:$A$1806,Data!$E$6:$E$1806))","v":237.56605529785156},{"$f":"LOOKUP($V331,Data!$A$6:$A$1806,Data!$F$6:$F$1806)","v":16},null,{"$f":"LOOKUP($V331,Data!$A$6:$A$1806,Data!$H$6:$H$1806)","v":10},{"$f":"LOOKUP($V331,Data!$A$6:$A$1806,Data!$I$6:$I$1806)","v":0},{"$f":"IF(LOOKUP($V331,Data!$A$6:$A$1806,Data!$J$6:$J$1806)>0,(LOOKUP($V331,Data!$A$6:$A$1806,Data!$J$6:$J$1806)*-1),LOOKUP($V331,Data!$A$6:$A$1806,Data!$J$6:$J$1806))","v":-103},{"$f":"LOOKUP($V331,Data!$A$6:$A$1806,Data!$K$6:$K$1806)","v":7735.62},23.688774108886719,null,null,null,null,null,null,null,null,null,null,null,null,null,null,140.51611328125," ",2.2998809814453125E-2," "]
[null,40098.108240740272,{"$f":"LOOKUP(B332,Data!$A$6:$A$1806,Data!B$6:B$1806)","v":59.974998474121094},{"$f":"LOOKUP(B332,Data!$A$6:$A$1806,Data!C$6:C$1806)","v":3787.442138671875},null,null,3090,{"$f":"(IF((C332-L$2)>0,(IF(C332<'Copy Results'!$C$3,((C332-L$2-L$5)/((L$4*L$2)-L$5)*G332*-1),(('Copy Results'!$C$3-L$2-L$5)/((L$4*L$2)-L$5)*G332*-1))),IF(C332>'Copy Results'!$C$2,((C332-L$2+L$5)/((L$4*L$2)-L$5)*G332*-1),(('Copy Results'!$C$2-L$2+L$5)/((L$4*L$2)-L$5)*G332*-1))))","v":25.751571655273434},24.592821672718628,null,null,0,3810.8640537190131,{"$f":"AVERAGE(D$79:D332)","v":3772.4758935162404},{"$f":"AVERAGE(M$79:M332)","v":3796.2996549634609},3771.0526488503479,{"$f":"AVERAGE(P$79:P332)","v":3737.2508487116365},null,null,null,null,40098.108240740272,{"$f":"LOOKUP($V332,Data!$A$6:$A$1806,Data!$B$6:$B$1806)","v":59.974998474121094},{"$f":"LOOKUP($V332,Data!$A$6:$A$1806,Data!$C$6:$C$1806)","v":3787.442138671875},{"$f":"LOOKUP($V332,Data!$A$6:$A$1806,Data!$D$6:$D$1806)","v":350},{"$f":"IF($Z$1=\"+\",LOOKUP($V332,Data!$A$6:$A$1806,Data!$E$6:$E$1806)*-1,LOOKUP($V332,Data!$A$6:$A$1806,Data!$E$6:$E$1806))","v":237.56605529785156},{"$f":"LOOKUP($V332,Data!$A$6:$A$1806,Data!$F$6:$F$1806)","v":16},null,{"$f":"LOOKUP($V332,Data!$A$6:$A$1806,Data!$H$6:$H$1806)","v":10},{"$f":"LOOKUP($V332,Data!$A$6:$A$1806,Data!$I$6:$I$1806)","v":0},{"$f":"IF(LOOKUP($V332,Data!$A$6:$A$1806,Data!$J$6:$J$1806)>0,(LOOKUP($V332,Data!$A$6:$A$1806,Data!$J$6:$J$1806)*-1),LOOKUP($V332,Data!$A$6:$A$1806,Data!$J$6:$J$1806))","v":-103},{"$f":"LOOKUP($V332,Data!$A$6:$A$1806,Data!$K$6:$K$1806)","v":7735.95},25.751571655273434,null,null,null,null,null,null,null,null,null,null,null,null,null,null,141.715087890625," ",2.500152587890625E-2," "]
[null,40098.108263888418,{"$f":"LOOKUP(B333,Data!$A$6:$A$1806,Data!B$6:B$1806)","v":59.972999572753906},{"$f":"LOOKUP(B333,Data!$A$6:$A$1806,Data!C$6:C$1806)","v":3788.962890625},null,null,3090,{"$f":"(IF((C333-L$2)>0,(IF(C333<'Copy Results'!$C$3,((C333-L$2-L$5)/((L$4*L$2)-L$5)*G333*-1),(('Copy Results'!$C$3-L$2-L$5)/((L$4*L$2)-L$5)*G333*-1))),IF(C333>'Copy Results'!$C$2,((C333-L$2+L$5)/((L$4*L$2)-L$5)*G333*-1),(('Copy Results'!$C$2-L$2+L$5)/((L$4*L$2)-L$5)*G333*-1))))","v":27.810440063476566},25.718988109483906,null,null,0,3811.9902201557784,{"$f":"AVERAGE(D$79:D333)","v":3772.5405484068629},{"$f":"AVERAGE(M$79:M333)","v":3796.361186591666},3771.0526488503479,{"$f":"AVERAGE(P$79:P333)","v":3737.3839266649388},null,null,null,null,40098.108263888418,{"$f":"LOOKUP($V333,Data!$A$6:$A$1806,Data!$B$6:$B$1806)","v":59.972999572753906},{"$f":"LOOKUP($V333,Data!$A$6:$A$1806,Data!$C$6:$C$1806)","v":3788.962890625},{"$f":"LOOKUP($V333,Data!$A$6:$A$1806,Data!$D$6:$D$1806)","v":350},{"$f":"IF($Z$1=\"+\",LOOKUP($V333,Data!$A$6:$A$1806,Data!$E$6:$E$1806)*-1,LOOKUP($V333,Data!$A$6:$A$1806,Data!$E$6:$E$1806))","v":237.56605529785156},{"$f":"LOOKUP($V333,Data!$A$6:$A$1806,Data!$F$6:$F$1806)","v":16},null,{"$f":"LOOKUP($V333,Data!$A$6:$A$1806,Data!$H$6:$H$1806)","v":10},{"$f":"LOOKUP($V333,Data!$A$6:$A$1806,Data!$I$6:$I$1806)","v":0},{"$f":"IF(LOOKUP($V333,Data!$A$6:$A$1806,Data!$J$6:$J$1806)>0,(LOOKUP($V333,Data!$A$6:$A$1806,Data!$J$6:$J$1806)*-1),LOOKUP($V333,Data!$A$6:$A$1806,Data!$J$6:$J$1806))","v":-103},{"$f":"LOOKUP($V333,Data!$A$6:$A$1806,Data!$K$6:$K$1806)","v":7736.28},27.810440063476566,null,null,null,null,null,null,null,null,null,null,null,null,null,null,143.23583984375," ",2.700042724609375E-2," "]
[null,40098.108287036564,{"$f":"LOOKUP(B334,Data!$A$6:$A$1806,Data!B$6:B$1806)","v":59.969001770019531},{"$f":"LOOKUP(B334,Data!$A$6:$A$1806,Data!C$6:C$1806)","v":3790.6015625},null,null,3090,{"$f":"(IF((C334-L$2)>0,(IF(C334<'Copy Results'!$C$3,((C334-L$2-L$5)/((L$4*L$2)-L$5)*G334*-1),(('Copy Results'!$C$3-L$2-L$5)/((L$4*L$2)-L$5)*G334*-1))),IF(C334>'Copy Results'!$C$2,((C334-L$2+L$5)/((L$4*L$2)-L$5)*G334*-1),(('Copy Results'!$C$2-L$2+L$5)/((L$4*L$2)-L$5)*G334*-1))))","v":31.928176879882809},27.892204179123524,null,null,0,3814.1634362254181,{"$f":"AVERAGE(D$79:D334)","v":3772.6110992431641},{"$f":"AVERAGE(M$79:M334)","v":3796.4307266292976},3771.0526488503479,{"$f":"AVERAGE(P$79:P334)","v":3737.5159608695876},null,null,null,null,40098.108287036564,{"$f":"LOOKUP($V334,Data!$A$6:$A$1806,Data!$B$6:$B$1806)","v":59.969001770019531},{"$f":"LOOKUP($V334,Data!$A$6:$A$1806,Data!$C$6:$C$1806)","v":3790.6015625},{"$f":"LOOKUP($V334,Data!$A$6:$A$1806,Data!$D$6:$D$1806)","v":350},{"$f":"IF($Z$1=\"+\",LOOKUP($V334,Data!$A$6:$A$1806,Data!$E$6:$E$1806)*-1,LOOKUP($V334,Data!$A$6:$A$1806,Data!$E$6:$E$1806))","v":237.56605529785156},{"$f":"LOOKUP($V334,Data!$A$6:$A$1806,Data!$F$6:$F$1806)","v":16},null,{"$f":"LOOKUP($V334,Data!$A$6:$A$1806,Data!$H$6:$H$1806)","v":10},{"$f":"LOOKUP($V334,Data!$A$6:$A$1806,Data!$I$6:$I$1806)","v":0},{"$f":"IF(LOOKUP($V334,Data!$A$6:$A$1806,Data!$J$6:$J$1806)>0,(LOOKUP($V334,Data!$A$6:$A$1806,Data!$J$6:$J$1806)*-1),LOOKUP($V334,Data!$A$6:$A$1806,Data!$J$6:$J$1806))","v":-103},{"$f":"LOOKUP($V334,Data!$A$6:$A$1806,Data!$K$6:$K$1806)","v":7736.61},31.928176879882809,null,null,null,null,null,null,null,null,null,null,null,null,null,null,144.87451171875," ",3.099822998046875E-2," "]
[null,40098.108310184711,{"$f":"LOOKUP(B335,Data!$A$6:$A$1806,Data!B$6:B$1806)","v":59.970001220703125},{"$f":"LOOKUP(B335,Data!$A$6:$A$1806,Data!C$6:C$1806)","v":3791.876953125},null,null,3090,{"$f":"(IF((C335-L$2)>0,(IF(C335<'Copy Results'!$C$3,((C335-L$2-L$5)/((L$4*L$2)-L$5)*G335*-1),(('Copy Results'!$C$3-L$2-L$5)/((L$4*L$2)-L$5)*G335*-1))),IF(C335>'Copy Results'!$C$2,((C335-L$2+L$5)/((L$4*L$2)-L$5)*G335*-1),(('Copy Results'!$C$2-L$2+L$5)/((L$4*L$2)-L$5)*G335*-1))))","v":30.898742675781254},28.944492652953731,null,null,0,3815.2157246992483,{"$f":"AVERAGE(D$79:D335)","v":3772.6860636551555},{"$f":"AVERAGE(M$79:M335)","v":3796.5038200070017},3771.0526488503479,{"$f":"AVERAGE(P$79:P335)","v":3737.6469635570124},null,null,null,null,40098.108310184711,{"$f":"LOOKUP($V335,Data!$A$6:$A$1806,Data!$B$6:$B$1806)","v":59.970001220703125},{"$f":"LOOKUP($V335,Data!$A$6:$A$1806,Data!$C$6:$C$1806)","v":3791.876953125},{"$f":"LOOKUP($V335,Data!$A$6:$A$1806,Data!$D$6:$D$1806)","v":350},{"$f":"IF($Z$1=\"+\",LOOKUP($V335,Data!$A$6:$A$1806,Data!$E$6:$E$1806)*-1,LOOKUP($V335,Data!$A$6:$A$1806,Data!$E$6:$E$1806))","v":231.5814208984375},{"$f":"LOOKUP($V335,Data!$A$6:$A$1806,Data!$F$6:$F$1806)","v":16},null,{"$f":"LOOKUP($V335,Data!$A$6:$A$1806,Data!$H$6:$H$1806)","v":10},{"$f":"LOOKUP($V335,Data!$A$6:$A$1806,Data!$I$6:$I$1806)","v":0},{"$f":"IF(LOOKUP($V335,Data!$A$6:$A$1806,Data!$J$6:$J$1806)>0,(LOOKUP($V335,Data!$A$6:$A$1806,Data!$J$6:$J$1806)*-1),LOOKUP($V335,Data!$A$6:$A$1806,Data!$J$6:$J$1806))","v":-103},{"$f":"LOOKUP($V335,Data!$A$6:$A$1806,Data!$K$6:$K$1806)","v":7736.94},30.898742675781254,null,null,null,null,null,null,null,null,null,null,null,null,null,null,146.14990234375," ",2.9998779296875E-2," "]
[null,40098.108333332857,{"$f":"LOOKUP(B336,Data!$A$6:$A$1806,Data!B$6:B$1806)","v":59.971000671386719},{"$f":"LOOKUP(B336,Data!$A$6:$A$1806,Data!C$6:C$1806)","v":3792.91064453125},null,null,3090,{"$f":"(IF((C336-L$2)>0,(IF(C336<'Copy Results'!$C$3,((C336-L$2-L$5)/((L$4*L$2)-L$5)*G336*-1),(('Copy Results'!$C$3-L$2-L$5)/((L$4*L$2)-L$5)*G336*-1))),IF(C336>'Copy Results'!$C$2,((C336-L$2+L$5)/((L$4*L$2)-L$5)*G336*-1),(('Copy Results'!$C$2-L$2+L$5)/((L$4*L$2)-L$5)*G336*-1))))","v":29.869308471679688},29.268178189507815,null,null,{"$f":"IF(B336>G$3,0,(K$21*0.000023148/K$22))","v":0},{"$f":"M335+L336+(I336-I335)","v":3815.5394102358023},{"$f":"AVERAGE(D$79:D336)","v":3772.7644535035124},{"$f":"AVERAGE(M$79:M336)","v":3796.5776013644777},3771.0526488503479,{"$f":"AVERAGE(P$79:P336)","v":3737.7769467682706},null,null,null,null,40098.108333332857,{"$f":"LOOKUP($V336,Data!$A$6:$A$1806,Data!$B$6:$B$1806)","v":59.971000671386719},{"$f":"LOOKUP($V336,Data!$A$6:$A$1806,Data!$C$6:$C$1806)","v":3792.91064453125},{"$f":"LOOKUP($V336,Data!$A$6:$A$1806,Data!$D$6:$D$1806)","v":350},{"$f":"IF($Z$1=\"+\",LOOKUP($V336,Data!$A$6:$A$1806,Data!$E$6:$E$1806)*-1,LOOKUP($V336,Data!$A$6:$A$1806,Data!$E$6:$E$1806))","v":231.5814208984375},{"$f":"LOOKUP($V336,Data!$A$6:$A$1806,Data!$F$6:$F$1806)","v":16},null,{"$f":"LOOKUP($V336,Data!$A$6:$A$1806,Data!$H$6:$H$1806)","v":10},{"$f":"LOOKUP($V336,Data!$A$6:$A$1806,Data!$I$6:$I$1806)","v":0},{"$f":"IF(LOOKUP($V336,Data!$A$6:$A$1806,Data!$J$6:$J$1806)>0,(LOOKUP($V336,Data!$A$6:$A$1806,Data!$J$6:$J$1806)*-1),LOOKUP($V336,Data!$A$6:$A$1806,Data!$J$6:$J$1806))","v":-103},{"$f":"LOOKUP($V336,Data!$A$6:$A$1806,Data!$K$6:$K$1806)","v":7737.27},29.869308471679688,null,null,null,null,null,null,null,null,null,null,null,null,null,null,147.18359375," ",2.899932861328125E-2," "]
[null,40098.108356481003,{"$f":"LOOKUP(B337,Data!$A$6:$A$1806,Data!B$6:B$1806)","v":59.972999572753906},{"$f":"LOOKUP(B337,Data!$A$6:$A$1806,Data!C$6:C$1806)","v":3792.311279296875},null,null,3090,{"$f":"(IF((C337-L$2)>0,(IF(C337<'Copy Results'!$C$3,((C337-L$2-L$5)/((L$4*L$2)-L$5)*G337*-1),(('Copy Results'!$C$3-L$2-L$5)/((L$4*L$2)-L$5)*G337*-1))),IF(C337>'Copy Results'!$C$2,((C337-L$2+L$5)/((L$4*L$2)-L$5)*G337*-1),(('Copy Results'!$C$2-L$2+L$5)/((L$4*L$2)-L$5)*G337*-1))))","v":27.810440063476566},28.757969845396875,null,null,0,3815.0292018916912,{"$f":"AVERAGE(D$79:D337)","v":3772.8399238733709},{"$f":"AVERAGE(M$79:M337)","v":3796.6488430653549},3771.0526488503479,{"$f":"AVERAGE(P$79:P337)","v":3737.905922357736},null,null,null,null,{"$f":"V336+TIME(0,0,$B$1)","v":40098.108356481003},{"$f":"LOOKUP($V337,Data!$A$6:$A$1806,Data!$B$6:$B$1806)","v":59.972999572753906},{"$f":"LOOKUP($V337,Data!$A$6:$A$1806,Data!$C$6:$C$1806)","v":3792.311279296875},{"$f":"LOOKUP($V337,Data!$A$6:$A$1806,Data!$D$6:$D$1806)","v":350},{"$f":"IF($Z$1=\"+\",LOOKUP($V337,Data!$A$6:$A$1806,Data!$E$6:$E$1806)*-1,LOOKUP($V337,Data!$A$6:$A$1806,Data!$E$6:$E$1806))","v":231.5814208984375},{"$f":"LOOKUP($V337,Data!$A$6:$A$1806,Data!$F$6:$F$1806)","v":16},null,{"$f":"LOOKUP($V337,Data!$A$6:$A$1806,Data!$H$6:$H$1806)","v":10},{"$f":"LOOKUP($V337,Data!$A$6:$A$1806,Data!$I$6:$I$1806)","v":0},{"$f":"IF(LOOKUP($V337,Data!$A$6:$A$1806,Data!$J$6:$J$1806)>0,(LOOKUP($V337,Data!$A$6:$A$1806,Data!$J$6:$J$1806)*-1),LOOKUP($V337,Data!$A$6:$A$1806,Data!$J$6:$J$1806))","v":-103},{"$f":"LOOKUP($V337,Data!$A$6:$A$1806,Data!$K$6:$K$1806)","v":7737.6},27.810440063476566,null,null,null,null,null,null,null,null,null,null,null,null,null,null,146.584228515625," ",2.700042724609375E-2," "]
[null,40098.10837962915,{"$f":"LOOKUP(B338,Data!$A$6:$A$1806,Data!B$6:B$1806)","v":59.978000640869141},{"$f":"LOOKUP(B338,Data!$A$6:$A$1806,Data!C$6:C$1806)","v":3789.125},null,null,3090,{"$f":"(IF((C338-L$2)>0,(IF(C338<'Copy Results'!$C$3,((C338-L$2-L$5)/((L$4*L$2)-L$5)*G338*-1),(('Copy Results'!$C$3-L$2-L$5)/((L$4*L$2)-L$5)*G338*-1))),IF(C338>'Copy Results'!$C$2,((C338-L$2+L$5)/((L$4*L$2)-L$5)*G338*-1),(('Copy Results'!$C$2-L$2+L$5)/((L$4*L$2)-L$5)*G338*-1))))","v":22.659339904785156},26.623449366182776,null,null,0,3812.894681412477,{"$f":"AVERAGE(D$79:D338)","v":3772.9025587815504},{"$f":"AVERAGE(M$79:M338)","v":3796.711327058998},{"$f":"P337+L338","v":3771.0526488503479},{"$f":"AVERAGE(P$79:P338)","v":3738.0339019967037},null,null,null,null,40098.10837962915,{"$f":"LOOKUP($V338,Data!$A$6:$A$1806,Data!$B$6:$B$1806)","v":59.978000640869141},{"$f":"LOOKUP($V338,Data!$A$6:$A$1806,Data!$C$6:$C$1806)","v":3789.125},{"$f":"LOOKUP($V338,Data!$A$6:$A$1806,Data!$D$6:$D$1806)","v":350},{"$f":"IF($Z$1=\"+\",LOOKUP($V338,Data!$A$6:$A$1806,Data!$E$6:$E$1806)*-1,LOOKUP($V338,Data!$A$6:$A$1806,Data!$E$6:$E$1806))","v":231.5814208984375},{"$f":"LOOKUP($V338,Data!$A$6:$A$1806,Data!$F$6:$F$1806)","v":16},null,{"$f":"LOOKUP($V338,Data!$A$6:$A$1806,Data!$H$6:$H$1806)","v":10},{"$f":"LOOKUP($V338,Data!$A$6:$A$1806,Data!$I$6:$I$1806)","v":0},{"$f":"IF(LOOKUP($V338,Data!$A$6:$A$1806,Data!$J$6:$J$1806)>0,(LOOKUP($V338,Data!$A$6:$A$1806,Data!$J$6:$J$1806)*-1),LOOKUP($V338,Data!$A$6:$A$1806,Data!$J$6:$J$1806))","v":-103},{"$f":"LOOKUP($V338,Data!$A$6:$A$1806,Data!$K$6:$K$1806)","v":7737.93},22.659339904785156,null,null,null,null,null,null,null,null,null,null,null,null,null,null,{"$f":"D338-F$78+L338-AD338","v":143.39794921875},{"$f":"IF(AW337=\" \",\" \",IF(L338=L337,AV338/((C338-E$78)*10),\" \"))","v":" "},2.1999359130859375E-2," "]
[null,40098.108402777296,{"$f":"LOOKUP(B339,Data!$A$6:$A$1806,Data!B$6:B$1806)","v":59.980998992919922},{"$f":"LOOKUP(B339,Data!$A$6:$A$1806,Data!C$6:C$1806)","v":3788.07958984375},null,null,3090,{"$f":"(IF((C339-L$2)>0,(IF(C339<'Copy Results'!$C$3,((C339-L$2-L$5)/((L$4*L$2)-L$5)*G339*-1),(('Copy Results'!$C$3-L$2-L$5)/((L$4*L$2)-L$5)*G339*-1))),IF(C339>'Copy Results'!$C$2,((C339-L$2+L$5)/((L$4*L$2)-L$5)*G339*-1),(('Copy Results'!$C$2-L$2+L$5)/((L$4*L$2)-L$5)*G339*-1))))","v":19.571037292480469},24.155105140386969,null,null,0,3810.4263371866814,{"$f":"AVERAGE(D$79:D339)","v":3772.9607083258502},{"$f":"AVERAGE(M$79:M339)","v":3796.7638749905218},3771.0526488503479,{"$f":"AVERAGE(P$79:P339)","v":3738.1608971769101},null,null,null,null,40098.108402777296,{"$f":"LOOKUP($V339,Data!$A$6:$A$1806,Data!$B$6:$B$1806)","v":59.980998992919922},{"$f":"LOOKUP($V339,Data!$A$6:$A$1806,Data!$C$6:$C$1806)","v":3788.07958984375},{"$f":"LOOKUP($V339,Data!$A$6:$A$1806,Data!$D$6:$D$1806)","v":350},{"$f":"IF($Z$1=\"+\",LOOKUP($V339,Data!$A$6:$A$1806,Data!$E$6:$E$1806)*-1,LOOKUP($V339,Data!$A$6:$A$1806,Data!$E$6:$E$1806))","v":231.5814208984375},{"$f":"LOOKUP($V339,Data!$A$6:$A$1806,Data!$F$6:$F$1806)","v":16},null,{"$f":"LOOKUP($V339,Data!$A$6:$A$1806,Data!$H$6:$H$1806)","v":10},{"$f":"LOOKUP($V339,Data!$A$6:$A$1806,Data!$I$6:$I$1806)","v":0},{"$f":"IF(LOOKUP($V339,Data!$A$6:$A$1806,Data!$J$6:$J$1806)>0,(LOOKUP($V339,Data!$A$6:$A$1806,Data!$J$6:$J$1806)*-1),LOOKUP($V339,Data!$A$6:$A$1806,Data!$J$6:$J$1806))","v":-103},{"$f":"LOOKUP($V339,Data!$A$6:$A$1806,Data!$K$6:$K$1806)","v":7738.26},19.571037292480469,null,null,null,null,null,null,null,null,null,null,null,null,null,null,142.3525390625," ",1.9001007080078125E-2," "]
[null,40098.108425925442,{"$f":"LOOKUP(B340,Data!$A$6:$A$1806,Data!B$6:B$1806)","v":59.978000640869141},{"$f":"LOOKUP(B340,Data!$A$6:$A$1806,Data!C$6:C$1806)","v":3787.843994140625},null,null,3090,{"$f":"(IF((C340-L$2)>0,(IF(C340<'Copy Results'!$C$3,((C340-L$2-L$5)/((L$4*L$2)-L$5)*G340*-1),(('Copy Results'!$C$3-L$2-L$5)/((L$4*L$2)-L$5)*G340*-1))),IF(C340>'Copy Results'!$C$2,((C340-L$2+L$5)/((L$4*L$2)-L$5)*G340*-1),(('Copy Results'!$C$2-L$2+L$5)/((L$4*L$2)-L$5)*G340*-1))))","v":22.659339904785156},23.631587307926335,null,null,0,3809.9028193542208,{"$f":"AVERAGE(D$79:D340)","v":3773.0175147602577},{"$f":"AVERAGE(M$79:M340)","v":3796.814023633131},3771.0526488503479,{"$f":"AVERAGE(P$79:P340)","v":3738.2869192139733},null,null,null,null,40098.108425925442,{"$f":"LOOKUP($V340,Data!$A$6:$A$1806,Data!$B$6:$B$1806)","v":59.978000640869141},{"$f":"LOOKUP($V340,Data!$A$6:$A$1806,Data!$C$6:$C$1806)","v":3787.843994140625},{"$f":"LOOKUP($V340,Data!$A$6:$A$1806,Data!$D$6:$D$1806)","v":350},{"$f":"IF($Z$1=\"+\",LOOKUP($V340,Data!$A$6:$A$1806,Data!$E$6:$E$1806)*-1,LOOKUP($V340,Data!$A$6:$A$1806,Data!$E$6:$E$1806))","v":235.85084533691406},{"$f":"LOOKUP($V340,Data!$A$6:$A$1806,Data!$F$6:$F$1806)","v":16},null,{"$f":"LOOKUP($V340,Data!$A$6:$A$1806,Data!$H$6:$H$1806)","v":10},{"$f":"LOOKUP($V340,Data!$A$6:$A$1806,Data!$I$6:$I$1806)","v":0},{"$f":"IF(LOOKUP($V340,Data!$A$6:$A$1806,Data!$J$6:$J$1806)>0,(LOOKUP($V340,Data!$A$6:$A$1806,Data!$J$6:$J$1806)*-1),LOOKUP($V340,Data!$A$6:$A$1806,Data!$J$6:$J$1806))","v":-103},{"$f":"LOOKUP($V340,Data!$A$6:$A$1806,Data!$K$6:$K$1806)","v":7738.59},22.659339904785156,null,null,null,null,null,null,null,null,null,null,null,null,null,null,142.116943359375," ",2.1999359130859375E-2," "]
[null,40098.108449073588,{"$f":"LOOKUP(B341,Data!$A$6:$A$1806,Data!B$6:B$1806)","v":59.974998474121094},{"$f":"LOOKUP(B341,Data!$A$6:$A$1806,Data!C$6:C$1806)","v":3787.135009765625},null,null,3090,{"$f":"(IF((C341-L$2)>0,(IF(C341<'Copy Results'!$C$3,((C341-L$2-L$5)/((L$4*L$2)-L$5)*G341*-1),(('Copy Results'!$C$3-L$2-L$5)/((L$4*L$2)-L$5)*G341*-1))),IF(C341>'Copy Results'!$C$2,((C341-L$2+L$5)/((L$4*L$2)-L$5)*G341*-1),(('Copy Results'!$C$2-L$2+L$5)/((L$4*L$2)-L$5)*G341*-1))))","v":25.751571655273434},24.373581829497819,null,null,0,3810.6448138757924,{"$f":"AVERAGE(D$79:D341)","v":3773.0711934484912},{"$f":"AVERAGE(M$79:M341)","v":3796.866612189187},3771.0526488503479,{"$f":"AVERAGE(P$79:P341)","v":3738.4119792507536},null,null,null,null,40098.108449073588,{"$f":"LOOKUP($V341,Data!$A$6:$A$1806,Data!$B$6:$B$1806)","v":59.974998474121094},{"$f":"LOOKUP($V341,Data!$A$6:$A$1806,Data!$C$6:$C$1806)","v":3787.135009765625},{"$f":"LOOKUP($V341,Data!$A$6:$A$1806,Data!$D$6:$D$1806)","v":350},{"$f":"IF($Z$1=\"+\",LOOKUP($V341,Data!$A$6:$A$1806,Data!$E$6:$E$1806)*-1,LOOKUP($V341,Data!$A$6:$A$1806,Data!$E$6:$E$1806))","v":235.85084533691406},{"$f":"LOOKUP($V341,Data!$A$6:$A$1806,Data!$F$6:$F$1806)","v":16},null,{"$f":"LOOKUP($V341,Data!$A$6:$A$1806,Data!$H$6:$H$1806)","v":10},{"$f":"LOOKUP($V341,Data!$A$6:$A$1806,Data!$I$6:$I$1806)","v":0},{"$f":"IF(LOOKUP($V341,Data!$A$6:$A$1806,Data!$J$6:$J$1806)>0,(LOOKUP($V341,Data!$A$6:$A$1806,Data!$J$6:$J$1806)*-1),LOOKUP($V341,Data!$A$6:$A$1806,Data!$J$6:$J$1806))","v":-103},{"$f":"LOOKUP($V341,Data!$A$6:$A$1806,Data!$K$6:$K$1806)","v":7738.92},25.751571655273434,null,null,null,null,null,null,null,null,null,null,null,null,null,null,141.407958984375," ",2.500152587890625E-2," "]
[null,40098.108472221735,{"$f":"LOOKUP(B342,Data!$A$6:$A$1806,Data!B$6:B$1806)","v":59.972000122070313},{"$f":"LOOKUP(B342,Data!$A$6:$A$1806,Data!C$6:C$1806)","v":3787.164306640625},null,null,3090,{"$f":"(IF((C342-L$2)>0,(IF(C342<'Copy Results'!$C$3,((C342-L$2-L$5)/((L$4*L$2)-L$5)*G342*-1),(('Copy Results'!$C$3-L$2-L$5)/((L$4*L$2)-L$5)*G342*-1))),IF(C342>'Copy Results'!$C$2,((C342-L$2+L$5)/((L$4*L$2)-L$5)*G342*-1),(('Copy Results'!$C$2-L$2+L$5)/((L$4*L$2)-L$5)*G342*-1))))","v":28.839874267578121},25.936784182825924,null,null,0,3812.2080162291204,{"$f":"AVERAGE(D$79:D342)","v":3773.1245764530067},{"$f":"AVERAGE(M$79:M342)","v":3796.924723568126},3771.0526488503479,{"$f":"AVERAGE(P$79:P342)","v":3738.5360882606378},null,null,null,null,40098.108472221735,{"$f":"LOOKUP($V342,Data!$A$6:$A$1806,Data!$B$6:$B$1806)","v":59.972000122070313},{"$f":"LOOKUP($V342,Data!$A$6:$A$1806,Data!$C$6:$C$1806)","v":3787.164306640625},{"$f":"LOOKUP($V342,Data!$A$6:$A$1806,Data!$D$6:$D$1806)","v":350},{"$f":"IF($Z$1=\"+\",LOOKUP($V342,Data!$A$6:$A$1806,Data!$E$6:$E$1806)*-1,LOOKUP($V342,Data!$A$6:$A$1806,Data!$E$6:$E$1806))","v":235.85084533691406},{"$f":"LOOKUP($V342,Data!$A$6:$A$1806,Data!$F$6:$F$1806)","v":16},null,{"$f":"LOOKUP($V342,Data!$A$6:$A$1806,Data!$H$6:$H$1806)","v":10},{"$f":"LOOKUP($V342,Data!$A$6:$A$1806,Data!$I$6:$I$1806)","v":0},{"$f":"IF(LOOKUP($V342,Data!$A$6:$A$1806,Data!$J$6:$J$1806)>0,(LOOKUP($V342,Data!$A$6:$A$1806,Data!$J$6:$J$1806)*-1),LOOKUP($V342,Data!$A$6:$A$1806,Data!$J$6:$J$1806))","v":-103},{"$f":"LOOKUP($V342,Data!$A$6:$A$1806,Data!$K$6:$K$1806)","v":7739.25},28.839874267578121,null,null,null,null,null,null,null,null,null,null,null,null,null,null,141.437255859375," ",2.79998779296875E-2," "]
[null,40098.108495369881,{"$f":"LOOKUP(B343,Data!$A$6:$A$1806,Data!B$6:B$1806)","v":59.976001739501953},{"$f":"LOOKUP(B343,Data!$A$6:$A$1806,Data!C$6:C$1806)","v":3786.99609375},null,null,3090,{"$f":"(IF((C343-L$2)>0,(IF(C343<'Copy Results'!$C$3,((C343-L$2-L$5)/((L$4*L$2)-L$5)*G343*-1),(('Copy Results'!$C$3-L$2-L$5)/((L$4*L$2)-L$5)*G343*-1))),IF(C343>'Copy Results'!$C$2,((C343-L$2+L$5)/((L$4*L$2)-L$5)*G343*-1),(('Copy Results'!$C$2-L$2+L$5)/((L$4*L$2)-L$5)*G343*-1))))","v":24.718208312988281},25.51028262838275,null,null,0,3811.7815146746771,{"$f":"AVERAGE(D$79:D343)","v":3773.1769218012973},{"$f":"AVERAGE(M$79:M343)","v":3796.980786930792},3771.0526488503479,{"$f":"AVERAGE(P$79:P343)","v":3738.6592570507505},null,null,null,null,40098.108495369881,{"$f":"LOOKUP($V343,Data!$A$6:$A$1806,Data!$B$6:$B$1806)","v":59.976001739501953},{"$f":"LOOKUP($V343,Data!$A$6:$A$1806,Data!$C$6:$C$1806)","v":3786.99609375},{"$f":"LOOKUP($V343,Data!$A$6:$A$1806,Data!$D$6:$D$1806)","v":350},{"$f":"IF($Z$1=\"+\",LOOKUP($V343,Data!$A$6:$A$1806,Data!$E$6:$E$1806)*-1,LOOKUP($V343,Data!$A$6:$A$1806,Data!$E$6:$E$1806))","v":235.85084533691406},{"$f":"LOOKUP($V343,Data!$A$6:$A$1806,Data!$F$6:$F$1806)","v":16},null,{"$f":"LOOKUP($V343,Data!$A$6:$A$1806,Data!$H$6:$H$1806)","v":10},{"$f":"LOOKUP($V343,Data!$A$6:$A$1806,Data!$I$6:$I$1806)","v":0},{"$f":"IF(LOOKUP($V343,Data!$A$6:$A$1806,Data!$J$6:$J$1806)>0,(LOOKUP($V343,Data!$A$6:$A$1806,Data!$J$6:$J$1806)*-1),LOOKUP($V343,Data!$A$6:$A$1806,Data!$J$6:$J$1806))","v":-103},{"$f":"LOOKUP($V343,Data!$A$6:$A$1806,Data!$K$6:$K$1806)","v":7739.58},24.718208312988281,null,null,null,null,null,null,null,null,null,null,null,null,null,null,141.26904296875," ",2.3998260498046875E-2," "]
[null,40098.108518518027,{"$f":"LOOKUP(B344,Data!$A$6:$A$1806,Data!B$6:B$1806)","v":59.974998474121094},{"$f":"LOOKUP(B344,Data!$A$6:$A$1806,Data!C$6:C$1806)","v":3787.40478515625},null,null,3090,{"$f":"(IF((C344-L$2)>0,(IF(C344<'Copy Results'!$C$3,((C344-L$2-L$5)/((L$4*L$2)-L$5)*G344*-1),(('Copy Results'!$C$3-L$2-L$5)/((L$4*L$2)-L$5)*G344*-1))),IF(C344>'Copy Results'!$C$2,((C344-L$2+L$5)/((L$4*L$2)-L$5)*G344*-1),(('Copy Results'!$C$2-L$2+L$5)/((L$4*L$2)-L$5)*G344*-1))))","v":25.751571655273434},25.594733787794489,null,null,0,3811.8659658340889,{"$f":"AVERAGE(D$79:D344)","v":3773.2304100093984},{"$f":"AVERAGE(M$79:M344)","v":3797.0367462499776},3771.0526488503479,{"$f":"AVERAGE(P$79:P344)","v":3738.7814962650887},null,null,null,null,40098.108518518027,{"$f":"LOOKUP($V344,Data!$A$6:$A$1806,Data!$B$6:$B$1806)","v":59.974998474121094},{"$f":"LOOKUP($V344,Data!$A$6:$A$1806,Data!$C$6:$C$1806)","v":3787.40478515625},{"$f":"LOOKUP($V344,Data!$A$6:$A$1806,Data!$D$6:$D$1806)","v":350},{"$f":"IF($Z$1=\"+\",LOOKUP($V344,Data!$A$6:$A$1806,Data!$E$6:$E$1806)*-1,LOOKUP($V344,Data!$A$6:$A$1806,Data!$E$6:$E$1806))","v":235.85084533691406},{"$f":"LOOKUP($V344,Data!$A$6:$A$1806,Data!$F$6:$F$1806)","v":16},null,{"$f":"LOOKUP($V344,Data!$A$6:$A$1806,Data!$H$6:$H$1806)","v":10},{"$f":"LOOKUP($V344,Data!$A$6:$A$1806,Data!$I$6:$I$1806)","v":0},{"$f":"IF(LOOKUP($V344,Data!$A$6:$A$1806,Data!$J$6:$J$1806)>0,(LOOKUP($V344,Data!$A$6:$A$1806,Data!$J$6:$J$1806)*-1),LOOKUP($V344,Data!$A$6:$A$1806,Data!$J$6:$J$1806))","v":-103},{"$f":"LOOKUP($V344,Data!$A$6:$A$1806,Data!$K$6:$K$1806)","v":7739.91},25.751571655273434,null,null,null,null,null,null,null,null,null,null,null,null,null,null,141.677734375," ",2.500152587890625E-2," "]
[null,40098.108541666174,{"$f":"LOOKUP(B345,Data!$A$6:$A$1806,Data!B$6:B$1806)","v":59.972999572753906},{"$f":"LOOKUP(B345,Data!$A$6:$A$1806,Data!C$6:C$1806)","v":3786.48681640625},null,null,3090,{"$f":"(IF((C345-L$2)>0,(IF(C345<'Copy Results'!$C$3,((C345-L$2-L$5)/((L$4*L$2)-L$5)*G345*-1),(('Copy Results'!$C$3-L$2-L$5)/((L$4*L$2)-L$5)*G345*-1))),IF(C345>'Copy Results'!$C$2,((C345-L$2+L$5)/((L$4*L$2)-L$5)*G345*-1),(('Copy Results'!$C$2-L$2+L$5)/((L$4*L$2)-L$5)*G345*-1))))","v":27.810440063476566},26.370230984283214,null,null,0,3812.6414630305776,{"$f":"AVERAGE(D$79:D345)","v":3773.2800594715591},{"$f":"AVERAGE(M$79:M345)","v":3797.0951908821148},3771.0526488503479,{"$f":"AVERAGE(P$79:P345)","v":3738.9028163875896},null,null,null,null,40098.108541666174,{"$f":"LOOKUP($V345,Data!$A$6:$A$1806,Data!$B$6:$B$1806)","v":59.972999572753906},{"$f":"LOOKUP($V345,Data!$A$6:$A$1806,Data!$C$6:$C$1806)","v":3786.48681640625},{"$f":"LOOKUP($V345,Data!$A$6:$A$1806,Data!$D$6:$D$1806)","v":350},{"$f":"IF($Z$1=\"+\",LOOKUP($V345,Data!$A$6:$A$1806,Data!$E$6:$E$1806)*-1,LOOKUP($V345,Data!$A$6:$A$1806,Data!$E$6:$E$1806))","v":233.55998229980469},{"$f":"LOOKUP($V345,Data!$A$6:$A$1806,Data!$F$6:$F$1806)","v":16},null,{"$f":"LOOKUP($V345,Data!$A$6:$A$1806,Data!$H$6:$H$1806)","v":10},{"$f":"LOOKUP($V345,Data!$A$6:$A$1806,Data!$I$6:$I$1806)","v":0},{"$f":"IF(LOOKUP($V345,Data!$A$6:$A$1806,Data!$J$6:$J$1806)>0,(LOOKUP($V345,Data!$A$6:$A$1806,Data!$J$6:$J$1806)*-1),LOOKUP($V345,Data!$A$6:$A$1806,Data!$J$6:$J$1806))","v":-103},{"$f":"LOOKUP($V345,Data!$A$6:$A$1806,Data!$K$6:$K$1806)","v":7740.24},27.810440063476566,null,null,null,null,null,null,null,null,null,null,null,null,null,null,140.759765625," ",2.700042724609375E-2," "]
[null,40098.10856481432,{"$f":"LOOKUP(B346,Data!$A$6:$A$1806,Data!B$6:B$1806)","v":59.969001770019531},{"$f":"LOOKUP(B346,Data!$A$6:$A$1806,Data!C$6:C$1806)","v":3787.0791015625},null,null,3090,{"$f":"(IF((C346-L$2)>0,(IF(C346<'Copy Results'!$C$3,((C346-L$2-L$5)/((L$4*L$2)-L$5)*G346*-1),(('Copy Results'!$C$3-L$2-L$5)/((L$4*L$2)-L$5)*G346*-1))),IF(C346>'Copy Results'!$C$2,((C346-L$2+L$5)/((L$4*L$2)-L$5)*G346*-1),(('Copy Results'!$C$2-L$2+L$5)/((L$4*L$2)-L$5)*G346*-1))))","v":31.928176879882809},28.31551204774307,null,null,0,3814.5867440940374,{"$f":"AVERAGE(D$79:D346)","v":3773.3315484345849},{"$f":"AVERAGE(M$79:M346)","v":3797.1604578717115},3771.0526488503479,{"$f":"AVERAGE(P$79:P346)","v":3739.0232277451282},null,null,null,null,40098.10856481432,{"$f":"LOOKUP($V346,Data!$A$6:$A$1806,Data!$B$6:$B$1806)","v":59.969001770019531},{"$f":"LOOKUP($V346,Data!$A$6:$A$1806,Data!$C$6:$C$1806)","v":3787.0791015625},{"$f":"LOOKUP($V346,Data!$A$6:$A$1806,Data!$D$6:$D$1806)","v":350},{"$f":"IF($Z$1=\"+\",LOOKUP($V346,Data!$A$6:$A$1806,Data!$E$6:$E$1806)*-1,LOOKUP($V346,Data!$A$6:$A$1806,Data!$E$6:$E$1806))","v":233.55998229980469},{"$f":"LOOKUP($V346,Data!$A$6:$A$1806,Data!$F$6:$F$1806)","v":16},null,{"$f":"LOOKUP($V346,Data!$A$6:$A$1806,Data!$H$6:$H$1806)","v":10},{"$f":"LOOKUP($V346,Data!$A$6:$A$1806,Data!$I$6:$I$1806)","v":0},{"$f":"IF(LOOKUP($V346,Data!$A$6:$A$1806,Data!$J$6:$J$1806)>0,(LOOKUP($V346,Data!$A$6:$A$1806,Data!$J$6:$J$1806)*-1),LOOKUP($V346,Data!$A$6:$A$1806,Data!$J$6:$J$1806))","v":-103},{"$f":"LOOKUP($V346,Data!$A$6:$A$1806,Data!$K$6:$K$1806)","v":7740.57},31.928176879882809,null,null,null,null,null,null,null,null,null,null,null,null,null,null,141.35205078125," ",3.099822998046875E-2," "]
[null,40098.108587962466,{"$f":"LOOKUP(B347,Data!$A$6:$A$1806,Data!B$6:B$1806)","v":59.965999603271484},{"$f":"LOOKUP(B347,Data!$A$6:$A$1806,Data!C$6:C$1806)","v":3789.2138671875},null,null,3090,{"$f":"(IF((C347-L$2)>0,(IF(C347<'Copy Results'!$C$3,((C347-L$2-L$5)/((L$4*L$2)-L$5)*G347*-1),(('Copy Results'!$C$3-L$2-L$5)/((L$4*L$2)-L$5)*G347*-1))),IF(C347>'Copy Results'!$C$2,((C347-L$2+L$5)/((L$4*L$2)-L$5)*G347*-1),(('Copy Results'!$C$2-L$2+L$5)/((L$4*L$2)-L$5)*G347*-1))))","v":35.020408630371094},30.662225851662878,null,null,0,3816.9334578979574,{"$f":"AVERAGE(D$79:D347)","v":3773.3905905117331},{"$f":"AVERAGE(M$79:M347)","v":3797.2339634480172},3771.0526488503479,{"$f":"AVERAGE(P$79:P347)","v":3739.1427405104464},null,null,null,null,40098.108587962466,{"$f":"LOOKUP($V347,Data!$A$6:$A$1806,Data!$B$6:$B$1806)","v":59.965999603271484},{"$f":"LOOKUP($V347,Data!$A$6:$A$1806,Data!$C$6:$C$1806)","v":3789.2138671875},{"$f":"LOOKUP($V347,Data!$A$6:$A$1806,Data!$D$6:$D$1806)","v":350},{"$f":"IF($Z$1=\"+\",LOOKUP($V347,Data!$A$6:$A$1806,Data!$E$6:$E$1806)*-1,LOOKUP($V347,Data!$A$6:$A$1806,Data!$E$6:$E$1806))","v":233.55998229980469},{"$f":"LOOKUP($V347,Data!$A$6:$A$1806,Data!$F$6:$F$1806)","v":16},null,{"$f":"LOOKUP($V347,Data!$A$6:$A$1806,Data!$H$6:$H$1806)","v":10},{"$f":"LOOKUP($V347,Data!$A$6:$A$1806,Data!$I$6:$I$1806)","v":0},{"$f":"IF(LOOKUP($V347,Data!$A$6:$A$1806,Data!$J$6:$J$1806)>0,(LOOKUP($V347,Data!$A$6:$A$1806,Data!$J$6:$J$1806)*-1),LOOKUP($V347,Data!$A$6:$A$1806,Data!$J$6:$J$1806))","v":-103},{"$f":"LOOKUP($V347,Data!$A$6:$A$1806,Data!$K$6:$K$1806)","v":7740.9},35.020408630371094,null,null,null,null,null,null,null,null,null,null,null,null,null,null,143.48681640625," ",3.4000396728515625E-2," "]
[null,40098.108611110612,{"$f":"LOOKUP(B348,Data!$A$6:$A$1806,Data!B$6:B$1806)","v":59.965000152587891},{"$f":"LOOKUP(B348,Data!$A$6:$A$1806,Data!C$6:C$1806)","v":3790.51171875},null,null,3090,{"$f":"(IF((C348-L$2)>0,(IF(C348<'Copy Results'!$C$3,((C348-L$2-L$5)/((L$4*L$2)-L$5)*G348*-1),(('Copy Results'!$C$3-L$2-L$5)/((L$4*L$2)-L$5)*G348*-1))),IF(C348>'Copy Results'!$C$2,((C348-L$2+L$5)/((L$4*L$2)-L$5)*G348*-1),(('Copy Results'!$C$2-L$2+L$5)/((L$4*L$2)-L$5)*G348*-1))))","v":36.049842834472656},32.547891795646301,null,null,0,3818.8191238419408,{"$f":"AVERAGE(D$79:D348)","v":3773.4540020978011},{"$f":"AVERAGE(M$79:M348)","v":3797.3139084865134},3771.0526488503479,{"$f":"AVERAGE(P$79:P348)","v":3739.2613647050184},null,null,null,null,40098.108611110612,{"$f":"LOOKUP($V348,Data!$A$6:$A$1806,Data!$B$6:$B$1806)","v":59.965000152587891},{"$f":"LOOKUP($V348,Data!$A$6:$A$1806,Data!$C$6:$C$1806)","v":3790.51171875},{"$f":"LOOKUP($V348,Data!$A$6:$A$1806,Data!$D$6:$D$1806)","v":350},{"$f":"IF($Z$1=\"+\",LOOKUP($V348,Data!$A$6:$A$1806,Data!$E$6:$E$1806)*-1,LOOKUP($V348,Data!$A$6:$A$1806,Data!$E$6:$E$1806))","v":233.55998229980469},{"$f":"LOOKUP($V348,Data!$A$6:$A$1806,Data!$F$6:$F$1806)","v":16},null,{"$f":"LOOKUP($V348,Data!$A$6:$A$1806,Data!$H$6:$H$1806)","v":10},{"$f":"LOOKUP($V348,Data!$A$6:$A$1806,Data!$I$6:$I$1806)","v":0},{"$f":"IF(LOOKUP($V348,Data!$A$6:$A$1806,Data!$J$6:$J$1806)>0,(LOOKUP($V348,Data!$A$6:$A$1806,Data!$J$6:$J$1806)*-1),LOOKUP($V348,Data!$A$6:$A$1806,Data!$J$6:$J$1806))","v":-103},{"$f":"LOOKUP($V348,Data!$A$6:$A$1806,Data!$K$6:$K$1806)","v":7741.23},36.049842834472656,null,null,null,null,null,null,null,null,null,null,null,null,null,null,144.78466796875," ",3.4999847412109375E-2," "]
[null,40098.108634258759,{"$f":"LOOKUP(B349,Data!$A$6:$A$1806,Data!B$6:B$1806)","v":59.965999603271484},{"$f":"LOOKUP(B349,Data!$A$6:$A$1806,Data!C$6:C$1806)","v":3791.22119140625},null,null,3090,{"$f":"(IF((C349-L$2)>0,(IF(C349<'Copy Results'!$C$3,((C349-L$2-L$5)/((L$4*L$2)-L$5)*G349*-1),(('Copy Results'!$C$3-L$2-L$5)/((L$4*L$2)-L$5)*G349*-1))),IF(C349>'Copy Results'!$C$2,((C349-L$2+L$5)/((L$4*L$2)-L$5)*G349*-1),(('Copy Results'!$C$2-L$2+L$5)/((L$4*L$2)-L$5)*G349*-1))))","v":35.020408630371094},33.413272687799974,null,null,0,3819.6845047340944,{"$f":"AVERAGE(D$79:D349)","v":3773.5195636819649},{"$f":"AVERAGE(M$79:M349)","v":3797.3964568121501},3771.0526488503479,{"$f":"AVERAGE(P$79:P349)","v":3739.3791102018531},null,null,null,null,40098.108634258759,{"$f":"LOOKUP($V349,Data!$A$6:$A$1806,Data!$B$6:$B$1806)","v":59.965999603271484},{"$f":"LOOKUP($V349,Data!$A$6:$A$1806,Data!$C$6:$C$1806)","v":3791.22119140625},{"$f":"LOOKUP($V349,Data!$A$6:$A$1806,Data!$D$6:$D$1806)","v":350},{"$f":"IF($Z$1=\"+\",LOOKUP($V349,Data!$A$6:$A$1806,Data!$E$6:$E$1806)*-1,LOOKUP($V349,Data!$A$6:$A$1806,Data!$E$6:$E$1806))","v":233.55998229980469},{"$f":"LOOKUP($V349,Data!$A$6:$A$1806,Data!$F$6:$F$1806)","v":16},null,{"$f":"LOOKUP($V349,Data!$A$6:$A$1806,Data!$H$6:$H$1806)","v":10},{"$f":"LOOKUP($V349,Data!$A$6:$A$1806,Data!$I$6:$I$1806)","v":0},{"$f":"IF(LOOKUP($V349,Data!$A$6:$A$1806,Data!$J$6:$J$1806)>0,(LOOKUP($V349,Data!$A$6:$A$1806,Data!$J$6:$J$1806)*-1),LOOKUP($V349,Data!$A$6:$A$1806,Data!$J$6:$J$1806))","v":-103},{"$f":"LOOKUP($V349,Data!$A$6:$A$1806,Data!$K$6:$K$1806)","v":7741.56},35.020408630371094,null,null,null,null,null,null,null,null,null,null,null,null,null,null,145.494140625," ",3.4000396728515625E-2," "]
[null,40098.108657406905,{"$f":"LOOKUP(B350,Data!$A$6:$A$1806,Data!B$6:B$1806)","v":59.969001770019531},{"$f":"LOOKUP(B350,Data!$A$6:$A$1806,Data!C$6:C$1806)","v":3792.21826171875},null,null,3090,{"$f":"(IF((C350-L$2)>0,(IF(C350<'Copy Results'!$C$3,((C350-L$2-L$5)/((L$4*L$2)-L$5)*G350*-1),(('Copy Results'!$C$3-L$2-L$5)/((L$4*L$2)-L$5)*G350*-1))),IF(C350>'Copy Results'!$C$2,((C350-L$2+L$5)/((L$4*L$2)-L$5)*G350*-1),(('Copy Results'!$C$2-L$2+L$5)/((L$4*L$2)-L$5)*G350*-1))))","v":31.928176879882809},32.893489155028966,null,null,0,3819.1647212013236,{"$f":"AVERAGE(D$79:D350)","v":3773.5883088953356},{"$f":"AVERAGE(M$79:M350)","v":3797.4764871959337},3771.0526488503479,{"$f":"AVERAGE(P$79:P350)","v":3739.4959867282314},null,null,null,null,40098.108657406905,{"$f":"LOOKUP($V350,Data!$A$6:$A$1806,Data!$B$6:$B$1806)","v":59.969001770019531},{"$f":"LOOKUP($V350,Data!$A$6:$A$1806,Data!$C$6:$C$1806)","v":3792.21826171875},{"$f":"LOOKUP($V350,Data!$A$6:$A$1806,Data!$D$6:$D$1806)","v":350},{"$f":"IF($Z$1=\"+\",LOOKUP($V350,Data!$A$6:$A$1806,Data!$E$6:$E$1806)*-1,LOOKUP($V350,Data!$A$6:$A$1806,Data!$E$6:$E$1806))","v":219.00999450683594},{"$f":"LOOKUP($V350,Data!$A$6:$A$1806,Data!$F$6:$F$1806)","v":16},null,{"$f":"LOOKUP($V350,Data!$A$6:$A$1806,Data!$H$6:$H$1806)","v":10},{"$f":"LOOKUP($V350,Data!$A$6:$A$1806,Data!$I$6:$I$1806)","v":0},{"$f":"IF(LOOKUP($V350,Data!$A$6:$A$1806,Data!$J$6:$J$1806)>0,(LOOKUP($V350,Data!$A$6:$A$1806,Data!$J$6:$J$1806)*-1),LOOKUP($V350,Data!$A$6:$A$1806,Data!$J$6:$J$1806))","v":-103},{"$f":"LOOKUP($V350,Data!$A$6:$A$1806,Data!$K$6:$K$1806)","v":7741.89},31.928176879882809,null,null,null,null,null,null,null,null,null,null,null,null,null,null,146.4912109375," ",3.099822998046875E-2," "]
[null,40098.108680555051,{"$f":"LOOKUP(B351,Data!$A$6:$A$1806,Data!B$6:B$1806)","v":59.970001220703125},{"$f":"LOOKUP(B351,Data!$A$6:$A$1806,Data!C$6:C$1806)","v":3790.95947265625},null,null,3090,{"$f":"(IF((C351-L$2)>0,(IF(C351<'Copy Results'!$C$3,((C351-L$2-L$5)/((L$4*L$2)-L$5)*G351*-1),(('Copy Results'!$C$3-L$2-L$5)/((L$4*L$2)-L$5)*G351*-1))),IF(C351>'Copy Results'!$C$2,((C351-L$2+L$5)/((L$4*L$2)-L$5)*G351*-1),(('Copy Results'!$C$2-L$2+L$5)/((L$4*L$2)-L$5)*G351*-1))))","v":30.898742675781254},32.195327887292265,null,null,0,3818.4665599335867,{"$f":"AVERAGE(D$79:D351)","v":3773.6519395318223},{"$f":"AVERAGE(M$79:M351)","v":3797.5533739092584},3771.0526488503479,{"$f":"AVERAGE(P$79:P351)","v":3739.6120038683862},null,null,null,null,40098.108680555051,{"$f":"LOOKUP($V351,Data!$A$6:$A$1806,Data!$B$6:$B$1806)","v":59.970001220703125},{"$f":"LOOKUP($V351,Data!$A$6:$A$1806,Data!$C$6:$C$1806)","v":3790.95947265625},{"$f":"LOOKUP($V351,Data!$A$6:$A$1806,Data!$D$6:$D$1806)","v":350},{"$f":"IF($Z$1=\"+\",LOOKUP($V351,Data!$A$6:$A$1806,Data!$E$6:$E$1806)*-1,LOOKUP($V351,Data!$A$6:$A$1806,Data!$E$6:$E$1806))","v":219.00999450683594},{"$f":"LOOKUP($V351,Data!$A$6:$A$1806,Data!$F$6:$F$1806)","v":16},null,{"$f":"LOOKUP($V351,Data!$A$6:$A$1806,Data!$H$6:$H$1806)","v":10},{"$f":"LOOKUP($V351,Data!$A$6:$A$1806,Data!$I$6:$I$1806)","v":0},{"$f":"IF(LOOKUP($V351,Data!$A$6:$A$1806,Data!$J$6:$J$1806)>0,(LOOKUP($V351,Data!$A$6:$A$1806,Data!$J$6:$J$1806)*-1),LOOKUP($V351,Data!$A$6:$A$1806,Data!$J$6:$J$1806))","v":-103},{"$f":"LOOKUP($V351,Data!$A$6:$A$1806,Data!$K$6:$K$1806)","v":7742.22},30.898742675781254,null,null,null,null,null,null,null,null,null,null,null,null,null,null,145.232421875," ",2.9998779296875E-2," "]
[null,40098.108703703198,{"$f":"LOOKUP(B352,Data!$A$6:$A$1806,Data!B$6:B$1806)","v":59.967998504638672},{"$f":"LOOKUP(B352,Data!$A$6:$A$1806,Data!C$6:C$1806)","v":3788.82421875},null,null,3090,{"$f":"(IF((C352-L$2)>0,(IF(C352<'Copy Results'!$C$3,((C352-L$2-L$5)/((L$4*L$2)-L$5)*G352*-1),(('Copy Results'!$C$3-L$2-L$5)/((L$4*L$2)-L$5)*G352*-1))),IF(C352>'Copy Results'!$C$2,((C352-L$2+L$5)/((L$4*L$2)-L$5)*G352*-1),(('Copy Results'!$C$2-L$2+L$5)/((L$4*L$2)-L$5)*G352*-1))))","v":32.961540222167969},32.463502204498766,null,null,0,3818.7347342507933,{"$f":"AVERAGE(D$79:D352)","v":3773.7073128136403},{"$f":"AVERAGE(M$79:M352)","v":3797.6306781440817},3771.0526488503479,{"$f":"AVERAGE(P$79:P352)","v":3739.7271710661225},null,null,null,null,40098.108703703198,{"$f":"LOOKUP($V352,Data!$A$6:$A$1806,Data!$B$6:$B$1806)","v":59.967998504638672},{"$f":"LOOKUP($V352,Data!$A$6:$A$1806,Data!$C$6:$C$1806)","v":3788.82421875},{"$f":"LOOKUP($V352,Data!$A$6:$A$1806,Data!$D$6:$D$1806)","v":350},{"$f":"IF($Z$1=\"+\",LOOKUP($V352,Data!$A$6:$A$1806,Data!$E$6:$E$1806)*-1,LOOKUP($V352,Data!$A$6:$A$1806,Data!$E$6:$E$1806))","v":219.00999450683594},{"$f":"LOOKUP($V352,Data!$A$6:$A$1806,Data!$F$6:$F$1806)","v":16},null,{"$f":"LOOKUP($V352,Data!$A$6:$A$1806,Data!$H$6:$H$1806)","v":10},{"$f":"LOOKUP($V352,Data!$A$6:$A$1806,Data!$I$6:$I$1806)","v":0},{"$f":"IF(LOOKUP($V352,Data!$A$6:$A$1806,Data!$J$6:$J$1806)>0,(LOOKUP($V352,Data!$A$6:$A$1806,Data!$J$6:$J$1806)*-1),LOOKUP($V352,Data!$A$6:$A$1806,Data!$J$6:$J$1806))","v":-103},{"$f":"LOOKUP($V352,Data!$A$6:$A$1806,Data!$K$6:$K$1806)","v":7742.55},32.961540222167969,null,null,null,null,null,null,null,null,null,null,null,null,null,null,143.09716796875," ",3.2001495361328125E-2," "]
[null,40098.108726851344,{"$f":"LOOKUP(B353,Data!$A$6:$A$1806,Data!B$6:B$1806)","v":59.965000152587891},{"$f":"LOOKUP(B353,Data!$A$6:$A$1806,Data!C$6:C$1806)","v":3789.0263671875},null,null,3090,{"$f":"(IF((C353-L$2)>0,(IF(C353<'Copy Results'!$C$3,((C353-L$2-L$5)/((L$4*L$2)-L$5)*G353*-1),(('Copy Results'!$C$3-L$2-L$5)/((L$4*L$2)-L$5)*G353*-1))),IF(C353>'Copy Results'!$C$2,((C353-L$2+L$5)/((L$4*L$2)-L$5)*G353*-1),(('Copy Results'!$C$2-L$2+L$5)/((L$4*L$2)-L$5)*G353*-1))))","v":36.049842834472656},33.718721424989624,null,null,0,3819.989953471284,{"$f":"AVERAGE(D$79:D353)","v":3773.7630184659092},{"$f":"AVERAGE(M$79:M353)","v":3797.7119845998168},3771.0526488503479,{"$f":"AVERAGE(P$79:P353)","v":3739.8414976273789},null,null,null,null,40098.108726851344,{"$f":"LOOKUP($V353,Data!$A$6:$A$1806,Data!$B$6:$B$1806)","v":59.965000152587891},{"$f":"LOOKUP($V353,Data!$A$6:$A$1806,Data!$C$6:$C$1806)","v":3789.0263671875},{"$f":"LOOKUP($V353,Data!$A$6:$A$1806,Data!$D$6:$D$1806)","v":350},{"$f":"IF($Z$1=\"+\",LOOKUP($V353,Data!$A$6:$A$1806,Data!$E$6:$E$1806)*-1,LOOKUP($V353,Data!$A$6:$A$1806,Data!$E$6:$E$1806))","v":219.00999450683594},{"$f":"LOOKUP($V353,Data!$A$6:$A$1806,Data!$F$6:$F$1806)","v":16},null,{"$f":"LOOKUP($V353,Data!$A$6:$A$1806,Data!$H$6:$H$1806)","v":10},{"$f":"LOOKUP($V353,Data!$A$6:$A$1806,Data!$I$6:$I$1806)","v":0},{"$f":"IF(LOOKUP($V353,Data!$A$6:$A$1806,Data!$J$6:$J$1806)>0,(LOOKUP($V353,Data!$A$6:$A$1806,Data!$J$6:$J$1806)*-1),LOOKUP($V353,Data!$A$6:$A$1806,Data!$J$6:$J$1806))","v":-103},{"$f":"LOOKUP($V353,Data!$A$6:$A$1806,Data!$K$6:$K$1806)","v":7742.88},36.049842834472656,null,null,null,null,null,null,null,null,null,null,null,null,null,null,143.29931640625," ",3.4999847412109375E-2," "]
[null,40098.10874999949,{"$f":"LOOKUP(B354,Data!$A$6:$A$1806,Data!B$6:B$1806)","v":59.964000701904297},{"$f":"LOOKUP(B354,Data!$A$6:$A$1806,Data!C$6:C$1806)","v":3789.16748046875},null,null,3090,{"$f":"(IF((C354-L$2)>0,(IF(C354<'Copy Results'!$C$3,((C354-L$2-L$5)/((L$4*L$2)-L$5)*G354*-1),(('Copy Results'!$C$3-L$2-L$5)/((L$4*L$2)-L$5)*G354*-1))),IF(C354>'Copy Results'!$C$2,((C354-L$2+L$5)/((L$4*L$2)-L$5)*G354*-1),(('Copy Results'!$C$2-L$2+L$5)/((L$4*L$2)-L$5)*G354*-1))))","v":37.079277038574219},34.894915889744233,null,null,0,3821.1661479360387,{"$f":"AVERAGE(D$79:D354)","v":3773.8188317340355},{"$f":"AVERAGE(M$79:M354)","v":3797.7969634524843},3771.0526488503479,{"$f":"AVERAGE(P$79:P354)","v":3739.9549927227354},null,null,null,null,40098.10874999949,{"$f":"LOOKUP($V354,Data!$A$6:$A$1806,Data!$B$6:$B$1806)","v":59.964000701904297},{"$f":"LOOKUP($V354,Data!$A$6:$A$1806,Data!$C$6:$C$1806)","v":3789.16748046875},{"$f":"LOOKUP($V354,Data!$A$6:$A$1806,Data!$D$6:$D$1806)","v":350},{"$f":"IF($Z$1=\"+\",LOOKUP($V354,Data!$A$6:$A$1806,Data!$E$6:$E$1806)*-1,LOOKUP($V354,Data!$A$6:$A$1806,Data!$E$6:$E$1806))","v":219.00999450683594},{"$f":"LOOKUP($V354,Data!$A$6:$A$1806,Data!$F$6:$F$1806)","v":16},null,{"$f":"LOOKUP($V354,Data!$A$6:$A$1806,Data!$H$6:$H$1806)","v":10},{"$f":"LOOKUP($V354,Data!$A$6:$A$1806,Data!$I$6:$I$1806)","v":0},{"$f":"IF(LOOKUP($V354,Data!$A$6:$A$1806,Data!$J$6:$J$1806)>0,(LOOKUP($V354,Data!$A$6:$A$1806,Data!$J$6:$J$1806)*-1),LOOKUP($V354,Data!$A$6:$A$1806,Data!$J$6:$J$1806))","v":-103},{"$f":"LOOKUP($V354,Data!$A$6:$A$1806,Data!$K$6:$K$1806)","v":7743.21},37.079277038574219,null,null,null,null,null,null,null,null,null,null,null,null,null,null,143.4404296875," ",3.5999298095703125E-2," "]
[null,40098.108773147636,{"$f":"LOOKUP(B355,Data!$A$6:$A$1806,Data!B$6:B$1806)","v":59.970001220703125},{"$f":"LOOKUP(B355,Data!$A$6:$A$1806,Data!C$6:C$1806)","v":3787.39404296875},null,null,3090,{"$f":"(IF((C355-L$2)>0,(IF(C355<'Copy Results'!$C$3,((C355-L$2-L$5)/((L$4*L$2)-L$5)*G355*-1),(('Copy Results'!$C$3-L$2-L$5)/((L$4*L$2)-L$5)*G355*-1))),IF(C355>'Copy Results'!$C$2,((C355-L$2+L$5)/((L$4*L$2)-L$5)*G355*-1),(('Copy Results'!$C$2-L$2+L$5)/((L$4*L$2)-L$5)*G355*-1))))","v":30.898742675781254},33.49625526485719,null,null,0,3819.7674873111519,{"$f":"AVERAGE(D$79:D355)","v":3773.8678397168323},{"$f":"AVERAGE(M$79:M355)","v":3797.8762794230934},3771.0526488503479,{"$f":"AVERAGE(P$79:P355)","v":3740.067665389864},null,null,null,null,40098.108773147636,{"$f":"LOOKUP($V355,Data!$A$6:$A$1806,Data!$B$6:$B$1806)","v":59.970001220703125},{"$f":"LOOKUP($V355,Data!$A$6:$A$1806,Data!$C$6:$C$1806)","v":3787.39404296875},{"$f":"LOOKUP($V355,Data!$A$6:$A$1806,Data!$D$6:$D$1806)","v":350},{"$f":"IF($Z$1=\"+\",LOOKUP($V355,Data!$A$6:$A$1806,Data!$E$6:$E$1806)*-1,LOOKUP($V355,Data!$A$6:$A$1806,Data!$E$6:$E$1806))","v":205.33891296386719},{"$f":"LOOKUP($V355,Data!$A$6:$A$1806,Data!$F$6:$F$1806)","v":16},null,{"$f":"LOOKUP($V355,Data!$A$6:$A$1806,Data!$H$6:$H$1806)","v":10},{"$f":"LOOKUP($V355,Data!$A$6:$A$1806,Data!$I$6:$I$1806)","v":0},{"$f":"IF(LOOKUP($V355,Data!$A$6:$A$1806,Data!$J$6:$J$1806)>0,(LOOKUP($V355,Data!$A$6:$A$1806,Data!$J$6:$J$1806)*-1),LOOKUP($V355,Data!$A$6:$A$1806,Data!$J$6:$J$1806))","v":-103},{"$f":"LOOKUP($V355,Data!$A$6:$A$1806,Data!$K$6:$K$1806)","v":7743.54},30.898742675781254,null,null,null,null,null,null,null,null,null,null,null,null,null,null,141.6669921875," ",2.9998779296875E-2," "]
[null,40098.108796295783,{"$f":"LOOKUP(B356,Data!$A$6:$A$1806,Data!B$6:B$1806)","v":59.972000122070313},{"$f":"LOOKUP(B356,Data!$A$6:$A$1806,Data!C$6:C$1806)","v":3785.68994140625},null,null,3090,{"$f":"(IF((C356-L$2)>0,(IF(C356<'Copy Results'!$C$3,((C356-L$2-L$5)/((L$4*L$2)-L$5)*G356*-1),(('Copy Results'!$C$3-L$2-L$5)/((L$4*L$2)-L$5)*G356*-1))),IF(C356>'Copy Results'!$C$2,((C356-L$2+L$5)/((L$4*L$2)-L$5)*G356*-1),(('Copy Results'!$C$2-L$2+L$5)/((L$4*L$2)-L$5)*G356*-1))))","v":28.839874267578121},31.866521915809514,null,null,0,3818.1377539621044,{"$f":"AVERAGE(D$79:D356)","v":3773.9103652624776},{"$f":"AVERAGE(M$79:M356)","v":3797.9491624250318},3771.0526488503479,{"$f":"AVERAGE(P$79:P356)","v":3740.1795245359313},null,null,null,null,40098.108796295783,{"$f":"LOOKUP($V356,Data!$A$6:$A$1806,Data!$B$6:$B$1806)","v":59.972000122070313},{"$f":"LOOKUP($V356,Data!$A$6:$A$1806,Data!$C$6:$C$1806)","v":3785.68994140625},{"$f":"LOOKUP($V356,Data!$A$6:$A$1806,Data!$D$6:$D$1806)","v":350},{"$f":"IF($Z$1=\"+\",LOOKUP($V356,Data!$A$6:$A$1806,Data!$E$6:$E$1806)*-1,LOOKUP($V356,Data!$A$6:$A$1806,Data!$E$6:$E$1806))","v":205.33891296386719},{"$f":"LOOKUP($V356,Data!$A$6:$A$1806,Data!$F$6:$F$1806)","v":16},null,{"$f":"LOOKUP($V356,Data!$A$6:$A$1806,Data!$H$6:$H$1806)","v":10},{"$f":"LOOKUP($V356,Data!$A$6:$A$1806,Data!$I$6:$I$1806)","v":0},{"$f":"IF(LOOKUP($V356,Data!$A$6:$A$1806,Data!$J$6:$J$1806)>0,(LOOKUP($V356,Data!$A$6:$A$1806,Data!$J$6:$J$1806)*-1),LOOKUP($V356,Data!$A$6:$A$1806,Data!$J$6:$J$1806))","v":-103},{"$f":"LOOKUP($V356,Data!$A$6:$A$1806,Data!$K$6:$K$1806)","v":7743.87},28.839874267578121,null,null,null,null,null,null,null,null,null,null,null,null,null,null,139.962890625," ",2.79998779296875E-2," "]
[null,40098.108819443929,{"$f":"LOOKUP(B357,Data!$A$6:$A$1806,Data!B$6:B$1806)","v":59.966999053955078},{"$f":"LOOKUP(B357,Data!$A$6:$A$1806,Data!C$6:C$1806)","v":3784.83056640625},null,null,3090,{"$f":"(IF((C357-L$2)>0,(IF(C357<'Copy Results'!$C$3,((C357-L$2-L$5)/((L$4*L$2)-L$5)*G357*-1),(('Copy Results'!$C$3-L$2-L$5)/((L$4*L$2)-L$5)*G357*-1))),IF(C357>'Copy Results'!$C$2,((C357-L$2+L$5)/((L$4*L$2)-L$5)*G357*-1),(('Copy Results'!$C$2-L$2+L$5)/((L$4*L$2)-L$5)*G357*-1))))","v":33.990974426269531},32.610080294470521,null,null,0,3818.8813123407654,{"$f":"AVERAGE(D$79:D357)","v":3773.9495057683694},{"$f":"AVERAGE(M$79:M357)","v":3798.0241880519698},3771.0526488503479,{"$f":"AVERAGE(P$79:P357)","v":3740.2905789399397},null,null,null,null,40098.108819443929,{"$f":"LOOKUP($V357,Data!$A$6:$A$1806,Data!$B$6:$B$1806)","v":59.966999053955078},{"$f":"LOOKUP($V357,Data!$A$6:$A$1806,Data!$C$6:$C$1806)","v":3784.83056640625},{"$f":"LOOKUP($V357,Data!$A$6:$A$1806,Data!$D$6:$D$1806)","v":350},{"$f":"IF($Z$1=\"+\",LOOKUP($V357,Data!$A$6:$A$1806,Data!$E$6:$E$1806)*-1,LOOKUP($V357,Data!$A$6:$A$1806,Data!$E$6:$E$1806))","v":205.33891296386719},{"$f":"LOOKUP($V357,Data!$A$6:$A$1806,Data!$F$6:$F$1806)","v":16},null,{"$f":"LOOKUP($V357,Data!$A$6:$A$1806,Data!$H$6:$H$1806)","v":10},{"$f":"LOOKUP($V357,Data!$A$6:$A$1806,Data!$I$6:$I$1806)","v":0},{"$f":"IF(LOOKUP($V357,Data!$A$6:$A$1806,Data!$J$6:$J$1806)>0,(LOOKUP($V357,Data!$A$6:$A$1806,Data!$J$6:$J$1806)*-1),LOOKUP($V357,Data!$A$6:$A$1806,Data!$J$6:$J$1806))","v":-103},{"$f":"LOOKUP($V357,Data!$A$6:$A$1806,Data!$K$6:$K$1806)","v":7744.2},33.990974426269531,null,null,null,null,null,null,null,null,null,null,null,null,null,null,139.103515625," ",3.3000946044921875E-2," "]
[null,40098.108842592075,{"$f":"LOOKUP(B358,Data!$A$6:$A$1806,Data!B$6:B$1806)","v":59.966999053955078},{"$f":"LOOKUP(B358,Data!$A$6:$A$1806,Data!C$6:C$1806)","v":3785.009521484375},null,null,3090,{"$f":"(IF((C358-L$2)>0,(IF(C358<'Copy Results'!$C$3,((C358-L$2-L$5)/((L$4*L$2)-L$5)*G358*-1),(('Copy Results'!$C$3-L$2-L$5)/((L$4*L$2)-L$5)*G358*-1))),IF(C358>'Copy Results'!$C$2,((C358-L$2+L$5)/((L$4*L$2)-L$5)*G358*-1),(('Copy Results'!$C$2-L$2+L$5)/((L$4*L$2)-L$5)*G358*-1))))","v":33.990974426269531},33.093393240600179,null,null,0,3819.3646252868948,{"$f":"AVERAGE(D$79:D358)","v":3773.9890058244978},{"$f":"AVERAGE(M$79:M358)","v":3798.1004038992378},3771.0526488503479,{"$f":"AVERAGE(P$79:P358)","v":3740.4008372550311},null,null,null,null,40098.108842592075,{"$f":"LOOKUP($V358,Data!$A$6:$A$1806,Data!$B$6:$B$1806)","v":59.966999053955078},{"$f":"LOOKUP($V358,Data!$A$6:$A$1806,Data!$C$6:$C$1806)","v":3785.009521484375},{"$f":"LOOKUP($V358,Data!$A$6:$A$1806,Data!$D$6:$D$1806)","v":350},{"$f":"IF($Z$1=\"+\",LOOKUP($V358,Data!$A$6:$A$1806,Data!$E$6:$E$1806)*-1,LOOKUP($V358,Data!$A$6:$A$1806,Data!$E$6:$E$1806))","v":205.33891296386719},{"$f":"LOOKUP($V358,Data!$A$6:$A$1806,Data!$F$6:$F$1806)","v":16},null,{"$f":"LOOKUP($V358,Data!$A$6:$A$1806,Data!$H$6:$H$1806)","v":10},{"$f":"LOOKUP($V358,Data!$A$6:$A$1806,Data!$I$6:$I$1806)","v":0},{"$f":"IF(LOOKUP($V358,Data!$A$6:$A$1806,Data!$J$6:$J$1806)>0,(LOOKUP($V358,Data!$A$6:$A$1806,Data!$J$6:$J$1806)*-1),LOOKUP($V358,Data!$A$6:$A$1806,Data!$J$6:$J$1806))","v":-103},{"$f":"LOOKUP($V358,Data!$A$6:$A$1806,Data!$K$6:$K$1806)","v":7744.53},33.990974426269531,null,null,null,null,null,null,null,null,null,null,null,null,null,null,139.282470703125," ",3.3000946044921875E-2," "]
[null,40098.108865740222,{"$f":"LOOKUP(B359,Data!$A$6:$A$1806,Data!B$6:B$1806)","v":59.969001770019531},{"$f":"LOOKUP(B359,Data!$A$6:$A$1806,Data!C$6:C$1806)","v":3784.3203125},null,null,3090,{"$f":"(IF((C359-L$2)>0,(IF(C359<'Copy Results'!$C$3,((C359-L$2-L$5)/((L$4*L$2)-L$5)*G359*-1),(('Copy Results'!$C$3-L$2-L$5)/((L$4*L$2)-L$5)*G359*-1))),IF(C359>'Copy Results'!$C$2,((C359-L$2+L$5)/((L$4*L$2)-L$5)*G359*-1),(('Copy Results'!$C$2-L$2+L$5)/((L$4*L$2)-L$5)*G359*-1))))","v":31.928176879882809},32.685567514349103,null,null,0,3818.956799560644,{"$f":"AVERAGE(D$79:D359)","v":3774.0257720404247},{"$f":"AVERAGE(M$79:M359)","v":3798.174625947855},3771.0526488503479,{"$f":"AVERAGE(P$79:P359)","v":3740.5103080107287},null,null,null,null,40098.108865740222,{"$f":"LOOKUP($V359,Data!$A$6:$A$1806,Data!$B$6:$B$1806)","v":59.969001770019531},{"$f":"LOOKUP($V359,Data!$A$6:$A$1806,Data!$C$6:$C$1806)","v":3784.3203125},{"$f":"LOOKUP($V359,Data!$A$6:$A$1806,Data!$D$6:$D$1806)","v":350},{"$f":"IF($Z$1=\"+\",LOOKUP($V359,Data!$A$6:$A$1806,Data!$E$6:$E$1806)*-1,LOOKUP($V359,Data!$A$6:$A$1806,Data!$E$6:$E$1806))","v":205.33891296386719},{"$f":"LOOKUP($V359,Data!$A$6:$A$1806,Data!$F$6:$F$1806)","v":16},null,{"$f":"LOOKUP($V359,Data!$A$6:$A$1806,Data!$H$6:$H$1806)","v":10},{"$f":"LOOKUP($V359,Data!$A$6:$A$1806,Data!$I$6:$I$1806)","v":0},{"$f":"IF(LOOKUP($V359,Data!$A$6:$A$1806,Data!$J$6:$J$1806)>0,(LOOKUP($V359,Data!$A$6:$A$1806,Data!$J$6:$J$1806)*-1),LOOKUP($V359,Data!$A$6:$A$1806,Data!$J$6:$J$1806))","v":-103},{"$f":"LOOKUP($V359,Data!$A$6:$A$1806,Data!$K$6:$K$1806)","v":7744.86},31.928176879882809,null,null,null,null,null,null,null,null,null,null,null,null,null,null,138.59326171875," ",3.099822998046875E-2," "]
[null,40098.108888888368,{"$f":"LOOKUP(B360,Data!$A$6:$A$1806,Data!B$6:B$1806)","v":59.967998504638672},{"$f":"LOOKUP(B360,Data!$A$6:$A$1806,Data!C$6:C$1806)","v":3782.80859375},null,null,3090,{"$f":"(IF((C360-L$2)>0,(IF(C360<'Copy Results'!$C$3,((C360-L$2-L$5)/((L$4*L$2)-L$5)*G360*-1),(('Copy Results'!$C$3-L$2-L$5)/((L$4*L$2)-L$5)*G360*-1))),IF(C360>'Copy Results'!$C$2,((C360-L$2+L$5)/((L$4*L$2)-L$5)*G360*-1),(('Copy Results'!$C$2-L$2+L$5)/((L$4*L$2)-L$5)*G360*-1))))","v":32.961540222167969},32.782157962085705,null,null,0,3819.0533900083806,{"$f":"AVERAGE(D$79:D360)","v":3774.0569167982603},{"$f":"AVERAGE(M$79:M360)","v":3798.2486641182827},3771.0526488503479,{"$f":"AVERAGE(P$79:P360)","v":3740.6189996151402},null,null,null,null,40098.108888888368,{"$f":"LOOKUP($V360,Data!$A$6:$A$1806,Data!$B$6:$B$1806)","v":59.967998504638672},{"$f":"LOOKUP($V360,Data!$A$6:$A$1806,Data!$C$6:$C$1806)","v":3782.80859375},{"$f":"LOOKUP($V360,Data!$A$6:$A$1806,Data!$D$6:$D$1806)","v":350},{"$f":"IF($Z$1=\"+\",LOOKUP($V360,Data!$A$6:$A$1806,Data!$E$6:$E$1806)*-1,LOOKUP($V360,Data!$A$6:$A$1806,Data!$E$6:$E$1806))","v":236.28535461425781},{"$f":"LOOKUP($V360,Data!$A$6:$A$1806,Data!$F$6:$F$1806)","v":16},null,{"$f":"LOOKUP($V360,Data!$A$6:$A$1806,Data!$H$6:$H$1806)","v":10},{"$f":"LOOKUP($V360,Data!$A$6:$A$1806,Data!$I$6:$I$1806)","v":0},{"$f":"IF(LOOKUP($V360,Data!$A$6:$A$1806,Data!$J$6:$J$1806)>0,(LOOKUP($V360,Data!$A$6:$A$1806,Data!$J$6:$J$1806)*-1),LOOKUP($V360,Data!$A$6:$A$1806,Data!$J$6:$J$1806))","v":-103},{"$f":"LOOKUP($V360,Data!$A$6:$A$1806,Data!$K$6:$K$1806)","v":7745.19},32.961540222167969,null,null,null,null,null,null,null,null,null,null,null,null,null,null,137.08154296875," ",3.2001495361328125E-2," "]
[null,40098.108912036514,{"$f":"LOOKUP(B361,Data!$A$6:$A$1806,Data!B$6:B$1806)","v":59.969001770019531},{"$f":"LOOKUP(B361,Data!$A$6:$A$1806,Data!C$6:C$1806)","v":3782.10986328125},null,null,3090,{"$f":"(IF((C361-L$2)>0,(IF(C361<'Copy Results'!$C$3,((C361-L$2-L$5)/((L$4*L$2)-L$5)*G361*-1),(('Copy Results'!$C$3-L$2-L$5)/((L$4*L$2)-L$5)*G361*-1))),IF(C361>'Copy Results'!$C$2,((C361-L$2+L$5)/((L$4*L$2)-L$5)*G361*-1),(('Copy Results'!$C$2-L$2+L$5)/((L$4*L$2)-L$5)*G361*-1))))","v":31.928176879882809},32.483264583314693,null,null,0,3818.7544966296095,{"$f":"AVERAGE(D$79:D361)","v":3774.0853724395429},{"$f":"AVERAGE(M$79:M361)","v":3798.3211228904074},3771.0526488503479,{"$f":"AVERAGE(P$79:P361)","v":3740.7269203571086},null,null,null,null,40098.108912036514,{"$f":"LOOKUP($V361,Data!$A$6:$A$1806,Data!$B$6:$B$1806)","v":59.969001770019531},{"$f":"LOOKUP($V361,Data!$A$6:$A$1806,Data!$C$6:$C$1806)","v":3782.10986328125},{"$f":"LOOKUP($V361,Data!$A$6:$A$1806,Data!$D$6:$D$1806)","v":350},{"$f":"IF($Z$1=\"+\",LOOKUP($V361,Data!$A$6:$A$1806,Data!$E$6:$E$1806)*-1,LOOKUP($V361,Data!$A$6:$A$1806,Data!$E$6:$E$1806))","v":236.28535461425781},{"$f":"LOOKUP($V361,Data!$A$6:$A$1806,Data!$F$6:$F$1806)","v":16},null,{"$f":"LOOKUP($V361,Data!$A$6:$A$1806,Data!$H$6:$H$1806)","v":10},{"$f":"LOOKUP($V361,Data!$A$6:$A$1806,Data!$I$6:$I$1806)","v":0},{"$f":"IF(LOOKUP($V361,Data!$A$6:$A$1806,Data!$J$6:$J$1806)>0,(LOOKUP($V361,Data!$A$6:$A$1806,Data!$J$6:$J$1806)*-1),LOOKUP($V361,Data!$A$6:$A$1806,Data!$J$6:$J$1806))","v":-103},{"$f":"LOOKUP($V361,Data!$A$6:$A$1806,Data!$K$6:$K$1806)","v":7745.52},31.928176879882809,null,null,null,null,null,null,null,null,null,null,null,null,null,null,136.3828125," ",3.099822998046875E-2," "]
[null,40098.10893518466,{"$f":"LOOKUP(B362,Data!$A$6:$A$1806,Data!B$6:B$1806)","v":59.966999053955078},{"$f":"LOOKUP(B362,Data!$A$6:$A$1806,Data!C$6:C$1806)","v":3779.3515625},null,null,3090,{"$f":"(IF((C362-L$2)>0,(IF(C362<'Copy Results'!$C$3,((C362-L$2-L$5)/((L$4*L$2)-L$5)*G362*-1),(('Copy Results'!$C$3-L$2-L$5)/((L$4*L$2)-L$5)*G362*-1))),IF(C362>'Copy Results'!$C$2,((C362-L$2+L$5)/((L$4*L$2)-L$5)*G362*-1),(('Copy Results'!$C$2-L$2+L$5)/((L$4*L$2)-L$5)*G362*-1))))","v":33.990974426269531},33.010963028348883,null,null,0,3819.2821950746438,{"$f":"AVERAGE(D$79:D362)","v":3774.103915362291},{"$f":"AVERAGE(M$79:M362)","v":3798.3949294826057},3771.0526488503479,{"$f":"AVERAGE(P$79:P362)","v":3740.8340784083211},null,null,null,null,40098.10893518466,{"$f":"LOOKUP($V362,Data!$A$6:$A$1806,Data!$B$6:$B$1806)","v":59.966999053955078},{"$f":"LOOKUP($V362,Data!$A$6:$A$1806,Data!$C$6:$C$1806)","v":3779.3515625},{"$f":"LOOKUP($V362,Data!$A$6:$A$1806,Data!$D$6:$D$1806)","v":350},{"$f":"IF($Z$1=\"+\",LOOKUP($V362,Data!$A$6:$A$1806,Data!$E$6:$E$1806)*-1,LOOKUP($V362,Data!$A$6:$A$1806,Data!$E$6:$E$1806))","v":236.28535461425781},{"$f":"LOOKUP($V362,Data!$A$6:$A$1806,Data!$F$6:$F$1806)","v":16},null,{"$f":"LOOKUP($V362,Data!$A$6:$A$1806,Data!$H$6:$H$1806)","v":10},{"$f":"LOOKUP($V362,Data!$A$6:$A$1806,Data!$I$6:$I$1806)","v":0},{"$f":"IF(LOOKUP($V362,Data!$A$6:$A$1806,Data!$J$6:$J$1806)>0,(LOOKUP($V362,Data!$A$6:$A$1806,Data!$J$6:$J$1806)*-1),LOOKUP($V362,Data!$A$6:$A$1806,Data!$J$6:$J$1806))","v":-103},{"$f":"LOOKUP($V362,Data!$A$6:$A$1806,Data!$K$6:$K$1806)","v":7745.85},33.990974426269531,null,null,null,null,null,null,null,null,null,null,null,null,null,null,133.62451171875," ",3.3000946044921875E-2," "]
[null,40098.108958332807,{"$f":"LOOKUP(B363,Data!$A$6:$A$1806,Data!B$6:B$1806)","v":59.966999053955078},{"$f":"LOOKUP(B363,Data!$A$6:$A$1806,Data!C$6:C$1806)","v":3779.05615234375},null,null,3090,{"$f":"(IF((C363-L$2)>0,(IF(C363<'Copy Results'!$C$3,((C363-L$2-L$5)/((L$4*L$2)-L$5)*G363*-1),(('Copy Results'!$C$3-L$2-L$5)/((L$4*L$2)-L$5)*G363*-1))),IF(C363>'Copy Results'!$C$2,((C363-L$2+L$5)/((L$4*L$2)-L$5)*G363*-1),(('Copy Results'!$C$2-L$2+L$5)/((L$4*L$2)-L$5)*G363*-1))))","v":33.990974426269531},{"$f":"L$13*H363+(1-L$13)*I362","v":33.353967017621109},null,null,0,3819.6251990639162,{"$f":"AVERAGE(D$79:D363)","v":3774.1212916324012},{"$f":"AVERAGE(M$79:M363)","v":3798.4694216565754},3771.0526488503479,{"$f":"AVERAGE(P$79:P363)","v":3740.9404818253702},null,null,null,null,40098.108958332807,{"$f":"LOOKUP($V363,Data!$A$6:$A$1806,Data!$B$6:$B$1806)","v":59.966999053955078},{"$f":"LOOKUP($V363,Data!$A$6:$A$1806,Data!$C$6:$C$1806)","v":3779.05615234375},{"$f":"LOOKUP($V363,Data!$A$6:$A$1806,Data!$D$6:$D$1806)","v":350},{"$f":"IF($Z$1=\"+\",LOOKUP($V363,Data!$A$6:$A$1806,Data!$E$6:$E$1806)*-1,LOOKUP($V363,Data!$A$6:$A$1806,Data!$E$6:$E$1806))","v":236.28535461425781},{"$f":"LOOKUP($V363,Data!$A$6:$A$1806,Data!$F$6:$F$1806)","v":16},null,{"$f":"LOOKUP($V363,Data!$A$6:$A$1806,Data!$H$6:$H$1806)","v":10},{"$f":"LOOKUP($V363,Data!$A$6:$A$1806,Data!$I$6:$I$1806)","v":0},{"$f":"IF(LOOKUP($V363,Data!$A$6:$A$1806,Data!$J$6:$J$1806)>0,(LOOKUP($V363,Data!$A$6:$A$1806,Data!$J$6:$J$1806)*-1),LOOKUP($V363,Data!$A$6:$A$1806,Data!$J$6:$J$1806))","v":-103},{"$f":"LOOKUP($V363,Data!$A$6:$A$1806,Data!$K$6:$K$1806)","v":7746.18},33.990974426269531,null,null,null,null,null,null,null,null,null,null,null,null,null,null,133.3291015625," ",3.3000946044921875E-2," "]
[null,40098.108981480953,{"$f":"LOOKUP(B364,Data!$A$6:$A$1806,Data!B$6:B$1806)","v":59.965999603271484},{"$f":"LOOKUP(B364,Data!$A$6:$A$1806,Data!C$6:C$1806)","v":3778.63330078125},null,null,{"$f":"AE364*-M$4*10","v":3090},{"$f":"(IF((C364-L$2)>0,(IF(C364<'Copy Results'!$C$3,((C364-L$2-L$5)/((L$4*L$2)-L$5)*G364*-1),(('Copy Results'!$C$3-L$2-L$5)/((L$4*L$2)-L$5)*G364*-1))),IF(C364>'Copy Results'!$C$2,((C364-L$2+L$5)/((L$4*L$2)-L$5)*G364*-1),(('Copy Results'!$C$2-L$2+L$5)/((L$4*L$2)-L$5)*G364*-1))))","v":35.020408630371094},33.937221582083609,null,null,0,3820.2084536283787,{"$f":"AVERAGE(D$79:D364)","v":3774.1370678881667},{"$f":"AVERAGE(M$79:M364)","v":3798.5454322578753},3771.0526488503479,{"$f":"AVERAGE(P$79:P364)","v":3741.0461385517733},null,null,null,null,40098.108981480953,{"$f":"LOOKUP($V364,Data!$A$6:$A$1806,Data!$B$6:$B$1806)","v":59.965999603271484},{"$f":"LOOKUP($V364,Data!$A$6:$A$1806,Data!$C$6:$C$1806)","v":3778.63330078125},{"$f":"LOOKUP($V364,Data!$A$6:$A$1806,Data!$D$6:$D$1806)","v":350},{"$f":"IF($Z$1=\"+\",LOOKUP($V364,Data!$A$6:$A$1806,Data!$E$6:$E$1806)*-1,LOOKUP($V364,Data!$A$6:$A$1806,Data!$E$6:$E$1806))","v":236.28535461425781},{"$f":"LOOKUP($V364,Data!$A$6:$A$1806,Data!$F$6:$F$1806)","v":16},null,{"$f":"LOOKUP($V364,Data!$A$6:$A$1806,Data!$H$6:$H$1806)","v":10},{"$f":"LOOKUP($V364,Data!$A$6:$A$1806,Data!$I$6:$I$1806)","v":0},{"$f":"IF(LOOKUP($V364,Data!$A$6:$A$1806,Data!$J$6:$J$1806)>0,(LOOKUP($V364,Data!$A$6:$A$1806,Data!$J$6:$J$1806)*-1),LOOKUP($V364,Data!$A$6:$A$1806,Data!$J$6:$J$1806))","v":-103},{"$f":"LOOKUP($V364,Data!$A$6:$A$1806,Data!$K$6:$K$1806)","v":7746.51},{"$f":"(IF((W364-$L$2)>0,((W364-$L$2-$L$5)/(($L$4*$L$2)-$L$5)*G364*-1),((W364-$L$2+$L$5)/(($L$4*$L$2)-$L$5)*G364*-1)))","v":35.020408630371094},null,null,null,null,null,null,null,null,null,null,null,null,null,null,132.90625," ",{"$f":"ABS(C364-60)","v":3.4000396728515625E-2},{"$f":"IF(AX364>0.036,AE364,\" \")","v":" "}]
[null,40098.109004629099,{"$f":"LOOKUP(B365,Data!$A$6:$A$1806,Data!B$6:B$1806)","v":59.965000152587891},{"$f":"LOOKUP(B365,Data!$A$6:$A$1806,Data!C$6:C$1806)","v":3779.211669921875},null,null,3090,{"$f":"(IF((C365-L$2)>0,(IF(C365<'Copy Results'!$C$3,((C365-L$2-L$5)/((L$4*L$2)-L$5)*G365*-1),(('Copy Results'!$C$3-L$2-L$5)/((L$4*L$2)-L$5)*G365*-1))),IF(C365>'Copy Results'!$C$2,((C365-L$2+L$5)/((L$4*L$2)-L$5)*G365*-1),(('Copy Results'!$C$2-L$2+L$5)/((L$4*L$2)-L$5)*G365*-1))))","v":36.049842834472656},34.676639020419778,null,null,0,3820.9478710667149,{"$f":"AVERAGE(D$79:D365)","v":3774.1547494283536},{"$f":"AVERAGE(M$79:M365)","v":3798.6234895359548},3771.0526488503479,{"$f":"AVERAGE(P$79:P365)","v":3741.1510564199498},null,null,null,null,40098.109004629099,{"$f":"LOOKUP($V365,Data!$A$6:$A$1806,Data!$B$6:$B$1806)","v":59.965000152587891},{"$f":"LOOKUP($V365,Data!$A$6:$A$1806,Data!$C$6:$C$1806)","v":3779.211669921875},{"$f":"LOOKUP($V365,Data!$A$6:$A$1806,Data!$D$6:$D$1806)","v":350},{"$f":"IF($Z$1=\"+\",LOOKUP($V365,Data!$A$6:$A$1806,Data!$E$6:$E$1806)*-1,LOOKUP($V365,Data!$A$6:$A$1806,Data!$E$6:$E$1806))","v":223.01573181152344},{"$f":"LOOKUP($V365,Data!$A$6:$A$1806,Data!$F$6:$F$1806)","v":16},null,{"$f":"LOOKUP($V365,Data!$A$6:$A$1806,Data!$H$6:$H$1806)","v":10},{"$f":"LOOKUP($V365,Data!$A$6:$A$1806,Data!$I$6:$I$1806)","v":0},{"$f":"IF(LOOKUP($V365,Data!$A$6:$A$1806,Data!$J$6:$J$1806)>0,(LOOKUP($V365,Data!$A$6:$A$1806,Data!$J$6:$J$1806)*-1),LOOKUP($V365,Data!$A$6:$A$1806,Data!$J$6:$J$1806))","v":-103},{"$f":"LOOKUP($V365,Data!$A$6:$A$1806,Data!$K$6:$K$1806)","v":7746.84},36.049842834472656,null,null,null,null,null,null,null,null,null,null,null,null,null,null,133.484619140625," ",3.4999847412109375E-2," "]
[null,{"$f":"B365+TIME(0,0,$B$1)","v":40098.109027777246},{"$f":"LOOKUP(B366,Data!$A$6:$A$1806,Data!B$6:B$1806)","v":59.971000671386719},{"$f":"LOOKUP(B366,Data!$A$6:$A$1806,Data!C$6:C$1806)","v":3779.334716796875},null,null,3090,{"$f":"(IF((C366-L$2)>0,(IF(C366<'Copy Results'!$C$3,((C366-L$2-L$5)/((L$4*L$2)-L$5)*G366*-1),(('Copy Results'!$C$3-L$2-L$5)/((L$4*L$2)-L$5)*G366*-1))),IF(C366>'Copy Results'!$C$2,((C366-L$2+L$5)/((L$4*L$2)-L$5)*G366*-1),(('Copy Results'!$C$2-L$2+L$5)/((L$4*L$2)-L$5)*G366*-1))))","v":29.869308471679688},32.994073328360749,null,null,0,3819.2653053746558,{"$f":"AVERAGE(D$79:D366)","v":3774.1727354261611},{"$f":"AVERAGE(M$79:M366)","v":3798.6951625076172},3771.0526488503479,{"$f":"AVERAGE(P$79:P366)","v":3741.2552431531562},null,null,null,null,40098.109027777246,{"$f":"LOOKUP($V366,Data!$A$6:$A$1806,Data!$B$6:$B$1806)","v":59.971000671386719},{"$f":"LOOKUP($V366,Data!$A$6:$A$1806,Data!$C$6:$C$1806)","v":3779.334716796875},{"$f":"LOOKUP($V366,Data!$A$6:$A$1806,Data!$D$6:$D$1806)","v":350},{"$f":"IF($Z$1=\"+\",LOOKUP($V366,Data!$A$6:$A$1806,Data!$E$6:$E$1806)*-1,LOOKUP($V366,Data!$A$6:$A$1806,Data!$E$6:$E$1806))","v":223.01573181152344},{"$f":"LOOKUP($V366,Data!$A$6:$A$1806,Data!$F$6:$F$1806)","v":16},null,{"$f":"LOOKUP($V366,Data!$A$6:$A$1806,Data!$H$6:$H$1806)","v":10},{"$f":"LOOKUP($V366,Data!$A$6:$A$1806,Data!$I$6:$I$1806)","v":0},{"$f":"IF(LOOKUP($V366,Data!$A$6:$A$1806,Data!$J$6:$J$1806)>0,(LOOKUP($V366,Data!$A$6:$A$1806,Data!$J$6:$J$1806)*-1),LOOKUP($V366,Data!$A$6:$A$1806,Data!$J$6:$J$1806))","v":-103},{"$f":"LOOKUP($V366,Data!$A$6:$A$1806,Data!$K$6:$K$1806)","v":7747.17},29.869308471679688,null,null,null,null,null,null,null,null,null,null,null,null,null,null,133.607666015625," ",2.899932861328125E-2," "]
[null,40098.109050925392,{"$f":"LOOKUP(B367,Data!$A$6:$A$1806,Data!B$6:B$1806)","v":59.966999053955078},{"$f":"LOOKUP(B367,Data!$A$6:$A$1806,Data!C$6:C$1806)","v":3776.42919921875},null,null,3090,{"$f":"(IF((C367-L$2)>0,(IF(C367<'Copy Results'!$C$3,((C367-L$2-L$5)/((L$4*L$2)-L$5)*G367*-1),(('Copy Results'!$C$3-L$2-L$5)/((L$4*L$2)-L$5)*G367*-1))),IF(C367>'Copy Results'!$C$2,((C367-L$2+L$5)/((L$4*L$2)-L$5)*G367*-1),(('Copy Results'!$C$2-L$2+L$5)/((L$4*L$2)-L$5)*G367*-1))))","v":33.990974426269531},33.342988712628824,null,null,0,3819.6142207589237,{"$f":"AVERAGE(D$79:D367)","v":3774.1805432593533},{"$f":"AVERAGE(M$79:M367)","v":3798.7675467922236},3771.0526488503479,{"$f":"AVERAGE(P$79:P367)","v":3741.3587063673822},null,null,null,null,40098.109050925392,{"$f":"LOOKUP($V367,Data!$A$6:$A$1806,Data!$B$6:$B$1806)","v":59.966999053955078},{"$f":"LOOKUP($V367,Data!$A$6:$A$1806,Data!$C$6:$C$1806)","v":3776.42919921875},{"$f":"LOOKUP($V367,Data!$A$6:$A$1806,Data!$D$6:$D$1806)","v":350},{"$f":"IF($Z$1=\"+\",LOOKUP($V367,Data!$A$6:$A$1806,Data!$E$6:$E$1806)*-1,LOOKUP($V367,Data!$A$6:$A$1806,Data!$E$6:$E$1806))","v":223.01573181152344},{"$f":"LOOKUP($V367,Data!$A$6:$A$1806,Data!$F$6:$F$1806)","v":16},null,{"$f":"LOOKUP($V367,Data!$A$6:$A$1806,Data!$H$6:$H$1806)","v":10},{"$f":"LOOKUP($V367,Data!$A$6:$A$1806,Data!$I$6:$I$1806)","v":0},{"$f":"IF(LOOKUP($V367,Data!$A$6:$A$1806,Data!$J$6:$J$1806)>0,(LOOKUP($V367,Data!$A$6:$A$1806,Data!$J$6:$J$1806)*-1),LOOKUP($V367,Data!$A$6:$A$1806,Data!$J$6:$J$1806))","v":-103},{"$f":"LOOKUP($V367,Data!$A$6:$A$1806,Data!$K$6:$K$1806)","v":7747.5},33.990974426269531,null,null,null,null,null,null,null,null,null,null,null,null,null,null,130.7021484375," ",3.3000946044921875E-2," "]
[null,40098.109074073538,{"$f":"LOOKUP(B368,Data!$A$6:$A$1806,Data!B$6:B$1806)","v":59.965000152587891},{"$f":"LOOKUP(B368,Data!$A$6:$A$1806,Data!C$6:C$1806)","v":3775.646728515625},null,null,3090,{"$f":"(IF((C368-L$2)>0,(IF(C368<'Copy Results'!$C$3,((C368-L$2-L$5)/((L$4*L$2)-L$5)*G368*-1),(('Copy Results'!$C$3-L$2-L$5)/((L$4*L$2)-L$5)*G368*-1))),IF(C368>'Copy Results'!$C$2,((C368-L$2+L$5)/((L$4*L$2)-L$5)*G368*-1),(('Copy Results'!$C$2-L$2+L$5)/((L$4*L$2)-L$5)*G368*-1))))","v":36.049842834472656},34.290387655274166,null,null,0,3820.5616197015688,{"$f":"AVERAGE(D$79:D368)","v":3774.1855990705817},{"$f":"AVERAGE(M$79:M368)","v":3798.8426987677731},3771.0526488503479,{"$f":"AVERAGE(P$79:P368)","v":3741.4614535732053},null,null,null,null,40098.109074073538,{"$f":"LOOKUP($V368,Data!$A$6:$A$1806,Data!$B$6:$B$1806)","v":59.965000152587891},{"$f":"LOOKUP($V368,Data!$A$6:$A$1806,Data!$C$6:$C$1806)","v":3775.646728515625},{"$f":"LOOKUP($V368,Data!$A$6:$A$1806,Data!$D$6:$D$1806)","v":350},{"$f":"IF($Z$1=\"+\",LOOKUP($V368,Data!$A$6:$A$1806,Data!$E$6:$E$1806)*-1,LOOKUP($V368,Data!$A$6:$A$1806,Data!$E$6:$E$1806))","v":223.01573181152344},{"$f":"LOOKUP($V368,Data!$A$6:$A$1806,Data!$F$6:$F$1806)","v":16},null,{"$f":"LOOKUP($V368,Data!$A$6:$A$1806,Data!$H$6:$H$1806)","v":10},{"$f":"LOOKUP($V368,Data!$A$6:$A$1806,Data!$I$6:$I$1806)","v":0},{"$f":"IF(LOOKUP($V368,Data!$A$6:$A$1806,Data!$J$6:$J$1806)>0,(LOOKUP($V368,Data!$A$6:$A$1806,Data!$J$6:$J$1806)*-1),LOOKUP($V368,Data!$A$6:$A$1806,Data!$J$6:$J$1806))","v":-103},{"$f":"LOOKUP($V368,Data!$A$6:$A$1806,Data!$K$6:$K$1806)","v":7747.83},36.049842834472656,null,null,null,null,null,null,null,null,null,null,null,null,null,null,129.919677734375," ",3.4999847412109375E-2," "]
[null,40098.109097221684,{"$f":"LOOKUP(B369,Data!$A$6:$A$1806,Data!B$6:B$1806)","v":59.962001800537109},{"$f":"LOOKUP(B369,Data!$A$6:$A$1806,Data!C$6:C$1806)","v":3776.5966796875},null,null,3090,{"$f":"(IF((C369-L$2)>0,(IF(C369<'Copy Results'!$C$3,((C369-L$2-L$5)/((L$4*L$2)-L$5)*G369*-1),(('Copy Results'!$C$3-L$2-L$5)/((L$4*L$2)-L$5)*G369*-1))),IF(C369>'Copy Results'!$C$2,((C369-L$2+L$5)/((L$4*L$2)-L$5)*G369*-1),(('Copy Results'!$C$2-L$2+L$5)/((L$4*L$2)-L$5)*G369*-1))))","v":39.138145446777344},35.987102882300277,null,null,0,3822.2583349285951,{"$f":"AVERAGE(D$79:D369)","v":3774.1938845709838},{"$f":"AVERAGE(M$79:M369)","v":3798.923164871419},3771.0526488503479,{"$f":"AVERAGE(P$79:P369)","v":3741.5634921776091},null,null,null,null,40098.109097221684,{"$f":"LOOKUP($V369,Data!$A$6:$A$1806,Data!$B$6:$B$1806)","v":59.962001800537109},{"$f":"LOOKUP($V369,Data!$A$6:$A$1806,Data!$C$6:$C$1806)","v":3776.5966796875},{"$f":"LOOKUP($V369,Data!$A$6:$A$1806,Data!$D$6:$D$1806)","v":350},{"$f":"IF($Z$1=\"+\",LOOKUP($V369,Data!$A$6:$A$1806,Data!$E$6:$E$1806)*-1,LOOKUP($V369,Data!$A$6:$A$1806,Data!$E$6:$E$1806))","v":223.01573181152344},{"$f":"LOOKUP($V369,Data!$A$6:$A$1806,Data!$F$6:$F$1806)","v":16},null,{"$f":"LOOKUP($V369,Data!$A$6:$A$1806,Data!$H$6:$H$1806)","v":10},{"$f":"LOOKUP($V369,Data!$A$6:$A$1806,Data!$I$6:$I$1806)","v":0},{"$f":"IF(LOOKUP($V369,Data!$A$6:$A$1806,Data!$J$6:$J$1806)>0,(LOOKUP($V369,Data!$A$6:$A$1806,Data!$J$6:$J$1806)*-1),LOOKUP($V369,Data!$A$6:$A$1806,Data!$J$6:$J$1806))","v":-103},{"$f":"LOOKUP($V369,Data!$A$6:$A$1806,Data!$K$6:$K$1806)","v":7748.16},39.138145446777344,null,null,null,null,null,null,null,null,null,null,null,null,null,null,130.86962890625," ",3.7998199462890625E-2,-103]
[null,40098.109120369831,{"$f":"LOOKUP(B370,Data!$A$6:$A$1806,Data!B$6:B$1806)","v":59.964000701904297},{"$f":"LOOKUP(B370,Data!$A$6:$A$1806,Data!C$6:C$1806)","v":3776.55908203125},null,null,3090,{"$f":"(IF((C370-L$2)>0,(IF(C370<'Copy Results'!$C$3,((C370-L$2-L$5)/((L$4*L$2)-L$5)*G370*-1),(('Copy Results'!$C$3-L$2-L$5)/((L$4*L$2)-L$5)*G370*-1))),IF(C370>'Copy Results'!$C$2,((C370-L$2+L$5)/((L$4*L$2)-L$5)*G370*-1),(('Copy Results'!$C$2-L$2+L$5)/((L$4*L$2)-L$5)*G370*-1))))","v":37.079277038574219},36.369363836996158,null,null,0,3822.6405958832911,{"$f":"AVERAGE(D$79:D370)","v":3774.2019845622858},{"$f":"AVERAGE(M$79:M370)","v":3799.0043889502267},3771.0526488503479,{"$f":"AVERAGE(P$79:P370)","v":3741.6648294857623},null,null,null,null,40098.109120369831,{"$f":"LOOKUP($V370,Data!$A$6:$A$1806,Data!$B$6:$B$1806)","v":59.964000701904297},{"$f":"LOOKUP($V370,Data!$A$6:$A$1806,Data!$C$6:$C$1806)","v":3776.55908203125},{"$f":"LOOKUP($V370,Data!$A$6:$A$1806,Data!$D$6:$D$1806)","v":350},{"$f":"IF($Z$1=\"+\",LOOKUP($V370,Data!$A$6:$A$1806,Data!$E$6:$E$1806)*-1,LOOKUP($V370,Data!$A$6:$A$1806,Data!$E$6:$E$1806))","v":223.01573181152344},{"$f":"LOOKUP($V370,Data!$A$6:$A$1806,Data!$F$6:$F$1806)","v":16},null,{"$f":"LOOKUP($V370,Data!$A$6:$A$1806,Data!$H$6:$H$1806)","v":10},{"$f":"LOOKUP($V370,Data!$A$6:$A$1806,Data!$I$6:$I$1806)","v":0},{"$f":"IF(LOOKUP($V370,Data!$A$6:$A$1806,Data!$J$6:$J$1806)>0,(LOOKUP($V370,Data!$A$6:$A$1806,Data!$J$6:$J$1806)*-1),LOOKUP($V370,Data!$A$6:$A$1806,Data!$J$6:$J$1806))","v":-103},{"$f":"LOOKUP($V370,Data!$A$6:$A$1806,Data!$K$6:$K$1806)","v":7748.49},37.079277038574219,null,null,null,null,null,null,null,null,null,null,null,null,null,null,130.83203125," ",3.5999298095703125E-2," "]
[null,40098.109143517977,{"$f":"LOOKUP(B371,Data!$A$6:$A$1806,Data!B$6:B$1806)","v":59.970001220703125},{"$f":"LOOKUP(B371,Data!$A$6:$A$1806,Data!C$6:C$1806)","v":3776.02294921875},null,null,3090,{"$f":"(IF((C371-L$2)>0,(IF(C371<'Copy Results'!$C$3,((C371-L$2-L$5)/((L$4*L$2)-L$5)*G371*-1),(('Copy Results'!$C$3-L$2-L$5)/((L$4*L$2)-L$5)*G371*-1))),IF(C371>'Copy Results'!$C$2,((C371-L$2+L$5)/((L$4*L$2)-L$5)*G371*-1),(('Copy Results'!$C$2-L$2+L$5)/((L$4*L$2)-L$5)*G371*-1))))","v":30.898742675781254},34.454646430570939,null,null,0,3820.725878476866,{"$f":"AVERAGE(D$79:D371)","v":3774.2081994587243},{"$f":"AVERAGE(M$79:M371)","v":3799.0785237267683},3771.0526488503479,{"$f":"AVERAGE(P$79:P371)","v":3741.7654727027643},null,null,null,null,40098.109143517977,{"$f":"LOOKUP($V371,Data!$A$6:$A$1806,Data!$B$6:$B$1806)","v":59.970001220703125},{"$f":"LOOKUP($V371,Data!$A$6:$A$1806,Data!$C$6:$C$1806)","v":3776.02294921875},{"$f":"LOOKUP($V371,Data!$A$6:$A$1806,Data!$D$6:$D$1806)","v":350},{"$f":"IF($Z$1=\"+\",LOOKUP($V371,Data!$A$6:$A$1806,Data!$E$6:$E$1806)*-1,LOOKUP($V371,Data!$A$6:$A$1806,Data!$E$6:$E$1806))","v":223.01573181152344},{"$f":"LOOKUP($V371,Data!$A$6:$A$1806,Data!$F$6:$F$1806)","v":16},null,{"$f":"LOOKUP($V371,Data!$A$6:$A$1806,Data!$H$6:$H$1806)","v":10},{"$f":"LOOKUP($V371,Data!$A$6:$A$1806,Data!$I$6:$I$1806)","v":0},{"$f":"IF(LOOKUP($V371,Data!$A$6:$A$1806,Data!$J$6:$J$1806)>0,(LOOKUP($V371,Data!$A$6:$A$1806,Data!$J$6:$J$1806)*-1),LOOKUP($V371,Data!$A$6:$A$1806,Data!$J$6:$J$1806))","v":-103},{"$f":"LOOKUP($V371,Data!$A$6:$A$1806,Data!$K$6:$K$1806)","v":7748.82},30.898742675781254,null,null,null,null,null,null,null,null,null,null,null,null,null,null,130.2958984375," ",2.9998779296875E-2," "]
[null,40098.109166666123,{"$f":"LOOKUP(B372,Data!$A$6:$A$1806,Data!B$6:B$1806)","v":59.966999053955078},{"$f":"LOOKUP(B372,Data!$A$6:$A$1806,Data!C$6:C$1806)","v":3773.169921875},null,null,3090,{"$f":"(IF((C372-L$2)>0,(IF(C372<'Copy Results'!$C$3,((C372-L$2-L$5)/((L$4*L$2)-L$5)*G372*-1),(('Copy Results'!$C$3-L$2-L$5)/((L$4*L$2)-L$5)*G372*-1))),IF(C372>'Copy Results'!$C$2,((C372-L$2+L$5)/((L$4*L$2)-L$5)*G372*-1),(('Copy Results'!$C$2-L$2+L$5)/((L$4*L$2)-L$5)*G372*-1))))","v":33.990974426269531},34.292361229065449,null,null,0,3820.5635932753603,{"$f":"AVERAGE(D$79:D372)","v":3774.2046679023174},{"$f":"AVERAGE(M$79:M372)","v":3799.1516021946209},3771.0526488503479,{"$f":"AVERAGE(P$79:P372)","v":3741.8654289353494},null,null,null,null,40098.109166666123,{"$f":"LOOKUP($V372,Data!$A$6:$A$1806,Data!$B$6:$B$1806)","v":59.966999053955078},{"$f":"LOOKUP($V372,Data!$A$6:$A$1806,Data!$C$6:$C$1806)","v":3773.169921875},{"$f":"LOOKUP($V372,Data!$A$6:$A$1806,Data!$D$6:$D$1806)","v":350},{"$f":"IF($Z$1=\"+\",LOOKUP($V372,Data!$A$6:$A$1806,Data!$E$6:$E$1806)*-1,LOOKUP($V372,Data!$A$6:$A$1806,Data!$E$6:$E$1806))","v":223.01573181152344},{"$f":"LOOKUP($V372,Data!$A$6:$A$1806,Data!$F$6:$F$1806)","v":16},null,{"$f":"LOOKUP($V372,Data!$A$6:$A$1806,Data!$H$6:$H$1806)","v":10},{"$f":"LOOKUP($V372,Data!$A$6:$A$1806,Data!$I$6:$I$1806)","v":0},{"$f":"IF(LOOKUP($V372,Data!$A$6:$A$1806,Data!$J$6:$J$1806)>0,(LOOKUP($V372,Data!$A$6:$A$1806,Data!$J$6:$J$1806)*-1),LOOKUP($V372,Data!$A$6:$A$1806,Data!$J$6:$J$1806))","v":-103},{"$f":"LOOKUP($V372,Data!$A$6:$A$1806,Data!$K$6:$K$1806)","v":7749.15},33.990974426269531,null,null,null,null,null,null,null,null,null,null,null,null,null,null,127.44287109375," ",3.3000946044921875E-2," "]
[null,40098.109189814269,{"$f":"LOOKUP(B373,Data!$A$6:$A$1806,Data!B$6:B$1806)","v":59.969001770019531},{"$f":"LOOKUP(B373,Data!$A$6:$A$1806,Data!C$6:C$1806)","v":3771.73046875},null,null,3090,{"$f":"(IF((C373-L$2)>0,(IF(C373<'Copy Results'!$C$3,((C373-L$2-L$5)/((L$4*L$2)-L$5)*G373*-1),(('Copy Results'!$C$3-L$2-L$5)/((L$4*L$2)-L$5)*G373*-1))),IF(C373>'Copy Results'!$C$2,((C373-L$2+L$5)/((L$4*L$2)-L$5)*G373*-1),(('Copy Results'!$C$2-L$2+L$5)/((L$4*L$2)-L$5)*G373*-1))))","v":31.928176879882809},33.464896706851526,null,null,0,3819.7361287531462,{"$f":"AVERAGE(D$79:D373)","v":3774.1962807865466},{"$f":"AVERAGE(M$79:M373)","v":3799.2213802507508},3771.0526488503479,{"$f":"AVERAGE(P$79:P373)","v":3741.9647051935635},null,null,null,null,40098.109189814269,{"$f":"LOOKUP($V373,Data!$A$6:$A$1806,Data!$B$6:$B$1806)","v":59.969001770019531},{"$f":"LOOKUP($V373,Data!$A$6:$A$1806,Data!$C$6:$C$1806)","v":3771.73046875},{"$f":"LOOKUP($V373,Data!$A$6:$A$1806,Data!$D$6:$D$1806)","v":350},{"$f":"IF($Z$1=\"+\",LOOKUP($V373,Data!$A$6:$A$1806,Data!$E$6:$E$1806)*-1,LOOKUP($V373,Data!$A$6:$A$1806,Data!$E$6:$E$1806))","v":223.01573181152344},{"$f":"LOOKUP($V373,Data!$A$6:$A$1806,Data!$F$6:$F$1806)","v":16},null,{"$f":"LOOKUP($V373,Data!$A$6:$A$1806,Data!$H$6:$H$1806)","v":10},{"$f":"LOOKUP($V373,Data!$A$6:$A$1806,Data!$I$6:$I$1806)","v":0},{"$f":"IF(LOOKUP($V373,Data!$A$6:$A$1806,Data!$J$6:$J$1806)>0,(LOOKUP($V373,Data!$A$6:$A$1806,Data!$J$6:$J$1806)*-1),LOOKUP($V373,Data!$A$6:$A$1806,Data!$J$6:$J$1806))","v":-103},{"$f":"LOOKUP($V373,Data!$A$6:$A$1806,Data!$K$6:$K$1806)","v":7749.48},31.928176879882809,null,null,null,null,null,null,null,null,null,null,null,null,null,null,126.00341796875," ",3.099822998046875E-2," "]
[null,40098.109212962416,{"$f":"LOOKUP(B374,Data!$A$6:$A$1806,Data!B$6:B$1806)","v":59.967998504638672},{"$f":"LOOKUP(B374,Data!$A$6:$A$1806,Data!C$6:C$1806)","v":3768.79296875},null,null,3090,{"$f":"(IF((C374-L$2)>0,(IF(C374<'Copy Results'!$C$3,((C374-L$2-L$5)/((L$4*L$2)-L$5)*G374*-1),(('Copy Results'!$C$3-L$2-L$5)/((L$4*L$2)-L$5)*G374*-1))),IF(C374>'Copy Results'!$C$2,((C374-L$2+L$5)/((L$4*L$2)-L$5)*G374*-1),(('Copy Results'!$C$2-L$2+L$5)/((L$4*L$2)-L$5)*G374*-1))))","v":32.961540222167969},33.288721937212287,null,null,0,3819.5599539835071,{"$f":"AVERAGE(D$79:D374)","v":3774.1780263539908},{"$f":"AVERAGE(M$79:M374)","v":3799.2900916484964},3771.0526488503479,{"$f":"AVERAGE(P$79:P374)","v":3742.0633083923994},null,null,null,null,40098.109212962416,{"$f":"LOOKUP($V374,Data!$A$6:$A$1806,Data!$B$6:$B$1806)","v":59.967998504638672},{"$f":"LOOKUP($V374,Data!$A$6:$A$1806,Data!$C$6:$C$1806)","v":3768.79296875},{"$f":"LOOKUP($V374,Data!$A$6:$A$1806,Data!$D$6:$D$1806)","v":350},{"$f":"IF($Z$1=\"+\",LOOKUP($V374,Data!$A$6:$A$1806,Data!$E$6:$E$1806)*-1,LOOKUP($V374,Data!$A$6:$A$1806,Data!$E$6:$E$1806))","v":223.01573181152344},{"$f":"LOOKUP($V374,Data!$A$6:$A$1806,Data!$F$6:$F$1806)","v":16},null,{"$f":"LOOKUP($V374,Data!$A$6:$A$1806,Data!$H$6:$H$1806)","v":10},{"$f":"LOOKUP($V374,Data!$A$6:$A$1806,Data!$I$6:$I$1806)","v":0},{"$f":"IF(LOOKUP($V374,Data!$A$6:$A$1806,Data!$J$6:$J$1806)>0,(LOOKUP($V374,Data!$A$6:$A$1806,Data!$J$6:$J$1806)*-1),LOOKUP($V374,Data!$A$6:$A$1806,Data!$J$6:$J$1806))","v":-103},{"$f":"LOOKUP($V374,Data!$A$6:$A$1806,Data!$K$6:$K$1806)","v":7749.81},32.961540222167969,null,null,null,null,null,null,null,null,null,null,null,null,null,null,123.06591796875," ",3.2001495361328125E-2," "]
[null,40098.109236110562,{"$f":"LOOKUP(B375,Data!$A$6:$A$1806,Data!B$6:B$1806)","v":59.963001251220703},{"$f":"LOOKUP(B375,Data!$A$6:$A$1806,Data!C$6:C$1806)","v":3768.5029296875},null,null,3090,{"$f":"(IF((C375-L$2)>0,(IF(C375<'Copy Results'!$C$3,((C375-L$2-L$5)/((L$4*L$2)-L$5)*G375*-1),(('Copy Results'!$C$3-L$2-L$5)/((L$4*L$2)-L$5)*G375*-1))),IF(C375>'Copy Results'!$C$2,((C375-L$2+L$5)/((L$4*L$2)-L$5)*G375*-1),(('Copy Results'!$C$2-L$2+L$5)/((L$4*L$2)-L$5)*G375*-1))))","v":38.108711242675781},34.975718194124511,null,null,0,3821.2469502404192,{"$f":"AVERAGE(D$79:D375)","v":3774.1589182844064},{"$f":"AVERAGE(M$79:M375)","v":3799.3640204653038},3771.0526488503479,{"$f":"AVERAGE(P$79:P375)","v":3742.1612453534058},null,null,null,null,40098.109236110562,{"$f":"LOOKUP($V375,Data!$A$6:$A$1806,Data!$B$6:$B$1806)","v":59.963001251220703},{"$f":"LOOKUP($V375,Data!$A$6:$A$1806,Data!$C$6:$C$1806)","v":3768.5029296875},{"$f":"LOOKUP($V375,Data!$A$6:$A$1806,Data!$D$6:$D$1806)","v":350},{"$f":"IF($Z$1=\"+\",LOOKUP($V375,Data!$A$6:$A$1806,Data!$E$6:$E$1806)*-1,LOOKUP($V375,Data!$A$6:$A$1806,Data!$E$6:$E$1806))","v":223.01573181152344},{"$f":"LOOKUP($V375,Data!$A$6:$A$1806,Data!$F$6:$F$1806)","v":16},null,{"$f":"LOOKUP($V375,Data!$A$6:$A$1806,Data!$H$6:$H$1806)","v":10},{"$f":"LOOKUP($V375,Data!$A$6:$A$1806,Data!$I$6:$I$1806)","v":0},{"$f":"IF(LOOKUP($V375,Data!$A$6:$A$1806,Data!$J$6:$J$1806)>0,(LOOKUP($V375,Data!$A$6:$A$1806,Data!$J$6:$J$1806)*-1),LOOKUP($V375,Data!$A$6:$A$1806,Data!$J$6:$J$1806))","v":-103},{"$f":"LOOKUP($V375,Data!$A$6:$A$1806,Data!$K$6:$K$1806)","v":7750.14},38.108711242675781,null,null,null,null,null,null,null,null,null,null,null,null,null,null,122.77587890625," ",3.6998748779296875E-2,-103]
[null,40098.109259258708,{"$f":"LOOKUP(B376,Data!$A$6:$A$1806,Data!B$6:B$1806)","v":59.965000152587891},{"$f":"LOOKUP(B376,Data!$A$6:$A$1806,Data!C$6:C$1806)","v":3768.91748046875},null,null,3090,{"$f":"(IF((C376-L$2)>0,(IF(C376<'Copy Results'!$C$3,((C376-L$2-L$5)/((L$4*L$2)-L$5)*G376*-1),(('Copy Results'!$C$3-L$2-L$5)/((L$4*L$2)-L$5)*G376*-1))),IF(C376>'Copy Results'!$C$2,((C376-L$2+L$5)/((L$4*L$2)-L$5)*G376*-1),(('Copy Results'!$C$2-L$2+L$5)/((L$4*L$2)-L$5)*G376*-1))))","v":36.049842834472656},35.351661818246363,null,null,0,3821.6228938645409,{"$f":"AVERAGE(D$79:D376)","v":3774.1413295669045},{"$f":"AVERAGE(M$79:M376)","v":3799.4387146713416},3771.0526488503479,{"$f":"AVERAGE(P$79:P376)","v":3742.2585228062571},null,null,null,null,40098.109259258708,{"$f":"LOOKUP($V376,Data!$A$6:$A$1806,Data!$B$6:$B$1806)","v":59.965000152587891},{"$f":"LOOKUP($V376,Data!$A$6:$A$1806,Data!$C$6:$C$1806)","v":3768.91748046875},{"$f":"LOOKUP($V376,Data!$A$6:$A$1806,Data!$D$6:$D$1806)","v":350},{"$f":"IF($Z$1=\"+\",LOOKUP($V376,Data!$A$6:$A$1806,Data!$E$6:$E$1806)*-1,LOOKUP($V376,Data!$A$6:$A$1806,Data!$E$6:$E$1806))","v":223.01573181152344},{"$f":"LOOKUP($V376,Data!$A$6:$A$1806,Data!$F$6:$F$1806)","v":16},null,{"$f":"LOOKUP($V376,Data!$A$6:$A$1806,Data!$H$6:$H$1806)","v":10},{"$f":"LOOKUP($V376,Data!$A$6:$A$1806,Data!$I$6:$I$1806)","v":0},{"$f":"IF(LOOKUP($V376,Data!$A$6:$A$1806,Data!$J$6:$J$1806)>0,(LOOKUP($V376,Data!$A$6:$A$1806,Data!$J$6:$J$1806)*-1),LOOKUP($V376,Data!$A$6:$A$1806,Data!$J$6:$J$1806))","v":-103},{"$f":"LOOKUP($V376,Data!$A$6:$A$1806,Data!$K$6:$K$1806)","v":7750.47},36.049842834472656,null,null,null,null,null,null,null,null,null,null,null,null,null,null,123.1904296875," ",3.4999847412109375E-2," "]
[null,40098.109282406855,{"$f":"LOOKUP(B377,Data!$A$6:$A$1806,Data!B$6:B$1806)","v":59.970001220703125},{"$f":"LOOKUP(B377,Data!$A$6:$A$1806,Data!C$6:C$1806)","v":3767.3662109375},null,null,3090,{"$f":"(IF((C377-L$2)>0,(IF(C377<'Copy Results'!$C$3,((C377-L$2-L$5)/((L$4*L$2)-L$5)*G377*-1),(('Copy Results'!$C$3-L$2-L$5)/((L$4*L$2)-L$5)*G377*-1))),IF(C377>'Copy Results'!$C$2,((C377-L$2+L$5)/((L$4*L$2)-L$5)*G377*-1),(('Copy Results'!$C$2-L$2+L$5)/((L$4*L$2)-L$5)*G377*-1))))","v":30.898742675781254},33.793140118383576,null,null,0,3820.0643721646779,{"$f":"AVERAGE(D$79:D377)","v":3774.1186703072744},{"$f":"AVERAGE(M$79:M377)","v":3799.5076968034264},3771.0526488503479,{"$f":"AVERAGE(P$79:P377)","v":3742.3551473902976},null,null,null,null,40098.109282406855,{"$f":"LOOKUP($V377,Data!$A$6:$A$1806,Data!$B$6:$B$1806)","v":59.970001220703125},{"$f":"LOOKUP($V377,Data!$A$6:$A$1806,Data!$C$6:$C$1806)","v":3767.3662109375},{"$f":"LOOKUP($V377,Data!$A$6:$A$1806,Data!$D$6:$D$1806)","v":350},{"$f":"IF($Z$1=\"+\",LOOKUP($V377,Data!$A$6:$A$1806,Data!$E$6:$E$1806)*-1,LOOKUP($V377,Data!$A$6:$A$1806,Data!$E$6:$E$1806))","v":223.01573181152344},{"$f":"LOOKUP($V377,Data!$A$6:$A$1806,Data!$F$6:$F$1806)","v":16},null,{"$f":"LOOKUP($V377,Data!$A$6:$A$1806,Data!$H$6:$H$1806)","v":10},{"$f":"LOOKUP($V377,Data!$A$6:$A$1806,Data!$I$6:$I$1806)","v":0},{"$f":"IF(LOOKUP($V377,Data!$A$6:$A$1806,Data!$J$6:$J$1806)>0,(LOOKUP($V377,Data!$A$6:$A$1806,Data!$J$6:$J$1806)*-1),LOOKUP($V377,Data!$A$6:$A$1806,Data!$J$6:$J$1806))","v":-103},{"$f":"LOOKUP($V377,Data!$A$6:$A$1806,Data!$K$6:$K$1806)","v":7750.8},30.898742675781254,null,null,null,null,null,null,null,null,null,null,null,null,null,null,121.63916015625," ",2.9998779296875E-2," "]
[null,40098.109305555001,{"$f":"LOOKUP(B378,Data!$A$6:$A$1806,Data!B$6:B$1806)","v":59.972999572753906},{"$f":"LOOKUP(B378,Data!$A$6:$A$1806,Data!C$6:C$1806)","v":3764.7861328125},null,null,3090,{"$f":"(IF((C378-L$2)>0,(IF(C378<'Copy Results'!$C$3,((C378-L$2-L$5)/((L$4*L$2)-L$5)*G378*-1),(('Copy Results'!$C$3-L$2-L$5)/((L$4*L$2)-L$5)*G378*-1))),IF(C378>'Copy Results'!$C$2,((C378-L$2+L$5)/((L$4*L$2)-L$5)*G378*-1),(('Copy Results'!$C$2-L$2+L$5)/((L$4*L$2)-L$5)*G378*-1))))","v":27.810440063476566},31.699195099166122,null,null,0,3817.9704271454607,{"$f":"AVERAGE(D$79:D378)","v":3774.0875618489586},{"$f":"AVERAGE(M$79:M378)","v":3799.5692392379001},3771.0526488503479,{"$f":"AVERAGE(P$79:P378)","v":3742.45112565605},null,null,null,null,40098.109305555001,{"$f":"LOOKUP($V378,Data!$A$6:$A$1806,Data!$B$6:$B$1806)","v":59.972999572753906},{"$f":"LOOKUP($V378,Data!$A$6:$A$1806,Data!$C$6:$C$1806)","v":3764.7861328125},{"$f":"LOOKUP($V378,Data!$A$6:$A$1806,Data!$D$6:$D$1806)","v":350},{"$f":"IF($Z$1=\"+\",LOOKUP($V378,Data!$A$6:$A$1806,Data!$E$6:$E$1806)*-1,LOOKUP($V378,Data!$A$6:$A$1806,Data!$E$6:$E$1806))","v":223.01573181152344},{"$f":"LOOKUP($V378,Data!$A$6:$A$1806,Data!$F$6:$F$1806)","v":16},null,{"$f":"LOOKUP($V378,Data!$A$6:$A$1806,Data!$H$6:$H$1806)","v":10},{"$f":"LOOKUP($V378,Data!$A$6:$A$1806,Data!$I$6:$I$1806)","v":0},{"$f":"IF(LOOKUP($V378,Data!$A$6:$A$1806,Data!$J$6:$J$1806)>0,(LOOKUP($V378,Data!$A$6:$A$1806,Data!$J$6:$J$1806)*-1),LOOKUP($V378,Data!$A$6:$A$1806,Data!$J$6:$J$1806))","v":-103},{"$f":"LOOKUP($V378,Data!$A$6:$A$1806,Data!$K$6:$K$1806)","v":7751.13},27.810440063476566,null,null,null,null,null,null,null,null,null,null,null,null,null,null,119.05908203125," ",2.700042724609375E-2," "]
[null,40098.109328703147,{"$f":"LOOKUP(B379,Data!$A$6:$A$1806,Data!B$6:B$1806)","v":59.967998504638672},{"$f":"LOOKUP(B379,Data!$A$6:$A$1806,Data!C$6:C$1806)","v":3760.29541015625},null,null,3090,{"$f":"(IF((C379-L$2)>0,(IF(C379<'Copy Results'!$C$3,((C379-L$2-L$5)/((L$4*L$2)-L$5)*G379*-1),(('Copy Results'!$C$3-L$2-L$5)/((L$4*L$2)-L$5)*G379*-1))),IF(C379>'Copy Results'!$C$2,((C379-L$2+L$5)/((L$4*L$2)-L$5)*G379*-1),(('Copy Results'!$C$2-L$2+L$5)/((L$4*L$2)-L$5)*G379*-1))))","v":32.961540222167969},32.141015892216771,null,null,0,3818.4122479385114,{"$f":"AVERAGE(D$79:D379)","v":3774.041740746989},{"$f":"AVERAGE(M$79:M379)","v":3799.6318405957095},3771.0526488503479,{"$f":"AVERAGE(P$79:P379)","v":3742.5464640666974},null,null,null,null,40098.109328703147,{"$f":"LOOKUP($V379,Data!$A$6:$A$1806,Data!$B$6:$B$1806)","v":59.967998504638672},{"$f":"LOOKUP($V379,Data!$A$6:$A$1806,Data!$C$6:$C$1806)","v":3760.29541015625},{"$f":"LOOKUP($V379,Data!$A$6:$A$1806,Data!$D$6:$D$1806)","v":350},{"$f":"IF($Z$1=\"+\",LOOKUP($V379,Data!$A$6:$A$1806,Data!$E$6:$E$1806)*-1,LOOKUP($V379,Data!$A$6:$A$1806,Data!$E$6:$E$1806))","v":223.01573181152344},{"$f":"LOOKUP($V379,Data!$A$6:$A$1806,Data!$F$6:$F$1806)","v":16},null,{"$f":"LOOKUP($V379,Data!$A$6:$A$1806,Data!$H$6:$H$1806)","v":10},{"$f":"LOOKUP($V379,Data!$A$6:$A$1806,Data!$I$6:$I$1806)","v":0},{"$f":"IF(LOOKUP($V379,Data!$A$6:$A$1806,Data!$J$6:$J$1806)>0,(LOOKUP($V379,Data!$A$6:$A$1806,Data!$J$6:$J$1806)*-1),LOOKUP($V379,Data!$A$6:$A$1806,Data!$J$6:$J$1806))","v":-103},{"$f":"LOOKUP($V379,Data!$A$6:$A$1806,Data!$K$6:$K$1806)","v":7751.46},32.961540222167969,null,null,null,null,null,null,null,null,null,null,null,null,null,null,114.568359375," ",3.2001495361328125E-2," "]
[null,40098.109351851293,{"$f":"LOOKUP(B380,Data!$A$6:$A$1806,Data!B$6:B$1806)","v":59.965000152587891},{"$f":"LOOKUP(B380,Data!$A$6:$A$1806,Data!C$6:C$1806)","v":3759.591796875},null,null,3090,{"$f":"(IF((C380-L$2)>0,(IF(C380<'Copy Results'!$C$3,((C380-L$2-L$5)/((L$4*L$2)-L$5)*G380*-1),(('Copy Results'!$C$3-L$2-L$5)/((L$4*L$2)-L$5)*G380*-1))),IF(C380>'Copy Results'!$C$2,((C380-L$2+L$5)/((L$4*L$2)-L$5)*G380*-1),(('Copy Results'!$C$2-L$2+L$5)/((L$4*L$2)-L$5)*G380*-1))))","v":36.049842834472656},33.509105322006334,null,null,0,3819.7803373683009,{"$f":"AVERAGE(D$79:D380)","v":3773.9938932507243},{"$f":"AVERAGE(M$79:M380)","v":3799.6985574724399},3771.0526488503479,{"$f":"AVERAGE(P$79:P380)","v":3742.641168999533},null,null,null,null,40098.109351851293,{"$f":"LOOKUP($V380,Data!$A$6:$A$1806,Data!$B$6:$B$1806)","v":59.965000152587891},{"$f":"LOOKUP($V380,Data!$A$6:$A$1806,Data!$C$6:$C$1806)","v":3759.591796875},{"$f":"LOOKUP($V380,Data!$A$6:$A$1806,Data!$D$6:$D$1806)","v":350},{"$f":"IF($Z$1=\"+\",LOOKUP($V380,Data!$A$6:$A$1806,Data!$E$6:$E$1806)*-1,LOOKUP($V380,Data!$A$6:$A$1806,Data!$E$6:$E$1806))","v":223.01573181152344},{"$f":"LOOKUP($V380,Data!$A$6:$A$1806,Data!$F$6:$F$1806)","v":16},null,{"$f":"LOOKUP($V380,Data!$A$6:$A$1806,Data!$H$6:$H$1806)","v":10},{"$f":"LOOKUP($V380,Data!$A$6:$A$1806,Data!$I$6:$I$1806)","v":0},{"$f":"IF(LOOKUP($V380,Data!$A$6:$A$1806,Data!$J$6:$J$1806)>0,(LOOKUP($V380,Data!$A$6:$A$1806,Data!$J$6:$J$1806)*-1),LOOKUP($V380,Data!$A$6:$A$1806,Data!$J$6:$J$1806))","v":-103},{"$f":"LOOKUP($V380,Data!$A$6:$A$1806,Data!$K$6:$K$1806)","v":7751.79},36.049842834472656,null,null,null,null,null,null,null,null,null,null,null,null,null,null,113.86474609375," ",3.4999847412109375E-2," "]
[null,40098.10937499944,{"$f":"LOOKUP(B381,Data!$A$6:$A$1806,Data!B$6:B$1806)","v":59.967998504638672},{"$f":"LOOKUP(B381,Data!$A$6:$A$1806,Data!C$6:C$1806)","v":3761.893798828125},null,null,3090,{"$f":"(IF((C381-L$2)>0,(IF(C381<'Copy Results'!$C$3,((C381-L$2-L$5)/((L$4*L$2)-L$5)*G381*-1),(('Copy Results'!$C$3-L$2-L$5)/((L$4*L$2)-L$5)*G381*-1))),IF(C381>'Copy Results'!$C$2,((C381-L$2+L$5)/((L$4*L$2)-L$5)*G381*-1),(('Copy Results'!$C$2-L$2+L$5)/((L$4*L$2)-L$5)*G381*-1))))","v":32.961540222167969},33.317457537062907,null,null,0,3819.5886895833573,{"$f":"AVERAGE(D$79:D381)","v":3773.9539589456995},{"$f":"AVERAGE(M$79:M381)","v":3799.7642014728062},3771.0526488503479,{"$f":"AVERAGE(P$79:P381)","v":3742.7352467473829},null,null,null,null,40098.10937499944,{"$f":"LOOKUP($V381,Data!$A$6:$A$1806,Data!$B$6:$B$1806)","v":59.967998504638672},{"$f":"LOOKUP($V381,Data!$A$6:$A$1806,Data!$C$6:$C$1806)","v":3761.893798828125},{"$f":"LOOKUP($V381,Data!$A$6:$A$1806,Data!$D$6:$D$1806)","v":350},{"$f":"IF($Z$1=\"+\",LOOKUP($V381,Data!$A$6:$A$1806,Data!$E$6:$E$1806)*-1,LOOKUP($V381,Data!$A$6:$A$1806,Data!$E$6:$E$1806))","v":223.01573181152344},{"$f":"LOOKUP($V381,Data!$A$6:$A$1806,Data!$F$6:$F$1806)","v":16},null,{"$f":"LOOKUP($V381,Data!$A$6:$A$1806,Data!$H$6:$H$1806)","v":10},{"$f":"LOOKUP($V381,Data!$A$6:$A$1806,Data!$I$6:$I$1806)","v":0},{"$f":"IF(LOOKUP($V381,Data!$A$6:$A$1806,Data!$J$6:$J$1806)>0,(LOOKUP($V381,Data!$A$6:$A$1806,Data!$J$6:$J$1806)*-1),LOOKUP($V381,Data!$A$6:$A$1806,Data!$J$6:$J$1806))","v":-103},{"$f":"LOOKUP($V381,Data!$A$6:$A$1806,Data!$K$6:$K$1806)","v":7752.12},32.961540222167969,null,null,null,null,null,null,null,null,null,null,null,null,null,null,116.166748046875," ",3.2001495361328125E-2," "]
[null,40098.109398147586,{"$f":"LOOKUP(B382,Data!$A$6:$A$1806,Data!B$6:B$1806)","v":59.969001770019531},{"$f":"LOOKUP(B382,Data!$A$6:$A$1806,Data!C$6:C$1806)","v":3761.776611328125},null,null,3090,{"$f":"(IF((C382-L$2)>0,(IF(C382<'Copy Results'!$C$3,((C382-L$2-L$5)/((L$4*L$2)-L$5)*G382*-1),(('Copy Results'!$C$3-L$2-L$5)/((L$4*L$2)-L$5)*G382*-1))),IF(C382>'Copy Results'!$C$2,((C382-L$2+L$5)/((L$4*L$2)-L$5)*G382*-1),(('Copy Results'!$C$2-L$2+L$5)/((L$4*L$2)-L$5)*G382*-1))))","v":31.928176879882809},32.831209307049875,null,null,0,3819.1024413533441,{"$f":"AVERAGE(D$79:D382)","v":3773.9139018811679},{"$f":"AVERAGE(M$79:M382)","v":3799.8278141039918},3771.0526488503479,{"$f":"AVERAGE(P$79:P382)","v":3742.8287035199996},null,null,null,null,40098.109398147586,{"$f":"LOOKUP($V382,Data!$A$6:$A$1806,Data!$B$6:$B$1806)","v":59.969001770019531},{"$f":"LOOKUP($V382,Data!$A$6:$A$1806,Data!$C$6:$C$1806)","v":3761.776611328125},{"$f":"LOOKUP($V382,Data!$A$6:$A$1806,Data!$D$6:$D$1806)","v":350},{"$f":"IF($Z$1=\"+\",LOOKUP($V382,Data!$A$6:$A$1806,Data!$E$6:$E$1806)*-1,LOOKUP($V382,Data!$A$6:$A$1806,Data!$E$6:$E$1806))","v":223.01573181152344},{"$f":"LOOKUP($V382,Data!$A$6:$A$1806,Data!$F$6:$F$1806)","v":16},null,{"$f":"LOOKUP($V382,Data!$A$6:$A$1806,Data!$H$6:$H$1806)","v":10},{"$f":"LOOKUP($V382,Data!$A$6:$A$1806,Data!$I$6:$I$1806)","v":0},{"$f":"IF(LOOKUP($V382,Data!$A$6:$A$1806,Data!$J$6:$J$1806)>0,(LOOKUP($V382,Data!$A$6:$A$1806,Data!$J$6:$J$1806)*-1),LOOKUP($V382,Data!$A$6:$A$1806,Data!$J$6:$J$1806))","v":-103},{"$f":"LOOKUP($V382,Data!$A$6:$A$1806,Data!$K$6:$K$1806)","v":7752.45},31.928176879882809,null,null,null,null,null,null,null,null,null,null,null,null,null,null,116.049560546875," ",3.099822998046875E-2," "]
[null,40098.109421295732,{"$f":"LOOKUP(B383,Data!$A$6:$A$1806,Data!B$6:B$1806)","v":59.966999053955078},{"$f":"LOOKUP(B383,Data!$A$6:$A$1806,Data!C$6:C$1806)","v":3760.58251953125},null,null,3090,{"$f":"(IF((C383-L$2)>0,(IF(C383<'Copy Results'!$C$3,((C383-L$2-L$5)/((L$4*L$2)-L$5)*G383*-1),(('Copy Results'!$C$3-L$2-L$5)/((L$4*L$2)-L$5)*G383*-1))),IF(C383>'Copy Results'!$C$2,((C383-L$2+L$5)/((L$4*L$2)-L$5)*G383*-1),(('Copy Results'!$C$2-L$2+L$5)/((L$4*L$2)-L$5)*G383*-1))))","v":33.990974426269531},33.237127098776753,null,null,0,3819.5083591450712,{"$f":"AVERAGE(D$79:D383)","v":3773.8701924308402},{"$f":"AVERAGE(M$79:M383)","v":3799.8923404811758},3771.0526488503479,{"$f":"AVERAGE(P$79:P383)","v":3742.9215454454279},null,null,null,null,40098.109421295732,{"$f":"LOOKUP($V383,Data!$A$6:$A$1806,Data!$B$6:$B$1806)","v":59.966999053955078},{"$f":"LOOKUP($V383,Data!$A$6:$A$1806,Data!$C$6:$C$1806)","v":3760.58251953125},{"$f":"LOOKUP($V383,Data!$A$6:$A$1806,Data!$D$6:$D$1806)","v":350},{"$f":"IF($Z$1=\"+\",LOOKUP($V383,Data!$A$6:$A$1806,Data!$E$6:$E$1806)*-1,LOOKUP($V383,Data!$A$6:$A$1806,Data!$E$6:$E$1806))","v":223.01573181152344},{"$f":"LOOKUP($V383,Data!$A$6:$A$1806,Data!$F$6:$F$1806)","v":16},null,{"$f":"LOOKUP($V383,Data!$A$6:$A$1806,Data!$H$6:$H$1806)","v":10},{"$f":"LOOKUP($V383,Data!$A$6:$A$1806,Data!$I$6:$I$1806)","v":0},{"$f":"IF(LOOKUP($V383,Data!$A$6:$A$1806,Data!$J$6:$J$1806)>0,(LOOKUP($V383,Data!$A$6:$A$1806,Data!$J$6:$J$1806)*-1),LOOKUP($V383,Data!$A$6:$A$1806,Data!$J$6:$J$1806))","v":-103},{"$f":"LOOKUP($V383,Data!$A$6:$A$1806,Data!$K$6:$K$1806)","v":7752.78},33.990974426269531,null,null,null,null,null,null,null,null,null,null,null,null,null,null,114.85546875," ",3.3000946044921875E-2," "]
[null,40098.109444443879,{"$f":"LOOKUP(B384,Data!$A$6:$A$1806,Data!B$6:B$1806)","v":59.964000701904297},{"$f":"LOOKUP(B384,Data!$A$6:$A$1806,Data!C$6:C$1806)","v":3760.157470703125},null,null,3090,{"$f":"(IF((C384-L$2)>0,(IF(C384<'Copy Results'!$C$3,((C384-L$2-L$5)/((L$4*L$2)-L$5)*G384*-1),(('Copy Results'!$C$3-L$2-L$5)/((L$4*L$2)-L$5)*G384*-1))),IF(C384>'Copy Results'!$C$2,((C384-L$2+L$5)/((L$4*L$2)-L$5)*G384*-1),(('Copy Results'!$C$2-L$2+L$5)/((L$4*L$2)-L$5)*G384*-1))))","v":37.079277038574219},34.581879577705863,null,null,0,3820.8531116240001,{"$f":"AVERAGE(D$79:D384)","v":3773.8253796147364},{"$f":"AVERAGE(M$79:M384)","v":3799.9608397332768},3771.0526488503479,{"$f":"AVERAGE(P$79:P384)","v":3743.0137785713455},null,null,null,null,40098.109444443879,{"$f":"LOOKUP($V384,Data!$A$6:$A$1806,Data!$B$6:$B$1806)","v":59.964000701904297},{"$f":"LOOKUP($V384,Data!$A$6:$A$1806,Data!$C$6:$C$1806)","v":3760.157470703125},{"$f":"LOOKUP($V384,Data!$A$6:$A$1806,Data!$D$6:$D$1806)","v":350},{"$f":"IF($Z$1=\"+\",LOOKUP($V384,Data!$A$6:$A$1806,Data!$E$6:$E$1806)*-1,LOOKUP($V384,Data!$A$6:$A$1806,Data!$E$6:$E$1806))","v":223.01573181152344},{"$f":"LOOKUP($V384,Data!$A$6:$A$1806,Data!$F$6:$F$1806)","v":16},null,{"$f":"LOOKUP($V384,Data!$A$6:$A$1806,Data!$H$6:$H$1806)","v":10},{"$f":"LOOKUP($V384,Data!$A$6:$A$1806,Data!$I$6:$I$1806)","v":0},{"$f":"IF(LOOKUP($V384,Data!$A$6:$A$1806,Data!$J$6:$J$1806)>0,(LOOKUP($V384,Data!$A$6:$A$1806,Data!$J$6:$J$1806)*-1),LOOKUP($V384,Data!$A$6:$A$1806,Data!$J$6:$J$1806))","v":-103},{"$f":"LOOKUP($V384,Data!$A$6:$A$1806,Data!$K$6:$K$1806)","v":7753.11},37.079277038574219,null,null,null,null,null,null,null,null,null,null,null,null,null,null,114.430419921875," ",3.5999298095703125E-2," "]
[null,40098.109467592025,{"$f":"LOOKUP(B385,Data!$A$6:$A$1806,Data!B$6:B$1806)","v":59.965999603271484},{"$f":"LOOKUP(B385,Data!$A$6:$A$1806,Data!C$6:C$1806)","v":3759.781005859375},null,null,3090,{"$f":"(IF((C385-L$2)>0,(IF(C385<'Copy Results'!$C$3,((C385-L$2-L$5)/((L$4*L$2)-L$5)*G385*-1),(('Copy Results'!$C$3-L$2-L$5)/((L$4*L$2)-L$5)*G385*-1))),IF(C385>'Copy Results'!$C$2,((C385-L$2+L$5)/((L$4*L$2)-L$5)*G385*-1),(('Copy Results'!$C$2-L$2+L$5)/((L$4*L$2)-L$5)*G385*-1))))","v":35.020408630371094},34.735364746138693,null,null,0,3821.0065967924329,{"$f":"AVERAGE(D$79:D385)","v":3773.7796324689534},{"$f":"AVERAGE(M$79:M385)","v":3800.0293926878671},3771.0526488503479,{"$f":"AVERAGE(P$79:P385)","v":3743.1054088663745},null,null,null,null,40098.109467592025,{"$f":"LOOKUP($V385,Data!$A$6:$A$1806,Data!$B$6:$B$1806)","v":59.965999603271484},{"$f":"LOOKUP($V385,Data!$A$6:$A$1806,Data!$C$6:$C$1806)","v":3759.781005859375},{"$f":"LOOKUP($V385,Data!$A$6:$A$1806,Data!$D$6:$D$1806)","v":350},{"$f":"IF($Z$1=\"+\",LOOKUP($V385,Data!$A$6:$A$1806,Data!$E$6:$E$1806)*-1,LOOKUP($V385,Data!$A$6:$A$1806,Data!$E$6:$E$1806))","v":223.01573181152344},{"$f":"LOOKUP($V385,Data!$A$6:$A$1806,Data!$F$6:$F$1806)","v":16},null,{"$f":"LOOKUP($V385,Data!$A$6:$A$1806,Data!$H$6:$H$1806)","v":10},{"$f":"LOOKUP($V385,Data!$A$6:$A$1806,Data!$I$6:$I$1806)","v":0},{"$f":"IF(LOOKUP($V385,Data!$A$6:$A$1806,Data!$J$6:$J$1806)>0,(LOOKUP($V385,Data!$A$6:$A$1806,Data!$J$6:$J$1806)*-1),LOOKUP($V385,Data!$A$6:$A$1806,Data!$J$6:$J$1806))","v":-103},{"$f":"LOOKUP($V385,Data!$A$6:$A$1806,Data!$K$6:$K$1806)","v":7753.44},35.020408630371094,null,null,null,null,null,null,null,null,null,null,null,null,null,null,114.053955078125," ",3.4000396728515625E-2," "]
[null,40098.109490740171,{"$f":"LOOKUP(B386,Data!$A$6:$A$1806,Data!B$6:B$1806)","v":59.979000091552734},{"$f":"LOOKUP(B386,Data!$A$6:$A$1806,Data!C$6:C$1806)","v":3759.494873046875},null,null,3090,{"$f":"(IF((C386-L$2)>0,(IF(C386<'Copy Results'!$C$3,((C386-L$2-L$5)/((L$4*L$2)-L$5)*G386*-1),(('Copy Results'!$C$3-L$2-L$5)/((L$4*L$2)-L$5)*G386*-1))),IF(C386>'Copy Results'!$C$2,((C386-L$2+L$5)/((L$4*L$2)-L$5)*G386*-1),(('Copy Results'!$C$2-L$2+L$5)/((L$4*L$2)-L$5)*G386*-1))))","v":21.629905700683594},30.14845408022941,null,null,0,3816.4196861265236,{"$f":"AVERAGE(D$79:D386)","v":3773.7332533799208},{"$f":"AVERAGE(M$79:M386)","v":3800.0826079263043},3771.0526488503479,{"$f":"AVERAGE(P$79:P386)","v":3743.1964422213709},null,null,null,null,40098.109490740171,{"$f":"LOOKUP($V386,Data!$A$6:$A$1806,Data!$B$6:$B$1806)","v":59.979000091552734},{"$f":"LOOKUP($V386,Data!$A$6:$A$1806,Data!$C$6:$C$1806)","v":3759.494873046875},{"$f":"LOOKUP($V386,Data!$A$6:$A$1806,Data!$D$6:$D$1806)","v":350},{"$f":"IF($Z$1=\"+\",LOOKUP($V386,Data!$A$6:$A$1806,Data!$E$6:$E$1806)*-1,LOOKUP($V386,Data!$A$6:$A$1806,Data!$E$6:$E$1806))","v":223.01573181152344},{"$f":"LOOKUP($V386,Data!$A$6:$A$1806,Data!$F$6:$F$1806)","v":16},null,{"$f":"LOOKUP($V386,Data!$A$6:$A$1806,Data!$H$6:$H$1806)","v":10},{"$f":"LOOKUP($V386,Data!$A$6:$A$1806,Data!$I$6:$I$1806)","v":0},{"$f":"IF(LOOKUP($V386,Data!$A$6:$A$1806,Data!$J$6:$J$1806)>0,(LOOKUP($V386,Data!$A$6:$A$1806,Data!$J$6:$J$1806)*-1),LOOKUP($V386,Data!$A$6:$A$1806,Data!$J$6:$J$1806))","v":-103},{"$f":"LOOKUP($V386,Data!$A$6:$A$1806,Data!$K$6:$K$1806)","v":7753.77},21.629905700683594,null,null,null,null,null,null,null,null,null,null,null,null,null,null,113.767822265625," ",2.0999908447265625E-2," "]
[null,40098.109513888317,{"$f":"LOOKUP(B387,Data!$A$6:$A$1806,Data!B$6:B$1806)","v":59.990001678466797},{"$f":"LOOKUP(B387,Data!$A$6:$A$1806,Data!C$6:C$1806)","v":3757.77294921875},null,null,3090,{"$f":"(IF((C387-L$2)>0,(IF(C387<'Copy Results'!$C$3,((C387-L$2-L$5)/((L$4*L$2)-L$5)*G387*-1),(('Copy Results'!$C$3-L$2-L$5)/((L$4*L$2)-L$5)*G387*-1))),IF(C387>'Copy Results'!$C$2,((C387-L$2+L$5)/((L$4*L$2)-L$5)*G387*-1),(('Copy Results'!$C$2-L$2+L$5)/((L$4*L$2)-L$5)*G387*-1))))","v":10.298271179199219},23.200890064868844,null,null,0,3809.4721221111631,{"$f":"AVERAGE(D$79:D387)","v":3773.6816019101434},{"$f":"AVERAGE(M$79:M387)","v":3800.1129947036015},3771.0526488503479,{"$f":"AVERAGE(P$79:P387)","v":3743.2868844506856},null,null,null,null,40098.109513888317,{"$f":"LOOKUP($V387,Data!$A$6:$A$1806,Data!$B$6:$B$1806)","v":59.990001678466797},{"$f":"LOOKUP($V387,Data!$A$6:$A$1806,Data!$C$6:$C$1806)","v":3757.77294921875},{"$f":"LOOKUP($V387,Data!$A$6:$A$1806,Data!$D$6:$D$1806)","v":350},{"$f":"IF($Z$1=\"+\",LOOKUP($V387,Data!$A$6:$A$1806,Data!$E$6:$E$1806)*-1,LOOKUP($V387,Data!$A$6:$A$1806,Data!$E$6:$E$1806))","v":223.01573181152344},{"$f":"LOOKUP($V387,Data!$A$6:$A$1806,Data!$F$6:$F$1806)","v":16},null,{"$f":"LOOKUP($V387,Data!$A$6:$A$1806,Data!$H$6:$H$1806)","v":10},{"$f":"LOOKUP($V387,Data!$A$6:$A$1806,Data!$I$6:$I$1806)","v":0},{"$f":"IF(LOOKUP($V387,Data!$A$6:$A$1806,Data!$J$6:$J$1806)>0,(LOOKUP($V387,Data!$A$6:$A$1806,Data!$J$6:$J$1806)*-1),LOOKUP($V387,Data!$A$6:$A$1806,Data!$J$6:$J$1806))","v":-103},{"$f":"LOOKUP($V387,Data!$A$6:$A$1806,Data!$K$6:$K$1806)","v":7754.1},10.298271179199219,null,null,null,null,null,null,null,null,null,null,null,null,null,null,112.0458984375," ",9.998321533203125E-3," "]
[null,40098.109537036464,{"$f":"LOOKUP(B388,Data!$A$6:$A$1806,Data!B$6:B$1806)","v":59.983001708984375},{"$f":"LOOKUP(B388,Data!$A$6:$A$1806,Data!C$6:C$1806)","v":3753.277099609375},null,null,3090,{"$f":"(IF((C388-L$2)>0,(IF(C388<'Copy Results'!$C$3,((C388-L$2-L$5)/((L$4*L$2)-L$5)*G388*-1),(('Copy Results'!$C$3-L$2-L$5)/((L$4*L$2)-L$5)*G388*-1))),IF(C388>'Copy Results'!$C$2,((C388-L$2+L$5)/((L$4*L$2)-L$5)*G388*-1),(('Copy Results'!$C$2-L$2+L$5)/((L$4*L$2)-L$5)*G388*-1))))","v":17.50823974609375},21.208462453297564,null,null,0,3807.4796944995919,{"$f":"AVERAGE(D$79:D388)","v":3773.6157809349797},{"$f":"AVERAGE(M$79:M388)","v":3800.1367582513303},3771.0526488503479,{"$f":"AVERAGE(P$79:P388)","v":3743.3767412934026},null,null,null,null,40098.109537036464,{"$f":"LOOKUP($V388,Data!$A$6:$A$1806,Data!$B$6:$B$1806)","v":59.983001708984375},{"$f":"LOOKUP($V388,Data!$A$6:$A$1806,Data!$C$6:$C$1806)","v":3753.277099609375},{"$f":"LOOKUP($V388,Data!$A$6:$A$1806,Data!$D$6:$D$1806)","v":350},{"$f":"IF($Z$1=\"+\",LOOKUP($V388,Data!$A$6:$A$1806,Data!$E$6:$E$1806)*-1,LOOKUP($V388,Data!$A$6:$A$1806,Data!$E$6:$E$1806))","v":223.01573181152344},{"$f":"LOOKUP($V388,Data!$A$6:$A$1806,Data!$F$6:$F$1806)","v":16},null,{"$f":"LOOKUP($V388,Data!$A$6:$A$1806,Data!$H$6:$H$1806)","v":10},{"$f":"LOOKUP($V388,Data!$A$6:$A$1806,Data!$I$6:$I$1806)","v":0},{"$f":"IF(LOOKUP($V388,Data!$A$6:$A$1806,Data!$J$6:$J$1806)>0,(LOOKUP($V388,Data!$A$6:$A$1806,Data!$J$6:$J$1806)*-1),LOOKUP($V388,Data!$A$6:$A$1806,Data!$J$6:$J$1806))","v":-103},{"$f":"LOOKUP($V388,Data!$A$6:$A$1806,Data!$K$6:$K$1806)","v":7754.43},17.50823974609375,null,null,null,null,null,null,null,null,null,null,null,null,null,null,107.550048828125," ",1.6998291015625E-2," "]
[null,40098.10956018461,{"$f":"LOOKUP(B389,Data!$A$6:$A$1806,Data!B$6:B$1806)","v":59.9739990234375},{"$f":"LOOKUP(B389,Data!$A$6:$A$1806,Data!C$6:C$1806)","v":3753.08740234375},null,null,3090,{"$f":"(IF((C389-L$2)>0,(IF(C389<'Copy Results'!$C$3,((C389-L$2-L$5)/((L$4*L$2)-L$5)*G389*-1),(('Copy Results'!$C$3-L$2-L$5)/((L$4*L$2)-L$5)*G389*-1))),IF(C389>'Copy Results'!$C$2,((C389-L$2+L$5)/((L$4*L$2)-L$5)*G389*-1),(('Copy Results'!$C$2-L$2+L$5)/((L$4*L$2)-L$5)*G389*-1))))","v":26.781005859375},23.158852645424666,null,null,0,3809.430084691719,{"$f":"AVERAGE(D$79:D389)","v":3773.5497732867766},{"$f":"AVERAGE(M$79:M389)","v":3800.1666403299164},3771.0526488503479,{"$f":"AVERAGE(P$79:P389)","v":3743.4660184145537},null,null,null,null,40098.10956018461,{"$f":"LOOKUP($V389,Data!$A$6:$A$1806,Data!$B$6:$B$1806)","v":59.9739990234375},{"$f":"LOOKUP($V389,Data!$A$6:$A$1806,Data!$C$6:$C$1806)","v":3753.08740234375},{"$f":"LOOKUP($V389,Data!$A$6:$A$1806,Data!$D$6:$D$1806)","v":350},{"$f":"IF($Z$1=\"+\",LOOKUP($V389,Data!$A$6:$A$1806,Data!$E$6:$E$1806)*-1,LOOKUP($V389,Data!$A$6:$A$1806,Data!$E$6:$E$1806))","v":223.01573181152344},{"$f":"LOOKUP($V389,Data!$A$6:$A$1806,Data!$F$6:$F$1806)","v":16},null,{"$f":"LOOKUP($V389,Data!$A$6:$A$1806,Data!$H$6:$H$1806)","v":10},{"$f":"LOOKUP($V389,Data!$A$6:$A$1806,Data!$I$6:$I$1806)","v":0},{"$f":"IF(LOOKUP($V389,Data!$A$6:$A$1806,Data!$J$6:$J$1806)>0,(LOOKUP($V389,Data!$A$6:$A$1806,Data!$J$6:$J$1806)*-1),LOOKUP($V389,Data!$A$6:$A$1806,Data!$J$6:$J$1806))","v":-103},{"$f":"LOOKUP($V389,Data!$A$6:$A$1806,Data!$K$6:$K$1806)","v":7754.76},26.781005859375,null,null,null,null,null,null,null,null,null,null,null,null,null,null,107.3603515625," ",2.60009765625E-2," "]
[null,40098.109583332756,{"$f":"LOOKUP(B390,Data!$A$6:$A$1806,Data!B$6:B$1806)","v":59.966999053955078},{"$f":"LOOKUP(B390,Data!$A$6:$A$1806,Data!C$6:C$1806)","v":3751.63671875},null,null,3090,{"$f":"(IF((C390-L$2)>0,(IF(C390<'Copy Results'!$C$3,((C390-L$2-L$5)/((L$4*L$2)-L$5)*G390*-1),(('Copy Results'!$C$3-L$2-L$5)/((L$4*L$2)-L$5)*G390*-1))),IF(C390>'Copy Results'!$C$2,((C390-L$2+L$5)/((L$4*L$2)-L$5)*G390*-1),(('Copy Results'!$C$2-L$2+L$5)/((L$4*L$2)-L$5)*G390*-1))))","v":33.990974426269531},26.950095268720368,null,null,0,3813.2213273150146,{"$f":"AVERAGE(D$79:D390)","v":3773.4795391376201},{"$f":"AVERAGE(M$79:M390)","v":3800.2084822753818},3771.0526488503479,{"$f":"AVERAGE(P$79:P390)","v":3743.5547214063085},null,null,null,null,40098.109583332756,{"$f":"LOOKUP($V390,Data!$A$6:$A$1806,Data!$B$6:$B$1806)","v":59.966999053955078},{"$f":"LOOKUP($V390,Data!$A$6:$A$1806,Data!$C$6:$C$1806)","v":3751.63671875},{"$f":"LOOKUP($V390,Data!$A$6:$A$1806,Data!$D$6:$D$1806)","v":350},{"$f":"IF($Z$1=\"+\",LOOKUP($V390,Data!$A$6:$A$1806,Data!$E$6:$E$1806)*-1,LOOKUP($V390,Data!$A$6:$A$1806,Data!$E$6:$E$1806))","v":223.01573181152344},{"$f":"LOOKUP($V390,Data!$A$6:$A$1806,Data!$F$6:$F$1806)","v":16},null,{"$f":"LOOKUP($V390,Data!$A$6:$A$1806,Data!$H$6:$H$1806)","v":10},{"$f":"LOOKUP($V390,Data!$A$6:$A$1806,Data!$I$6:$I$1806)","v":0},{"$f":"IF(LOOKUP($V390,Data!$A$6:$A$1806,Data!$J$6:$J$1806)>0,(LOOKUP($V390,Data!$A$6:$A$1806,Data!$J$6:$J$1806)*-1),LOOKUP($V390,Data!$A$6:$A$1806,Data!$J$6:$J$1806))","v":-103},{"$f":"LOOKUP($V390,Data!$A$6:$A$1806,Data!$K$6:$K$1806)","v":7755.09},33.990974426269531,null,null,null,null,null,null,null,null,null,null,null,null,null,null,105.90966796875," ",3.3000946044921875E-2," "]
[null,40098.109606480903,{"$f":"LOOKUP(B391,Data!$A$6:$A$1806,Data!B$6:B$1806)","v":59.965000152587891},{"$f":"LOOKUP(B391,Data!$A$6:$A$1806,Data!C$6:C$1806)","v":3753.7509765625},null,null,3090,{"$f":"(IF((C391-L$2)>0,(IF(C391<'Copy Results'!$C$3,((C391-L$2-L$5)/((L$4*L$2)-L$5)*G391*-1),(('Copy Results'!$C$3-L$2-L$5)/((L$4*L$2)-L$5)*G391*-1))),IF(C391>'Copy Results'!$C$2,((C391-L$2+L$5)/((L$4*L$2)-L$5)*G391*-1),(('Copy Results'!$C$2-L$2+L$5)/((L$4*L$2)-L$5)*G391*-1))))","v":36.049842834472656},30.135006916733669,null,null,0,3816.406238963028,{"$f":"AVERAGE(D$79:D391)","v":3773.4165085862619},{"$f":"AVERAGE(M$79:M391)","v":3800.2602322967487},3771.0526488503479,{"$f":"AVERAGE(P$79:P391)","v":3743.6428557891413},null,null,null,null,40098.109606480903,{"$f":"LOOKUP($V391,Data!$A$6:$A$1806,Data!$B$6:$B$1806)","v":59.965000152587891},{"$f":"LOOKUP($V391,Data!$A$6:$A$1806,Data!$C$6:$C$1806)","v":3753.7509765625},{"$f":"LOOKUP($V391,Data!$A$6:$A$1806,Data!$D$6:$D$1806)","v":350},{"$f":"IF($Z$1=\"+\",LOOKUP($V391,Data!$A$6:$A$1806,Data!$E$6:$E$1806)*-1,LOOKUP($V391,Data!$A$6:$A$1806,Data!$E$6:$E$1806))","v":223.01573181152344},{"$f":"LOOKUP($V391,Data!$A$6:$A$1806,Data!$F$6:$F$1806)","v":16},null,{"$f":"LOOKUP($V391,Data!$A$6:$A$1806,Data!$H$6:$H$1806)","v":10},{"$f":"LOOKUP($V391,Data!$A$6:$A$1806,Data!$I$6:$I$1806)","v":0},{"$f":"IF(LOOKUP($V391,Data!$A$6:$A$1806,Data!$J$6:$J$1806)>0,(LOOKUP($V391,Data!$A$6:$A$1806,Data!$J$6:$J$1806)*-1),LOOKUP($V391,Data!$A$6:$A$1806,Data!$J$6:$J$1806))","v":-103},{"$f":"LOOKUP($V391,Data!$A$6:$A$1806,Data!$K$6:$K$1806)","v":7755.42},36.049842834472656,null,null,null,null,null,null,null,null,null,null,null,null,null,null,108.02392578125," ",3.4999847412109375E-2," "]
[null,40098.109629629049,{"$f":"LOOKUP(B392,Data!$A$6:$A$1806,Data!B$6:B$1806)","v":59.962001800537109},{"$f":"LOOKUP(B392,Data!$A$6:$A$1806,Data!C$6:C$1806)","v":3758.224609375},null,null,3090,{"$f":"(IF((C392-L$2)>0,(IF(C392<'Copy Results'!$C$3,((C392-L$2-L$5)/((L$4*L$2)-L$5)*G392*-1),(('Copy Results'!$C$3-L$2-L$5)/((L$4*L$2)-L$5)*G392*-1))),IF(C392>'Copy Results'!$C$2,((C392-L$2+L$5)/((L$4*L$2)-L$5)*G392*-1),(('Copy Results'!$C$2-L$2+L$5)/((L$4*L$2)-L$5)*G392*-1))))","v":39.138145446777344},33.286105402248957,null,null,0,3819.5573374485434,{"$f":"AVERAGE(D$79:D392)","v":3773.36812674164},{"$f":"AVERAGE(M$79:M392)","v":3800.3216880456393},3771.0526488503479,{"$f":"AVERAGE(P$79:P392)","v":3743.7304270129789},null,null,null,null,40098.109629629049,{"$f":"LOOKUP($V392,Data!$A$6:$A$1806,Data!$B$6:$B$1806)","v":59.962001800537109},{"$f":"LOOKUP($V392,Data!$A$6:$A$1806,Data!$C$6:$C$1806)","v":3758.224609375},{"$f":"LOOKUP($V392,Data!$A$6:$A$1806,Data!$D$6:$D$1806)","v":350},{"$f":"IF($Z$1=\"+\",LOOKUP($V392,Data!$A$6:$A$1806,Data!$E$6:$E$1806)*-1,LOOKUP($V392,Data!$A$6:$A$1806,Data!$E$6:$E$1806))","v":223.01573181152344},{"$f":"LOOKUP($V392,Data!$A$6:$A$1806,Data!$F$6:$F$1806)","v":16},null,{"$f":"LOOKUP($V392,Data!$A$6:$A$1806,Data!$H$6:$H$1806)","v":10},{"$f":"LOOKUP($V392,Data!$A$6:$A$1806,Data!$I$6:$I$1806)","v":0},{"$f":"IF(LOOKUP($V392,Data!$A$6:$A$1806,Data!$J$6:$J$1806)>0,(LOOKUP($V392,Data!$A$6:$A$1806,Data!$J$6:$J$1806)*-1),LOOKUP($V392,Data!$A$6:$A$1806,Data!$J$6:$J$1806))","v":-103},{"$f":"LOOKUP($V392,Data!$A$6:$A$1806,Data!$K$6:$K$1806)","v":7755.75},39.138145446777344,null,null,null,null,null,null,null,null,null,null,null,null,null,null,112.49755859375," ",3.7998199462890625E-2,-103]
[null,40098.109652777195,{"$f":"LOOKUP(B393,Data!$A$6:$A$1806,Data!B$6:B$1806)","v":59.962001800537109},{"$f":"LOOKUP(B393,Data!$A$6:$A$1806,Data!C$6:C$1806)","v":3759.249755859375},null,null,3090,{"$f":"(IF((C393-L$2)>0,(IF(C393<'Copy Results'!$C$3,((C393-L$2-L$5)/((L$4*L$2)-L$5)*G393*-1),(('Copy Results'!$C$3-L$2-L$5)/((L$4*L$2)-L$5)*G393*-1))),IF(C393>'Copy Results'!$C$2,((C393-L$2+L$5)/((L$4*L$2)-L$5)*G393*-1),(('Copy Results'!$C$2-L$2+L$5)/((L$4*L$2)-L$5)*G393*-1))))","v":39.138145446777344},35.334319417833896,null,null,0,3821.6055514641284,{"$f":"AVERAGE(D$79:D393)","v":3773.3233065166169},{"$f":"AVERAGE(M$79:M393)","v":3800.389255866015},3771.0526488503479,{"$f":"AVERAGE(P$79:P393)","v":3743.8174404583206},null,null,null,null,40098.109652777195,{"$f":"LOOKUP($V393,Data!$A$6:$A$1806,Data!$B$6:$B$1806)","v":59.962001800537109},{"$f":"LOOKUP($V393,Data!$A$6:$A$1806,Data!$C$6:$C$1806)","v":3759.249755859375},{"$f":"LOOKUP($V393,Data!$A$6:$A$1806,Data!$D$6:$D$1806)","v":350},{"$f":"IF($Z$1=\"+\",LOOKUP($V393,Data!$A$6:$A$1806,Data!$E$6:$E$1806)*-1,LOOKUP($V393,Data!$A$6:$A$1806,Data!$E$6:$E$1806))","v":223.01573181152344},{"$f":"LOOKUP($V393,Data!$A$6:$A$1806,Data!$F$6:$F$1806)","v":16},null,{"$f":"LOOKUP($V393,Data!$A$6:$A$1806,Data!$H$6:$H$1806)","v":10},{"$f":"LOOKUP($V393,Data!$A$6:$A$1806,Data!$I$6:$I$1806)","v":0},{"$f":"IF(LOOKUP($V393,Data!$A$6:$A$1806,Data!$J$6:$J$1806)>0,(LOOKUP($V393,Data!$A$6:$A$1806,Data!$J$6:$J$1806)*-1),LOOKUP($V393,Data!$A$6:$A$1806,Data!$J$6:$J$1806))","v":-103},{"$f":"LOOKUP($V393,Data!$A$6:$A$1806,Data!$K$6:$K$1806)","v":7756.08},39.138145446777344,null,null,null,null,null,null,null,null,null,null,null,null,null,null,113.522705078125," ",3.7998199462890625E-2,-103]
[null,40098.109675925341,{"$f":"LOOKUP(B394,Data!$A$6:$A$1806,Data!B$6:B$1806)","v":59.96099853515625},{"$f":"LOOKUP(B394,Data!$A$6:$A$1806,Data!C$6:C$1806)","v":3758.041015625},null,null,3090,{"$f":"(IF((C394-L$2)>0,(IF(C394<'Copy Results'!$C$3,((C394-L$2-L$5)/((L$4*L$2)-L$5)*G394*-1),(('Copy Results'!$C$3-L$2-L$5)/((L$4*L$2)-L$5)*G394*-1))),IF(C394>'Copy Results'!$C$2,((C394-L$2+L$5)/((L$4*L$2)-L$5)*G394*-1),(('Copy Results'!$C$2-L$2+L$5)/((L$4*L$2)-L$5)*G394*-1))))","v":40.1715087890625},37.02733569776391,null,null,0,3823.2985677440583,{"$f":"AVERAGE(D$79:D394)","v":3773.2749448365803},{"$f":"AVERAGE(M$79:M394)","v":3800.4617536884139},3771.0526488503479,{"$f":"AVERAGE(P$79:P394)","v":3743.9039014373425},null,null,null,null,40098.109675925341,{"$f":"LOOKUP($V394,Data!$A$6:$A$1806,Data!$B$6:$B$1806)","v":59.96099853515625},{"$f":"LOOKUP($V394,Data!$A$6:$A$1806,Data!$C$6:$C$1806)","v":3758.041015625},{"$f":"LOOKUP($V394,Data!$A$6:$A$1806,Data!$D$6:$D$1806)","v":350},{"$f":"IF($Z$1=\"+\",LOOKUP($V394,Data!$A$6:$A$1806,Data!$E$6:$E$1806)*-1,LOOKUP($V394,Data!$A$6:$A$1806,Data!$E$6:$E$1806))","v":223.01573181152344},{"$f":"LOOKUP($V394,Data!$A$6:$A$1806,Data!$F$6:$F$1806)","v":16},null,{"$f":"LOOKUP($V394,Data!$A$6:$A$1806,Data!$H$6:$H$1806)","v":10},{"$f":"LOOKUP($V394,Data!$A$6:$A$1806,Data!$I$6:$I$1806)","v":0},{"$f":"IF(LOOKUP($V394,Data!$A$6:$A$1806,Data!$J$6:$J$1806)>0,(LOOKUP($V394,Data!$A$6:$A$1806,Data!$J$6:$J$1806)*-1),LOOKUP($V394,Data!$A$6:$A$1806,Data!$J$6:$J$1806))","v":-103},{"$f":"LOOKUP($V394,Data!$A$6:$A$1806,Data!$K$6:$K$1806)","v":7756.41},40.1715087890625,null,null,null,null,null,null,null,null,null,null,null,null,null,null,112.31396484375," ",3.900146484375E-2,-103]
[null,40098.109699073488,{"$f":"LOOKUP(B395,Data!$A$6:$A$1806,Data!B$6:B$1806)","v":59.96099853515625},{"$f":"LOOKUP(B395,Data!$A$6:$A$1806,Data!C$6:C$1806)","v":3760.96484375},null,null,3090,{"$f":"(IF((C395-L$2)>0,(IF(C395<'Copy Results'!$C$3,((C395-L$2-L$5)/((L$4*L$2)-L$5)*G395*-1),(('Copy Results'!$C$3-L$2-L$5)/((L$4*L$2)-L$5)*G395*-1))),IF(C395>'Copy Results'!$C$2,((C395-L$2+L$5)/((L$4*L$2)-L$5)*G395*-1),(('Copy Results'!$C$2-L$2+L$5)/((L$4*L$2)-L$5)*G395*-1))))","v":40.1715087890625},38.127796279718417,null,null,0,3824.3990283260127,{"$f":"AVERAGE(D$79:D395)","v":3773.2361117101241},{"$f":"AVERAGE(M$79:M395)","v":3800.5372655957876},3771.0526488503479,{"$f":"AVERAGE(P$79:P395)","v":3743.9898151949783},null,null,null,null,40098.109699073488,{"$f":"LOOKUP($V395,Data!$A$6:$A$1806,Data!$B$6:$B$1806)","v":59.96099853515625},{"$f":"LOOKUP($V395,Data!$A$6:$A$1806,Data!$C$6:$C$1806)","v":3760.96484375},{"$f":"LOOKUP($V395,Data!$A$6:$A$1806,Data!$D$6:$D$1806)","v":350},{"$f":"IF($Z$1=\"+\",LOOKUP($V395,Data!$A$6:$A$1806,Data!$E$6:$E$1806)*-1,LOOKUP($V395,Data!$A$6:$A$1806,Data!$E$6:$E$1806))","v":223.01573181152344},{"$f":"LOOKUP($V395,Data!$A$6:$A$1806,Data!$F$6:$F$1806)","v":16},null,{"$f":"LOOKUP($V395,Data!$A$6:$A$1806,Data!$H$6:$H$1806)","v":10},{"$f":"LOOKUP($V395,Data!$A$6:$A$1806,Data!$I$6:$I$1806)","v":0},{"$f":"IF(LOOKUP($V395,Data!$A$6:$A$1806,Data!$J$6:$J$1806)>0,(LOOKUP($V395,Data!$A$6:$A$1806,Data!$J$6:$J$1806)*-1),LOOKUP($V395,Data!$A$6:$A$1806,Data!$J$6:$J$1806))","v":-103},{"$f":"LOOKUP($V395,Data!$A$6:$A$1806,Data!$K$6:$K$1806)","v":7756.74},40.1715087890625,null,null,null,null,null,null,null,null,null,null,null,null,null,null,115.23779296875," ",3.900146484375E-2,-103]
[null,40098.109722221634,{"$f":"LOOKUP(B396,Data!$A$6:$A$1806,Data!B$6:B$1806)","v":59.959999084472656},{"$f":"LOOKUP(B396,Data!$A$6:$A$1806,Data!C$6:C$1806)","v":3762.022216796875},null,null,3090,{"$f":"(IF((C396-L$2)>0,(IF(C396<'Copy Results'!$C$3,((C396-L$2-L$5)/((L$4*L$2)-L$5)*G396*-1),(('Copy Results'!$C$3-L$2-L$5)/((L$4*L$2)-L$5)*G396*-1))),IF(C396>'Copy Results'!$C$2,((C396-L$2+L$5)/((L$4*L$2)-L$5)*G396*-1),(('Copy Results'!$C$2-L$2+L$5)/((L$4*L$2)-L$5)*G396*-1))))","v":41.200942993164062},39.203397629424394,null,null,0,3825.4746296757189,{"$f":"AVERAGE(D$79:D396)","v":3773.2008478896423},{"$f":"AVERAGE(M$79:M396)","v":3800.6156849796866},3771.0526488503479,{"$f":"AVERAGE(P$79:P396)","v":3744.075186909979},null,null,null,null,40098.109722221634,{"$f":"LOOKUP($V396,Data!$A$6:$A$1806,Data!$B$6:$B$1806)","v":59.959999084472656},{"$f":"LOOKUP($V396,Data!$A$6:$A$1806,Data!$C$6:$C$1806)","v":3762.022216796875},{"$f":"LOOKUP($V396,Data!$A$6:$A$1806,Data!$D$6:$D$1806)","v":350},{"$f":"IF($Z$1=\"+\",LOOKUP($V396,Data!$A$6:$A$1806,Data!$E$6:$E$1806)*-1,LOOKUP($V396,Data!$A$6:$A$1806,Data!$E$6:$E$1806))","v":223.01573181152344},{"$f":"LOOKUP($V396,Data!$A$6:$A$1806,Data!$F$6:$F$1806)","v":16},null,{"$f":"LOOKUP($V396,Data!$A$6:$A$1806,Data!$H$6:$H$1806)","v":10},{"$f":"LOOKUP($V396,Data!$A$6:$A$1806,Data!$I$6:$I$1806)","v":0},{"$f":"IF(LOOKUP($V396,Data!$A$6:$A$1806,Data!$J$6:$J$1806)>0,(LOOKUP($V396,Data!$A$6:$A$1806,Data!$J$6:$J$1806)*-1),LOOKUP($V396,Data!$A$6:$A$1806,Data!$J$6:$J$1806))","v":-103},{"$f":"LOOKUP($V396,Data!$A$6:$A$1806,Data!$K$6:$K$1806)","v":7757.07},41.200942993164062,null,null,null,null,null,null,null,null,null,null,null,null,null,null,116.295166015625," ",4.000091552734375E-2,-103]
[null,40098.10974536978,{"$f":"LOOKUP(B397,Data!$A$6:$A$1806,Data!B$6:B$1806)","v":59.963001251220703},{"$f":"LOOKUP(B397,Data!$A$6:$A$1806,Data!C$6:C$1806)","v":3763.822265625},null,null,3090,{"$f":"(IF((C397-L$2)>0,(IF(C397<'Copy Results'!$C$3,((C397-L$2-L$5)/((L$4*L$2)-L$5)*G397*-1),(('Copy Results'!$C$3-L$2-L$5)/((L$4*L$2)-L$5)*G397*-1))),IF(C397>'Copy Results'!$C$2,((C397-L$2+L$5)/((L$4*L$2)-L$5)*G397*-1),(('Copy Results'!$C$2-L$2+L$5)/((L$4*L$2)-L$5)*G397*-1))))","v":38.108711242675781},38.820257394062381,null,null,0,3825.0914894403568,{"$f":"AVERAGE(D$79:D397)","v":3773.1714479452389},{"$f":"AVERAGE(M$79:M397)","v":3800.692411639438},3771.0526488503479,{"$f":"AVERAGE(P$79:P397)","v":3744.160021695955},null,null,null,null,40098.10974536978,{"$f":"LOOKUP($V397,Data!$A$6:$A$1806,Data!$B$6:$B$1806)","v":59.963001251220703},{"$f":"LOOKUP($V397,Data!$A$6:$A$1806,Data!$C$6:$C$1806)","v":3763.822265625},{"$f":"LOOKUP($V397,Data!$A$6:$A$1806,Data!$D$6:$D$1806)","v":350},{"$f":"IF($Z$1=\"+\",LOOKUP($V397,Data!$A$6:$A$1806,Data!$E$6:$E$1806)*-1,LOOKUP($V397,Data!$A$6:$A$1806,Data!$E$6:$E$1806))","v":223.01573181152344},{"$f":"LOOKUP($V397,Data!$A$6:$A$1806,Data!$F$6:$F$1806)","v":16},null,{"$f":"LOOKUP($V397,Data!$A$6:$A$1806,Data!$H$6:$H$1806)","v":10},{"$f":"LOOKUP($V397,Data!$A$6:$A$1806,Data!$I$6:$I$1806)","v":0},{"$f":"IF(LOOKUP($V397,Data!$A$6:$A$1806,Data!$J$6:$J$1806)>0,(LOOKUP($V397,Data!$A$6:$A$1806,Data!$J$6:$J$1806)*-1),LOOKUP($V397,Data!$A$6:$A$1806,Data!$J$6:$J$1806))","v":-103},{"$f":"LOOKUP($V397,Data!$A$6:$A$1806,Data!$K$6:$K$1806)","v":7757.4},38.108711242675781,null,null,null,null,null,null,null,null,null,null,null,null,null,null,118.09521484375," ",3.6998748779296875E-2,-103]
[null,40098.109768517927,{"$f":"LOOKUP(B398,Data!$A$6:$A$1806,Data!B$6:B$1806)","v":59.958999633789063},{"$f":"LOOKUP(B398,Data!$A$6:$A$1806,Data!C$6:C$1806)","v":3763.10009765625},null,null,3090,{"$f":"(IF((C398-L$2)>0,(IF(C398<'Copy Results'!$C$3,((C398-L$2-L$5)/((L$4*L$2)-L$5)*G398*-1),(('Copy Results'!$C$3-L$2-L$5)/((L$4*L$2)-L$5)*G398*-1))),IF(C398>'Copy Results'!$C$2,((C398-L$2+L$5)/((L$4*L$2)-L$5)*G398*-1),(('Copy Results'!$C$2-L$2+L$5)/((L$4*L$2)-L$5)*G398*-1))))","v":42.230377197265625},40.013799325183513,null,null,0,3826.285031371478,{"$f":"AVERAGE(D$79:D398)","v":3773.139974975586},{"$f":"AVERAGE(M$79:M398)","v":3800.7723885761006},3771.0526488503479,{"$f":"AVERAGE(P$79:P398)","v":3744.2443246023945},null,null,null,null,40098.109768517927,{"$f":"LOOKUP($V398,Data!$A$6:$A$1806,Data!$B$6:$B$1806)","v":59.958999633789063},{"$f":"LOOKUP($V398,Data!$A$6:$A$1806,Data!$C$6:$C$1806)","v":3763.10009765625},{"$f":"LOOKUP($V398,Data!$A$6:$A$1806,Data!$D$6:$D$1806)","v":350},{"$f":"IF($Z$1=\"+\",LOOKUP($V398,Data!$A$6:$A$1806,Data!$E$6:$E$1806)*-1,LOOKUP($V398,Data!$A$6:$A$1806,Data!$E$6:$E$1806))","v":223.01573181152344},{"$f":"LOOKUP($V398,Data!$A$6:$A$1806,Data!$F$6:$F$1806)","v":16},null,{"$f":"LOOKUP($V398,Data!$A$6:$A$1806,Data!$H$6:$H$1806)","v":10},{"$f":"LOOKUP($V398,Data!$A$6:$A$1806,Data!$I$6:$I$1806)","v":0},{"$f":"IF(LOOKUP($V398,Data!$A$6:$A$1806,Data!$J$6:$J$1806)>0,(LOOKUP($V398,Data!$A$6:$A$1806,Data!$J$6:$J$1806)*-1),LOOKUP($V398,Data!$A$6:$A$1806,Data!$J$6:$J$1806))","v":-103},{"$f":"LOOKUP($V398,Data!$A$6:$A$1806,Data!$K$6:$K$1806)","v":7757.73},42.230377197265625,null,null,null,null,null,null,null,null,null,null,null,null,null,null,117.373046875," ",4.10003662109375E-2,-103]
[null,40098.109791666073,{"$f":"LOOKUP(B399,Data!$A$6:$A$1806,Data!B$6:B$1806)","v":59.956001281738281},{"$f":"LOOKUP(B399,Data!$A$6:$A$1806,Data!C$6:C$1806)","v":3763.858154296875},null,null,3090,{"$f":"(IF((C399-L$2)>0,(IF(C399<'Copy Results'!$C$3,((C399-L$2-L$5)/((L$4*L$2)-L$5)*G399*-1),(('Copy Results'!$C$3-L$2-L$5)/((L$4*L$2)-L$5)*G399*-1))),IF(C399>'Copy Results'!$C$2,((C399-L$2+L$5)/((L$4*L$2)-L$5)*G399*-1),(('Copy Results'!$C$2-L$2+L$5)/((L$4*L$2)-L$5)*G399*-1))))","v":45.318679809570313},41.870507494718893,null,null,0,3828.1417395410135,{"$f":"AVERAGE(D$79:D399)","v":3773.1110596463686},{"$f":"AVERAGE(M$79:M399)","v":3800.8576513516923},3771.0526488503479,{"$f":"AVERAGE(P$79:P399)","v":3744.3281006156694},null,null,null,null,40098.109791666073,{"$f":"LOOKUP($V399,Data!$A$6:$A$1806,Data!$B$6:$B$1806)","v":59.956001281738281},{"$f":"LOOKUP($V399,Data!$A$6:$A$1806,Data!$C$6:$C$1806)","v":3763.858154296875},{"$f":"LOOKUP($V399,Data!$A$6:$A$1806,Data!$D$6:$D$1806)","v":350},{"$f":"IF($Z$1=\"+\",LOOKUP($V399,Data!$A$6:$A$1806,Data!$E$6:$E$1806)*-1,LOOKUP($V399,Data!$A$6:$A$1806,Data!$E$6:$E$1806))","v":223.01573181152344},{"$f":"LOOKUP($V399,Data!$A$6:$A$1806,Data!$F$6:$F$1806)","v":16},null,{"$f":"LOOKUP($V399,Data!$A$6:$A$1806,Data!$H$6:$H$1806)","v":10},{"$f":"LOOKUP($V399,Data!$A$6:$A$1806,Data!$I$6:$I$1806)","v":0},{"$f":"IF(LOOKUP($V399,Data!$A$6:$A$1806,Data!$J$6:$J$1806)>0,(LOOKUP($V399,Data!$A$6:$A$1806,Data!$J$6:$J$1806)*-1),LOOKUP($V399,Data!$A$6:$A$1806,Data!$J$6:$J$1806))","v":-103},{"$f":"LOOKUP($V399,Data!$A$6:$A$1806,Data!$K$6:$K$1806)","v":7758.06},45.318679809570313,null,null,null,null,null,null,null,null,null,null,null,null,null,null,118.131103515625," ",4.399871826171875E-2,-103]
[null,40098.109814814219,{"$f":"LOOKUP(B400,Data!$A$6:$A$1806,Data!B$6:B$1806)","v":59.951000213623047},{"$f":"LOOKUP(B400,Data!$A$6:$A$1806,Data!C$6:C$1806)","v":3764.15771484375},null,null,3090,{"$f":"(IF((C400-L$2)>0,(IF(C400<'Copy Results'!$C$3,((C400-L$2-L$5)/((L$4*L$2)-L$5)*G400*-1),(('Copy Results'!$C$3-L$2-L$5)/((L$4*L$2)-L$5)*G400*-1))),IF(C400>'Copy Results'!$C$2,((C400-L$2+L$5)/((L$4*L$2)-L$5)*G400*-1),(('Copy Results'!$C$2-L$2+L$5)/((L$4*L$2)-L$5)*G400*-1))))","v":50.469779968261726},44.880252860458882,null,null,{"$f":"IF(B400>G$3,0,(K$21*0.000023148/K$22))","v":0},{"$f":"M399+L400+(I400-I399)","v":3831.1514849067535},{"$f":"AVERAGE(D$79:D400)","v":3773.0832542277271},{"$f":"AVERAGE(M$79:M400)","v":3800.9517315801236},3771.0526488503479,{"$f":"AVERAGE(P$79:P400)","v":3744.4113546600138},null,null,null,null,40098.109814814219,{"$f":"LOOKUP($V400,Data!$A$6:$A$1806,Data!$B$6:$B$1806)","v":59.951000213623047},{"$f":"LOOKUP($V400,Data!$A$6:$A$1806,Data!$C$6:$C$1806)","v":3764.15771484375},{"$f":"LOOKUP($V400,Data!$A$6:$A$1806,Data!$D$6:$D$1806)","v":350},{"$f":"IF($Z$1=\"+\",LOOKUP($V400,Data!$A$6:$A$1806,Data!$E$6:$E$1806)*-1,LOOKUP($V400,Data!$A$6:$A$1806,Data!$E$6:$E$1806))","v":223.01573181152344},{"$f":"LOOKUP($V400,Data!$A$6:$A$1806,Data!$F$6:$F$1806)","v":16},null,{"$f":"LOOKUP($V400,Data!$A$6:$A$1806,Data!$H$6:$H$1806)","v":10},{"$f":"LOOKUP($V400,Data!$A$6:$A$1806,Data!$I$6:$I$1806)","v":0},{"$f":"IF(LOOKUP($V400,Data!$A$6:$A$1806,Data!$J$6:$J$1806)>0,(LOOKUP($V400,Data!$A$6:$A$1806,Data!$J$6:$J$1806)*-1),LOOKUP($V400,Data!$A$6:$A$1806,Data!$J$6:$J$1806))","v":-103},{"$f":"LOOKUP($V400,Data!$A$6:$A$1806,Data!$K$6:$K$1806)","v":7758.39},50.469779968261726,null,null,null,null,null,null,null,null,null,null,null,null,null,null,118.4306640625," ",4.8999786376953125E-2,-103]
[null,40098.109837962365,{"$f":"LOOKUP(B401,Data!$A$6:$A$1806,Data!B$6:B$1806)","v":59.952999114990234},{"$f":"LOOKUP(B401,Data!$A$6:$A$1806,Data!C$6:C$1806)","v":3766.126708984375},null,null,3090,{"$f":"(IF((C401-L$2)>0,(IF(C401<'Copy Results'!$C$3,((C401-L$2-L$5)/((L$4*L$2)-L$5)*G401*-1),(('Copy Results'!$C$3-L$2-L$5)/((L$4*L$2)-L$5)*G401*-1))),IF(C401>'Copy Results'!$C$2,((C401-L$2+L$5)/((L$4*L$2)-L$5)*G401*-1),(('Copy Results'!$C$2-L$2+L$5)/((L$4*L$2)-L$5)*G401*-1))))","v":48.410911560058594},46.115983405318786,null,null,0,3832.3872154516134,{"$f":"AVERAGE(D$79:D401)","v":3773.0617169359521},{"$f":"AVERAGE(M$79:M401)","v":3801.0490550596019},3771.0526488503479,{"$f":"AVERAGE(P$79:P401)","v":3744.4940915984926},null,null,null,null,{"$f":"V400+TIME(0,0,$B$1)","v":40098.109837962365},{"$f":"LOOKUP($V401,Data!$A$6:$A$1806,Data!$B$6:$B$1806)","v":59.952999114990234},{"$f":"LOOKUP($V401,Data!$A$6:$A$1806,Data!$C$6:$C$1806)","v":3766.126708984375},{"$f":"LOOKUP($V401,Data!$A$6:$A$1806,Data!$D$6:$D$1806)","v":350},{"$f":"IF($Z$1=\"+\",LOOKUP($V401,Data!$A$6:$A$1806,Data!$E$6:$E$1806)*-1,LOOKUP($V401,Data!$A$6:$A$1806,Data!$E$6:$E$1806))","v":223.01573181152344},{"$f":"LOOKUP($V401,Data!$A$6:$A$1806,Data!$F$6:$F$1806)","v":16},null,{"$f":"LOOKUP($V401,Data!$A$6:$A$1806,Data!$H$6:$H$1806)","v":10},{"$f":"LOOKUP($V401,Data!$A$6:$A$1806,Data!$I$6:$I$1806)","v":0},{"$f":"IF(LOOKUP($V401,Data!$A$6:$A$1806,Data!$J$6:$J$1806)>0,(LOOKUP($V401,Data!$A$6:$A$1806,Data!$J$6:$J$1806)*-1),LOOKUP($V401,Data!$A$6:$A$1806,Data!$J$6:$J$1806))","v":-103},{"$f":"LOOKUP($V401,Data!$A$6:$A$1806,Data!$K$6:$K$1806)","v":7758.72},48.410911560058594,null,null,null,null,null,null,null,null,null,null,null,null,null,null,120.399658203125," ",4.7000885009765625E-2,-103]
[null,40098.109861110512,{"$f":"LOOKUP(B402,Data!$A$6:$A$1806,Data!B$6:B$1806)","v":59.953998565673828},{"$f":"LOOKUP(B402,Data!$A$6:$A$1806,Data!C$6:C$1806)","v":3768.3388671875},null,null,3090,{"$f":"(IF((C402-L$2)>0,(IF(C402<'Copy Results'!$C$3,((C402-L$2-L$5)/((L$4*L$2)-L$5)*G402*-1),(('Copy Results'!$C$3-L$2-L$5)/((L$4*L$2)-L$5)*G402*-1))),IF(C402>'Copy Results'!$C$2,((C402-L$2+L$5)/((L$4*L$2)-L$5)*G402*-1),(('Copy Results'!$C$2-L$2+L$5)/((L$4*L$2)-L$5)*G402*-1))))","v":47.381477355957031},46.558906288042174,null,null,0,3832.8301383343369,{"$f":"AVERAGE(D$79:D402)","v":3773.0471402391977},{"$f":"AVERAGE(M$79:M402)","v":3801.1471448227953},{"$f":"P401+L402","v":3771.0526488503479},{"$f":"AVERAGE(P$79:P402)","v":3744.5763162339472},null,null,null,null,40098.109861110512,{"$f":"LOOKUP($V402,Data!$A$6:$A$1806,Data!$B$6:$B$1806)","v":59.953998565673828},{"$f":"LOOKUP($V402,Data!$A$6:$A$1806,Data!$C$6:$C$1806)","v":3768.3388671875},{"$f":"LOOKUP($V402,Data!$A$6:$A$1806,Data!$D$6:$D$1806)","v":350},{"$f":"IF($Z$1=\"+\",LOOKUP($V402,Data!$A$6:$A$1806,Data!$E$6:$E$1806)*-1,LOOKUP($V402,Data!$A$6:$A$1806,Data!$E$6:$E$1806))","v":223.01573181152344},{"$f":"LOOKUP($V402,Data!$A$6:$A$1806,Data!$F$6:$F$1806)","v":16},null,{"$f":"LOOKUP($V402,Data!$A$6:$A$1806,Data!$H$6:$H$1806)","v":10},{"$f":"LOOKUP($V402,Data!$A$6:$A$1806,Data!$I$6:$I$1806)","v":0},{"$f":"IF(LOOKUP($V402,Data!$A$6:$A$1806,Data!$J$6:$J$1806)>0,(LOOKUP($V402,Data!$A$6:$A$1806,Data!$J$6:$J$1806)*-1),LOOKUP($V402,Data!$A$6:$A$1806,Data!$J$6:$J$1806))","v":-103},{"$f":"LOOKUP($V402,Data!$A$6:$A$1806,Data!$K$6:$K$1806)","v":7759.05},47.381477355957031,null,null,null,null,null,null,null,null,null,null,null,null,null,null,{"$f":"D402-F$78+L402-AD402","v":122.61181640625},{"$f":"IF(AW401=\" \",\" \",IF(L402=L401,AV402/((C402-E$78)*10),\" \"))","v":" "},4.6001434326171875E-2,-103]
[null,40098.109884258658,{"$f":"LOOKUP(B403,Data!$A$6:$A$1806,Data!B$6:B$1806)","v":59.957000732421875},{"$f":"LOOKUP(B403,Data!$A$6:$A$1806,Data!C$6:C$1806)","v":3767.97216796875},null,null,3090,{"$f":"(IF((C403-L$2)>0,(IF(C403<'Copy Results'!$C$3,((C403-L$2-L$5)/((L$4*L$2)-L$5)*G403*-1),(('Copy Results'!$C$3-L$2-L$5)/((L$4*L$2)-L$5)*G403*-1))),IF(C403>'Copy Results'!$C$2,((C403-L$2+L$5)/((L$4*L$2)-L$5)*G403*-1),(('Copy Results'!$C$2-L$2+L$5)/((L$4*L$2)-L$5)*G403*-1))))","v":44.28924560546875},45.764525049141476,null,null,0,3832.0357570954361,{"$f":"AVERAGE(D$79:D403)","v":3773.0315249399036},{"$f":"AVERAGE(M$79:M403)","v":3801.242186706711},3771.0526488503479,{"$f":"AVERAGE(P$79:P403)","v":3744.6580333099232},null,null,null,null,40098.109884258658,{"$f":"LOOKUP($V403,Data!$A$6:$A$1806,Data!$B$6:$B$1806)","v":59.957000732421875},{"$f":"LOOKUP($V403,Data!$A$6:$A$1806,Data!$C$6:$C$1806)","v":3767.97216796875},{"$f":"LOOKUP($V403,Data!$A$6:$A$1806,Data!$D$6:$D$1806)","v":350},{"$f":"IF($Z$1=\"+\",LOOKUP($V403,Data!$A$6:$A$1806,Data!$E$6:$E$1806)*-1,LOOKUP($V403,Data!$A$6:$A$1806,Data!$E$6:$E$1806))","v":223.01573181152344},{"$f":"LOOKUP($V403,Data!$A$6:$A$1806,Data!$F$6:$F$1806)","v":16},null,{"$f":"LOOKUP($V403,Data!$A$6:$A$1806,Data!$H$6:$H$1806)","v":10},{"$f":"LOOKUP($V403,Data!$A$6:$A$1806,Data!$I$6:$I$1806)","v":0},{"$f":"IF(LOOKUP($V403,Data!$A$6:$A$1806,Data!$J$6:$J$1806)>0,(LOOKUP($V403,Data!$A$6:$A$1806,Data!$J$6:$J$1806)*-1),LOOKUP($V403,Data!$A$6:$A$1806,Data!$J$6:$J$1806))","v":-103},{"$f":"LOOKUP($V403,Data!$A$6:$A$1806,Data!$K$6:$K$1806)","v":7759.38},44.28924560546875,null,null,null,null,null,null,null,null,null,null,null,null,null,null,122.2451171875," ",4.2999267578125E-2,-103]
[null,40098.109907406804,{"$f":"LOOKUP(B404,Data!$A$6:$A$1806,Data!B$6:B$1806)","v":59.956001281738281},{"$f":"LOOKUP(B404,Data!$A$6:$A$1806,Data!C$6:C$1806)","v":3767.4375},null,null,3090,{"$f":"(IF((C404-L$2)>0,(IF(C404<'Copy Results'!$C$3,((C404-L$2-L$5)/((L$4*L$2)-L$5)*G404*-1),(('Copy Results'!$C$3-L$2-L$5)/((L$4*L$2)-L$5)*G404*-1))),IF(C404>'Copy Results'!$C$2,((C404-L$2+L$5)/((L$4*L$2)-L$5)*G404*-1),(('Copy Results'!$C$2-L$2+L$5)/((L$4*L$2)-L$5)*G404*-1))))","v":45.318679809570313},45.608479215291567,null,null,0,3831.8797112615862,{"$f":"AVERAGE(D$79:D404)","v":3773.0143653541986},{"$f":"AVERAGE(M$79:M404)","v":3801.3361668433818},3771.0526488503479,{"$f":"AVERAGE(P$79:P404)","v":3744.7392475115857},null,null,null,null,40098.109907406804,{"$f":"LOOKUP($V404,Data!$A$6:$A$1806,Data!$B$6:$B$1806)","v":59.956001281738281},{"$f":"LOOKUP($V404,Data!$A$6:$A$1806,Data!$C$6:$C$1806)","v":3767.4375},{"$f":"LOOKUP($V404,Data!$A$6:$A$1806,Data!$D$6:$D$1806)","v":350},{"$f":"IF($Z$1=\"+\",LOOKUP($V404,Data!$A$6:$A$1806,Data!$E$6:$E$1806)*-1,LOOKUP($V404,Data!$A$6:$A$1806,Data!$E$6:$E$1806))","v":223.01573181152344},{"$f":"LOOKUP($V404,Data!$A$6:$A$1806,Data!$F$6:$F$1806)","v":16},null,{"$f":"LOOKUP($V404,Data!$A$6:$A$1806,Data!$H$6:$H$1806)","v":10},{"$f":"LOOKUP($V404,Data!$A$6:$A$1806,Data!$I$6:$I$1806)","v":0},{"$f":"IF(LOOKUP($V404,Data!$A$6:$A$1806,Data!$J$6:$J$1806)>0,(LOOKUP($V404,Data!$A$6:$A$1806,Data!$J$6:$J$1806)*-1),LOOKUP($V404,Data!$A$6:$A$1806,Data!$J$6:$J$1806))","v":-103},{"$f":"LOOKUP($V404,Data!$A$6:$A$1806,Data!$K$6:$K$1806)","v":7759.71},45.318679809570313,null,null,null,null,null,null,null,null,null,null,null,null,null,null,121.71044921875," ",4.399871826171875E-2,-103]
[null,40098.109930554951,{"$f":"LOOKUP(B405,Data!$A$6:$A$1806,Data!B$6:B$1806)","v":59.96099853515625},{"$f":"LOOKUP(B405,Data!$A$6:$A$1806,Data!C$6:C$1806)","v":3765.6064453125},null,null,3090,{"$f":"(IF((C405-L$2)>0,(IF(C405<'Copy Results'!$C$3,((C405-L$2-L$5)/((L$4*L$2)-L$5)*G405*-1),(('Copy Results'!$C$3-L$2-L$5)/((L$4*L$2)-L$5)*G405*-1))),IF(C405>'Copy Results'!$C$2,((C405-L$2+L$5)/((L$4*L$2)-L$5)*G405*-1),(('Copy Results'!$C$2-L$2+L$5)/((L$4*L$2)-L$5)*G405*-1))))","v":40.1715087890625},43.705539566111391,null,null,0,3829.9767716124061,{"$f":"AVERAGE(D$79:D405)","v":3772.9917111644686},{"$f":"AVERAGE(M$79:M405)","v":3801.423752790688},3771.0526488503479,{"$f":"AVERAGE(P$79:P405)","v":3744.8199634666125},null,null,null,null,40098.109930554951,{"$f":"LOOKUP($V405,Data!$A$6:$A$1806,Data!$B$6:$B$1806)","v":59.96099853515625},{"$f":"LOOKUP($V405,Data!$A$6:$A$1806,Data!$C$6:$C$1806)","v":3765.6064453125},{"$f":"LOOKUP($V405,Data!$A$6:$A$1806,Data!$D$6:$D$1806)","v":350},{"$f":"IF($Z$1=\"+\",LOOKUP($V405,Data!$A$6:$A$1806,Data!$E$6:$E$1806)*-1,LOOKUP($V405,Data!$A$6:$A$1806,Data!$E$6:$E$1806))","v":223.01573181152344},{"$f":"LOOKUP($V405,Data!$A$6:$A$1806,Data!$F$6:$F$1806)","v":16},null,{"$f":"LOOKUP($V405,Data!$A$6:$A$1806,Data!$H$6:$H$1806)","v":10},{"$f":"LOOKUP($V405,Data!$A$6:$A$1806,Data!$I$6:$I$1806)","v":0},{"$f":"IF(LOOKUP($V405,Data!$A$6:$A$1806,Data!$J$6:$J$1806)>0,(LOOKUP($V405,Data!$A$6:$A$1806,Data!$J$6:$J$1806)*-1),LOOKUP($V405,Data!$A$6:$A$1806,Data!$J$6:$J$1806))","v":-103},{"$f":"LOOKUP($V405,Data!$A$6:$A$1806,Data!$K$6:$K$1806)","v":7760.04},40.1715087890625,null,null,null,null,null,null,null,null,null,null,null,null,null,null,119.87939453125," ",3.900146484375E-2,-103]
[null,40098.109953703097,{"$f":"LOOKUP(B406,Data!$A$6:$A$1806,Data!B$6:B$1806)","v":59.963001251220703},{"$f":"LOOKUP(B406,Data!$A$6:$A$1806,Data!C$6:C$1806)","v":3762.68798828125},null,null,3090,{"$f":"(IF((C406-L$2)>0,(IF(C406<'Copy Results'!$C$3,((C406-L$2-L$5)/((L$4*L$2)-L$5)*G406*-1),(('Copy Results'!$C$3-L$2-L$5)/((L$4*L$2)-L$5)*G406*-1))),IF(C406>'Copy Results'!$C$2,((C406-L$2+L$5)/((L$4*L$2)-L$5)*G406*-1),(('Copy Results'!$C$2-L$2+L$5)/((L$4*L$2)-L$5)*G406*-1))))","v":38.108711242675781},41.746649652908928,null,null,0,3828.0178816992038,{"$f":"AVERAGE(D$79:D406)","v":3772.9602973751907},{"$f":"AVERAGE(M$79:M406)","v":3801.5048324519939},3771.0526488503479,{"$f":"AVERAGE(P$79:P406)","v":3744.900185746073},null,null,null,null,40098.109953703097,{"$f":"LOOKUP($V406,Data!$A$6:$A$1806,Data!$B$6:$B$1806)","v":59.963001251220703},{"$f":"LOOKUP($V406,Data!$A$6:$A$1806,Data!$C$6:$C$1806)","v":3762.68798828125},{"$f":"LOOKUP($V406,Data!$A$6:$A$1806,Data!$D$6:$D$1806)","v":350},{"$f":"IF($Z$1=\"+\",LOOKUP($V406,Data!$A$6:$A$1806,Data!$E$6:$E$1806)*-1,LOOKUP($V406,Data!$A$6:$A$1806,Data!$E$6:$E$1806))","v":223.01573181152344},{"$f":"LOOKUP($V406,Data!$A$6:$A$1806,Data!$F$6:$F$1806)","v":16},null,{"$f":"LOOKUP($V406,Data!$A$6:$A$1806,Data!$H$6:$H$1806)","v":10},{"$f":"LOOKUP($V406,Data!$A$6:$A$1806,Data!$I$6:$I$1806)","v":0},{"$f":"IF(LOOKUP($V406,Data!$A$6:$A$1806,Data!$J$6:$J$1806)>0,(LOOKUP($V406,Data!$A$6:$A$1806,Data!$J$6:$J$1806)*-1),LOOKUP($V406,Data!$A$6:$A$1806,Data!$J$6:$J$1806))","v":-103},{"$f":"LOOKUP($V406,Data!$A$6:$A$1806,Data!$K$6:$K$1806)","v":7760.37},38.108711242675781,null,null,null,null,null,null,null,null,null,null,null,null,null,null,116.9609375," ",3.6998748779296875E-2,-103]
[null,40098.109976851243,{"$f":"LOOKUP(B407,Data!$A$6:$A$1806,Data!B$6:B$1806)","v":59.96099853515625},{"$f":"LOOKUP(B407,Data!$A$6:$A$1806,Data!C$6:C$1806)","v":3761.5703125},null,null,3090,{"$f":"(IF((C407-L$2)>0,(IF(C407<'Copy Results'!$C$3,((C407-L$2-L$5)/((L$4*L$2)-L$5)*G407*-1),(('Copy Results'!$C$3-L$2-L$5)/((L$4*L$2)-L$5)*G407*-1))),IF(C407>'Copy Results'!$C$2,((C407-L$2+L$5)/((L$4*L$2)-L$5)*G407*-1),(('Copy Results'!$C$2-L$2+L$5)/((L$4*L$2)-L$5)*G407*-1))))","v":40.1715087890625},41.195350350562677,null,null,0,3827.4665823968576,{"$f":"AVERAGE(D$79:D407)","v":3772.9256773603724},{"$f":"AVERAGE(M$79:M407)","v":3801.5837435460512},3771.0526488503479,{"$f":"AVERAGE(P$79:P407)","v":3744.9799188652933},null,null,null,null,40098.109976851243,{"$f":"LOOKUP($V407,Data!$A$6:$A$1806,Data!$B$6:$B$1806)","v":59.96099853515625},{"$f":"LOOKUP($V407,Data!$A$6:$A$1806,Data!$C$6:$C$1806)","v":3761.5703125},{"$f":"LOOKUP($V407,Data!$A$6:$A$1806,Data!$D$6:$D$1806)","v":350},{"$f":"IF($Z$1=\"+\",LOOKUP($V407,Data!$A$6:$A$1806,Data!$E$6:$E$1806)*-1,LOOKUP($V407,Data!$A$6:$A$1806,Data!$E$6:$E$1806))","v":223.01573181152344},{"$f":"LOOKUP($V407,Data!$A$6:$A$1806,Data!$F$6:$F$1806)","v":16},null,{"$f":"LOOKUP($V407,Data!$A$6:$A$1806,Data!$H$6:$H$1806)","v":10},{"$f":"LOOKUP($V407,Data!$A$6:$A$1806,Data!$I$6:$I$1806)","v":0},{"$f":"IF(LOOKUP($V407,Data!$A$6:$A$1806,Data!$J$6:$J$1806)>0,(LOOKUP($V407,Data!$A$6:$A$1806,Data!$J$6:$J$1806)*-1),LOOKUP($V407,Data!$A$6:$A$1806,Data!$J$6:$J$1806))","v":-103},{"$f":"LOOKUP($V407,Data!$A$6:$A$1806,Data!$K$6:$K$1806)","v":7760.7},40.1715087890625,null,null,null,null,null,null,null,null,null,null,null,null,null,null,115.84326171875," ",3.900146484375E-2,-103]
[null,40098.109999999389,{"$f":"LOOKUP(B408,Data!$A$6:$A$1806,Data!B$6:B$1806)","v":59.958999633789063},{"$f":"LOOKUP(B408,Data!$A$6:$A$1806,Data!C$6:C$1806)","v":3761.919921875},null,null,3090,{"$f":"(IF((C408-L$2)>0,(IF(C408<'Copy Results'!$C$3,((C408-L$2-L$5)/((L$4*L$2)-L$5)*G408*-1),(('Copy Results'!$C$3-L$2-L$5)/((L$4*L$2)-L$5)*G408*-1))),IF(C408>'Copy Results'!$C$2,((C408-L$2+L$5)/((L$4*L$2)-L$5)*G408*-1),(('Copy Results'!$C$2-L$2+L$5)/((L$4*L$2)-L$5)*G408*-1))))","v":42.230377197265625},41.55760974690871,null,null,0,3827.8288417932035,{"$f":"AVERAGE(D$79:D408)","v":3772.892326586174},{"$f":"AVERAGE(M$79:M408)","v":3801.6632741467997},3771.0526488503479,{"$f":"AVERAGE(P$79:P408)","v":3745.0591672847004},null,null,null,null,40098.109999999389,{"$f":"LOOKUP($V408,Data!$A$6:$A$1806,Data!$B$6:$B$1806)","v":59.958999633789063},{"$f":"LOOKUP($V408,Data!$A$6:$A$1806,Data!$C$6:$C$1806)","v":3761.919921875},{"$f":"LOOKUP($V408,Data!$A$6:$A$1806,Data!$D$6:$D$1806)","v":350},{"$f":"IF($Z$1=\"+\",LOOKUP($V408,Data!$A$6:$A$1806,Data!$E$6:$E$1806)*-1,LOOKUP($V408,Data!$A$6:$A$1806,Data!$E$6:$E$1806))","v":223.01573181152344},{"$f":"LOOKUP($V408,Data!$A$6:$A$1806,Data!$F$6:$F$1806)","v":16},null,{"$f":"LOOKUP($V408,Data!$A$6:$A$1806,Data!$H$6:$H$1806)","v":10},{"$f":"LOOKUP($V408,Data!$A$6:$A$1806,Data!$I$6:$I$1806)","v":0},{"$f":"IF(LOOKUP($V408,Data!$A$6:$A$1806,Data!$J$6:$J$1806)>0,(LOOKUP($V408,Data!$A$6:$A$1806,Data!$J$6:$J$1806)*-1),LOOKUP($V408,Data!$A$6:$A$1806,Data!$J$6:$J$1806))","v":-103},{"$f":"LOOKUP($V408,Data!$A$6:$A$1806,Data!$K$6:$K$1806)","v":7761.03},42.230377197265625,null,null,null,null,null,null,null,null,null,null,null,null,null,null,116.19287109375," ",4.10003662109375E-2,-103]
[null,40098.110023147536,{"$f":"LOOKUP(B409,Data!$A$6:$A$1806,Data!B$6:B$1806)","v":59.963001251220703},{"$f":"LOOKUP(B409,Data!$A$6:$A$1806,Data!C$6:C$1806)","v":3759.626953125},null,null,3090,{"$f":"(IF((C409-L$2)>0,(IF(C409<'Copy Results'!$C$3,((C409-L$2-L$5)/((L$4*L$2)-L$5)*G409*-1),(('Copy Results'!$C$3-L$2-L$5)/((L$4*L$2)-L$5)*G409*-1))),IF(C409>'Copy Results'!$C$2,((C409-L$2+L$5)/((L$4*L$2)-L$5)*G409*-1),(('Copy Results'!$C$2-L$2+L$5)/((L$4*L$2)-L$5)*G409*-1))))","v":38.108711242675781},40.350495270427189,null,null,0,3826.6217273167222,{"$f":"AVERAGE(D$79:D409)","v":3772.8522499291917},{"$f":"AVERAGE(M$79:M409)","v":3801.7386773285821},3771.0526488503479,{"$f":"AVERAGE(P$79:P409)","v":3745.1379354106566},null,null,null,null,40098.110023147536,{"$f":"LOOKUP($V409,Data!$A$6:$A$1806,Data!$B$6:$B$1806)","v":59.963001251220703},{"$f":"LOOKUP($V409,Data!$A$6:$A$1806,Data!$C$6:$C$1806)","v":3759.626953125},{"$f":"LOOKUP($V409,Data!$A$6:$A$1806,Data!$D$6:$D$1806)","v":350},{"$f":"IF($Z$1=\"+\",LOOKUP($V409,Data!$A$6:$A$1806,Data!$E$6:$E$1806)*-1,LOOKUP($V409,Data!$A$6:$A$1806,Data!$E$6:$E$1806))","v":223.01573181152344},{"$f":"LOOKUP($V409,Data!$A$6:$A$1806,Data!$F$6:$F$1806)","v":16},null,{"$f":"LOOKUP($V409,Data!$A$6:$A$1806,Data!$H$6:$H$1806)","v":10},{"$f":"LOOKUP($V409,Data!$A$6:$A$1806,Data!$I$6:$I$1806)","v":0},{"$f":"IF(LOOKUP($V409,Data!$A$6:$A$1806,Data!$J$6:$J$1806)>0,(LOOKUP($V409,Data!$A$6:$A$1806,Data!$J$6:$J$1806)*-1),LOOKUP($V409,Data!$A$6:$A$1806,Data!$J$6:$J$1806))","v":-103},{"$f":"LOOKUP($V409,Data!$A$6:$A$1806,Data!$K$6:$K$1806)","v":7761.36},38.108711242675781,null,null,null,null,null,null,null,null,null,null,null,null,null,null,113.89990234375," ",3.6998748779296875E-2,-103]
[null,40098.110046295682,{"$f":"LOOKUP(B410,Data!$A$6:$A$1806,Data!B$6:B$1806)","v":59.963001251220703},{"$f":"LOOKUP(B410,Data!$A$6:$A$1806,Data!C$6:C$1806)","v":3758.52197265625},null,null,3090,{"$f":"(IF((C410-L$2)>0,(IF(C410<'Copy Results'!$C$3,((C410-L$2-L$5)/((L$4*L$2)-L$5)*G410*-1),(('Copy Results'!$C$3-L$2-L$5)/((L$4*L$2)-L$5)*G410*-1))),IF(C410>'Copy Results'!$C$2,((C410-L$2+L$5)/((L$4*L$2)-L$5)*G410*-1),(('Copy Results'!$C$2-L$2+L$5)/((L$4*L$2)-L$5)*G410*-1))))","v":38.108711242675781},39.565870860714199,null,null,0,3825.837102907009,{"$f":"AVERAGE(D$79:D410)","v":3772.8090864434298},{"$f":"AVERAGE(M$79:M410)","v":3801.8112629477941},3771.0526488503479,{"$f":"AVERAGE(P$79:P410)","v":3745.2162275962746},null,null,null,null,40098.110046295682,{"$f":"LOOKUP($V410,Data!$A$6:$A$1806,Data!$B$6:$B$1806)","v":59.963001251220703},{"$f":"LOOKUP($V410,Data!$A$6:$A$1806,Data!$C$6:$C$1806)","v":3758.52197265625},{"$f":"LOOKUP($V410,Data!$A$6:$A$1806,Data!$D$6:$D$1806)","v":350},{"$f":"IF($Z$1=\"+\",LOOKUP($V410,Data!$A$6:$A$1806,Data!$E$6:$E$1806)*-1,LOOKUP($V410,Data!$A$6:$A$1806,Data!$E$6:$E$1806))","v":223.01573181152344},{"$f":"LOOKUP($V410,Data!$A$6:$A$1806,Data!$F$6:$F$1806)","v":16},null,{"$f":"LOOKUP($V410,Data!$A$6:$A$1806,Data!$H$6:$H$1806)","v":10},{"$f":"LOOKUP($V410,Data!$A$6:$A$1806,Data!$I$6:$I$1806)","v":0},{"$f":"IF(LOOKUP($V410,Data!$A$6:$A$1806,Data!$J$6:$J$1806)>0,(LOOKUP($V410,Data!$A$6:$A$1806,Data!$J$6:$J$1806)*-1),LOOKUP($V410,Data!$A$6:$A$1806,Data!$J$6:$J$1806))","v":-103},{"$f":"LOOKUP($V410,Data!$A$6:$A$1806,Data!$K$6:$K$1806)","v":7761.69},38.108711242675781,null,null,null,null,null,null,null,null,null,null,null,null,null,null,112.794921875," ",3.6998748779296875E-2,-103]
[null,40098.110069443828,{"$f":"LOOKUP(B411,Data!$A$6:$A$1806,Data!B$6:B$1806)","v":59.965000152587891},{"$f":"LOOKUP(B411,Data!$A$6:$A$1806,Data!C$6:C$1806)","v":3752.4287109375},null,null,3090,{"$f":"(IF((C411-L$2)>0,(IF(C411<'Copy Results'!$C$3,((C411-L$2-L$5)/((L$4*L$2)-L$5)*G411*-1),(('Copy Results'!$C$3-L$2-L$5)/((L$4*L$2)-L$5)*G411*-1))),IF(C411>'Copy Results'!$C$2,((C411-L$2+L$5)/((L$4*L$2)-L$5)*G411*-1),(('Copy Results'!$C$2-L$2+L$5)/((L$4*L$2)-L$5)*G411*-1))))","v":36.049842834472656},38.335261051529656,null,null,0,3824.6064930978246,{"$f":"AVERAGE(D$79:D411)","v":3772.7478841145835},{"$f":"AVERAGE(M$79:M411)","v":3801.8797170923885},3771.0526488503479,{"$f":"AVERAGE(P$79:P411)","v":3745.2940481422206},null,null,null,null,40098.110069443828,{"$f":"LOOKUP($V411,Data!$A$6:$A$1806,Data!$B$6:$B$1806)","v":59.965000152587891},{"$f":"LOOKUP($V411,Data!$A$6:$A$1806,Data!$C$6:$C$1806)","v":3752.4287109375},{"$f":"LOOKUP($V411,Data!$A$6:$A$1806,Data!$D$6:$D$1806)","v":350},{"$f":"IF($Z$1=\"+\",LOOKUP($V411,Data!$A$6:$A$1806,Data!$E$6:$E$1806)*-1,LOOKUP($V411,Data!$A$6:$A$1806,Data!$E$6:$E$1806))","v":223.01573181152344},{"$f":"LOOKUP($V411,Data!$A$6:$A$1806,Data!$F$6:$F$1806)","v":16},null,{"$f":"LOOKUP($V411,Data!$A$6:$A$1806,Data!$H$6:$H$1806)","v":10},{"$f":"LOOKUP($V411,Data!$A$6:$A$1806,Data!$I$6:$I$1806)","v":0},{"$f":"IF(LOOKUP($V411,Data!$A$6:$A$1806,Data!$J$6:$J$1806)>0,(LOOKUP($V411,Data!$A$6:$A$1806,Data!$J$6:$J$1806)*-1),LOOKUP($V411,Data!$A$6:$A$1806,Data!$J$6:$J$1806))","v":-103},{"$f":"LOOKUP($V411,Data!$A$6:$A$1806,Data!$K$6:$K$1806)","v":7762.02},36.049842834472656,null,null,null,null,null,null,null,null,null,null,null,null,null,null,106.70166015625," ",3.4999847412109375E-2," "]
[null,40098.110092591975,{"$f":"LOOKUP(B412,Data!$A$6:$A$1806,Data!B$6:B$1806)","v":59.967998504638672},{"$f":"LOOKUP(B412,Data!$A$6:$A$1806,Data!C$6:C$1806)","v":3750.1015625},null,null,3090,{"$f":"(IF((C412-L$2)>0,(IF(C412<'Copy Results'!$C$3,((C412-L$2-L$5)/((L$4*L$2)-L$5)*G412*-1),(('Copy Results'!$C$3-L$2-L$5)/((L$4*L$2)-L$5)*G412*-1))),IF(C412>'Copy Results'!$C$2,((C412-L$2+L$5)/((L$4*L$2)-L$5)*G412*-1),(('Copy Results'!$C$2-L$2+L$5)/((L$4*L$2)-L$5)*G412*-1))))","v":32.961540222167969},36.454458761253065,null,null,0,3822.7256908075478,{"$f":"AVERAGE(D$79:D412)","v":3772.6800807564559},{"$f":"AVERAGE(M$79:M412)","v":3801.9421301873435},3771.0526488503479,{"$f":"AVERAGE(P$79:P412)","v":3745.3714012974997},null,null,null,null,40098.110092591975,{"$f":"LOOKUP($V412,Data!$A$6:$A$1806,Data!$B$6:$B$1806)","v":59.967998504638672},{"$f":"LOOKUP($V412,Data!$A$6:$A$1806,Data!$C$6:$C$1806)","v":3750.1015625},{"$f":"LOOKUP($V412,Data!$A$6:$A$1806,Data!$D$6:$D$1806)","v":350},{"$f":"IF($Z$1=\"+\",LOOKUP($V412,Data!$A$6:$A$1806,Data!$E$6:$E$1806)*-1,LOOKUP($V412,Data!$A$6:$A$1806,Data!$E$6:$E$1806))","v":223.01573181152344},{"$f":"LOOKUP($V412,Data!$A$6:$A$1806,Data!$F$6:$F$1806)","v":16},null,{"$f":"LOOKUP($V412,Data!$A$6:$A$1806,Data!$H$6:$H$1806)","v":10},{"$f":"LOOKUP($V412,Data!$A$6:$A$1806,Data!$I$6:$I$1806)","v":0},{"$f":"IF(LOOKUP($V412,Data!$A$6:$A$1806,Data!$J$6:$J$1806)>0,(LOOKUP($V412,Data!$A$6:$A$1806,Data!$J$6:$J$1806)*-1),LOOKUP($V412,Data!$A$6:$A$1806,Data!$J$6:$J$1806))","v":-103},{"$f":"LOOKUP($V412,Data!$A$6:$A$1806,Data!$K$6:$K$1806)","v":7762.35},32.961540222167969,null,null,null,null,null,null,null,null,null,null,null,null,null,null,104.37451171875," ",3.2001495361328125E-2," "]
[null,40098.110115740121,{"$f":"LOOKUP(B413,Data!$A$6:$A$1806,Data!B$6:B$1806)","v":59.967998504638672},{"$f":"LOOKUP(B413,Data!$A$6:$A$1806,Data!C$6:C$1806)","v":3753.82958984375},null,null,3090,{"$f":"(IF((C413-L$2)>0,(IF(C413<'Copy Results'!$C$3,((C413-L$2-L$5)/((L$4*L$2)-L$5)*G413*-1),(('Copy Results'!$C$3-L$2-L$5)/((L$4*L$2)-L$5)*G413*-1))),IF(C413>'Copy Results'!$C$2,((C413-L$2+L$5)/((L$4*L$2)-L$5)*G413*-1),(('Copy Results'!$C$2-L$2+L$5)/((L$4*L$2)-L$5)*G413*-1))))","v":32.961540222167969},35.231937272573283,null,null,0,3821.503169318868,{"$f":"AVERAGE(D$79:D413)","v":3772.6238106343285},{"$f":"AVERAGE(M$79:M413)","v":3802.0005213489303},3771.0526488503479,{"$f":"AVERAGE(P$79:P413)","v":3745.4482912602325},null,null,null,null,40098.110115740121,{"$f":"LOOKUP($V413,Data!$A$6:$A$1806,Data!$B$6:$B$1806)","v":59.967998504638672},{"$f":"LOOKUP($V413,Data!$A$6:$A$1806,Data!$C$6:$C$1806)","v":3753.82958984375},{"$f":"LOOKUP($V413,Data!$A$6:$A$1806,Data!$D$6:$D$1806)","v":350},{"$f":"IF($Z$1=\"+\",LOOKUP($V413,Data!$A$6:$A$1806,Data!$E$6:$E$1806)*-1,LOOKUP($V413,Data!$A$6:$A$1806,Data!$E$6:$E$1806))","v":223.01573181152344},{"$f":"LOOKUP($V413,Data!$A$6:$A$1806,Data!$F$6:$F$1806)","v":16},null,{"$f":"LOOKUP($V413,Data!$A$6:$A$1806,Data!$H$6:$H$1806)","v":10},{"$f":"LOOKUP($V413,Data!$A$6:$A$1806,Data!$I$6:$I$1806)","v":0},{"$f":"IF(LOOKUP($V413,Data!$A$6:$A$1806,Data!$J$6:$J$1806)>0,(LOOKUP($V413,Data!$A$6:$A$1806,Data!$J$6:$J$1806)*-1),LOOKUP($V413,Data!$A$6:$A$1806,Data!$J$6:$J$1806))","v":-103},{"$f":"LOOKUP($V413,Data!$A$6:$A$1806,Data!$K$6:$K$1806)","v":7762.68},32.961540222167969,null,null,null,null,null,null,null,null,null,null,null,null,null,null,108.1025390625," ",3.2001495361328125E-2," "]
[null,40098.110138888267,{"$f":"LOOKUP(B414,Data!$A$6:$A$1806,Data!B$6:B$1806)","v":59.967998504638672},{"$f":"LOOKUP(B414,Data!$A$6:$A$1806,Data!C$6:C$1806)","v":3753.51025390625},null,null,3090,{"$f":"(IF((C414-L$2)>0,(IF(C414<'Copy Results'!$C$3,((C414-L$2-L$5)/((L$4*L$2)-L$5)*G414*-1),(('Copy Results'!$C$3-L$2-L$5)/((L$4*L$2)-L$5)*G414*-1))),IF(C414>'Copy Results'!$C$2,((C414-L$2+L$5)/((L$4*L$2)-L$5)*G414*-1),(('Copy Results'!$C$2-L$2+L$5)/((L$4*L$2)-L$5)*G414*-1))))","v":32.961540222167969},34.437298304931424,null,null,0,3820.7085303512263,{"$f":"AVERAGE(D$79:D414)","v":3772.5669250488281},{"$f":"AVERAGE(M$79:M414)","v":3802.0561999471515},3771.0526488503479,{"$f":"AVERAGE(P$79:P414)","v":3745.5247221784116},null,null,null,null,40098.110138888267,{"$f":"LOOKUP($V414,Data!$A$6:$A$1806,Data!$B$6:$B$1806)","v":59.967998504638672},{"$f":"LOOKUP($V414,Data!$A$6:$A$1806,Data!$C$6:$C$1806)","v":3753.51025390625},{"$f":"LOOKUP($V414,Data!$A$6:$A$1806,Data!$D$6:$D$1806)","v":350},{"$f":"IF($Z$1=\"+\",LOOKUP($V414,Data!$A$6:$A$1806,Data!$E$6:$E$1806)*-1,LOOKUP($V414,Data!$A$6:$A$1806,Data!$E$6:$E$1806))","v":223.01573181152344},{"$f":"LOOKUP($V414,Data!$A$6:$A$1806,Data!$F$6:$F$1806)","v":16},null,{"$f":"LOOKUP($V414,Data!$A$6:$A$1806,Data!$H$6:$H$1806)","v":10},{"$f":"LOOKUP($V414,Data!$A$6:$A$1806,Data!$I$6:$I$1806)","v":0},{"$f":"IF(LOOKUP($V414,Data!$A$6:$A$1806,Data!$J$6:$J$1806)>0,(LOOKUP($V414,Data!$A$6:$A$1806,Data!$J$6:$J$1806)*-1),LOOKUP($V414,Data!$A$6:$A$1806,Data!$J$6:$J$1806))","v":-103},{"$f":"LOOKUP($V414,Data!$A$6:$A$1806,Data!$K$6:$K$1806)","v":7763.01},32.961540222167969,null,null,null,null,null,null,null,null,null,null,null,null,null,null,107.783203125," ",3.2001495361328125E-2," "]
[null,40098.110162036413,{"$f":"LOOKUP(B415,Data!$A$6:$A$1806,Data!B$6:B$1806)","v":59.970001220703125},{"$f":"LOOKUP(B415,Data!$A$6:$A$1806,Data!C$6:C$1806)","v":3753.52294921875},null,null,3090,{"$f":"(IF((C415-L$2)>0,(IF(C415<'Copy Results'!$C$3,((C415-L$2-L$5)/((L$4*L$2)-L$5)*G415*-1),(('Copy Results'!$C$3-L$2-L$5)/((L$4*L$2)-L$5)*G415*-1))),IF(C415>'Copy Results'!$C$2,((C415-L$2+L$5)/((L$4*L$2)-L$5)*G415*-1),(('Copy Results'!$C$2-L$2+L$5)/((L$4*L$2)-L$5)*G415*-1))))","v":30.898742675781254},33.198803834728864,null,null,0,3819.4700358810237,{"$f":"AVERAGE(D$79:D415)","v":3772.5104147347924},{"$f":"AVERAGE(M$79:M415)","v":3802.1078730508129},3771.0526488503479,{"$f":"AVERAGE(P$79:P415)","v":3745.6006981506494},null,null,null,null,40098.110162036413,{"$f":"LOOKUP($V415,Data!$A$6:$A$1806,Data!$B$6:$B$1806)","v":59.970001220703125},{"$f":"LOOKUP($V415,Data!$A$6:$A$1806,Data!$C$6:$C$1806)","v":3753.52294921875},{"$f":"LOOKUP($V415,Data!$A$6:$A$1806,Data!$D$6:$D$1806)","v":350},{"$f":"IF($Z$1=\"+\",LOOKUP($V415,Data!$A$6:$A$1806,Data!$E$6:$E$1806)*-1,LOOKUP($V415,Data!$A$6:$A$1806,Data!$E$6:$E$1806))","v":223.01573181152344},{"$f":"LOOKUP($V415,Data!$A$6:$A$1806,Data!$F$6:$F$1806)","v":16},null,{"$f":"LOOKUP($V415,Data!$A$6:$A$1806,Data!$H$6:$H$1806)","v":10},{"$f":"LOOKUP($V415,Data!$A$6:$A$1806,Data!$I$6:$I$1806)","v":0},{"$f":"IF(LOOKUP($V415,Data!$A$6:$A$1806,Data!$J$6:$J$1806)>0,(LOOKUP($V415,Data!$A$6:$A$1806,Data!$J$6:$J$1806)*-1),LOOKUP($V415,Data!$A$6:$A$1806,Data!$J$6:$J$1806))","v":-103},{"$f":"LOOKUP($V415,Data!$A$6:$A$1806,Data!$K$6:$K$1806)","v":7763.34},30.898742675781254,null,null,null,null,null,null,null,null,null,null,null,null,null,null,107.7958984375," ",2.9998779296875E-2," "]
[null,40098.11018518456,{"$f":"LOOKUP(B416,Data!$A$6:$A$1806,Data!B$6:B$1806)","v":59.972999572753906},{"$f":"LOOKUP(B416,Data!$A$6:$A$1806,Data!C$6:C$1806)","v":3752.74072265625},null,null,3090,{"$f":"(IF((C416-L$2)>0,(IF(C416<'Copy Results'!$C$3,((C416-L$2-L$5)/((L$4*L$2)-L$5)*G416*-1),(('Copy Results'!$C$3-L$2-L$5)/((L$4*L$2)-L$5)*G416*-1))),IF(C416>'Copy Results'!$C$2,((C416-L$2+L$5)/((L$4*L$2)-L$5)*G416*-1),(('Copy Results'!$C$2-L$2+L$5)/((L$4*L$2)-L$5)*G416*-1))))","v":27.810440063476566},31.31287651479056,null,null,0,3817.5841085610855,{"$f":"AVERAGE(D$79:D416)","v":3772.451924521542},{"$f":"AVERAGE(M$79:M416)","v":3802.1536607298376},3771.0526488503479,{"$f":"AVERAGE(P$79:P416)","v":3745.6762232269093},null,null,null,null,40098.11018518456,{"$f":"LOOKUP($V416,Data!$A$6:$A$1806,Data!$B$6:$B$1806)","v":59.972999572753906},{"$f":"LOOKUP($V416,Data!$A$6:$A$1806,Data!$C$6:$C$1806)","v":3752.74072265625},{"$f":"LOOKUP($V416,Data!$A$6:$A$1806,Data!$D$6:$D$1806)","v":350},{"$f":"IF($Z$1=\"+\",LOOKUP($V416,Data!$A$6:$A$1806,Data!$E$6:$E$1806)*-1,LOOKUP($V416,Data!$A$6:$A$1806,Data!$E$6:$E$1806))","v":223.01573181152344},{"$f":"LOOKUP($V416,Data!$A$6:$A$1806,Data!$F$6:$F$1806)","v":16},null,{"$f":"LOOKUP($V416,Data!$A$6:$A$1806,Data!$H$6:$H$1806)","v":10},{"$f":"LOOKUP($V416,Data!$A$6:$A$1806,Data!$I$6:$I$1806)","v":0},{"$f":"IF(LOOKUP($V416,Data!$A$6:$A$1806,Data!$J$6:$J$1806)>0,(LOOKUP($V416,Data!$A$6:$A$1806,Data!$J$6:$J$1806)*-1),LOOKUP($V416,Data!$A$6:$A$1806,Data!$J$6:$J$1806))","v":-103},{"$f":"LOOKUP($V416,Data!$A$6:$A$1806,Data!$K$6:$K$1806)","v":7763.67},27.810440063476566,null,null,null,null,null,null,null,null,null,null,null,null,null,null,107.013671875," ",2.700042724609375E-2," "]
[null,40098.110208332706,{"$f":"LOOKUP(B417,Data!$A$6:$A$1806,Data!B$6:B$1806)","v":59.971000671386719},{"$f":"LOOKUP(B417,Data!$A$6:$A$1806,Data!C$6:C$1806)","v":3753.17822265625},null,null,3090,{"$f":"(IF((C417-L$2)>0,(IF(C417<'Copy Results'!$C$3,((C417-L$2-L$5)/((L$4*L$2)-L$5)*G417*-1),(('Copy Results'!$C$3-L$2-L$5)/((L$4*L$2)-L$5)*G417*-1))),IF(C417>'Copy Results'!$C$2,((C417-L$2+L$5)/((L$4*L$2)-L$5)*G417*-1),(('Copy Results'!$C$2-L$2+L$5)/((L$4*L$2)-L$5)*G417*-1))))","v":29.869308471679688},30.807627699701754,null,null,0,3817.0788597459969,{"$f":"AVERAGE(D$79:D417)","v":3772.3950699437682},{"$f":"AVERAGE(M$79:M417)","v":3802.1976878655782},3771.0526488503479,{"$f":"AVERAGE(P$79:P417)","v":3745.7513014092269},null,null,null,null,40098.110208332706,{"$f":"LOOKUP($V417,Data!$A$6:$A$1806,Data!$B$6:$B$1806)","v":59.971000671386719},{"$f":"LOOKUP($V417,Data!$A$6:$A$1806,Data!$C$6:$C$1806)","v":3753.17822265625},{"$f":"LOOKUP($V417,Data!$A$6:$A$1806,Data!$D$6:$D$1806)","v":350},{"$f":"IF($Z$1=\"+\",LOOKUP($V417,Data!$A$6:$A$1806,Data!$E$6:$E$1806)*-1,LOOKUP($V417,Data!$A$6:$A$1806,Data!$E$6:$E$1806))","v":223.01573181152344},{"$f":"LOOKUP($V417,Data!$A$6:$A$1806,Data!$F$6:$F$1806)","v":16},null,{"$f":"LOOKUP($V417,Data!$A$6:$A$1806,Data!$H$6:$H$1806)","v":10},{"$f":"LOOKUP($V417,Data!$A$6:$A$1806,Data!$I$6:$I$1806)","v":0},{"$f":"IF(LOOKUP($V417,Data!$A$6:$A$1806,Data!$J$6:$J$1806)>0,(LOOKUP($V417,Data!$A$6:$A$1806,Data!$J$6:$J$1806)*-1),LOOKUP($V417,Data!$A$6:$A$1806,Data!$J$6:$J$1806))","v":-103},{"$f":"LOOKUP($V417,Data!$A$6:$A$1806,Data!$K$6:$K$1806)","v":7764},29.869308471679688,null,null,null,null,null,null,null,null,null,null,null,null,null,null,107.451171875," ",2.899932861328125E-2," "]
[null,40098.110231480852,{"$f":"LOOKUP(B418,Data!$A$6:$A$1806,Data!B$6:B$1806)","v":59.965000152587891},{"$f":"LOOKUP(B418,Data!$A$6:$A$1806,Data!C$6:C$1806)","v":3752.72900390625},null,null,3090,{"$f":"(IF((C418-L$2)>0,(IF(C418<'Copy Results'!$C$3,((C418-L$2-L$5)/((L$4*L$2)-L$5)*G418*-1),(('Copy Results'!$C$3-L$2-L$5)/((L$4*L$2)-L$5)*G418*-1))),IF(C418>'Copy Results'!$C$2,((C418-L$2+L$5)/((L$4*L$2)-L$5)*G418*-1),(('Copy Results'!$C$2-L$2+L$5)/((L$4*L$2)-L$5)*G418*-1))))","v":36.049842834472656},32.642402996871567,null,null,0,3818.9136350431668,{"$f":"AVERAGE(D$79:D418)","v":3772.3372285730698},{"$f":"AVERAGE(M$79:M418)","v":3802.2468524161009},3771.0526488503479,{"$f":"AVERAGE(P$79:P418)","v":3745.8259366524157},null,null,null,null,40098.110231480852,{"$f":"LOOKUP($V418,Data!$A$6:$A$1806,Data!$B$6:$B$1806)","v":59.965000152587891},{"$f":"LOOKUP($V418,Data!$A$6:$A$1806,Data!$C$6:$C$1806)","v":3752.72900390625},{"$f":"LOOKUP($V418,Data!$A$6:$A$1806,Data!$D$6:$D$1806)","v":350},{"$f":"IF($Z$1=\"+\",LOOKUP($V418,Data!$A$6:$A$1806,Data!$E$6:$E$1806)*-1,LOOKUP($V418,Data!$A$6:$A$1806,Data!$E$6:$E$1806))","v":223.01573181152344},{"$f":"LOOKUP($V418,Data!$A$6:$A$1806,Data!$F$6:$F$1806)","v":16},null,{"$f":"LOOKUP($V418,Data!$A$6:$A$1806,Data!$H$6:$H$1806)","v":10},{"$f":"LOOKUP($V418,Data!$A$6:$A$1806,Data!$I$6:$I$1806)","v":0},{"$f":"IF(LOOKUP($V418,Data!$A$6:$A$1806,Data!$J$6:$J$1806)>0,(LOOKUP($V418,Data!$A$6:$A$1806,Data!$J$6:$J$1806)*-1),LOOKUP($V418,Data!$A$6:$A$1806,Data!$J$6:$J$1806))","v":-103},{"$f":"LOOKUP($V418,Data!$A$6:$A$1806,Data!$K$6:$K$1806)","v":7764.33},36.049842834472656,null,null,null,null,null,null,null,null,null,null,null,null,null,null,107.001953125," ",3.4999847412109375E-2," "]
[null,40098.110254628999,{"$f":"LOOKUP(B419,Data!$A$6:$A$1806,Data!B$6:B$1806)","v":59.966999053955078},{"$f":"LOOKUP(B419,Data!$A$6:$A$1806,Data!C$6:C$1806)","v":3753.29052734375},null,null,3090,{"$f":"(IF((C419-L$2)>0,(IF(C419<'Copy Results'!$C$3,((C419-L$2-L$5)/((L$4*L$2)-L$5)*G419*-1),(('Copy Results'!$C$3-L$2-L$5)/((L$4*L$2)-L$5)*G419*-1))),IF(C419>'Copy Results'!$C$2,((C419-L$2+L$5)/((L$4*L$2)-L$5)*G419*-1),(('Copy Results'!$C$2-L$2+L$5)/((L$4*L$2)-L$5)*G419*-1))))","v":33.990974426269531},33.114402997160852,null,null,0,3819.3856350434562,{"$f":"AVERAGE(D$79:D419)","v":3772.2813731442448},{"$f":"AVERAGE(M$79:M419)","v":3802.2971127757119},3771.0526488503479,{"$f":"AVERAGE(P$79:P419)","v":3745.9001328647623},null,null,null,null,40098.110254628999,{"$f":"LOOKUP($V419,Data!$A$6:$A$1806,Data!$B$6:$B$1806)","v":59.966999053955078},{"$f":"LOOKUP($V419,Data!$A$6:$A$1806,Data!$C$6:$C$1806)","v":3753.29052734375},{"$f":"LOOKUP($V419,Data!$A$6:$A$1806,Data!$D$6:$D$1806)","v":350},{"$f":"IF($Z$1=\"+\",LOOKUP($V419,Data!$A$6:$A$1806,Data!$E$6:$E$1806)*-1,LOOKUP($V419,Data!$A$6:$A$1806,Data!$E$6:$E$1806))","v":223.01573181152344},{"$f":"LOOKUP($V419,Data!$A$6:$A$1806,Data!$F$6:$F$1806)","v":16},null,{"$f":"LOOKUP($V419,Data!$A$6:$A$1806,Data!$H$6:$H$1806)","v":10},{"$f":"LOOKUP($V419,Data!$A$6:$A$1806,Data!$I$6:$I$1806)","v":0},{"$f":"IF(LOOKUP($V419,Data!$A$6:$A$1806,Data!$J$6:$J$1806)>0,(LOOKUP($V419,Data!$A$6:$A$1806,Data!$J$6:$J$1806)*-1),LOOKUP($V419,Data!$A$6:$A$1806,Data!$J$6:$J$1806))","v":-103},{"$f":"LOOKUP($V419,Data!$A$6:$A$1806,Data!$K$6:$K$1806)","v":7764.66},33.990974426269531,null,null,null,null,null,null,null,null,null,null,null,null,null,null,107.5634765625," ",3.3000946044921875E-2," "]
[null,40098.110277777145,{"$f":"LOOKUP(B420,Data!$A$6:$A$1806,Data!B$6:B$1806)","v":59.966999053955078},{"$f":"LOOKUP(B420,Data!$A$6:$A$1806,Data!C$6:C$1806)","v":3752.87158203125},null,null,3090,{"$f":"(IF((C420-L$2)>0,(IF(C420<'Copy Results'!$C$3,((C420-L$2-L$5)/((L$4*L$2)-L$5)*G420*-1),(('Copy Results'!$C$3-L$2-L$5)/((L$4*L$2)-L$5)*G420*-1))),IF(C420>'Copy Results'!$C$2,((C420-L$2+L$5)/((L$4*L$2)-L$5)*G420*-1),(('Copy Results'!$C$2-L$2+L$5)/((L$4*L$2)-L$5)*G420*-1))))","v":33.990974426269531},33.421202997348885,null,null,0,3819.6924350436443,{"$f":"AVERAGE(D$79:D420)","v":3772.2246193690607},{"$f":"AVERAGE(M$79:M420)","v":3802.3479762911152},3771.0526488503479,{"$f":"AVERAGE(P$79:P420)","v":3745.9738939087079},null,null,null,null,40098.110277777145,{"$f":"LOOKUP($V420,Data!$A$6:$A$1806,Data!$B$6:$B$1806)","v":59.966999053955078},{"$f":"LOOKUP($V420,Data!$A$6:$A$1806,Data!$C$6:$C$1806)","v":3752.87158203125},{"$f":"LOOKUP($V420,Data!$A$6:$A$1806,Data!$D$6:$D$1806)","v":350},{"$f":"IF($Z$1=\"+\",LOOKUP($V420,Data!$A$6:$A$1806,Data!$E$6:$E$1806)*-1,LOOKUP($V420,Data!$A$6:$A$1806,Data!$E$6:$E$1806))","v":223.01573181152344},{"$f":"LOOKUP($V420,Data!$A$6:$A$1806,Data!$F$6:$F$1806)","v":16},null,{"$f":"LOOKUP($V420,Data!$A$6:$A$1806,Data!$H$6:$H$1806)","v":10},{"$f":"LOOKUP($V420,Data!$A$6:$A$1806,Data!$I$6:$I$1806)","v":0},{"$f":"IF(LOOKUP($V420,Data!$A$6:$A$1806,Data!$J$6:$J$1806)>0,(LOOKUP($V420,Data!$A$6:$A$1806,Data!$J$6:$J$1806)*-1),LOOKUP($V420,Data!$A$6:$A$1806,Data!$J$6:$J$1806))","v":-103},{"$f":"LOOKUP($V420,Data!$A$6:$A$1806,Data!$K$6:$K$1806)","v":7764.99},33.990974426269531,null,null,null,null,null,null,null,null,null,null,null,null,null,null,107.14453125," ",3.3000946044921875E-2," "]
[null,40098.110300925291,{"$f":"LOOKUP(B421,Data!$A$6:$A$1806,Data!B$6:B$1806)","v":59.972000122070313},{"$f":"LOOKUP(B421,Data!$A$6:$A$1806,Data!C$6:C$1806)","v":3752.358642578125},null,null,3090,{"$f":"(IF((C421-L$2)>0,(IF(C421<'Copy Results'!$C$3,((C421-L$2-L$5)/((L$4*L$2)-L$5)*G421*-1),(('Copy Results'!$C$3-L$2-L$5)/((L$4*L$2)-L$5)*G421*-1))),IF(C421>'Copy Results'!$C$2,((C421-L$2+L$5)/((L$4*L$2)-L$5)*G421*-1),(('Copy Results'!$C$2-L$2+L$5)/((L$4*L$2)-L$5)*G421*-1))))","v":28.839874267578121},31.817737941929117,null,null,0,3818.0889699882246,{"$f":"AVERAGE(D$79:D421)","v":3772.1667010693786},{"$f":"AVERAGE(M$79:M421)","v":3802.3938684010195},3771.0526488503479,{"$f":"AVERAGE(P$79:P421)","v":3746.0472236015194},null,null,null,null,40098.110300925291,{"$f":"LOOKUP($V421,Data!$A$6:$A$1806,Data!$B$6:$B$1806)","v":59.972000122070313},{"$f":"LOOKUP($V421,Data!$A$6:$A$1806,Data!$C$6:$C$1806)","v":3752.358642578125},{"$f":"LOOKUP($V421,Data!$A$6:$A$1806,Data!$D$6:$D$1806)","v":350},{"$f":"IF($Z$1=\"+\",LOOKUP($V421,Data!$A$6:$A$1806,Data!$E$6:$E$1806)*-1,LOOKUP($V421,Data!$A$6:$A$1806,Data!$E$6:$E$1806))","v":223.01573181152344},{"$f":"LOOKUP($V421,Data!$A$6:$A$1806,Data!$F$6:$F$1806)","v":16},null,{"$f":"LOOKUP($V421,Data!$A$6:$A$1806,Data!$H$6:$H$1806)","v":10},{"$f":"LOOKUP($V421,Data!$A$6:$A$1806,Data!$I$6:$I$1806)","v":0},{"$f":"IF(LOOKUP($V421,Data!$A$6:$A$1806,Data!$J$6:$J$1806)>0,(LOOKUP($V421,Data!$A$6:$A$1806,Data!$J$6:$J$1806)*-1),LOOKUP($V421,Data!$A$6:$A$1806,Data!$J$6:$J$1806))","v":-103},{"$f":"LOOKUP($V421,Data!$A$6:$A$1806,Data!$K$6:$K$1806)","v":7765.32},28.839874267578121,null,null,null,null,null,null,null,null,null,null,null,null,null,null,106.631591796875," ",2.79998779296875E-2," "]
[null,40098.110324073437,{"$f":"LOOKUP(B422,Data!$A$6:$A$1806,Data!B$6:B$1806)","v":59.976001739501953},{"$f":"LOOKUP(B422,Data!$A$6:$A$1806,Data!C$6:C$1806)","v":3749.39794921875},null,null,3090,{"$f":"(IF((C422-L$2)>0,(IF(C422<'Copy Results'!$C$3,((C422-L$2-L$5)/((L$4*L$2)-L$5)*G422*-1),(('Copy Results'!$C$3-L$2-L$5)/((L$4*L$2)-L$5)*G422*-1))),IF(C422>'Copy Results'!$C$2,((C422-L$2+L$5)/((L$4*L$2)-L$5)*G422*-1),(('Copy Results'!$C$2-L$2+L$5)/((L$4*L$2)-L$5)*G422*-1))))","v":24.718208312988281},29.332902571799824,null,null,0,3815.6041346180955,{"$f":"AVERAGE(D$79:D422)","v":3772.1005128372549},{"$f":"AVERAGE(M$79:M422)","v":3802.432270337697},3771.0526488503479,{"$f":"AVERAGE(P$79:P422)","v":3746.1201257159473},null,null,null,null,40098.110324073437,{"$f":"LOOKUP($V422,Data!$A$6:$A$1806,Data!$B$6:$B$1806)","v":59.976001739501953},{"$f":"LOOKUP($V422,Data!$A$6:$A$1806,Data!$C$6:$C$1806)","v":3749.39794921875},{"$f":"LOOKUP($V422,Data!$A$6:$A$1806,Data!$D$6:$D$1806)","v":350},{"$f":"IF($Z$1=\"+\",LOOKUP($V422,Data!$A$6:$A$1806,Data!$E$6:$E$1806)*-1,LOOKUP($V422,Data!$A$6:$A$1806,Data!$E$6:$E$1806))","v":223.01573181152344},{"$f":"LOOKUP($V422,Data!$A$6:$A$1806,Data!$F$6:$F$1806)","v":16},null,{"$f":"LOOKUP($V422,Data!$A$6:$A$1806,Data!$H$6:$H$1806)","v":10},{"$f":"LOOKUP($V422,Data!$A$6:$A$1806,Data!$I$6:$I$1806)","v":0},{"$f":"IF(LOOKUP($V422,Data!$A$6:$A$1806,Data!$J$6:$J$1806)>0,(LOOKUP($V422,Data!$A$6:$A$1806,Data!$J$6:$J$1806)*-1),LOOKUP($V422,Data!$A$6:$A$1806,Data!$J$6:$J$1806))","v":-103},{"$f":"LOOKUP($V422,Data!$A$6:$A$1806,Data!$K$6:$K$1806)","v":7765.65},24.718208312988281,null,null,null,null,null,null,null,null,null,null,null,null,null,null,103.6708984375," ",2.3998260498046875E-2," "]
[null,40098.110347221584,{"$f":"LOOKUP(B423,Data!$A$6:$A$1806,Data!B$6:B$1806)","v":59.974998474121094},{"$f":"LOOKUP(B423,Data!$A$6:$A$1806,Data!C$6:C$1806)","v":3747.475830078125},null,null,3090,{"$f":"(IF((C423-L$2)>0,(IF(C423<'Copy Results'!$C$3,((C423-L$2-L$5)/((L$4*L$2)-L$5)*G423*-1),(('Copy Results'!$C$3-L$2-L$5)/((L$4*L$2)-L$5)*G423*-1))),IF(C423>'Copy Results'!$C$2,((C423-L$2+L$5)/((L$4*L$2)-L$5)*G423*-1),(('Copy Results'!$C$2-L$2+L$5)/((L$4*L$2)-L$5)*G423*-1))))","v":25.751571655273434},28.079436751015585,null,null,0,3814.3506687973113,{"$f":"AVERAGE(D$79:D423)","v":3772.0291369451993},{"$f":"AVERAGE(M$79:M423)","v":3802.4668164201885},3771.0526488503479,{"$f":"AVERAGE(P$79:P423)","v":3746.1926039808727},null,null,null,null,40098.110347221584,{"$f":"LOOKUP($V423,Data!$A$6:$A$1806,Data!$B$6:$B$1806)","v":59.974998474121094},{"$f":"LOOKUP($V423,Data!$A$6:$A$1806,Data!$C$6:$C$1806)","v":3747.475830078125},{"$f":"LOOKUP($V423,Data!$A$6:$A$1806,Data!$D$6:$D$1806)","v":350},{"$f":"IF($Z$1=\"+\",LOOKUP($V423,Data!$A$6:$A$1806,Data!$E$6:$E$1806)*-1,LOOKUP($V423,Data!$A$6:$A$1806,Data!$E$6:$E$1806))","v":223.01573181152344},{"$f":"LOOKUP($V423,Data!$A$6:$A$1806,Data!$F$6:$F$1806)","v":16},null,{"$f":"LOOKUP($V423,Data!$A$6:$A$1806,Data!$H$6:$H$1806)","v":10},{"$f":"LOOKUP($V423,Data!$A$6:$A$1806,Data!$I$6:$I$1806)","v":0},{"$f":"IF(LOOKUP($V423,Data!$A$6:$A$1806,Data!$J$6:$J$1806)>0,(LOOKUP($V423,Data!$A$6:$A$1806,Data!$J$6:$J$1806)*-1),LOOKUP($V423,Data!$A$6:$A$1806,Data!$J$6:$J$1806))","v":-103},{"$f":"LOOKUP($V423,Data!$A$6:$A$1806,Data!$K$6:$K$1806)","v":7765.98},25.751571655273434,null,null,null,null,null,null,null,null,null,null,null,null,null,null,101.748779296875," ",2.500152587890625E-2," "]
[null,40098.11037036973,{"$f":"LOOKUP(B424,Data!$A$6:$A$1806,Data!B$6:B$1806)","v":59.969001770019531},{"$f":"LOOKUP(B424,Data!$A$6:$A$1806,Data!C$6:C$1806)","v":3740.370361328125},null,null,3090,{"$f":"(IF((C424-L$2)>0,(IF(C424<'Copy Results'!$C$3,((C424-L$2-L$5)/((L$4*L$2)-L$5)*G424*-1),(('Copy Results'!$C$3-L$2-L$5)/((L$4*L$2)-L$5)*G424*-1))),IF(C424>'Copy Results'!$C$2,((C424-L$2+L$5)/((L$4*L$2)-L$5)*G424*-1),(('Copy Results'!$C$2-L$2+L$5)/((L$4*L$2)-L$5)*G424*-1))))","v":31.928176879882809},29.426495796119113,null,null,0,3815.6977278424147,{"$f":"AVERAGE(D$79:D424)","v":3771.9376375937049},{"$f":"AVERAGE(M$79:M424)","v":3802.5050560485765},3771.0526488503479,{"$f":"AVERAGE(P$79:P424)","v":3746.2646620819432},null,null,null,null,40098.11037036973,{"$f":"LOOKUP($V424,Data!$A$6:$A$1806,Data!$B$6:$B$1806)","v":59.969001770019531},{"$f":"LOOKUP($V424,Data!$A$6:$A$1806,Data!$C$6:$C$1806)","v":3740.370361328125},{"$f":"LOOKUP($V424,Data!$A$6:$A$1806,Data!$D$6:$D$1806)","v":350},{"$f":"IF($Z$1=\"+\",LOOKUP($V424,Data!$A$6:$A$1806,Data!$E$6:$E$1806)*-1,LOOKUP($V424,Data!$A$6:$A$1806,Data!$E$6:$E$1806))","v":223.01573181152344},{"$f":"LOOKUP($V424,Data!$A$6:$A$1806,Data!$F$6:$F$1806)","v":16},null,{"$f":"LOOKUP($V424,Data!$A$6:$A$1806,Data!$H$6:$H$1806)","v":10},{"$f":"LOOKUP($V424,Data!$A$6:$A$1806,Data!$I$6:$I$1806)","v":0},{"$f":"IF(LOOKUP($V424,Data!$A$6:$A$1806,Data!$J$6:$J$1806)>0,(LOOKUP($V424,Data!$A$6:$A$1806,Data!$J$6:$J$1806)*-1),LOOKUP($V424,Data!$A$6:$A$1806,Data!$J$6:$J$1806))","v":-103},{"$f":"LOOKUP($V424,Data!$A$6:$A$1806,Data!$K$6:$K$1806)","v":7766.31},31.928176879882809,null,null,null,null,null,null,null,null,null,null,null,null,null,null,94.643310546875," ",3.099822998046875E-2," "]
[null,40098.110393517876,{"$f":"LOOKUP(B425,Data!$A$6:$A$1806,Data!B$6:B$1806)","v":59.972999572753906},{"$f":"LOOKUP(B425,Data!$A$6:$A$1806,Data!C$6:C$1806)","v":3741.28515625},null,null,3090,{"$f":"(IF((C425-L$2)>0,(IF(C425<'Copy Results'!$C$3,((C425-L$2-L$5)/((L$4*L$2)-L$5)*G425*-1),(('Copy Results'!$C$3-L$2-L$5)/((L$4*L$2)-L$5)*G425*-1))),IF(C425>'Copy Results'!$C$2,((C425-L$2+L$5)/((L$4*L$2)-L$5)*G425*-1),(('Copy Results'!$C$2-L$2+L$5)/((L$4*L$2)-L$5)*G425*-1))))","v":27.810440063476566},28.860876289694222,null,null,0,3815.1321083359899,{"$f":"AVERAGE(D$79:D425)","v":3771.849301912599},{"$f":"AVERAGE(M$79:M425)","v":3802.5414452482523},3771.0526488503479,{"$f":"AVERAGE(P$79:P425)","v":3746.3363036621986},null,null,null,null,40098.110393517876,{"$f":"LOOKUP($V425,Data!$A$6:$A$1806,Data!$B$6:$B$1806)","v":59.972999572753906},{"$f":"LOOKUP($V425,Data!$A$6:$A$1806,Data!$C$6:$C$1806)","v":3741.28515625},{"$f":"LOOKUP($V425,Data!$A$6:$A$1806,Data!$D$6:$D$1806)","v":350},{"$f":"IF($Z$1=\"+\",LOOKUP($V425,Data!$A$6:$A$1806,Data!$E$6:$E$1806)*-1,LOOKUP($V425,Data!$A$6:$A$1806,Data!$E$6:$E$1806))","v":223.01573181152344},{"$f":"LOOKUP($V425,Data!$A$6:$A$1806,Data!$F$6:$F$1806)","v":16},null,{"$f":"LOOKUP($V425,Data!$A$6:$A$1806,Data!$H$6:$H$1806)","v":10},{"$f":"LOOKUP($V425,Data!$A$6:$A$1806,Data!$I$6:$I$1806)","v":0},{"$f":"IF(LOOKUP($V425,Data!$A$6:$A$1806,Data!$J$6:$J$1806)>0,(LOOKUP($V425,Data!$A$6:$A$1806,Data!$J$6:$J$1806)*-1),LOOKUP($V425,Data!$A$6:$A$1806,Data!$J$6:$J$1806))","v":-103},{"$f":"LOOKUP($V425,Data!$A$6:$A$1806,Data!$K$6:$K$1806)","v":7766.64},27.810440063476566,null,null,null,null,null,null,null,null,null,null,null,null,null,null,95.55810546875," ",2.700042724609375E-2," "]
[null,40098.110416666023,{"$f":"LOOKUP(B426,Data!$A$6:$A$1806,Data!B$6:B$1806)","v":59.9739990234375},{"$f":"LOOKUP(B426,Data!$A$6:$A$1806,Data!C$6:C$1806)","v":3746.65087890625},null,null,3090,{"$f":"(IF((C426-L$2)>0,(IF(C426<'Copy Results'!$C$3,((C426-L$2-L$5)/((L$4*L$2)-L$5)*G426*-1),(('Copy Results'!$C$3-L$2-L$5)/((L$4*L$2)-L$5)*G426*-1))),IF(C426>'Copy Results'!$C$2,((C426-L$2+L$5)/((L$4*L$2)-L$5)*G426*-1),(('Copy Results'!$C$2-L$2+L$5)/((L$4*L$2)-L$5)*G426*-1))))","v":26.781005859375},28.132921639082493,null,null,0,3814.4041536853783,{"$f":"AVERAGE(D$79:D426)","v":3771.7768926510867},{"$f":"AVERAGE(M$79:M426)","v":3802.5755334908877},3771.0526488503479,{"$f":"AVERAGE(P$79:P426)","v":3746.407532322683},null,null,null,null,40098.110416666023,{"$f":"LOOKUP($V426,Data!$A$6:$A$1806,Data!$B$6:$B$1806)","v":59.9739990234375},{"$f":"LOOKUP($V426,Data!$A$6:$A$1806,Data!$C$6:$C$1806)","v":3746.65087890625},{"$f":"LOOKUP($V426,Data!$A$6:$A$1806,Data!$D$6:$D$1806)","v":350},{"$f":"IF($Z$1=\"+\",LOOKUP($V426,Data!$A$6:$A$1806,Data!$E$6:$E$1806)*-1,LOOKUP($V426,Data!$A$6:$A$1806,Data!$E$6:$E$1806))","v":223.01573181152344},{"$f":"LOOKUP($V426,Data!$A$6:$A$1806,Data!$F$6:$F$1806)","v":16},null,{"$f":"LOOKUP($V426,Data!$A$6:$A$1806,Data!$H$6:$H$1806)","v":10},{"$f":"LOOKUP($V426,Data!$A$6:$A$1806,Data!$I$6:$I$1806)","v":0},{"$f":"IF(LOOKUP($V426,Data!$A$6:$A$1806,Data!$J$6:$J$1806)>0,(LOOKUP($V426,Data!$A$6:$A$1806,Data!$J$6:$J$1806)*-1),LOOKUP($V426,Data!$A$6:$A$1806,Data!$J$6:$J$1806))","v":-103},{"$f":"LOOKUP($V426,Data!$A$6:$A$1806,Data!$K$6:$K$1806)","v":7766.97},26.781005859375,null,null,null,null,null,null,null,null,null,null,null,null,null,null,100.923828125," ",2.60009765625E-2," "]
[null,40098.110439814169,{"$f":"LOOKUP(B427,Data!$A$6:$A$1806,Data!B$6:B$1806)","v":59.978000640869141},{"$f":"LOOKUP(B427,Data!$A$6:$A$1806,Data!C$6:C$1806)","v":3745.73828125},null,null,3090,{"$f":"(IF((C427-L$2)>0,(IF(C427<'Copy Results'!$C$3,((C427-L$2-L$5)/((L$4*L$2)-L$5)*G427*-1),(('Copy Results'!$C$3-L$2-L$5)/((L$4*L$2)-L$5)*G427*-1))),IF(C427>'Copy Results'!$C$2,((C427-L$2+L$5)/((L$4*L$2)-L$5)*G427*-1),(('Copy Results'!$C$2-L$2+L$5)/((L$4*L$2)-L$5)*G427*-1))))","v":22.659339904785156},{"$f":"L$13*H427+(1-L$13)*I426","v":26.217168032078426},null,null,0,3812.4884000783741,{"$f":"AVERAGE(D$79:D427)","v":3771.7022834493641},{"$f":"AVERAGE(M$79:M427)","v":3802.6039371200782},3771.0526488503479,{"$f":"AVERAGE(P$79:P427)","v":3746.4783516230495},null,null,null,null,40098.110439814169,{"$f":"LOOKUP($V427,Data!$A$6:$A$1806,Data!$B$6:$B$1806)","v":59.978000640869141},{"$f":"LOOKUP($V427,Data!$A$6:$A$1806,Data!$C$6:$C$1806)","v":3745.73828125},{"$f":"LOOKUP($V427,Data!$A$6:$A$1806,Data!$D$6:$D$1806)","v":350},{"$f":"IF($Z$1=\"+\",LOOKUP($V427,Data!$A$6:$A$1806,Data!$E$6:$E$1806)*-1,LOOKUP($V427,Data!$A$6:$A$1806,Data!$E$6:$E$1806))","v":223.01573181152344},{"$f":"LOOKUP($V427,Data!$A$6:$A$1806,Data!$F$6:$F$1806)","v":16},null,{"$f":"LOOKUP($V427,Data!$A$6:$A$1806,Data!$H$6:$H$1806)","v":10},{"$f":"LOOKUP($V427,Data!$A$6:$A$1806,Data!$I$6:$I$1806)","v":0},{"$f":"IF(LOOKUP($V427,Data!$A$6:$A$1806,Data!$J$6:$J$1806)>0,(LOOKUP($V427,Data!$A$6:$A$1806,Data!$J$6:$J$1806)*-1),LOOKUP($V427,Data!$A$6:$A$1806,Data!$J$6:$J$1806))","v":-103},{"$f":"LOOKUP($V427,Data!$A$6:$A$1806,Data!$K$6:$K$1806)","v":7767.3},22.659339904785156,null,null,null,null,null,null,null,null,null,null,null,null,null,null,100.01123046875," ",2.1999359130859375E-2," "]
[null,40098.110462962315,{"$f":"LOOKUP(B428,Data!$A$6:$A$1806,Data!B$6:B$1806)","v":59.980998992919922},{"$f":"LOOKUP(B428,Data!$A$6:$A$1806,Data!C$6:C$1806)","v":3743.3505859375},null,null,{"$f":"AE428*-M$4*10","v":3090},{"$f":"(IF((C428-L$2)>0,(IF(C428<'Copy Results'!$C$3,((C428-L$2-L$5)/((L$4*L$2)-L$5)*G428*-1),(('Copy Results'!$C$3-L$2-L$5)/((L$4*L$2)-L$5)*G428*-1))),IF(C428>'Copy Results'!$C$2,((C428-L$2+L$5)/((L$4*L$2)-L$5)*G428*-1),(('Copy Results'!$C$2-L$2+L$5)/((L$4*L$2)-L$5)*G428*-1))))","v":19.571037292480469},23.891022273219143,null,null,0,3810.1622543195149,{"$f":"AVERAGE(D$79:D428)","v":3771.6212785993303},{"$f":"AVERAGE(M$79:M428)","v":3802.6255323120768},3771.0526488503479,{"$f":"AVERAGE(P$79:P428)","v":3746.5487650821533},null,null,null,null,40098.110462962315,{"$f":"LOOKUP($V428,Data!$A$6:$A$1806,Data!$B$6:$B$1806)","v":59.980998992919922},{"$f":"LOOKUP($V428,Data!$A$6:$A$1806,Data!$C$6:$C$1806)","v":3743.3505859375},{"$f":"LOOKUP($V428,Data!$A$6:$A$1806,Data!$D$6:$D$1806)","v":350},{"$f":"IF($Z$1=\"+\",LOOKUP($V428,Data!$A$6:$A$1806,Data!$E$6:$E$1806)*-1,LOOKUP($V428,Data!$A$6:$A$1806,Data!$E$6:$E$1806))","v":223.01573181152344},{"$f":"LOOKUP($V428,Data!$A$6:$A$1806,Data!$F$6:$F$1806)","v":16},null,{"$f":"LOOKUP($V428,Data!$A$6:$A$1806,Data!$H$6:$H$1806)","v":10},{"$f":"LOOKUP($V428,Data!$A$6:$A$1806,Data!$I$6:$I$1806)","v":0},{"$f":"IF(LOOKUP($V428,Data!$A$6:$A$1806,Data!$J$6:$J$1806)>0,(LOOKUP($V428,Data!$A$6:$A$1806,Data!$J$6:$J$1806)*-1),LOOKUP($V428,Data!$A$6:$A$1806,Data!$J$6:$J$1806))","v":-103},{"$f":"LOOKUP($V428,Data!$A$6:$A$1806,Data!$K$6:$K$1806)","v":7767.63},{"$f":"(IF((W428-$L$2)>0,((W428-$L$2-$L$5)/(($L$4*$L$2)-$L$5)*G428*-1),((W428-$L$2+$L$5)/(($L$4*$L$2)-$L$5)*G428*-1)))","v":19.571037292480469},null,null,null,null,null,null,null,null,null,null,null,null,null,null,97.62353515625," ",{"$f":"ABS(C428-60)","v":1.9001007080078125E-2},{"$f":"IF(AX428>0.036,AE428,\" \")","v":" "}]
[null,40098.110486110461,{"$f":"LOOKUP(B429,Data!$A$6:$A$1806,Data!B$6:B$1806)","v":59.980998992919922},{"$f":"LOOKUP(B429,Data!$A$6:$A$1806,Data!C$6:C$1806)","v":3741.6181640625},null,null,3090,{"$f":"(IF((C429-L$2)>0,(IF(C429<'Copy Results'!$C$3,((C429-L$2-L$5)/((L$4*L$2)-L$5)*G429*-1),(('Copy Results'!$C$3-L$2-L$5)/((L$4*L$2)-L$5)*G429*-1))),IF(C429>'Copy Results'!$C$2,((C429-L$2+L$5)/((L$4*L$2)-L$5)*G429*-1),(('Copy Results'!$C$2-L$2+L$5)/((L$4*L$2)-L$5)*G429*-1))))","v":19.571037292480469},22.379027529960609,null,null,0,3808.6502595762563,{"$f":"AVERAGE(D$79:D429)","v":3771.535799640536},{"$f":"AVERAGE(M$79:M429)","v":3802.6426967772168},3771.0526488503479,{"$f":"AVERAGE(P$79:P429)","v":3746.6187761786332},null,null,null,null,40098.110486110461,{"$f":"LOOKUP($V429,Data!$A$6:$A$1806,Data!$B$6:$B$1806)","v":59.980998992919922},{"$f":"LOOKUP($V429,Data!$A$6:$A$1806,Data!$C$6:$C$1806)","v":3741.6181640625},{"$f":"LOOKUP($V429,Data!$A$6:$A$1806,Data!$D$6:$D$1806)","v":350},{"$f":"IF($Z$1=\"+\",LOOKUP($V429,Data!$A$6:$A$1806,Data!$E$6:$E$1806)*-1,LOOKUP($V429,Data!$A$6:$A$1806,Data!$E$6:$E$1806))","v":223.01573181152344},{"$f":"LOOKUP($V429,Data!$A$6:$A$1806,Data!$F$6:$F$1806)","v":16},null,{"$f":"LOOKUP($V429,Data!$A$6:$A$1806,Data!$H$6:$H$1806)","v":10},{"$f":"LOOKUP($V429,Data!$A$6:$A$1806,Data!$I$6:$I$1806)","v":0},{"$f":"IF(LOOKUP($V429,Data!$A$6:$A$1806,Data!$J$6:$J$1806)>0,(LOOKUP($V429,Data!$A$6:$A$1806,Data!$J$6:$J$1806)*-1),LOOKUP($V429,Data!$A$6:$A$1806,Data!$J$6:$J$1806))","v":-103},{"$f":"LOOKUP($V429,Data!$A$6:$A$1806,Data!$K$6:$K$1806)","v":7767.96},19.571037292480469,null,null,null,null,null,null,null,null,null,null,null,null,null,null,95.89111328125," ",1.9001007080078125E-2," "]
[null,{"$f":"B429+TIME(0,0,$B$1)","v":40098.110509258608},{"$f":"LOOKUP(B430,Data!$A$6:$A$1806,Data!B$6:B$1806)","v":59.980998992919922},{"$f":"LOOKUP(B430,Data!$A$6:$A$1806,Data!C$6:C$1806)","v":3740.306396484375},null,null,3090,{"$f":"(IF((C430-L$2)>0,(IF(C430<'Copy Results'!$C$3,((C430-L$2-L$5)/((L$4*L$2)-L$5)*G430*-1),(('Copy Results'!$C$3-L$2-L$5)/((L$4*L$2)-L$5)*G430*-1))),IF(C430>'Copy Results'!$C$2,((C430-L$2+L$5)/((L$4*L$2)-L$5)*G430*-1),(('Copy Results'!$C$2-L$2+L$5)/((L$4*L$2)-L$5)*G430*-1))))","v":19.571037292480469},21.396230946842561,null,null,0,3807.6674629931381,{"$f":"AVERAGE(D$79:D430)","v":3771.4470797452059},{"$f":"AVERAGE(M$79:M430)","v":3802.6569716812392},3771.0526488503479,{"$f":"AVERAGE(P$79:P430)","v":3746.688388351487},null,null,null,null,40098.110509258608,{"$f":"LOOKUP($V430,Data!$A$6:$A$1806,Data!$B$6:$B$1806)","v":59.980998992919922},{"$f":"LOOKUP($V430,Data!$A$6:$A$1806,Data!$C$6:$C$1806)","v":3740.306396484375},{"$f":"LOOKUP($V430,Data!$A$6:$A$1806,Data!$D$6:$D$1806)","v":350},{"$f":"IF($Z$1=\"+\",LOOKUP($V430,Data!$A$6:$A$1806,Data!$E$6:$E$1806)*-1,LOOKUP($V430,Data!$A$6:$A$1806,Data!$E$6:$E$1806))","v":223.01573181152344},{"$f":"LOOKUP($V430,Data!$A$6:$A$1806,Data!$F$6:$F$1806)","v":16},null,{"$f":"LOOKUP($V430,Data!$A$6:$A$1806,Data!$H$6:$H$1806)","v":10},{"$f":"LOOKUP($V430,Data!$A$6:$A$1806,Data!$I$6:$I$1806)","v":0},{"$f":"IF(LOOKUP($V430,Data!$A$6:$A$1806,Data!$J$6:$J$1806)>0,(LOOKUP($V430,Data!$A$6:$A$1806,Data!$J$6:$J$1806)*-1),LOOKUP($V430,Data!$A$6:$A$1806,Data!$J$6:$J$1806))","v":-103},{"$f":"LOOKUP($V430,Data!$A$6:$A$1806,Data!$K$6:$K$1806)","v":7768.29},19.571037292480469,null,null,null,null,null,null,null,null,null,null,null,null,null,null,94.579345703125," ",1.9001007080078125E-2," "]
[null,40098.110532406754,{"$f":"LOOKUP(B431,Data!$A$6:$A$1806,Data!B$6:B$1806)","v":59.981998443603516},{"$f":"LOOKUP(B431,Data!$A$6:$A$1806,Data!C$6:C$1806)","v":3738.484375},null,null,3090,{"$f":"(IF((C431-L$2)>0,(IF(C431<'Copy Results'!$C$3,((C431-L$2-L$5)/((L$4*L$2)-L$5)*G431*-1),(('Copy Results'!$C$3-L$2-L$5)/((L$4*L$2)-L$5)*G431*-1))),IF(C431>'Copy Results'!$C$2,((C431-L$2+L$5)/((L$4*L$2)-L$5)*G431*-1),(('Copy Results'!$C$2-L$2+L$5)/((L$4*L$2)-L$5)*G431*-1))))","v":18.541603088378906},20.39711119638028,null,null,0,3806.6683432426757,{"$f":"AVERAGE(D$79:D431)","v":3771.3537009782226},{"$f":"AVERAGE(M$79:M431)","v":3802.6683353400535},3771.0526488503479,{"$f":"AVERAGE(P$79:P431)","v":3746.7576050006314},null,null,null,null,40098.110532406754,{"$f":"LOOKUP($V431,Data!$A$6:$A$1806,Data!$B$6:$B$1806)","v":59.981998443603516},{"$f":"LOOKUP($V431,Data!$A$6:$A$1806,Data!$C$6:$C$1806)","v":3738.484375},{"$f":"LOOKUP($V431,Data!$A$6:$A$1806,Data!$D$6:$D$1806)","v":350},{"$f":"IF($Z$1=\"+\",LOOKUP($V431,Data!$A$6:$A$1806,Data!$E$6:$E$1806)*-1,LOOKUP($V431,Data!$A$6:$A$1806,Data!$E$6:$E$1806))","v":223.01573181152344},{"$f":"LOOKUP($V431,Data!$A$6:$A$1806,Data!$F$6:$F$1806)","v":16},null,{"$f":"LOOKUP($V431,Data!$A$6:$A$1806,Data!$H$6:$H$1806)","v":10},{"$f":"LOOKUP($V431,Data!$A$6:$A$1806,Data!$I$6:$I$1806)","v":0},{"$f":"IF(LOOKUP($V431,Data!$A$6:$A$1806,Data!$J$6:$J$1806)>0,(LOOKUP($V431,Data!$A$6:$A$1806,Data!$J$6:$J$1806)*-1),LOOKUP($V431,Data!$A$6:$A$1806,Data!$J$6:$J$1806))","v":-103},{"$f":"LOOKUP($V431,Data!$A$6:$A$1806,Data!$K$6:$K$1806)","v":7768.62},18.541603088378906,null,null,null,null,null,null,null,null,null,null,null,null,null,null,92.75732421875," ",1.8001556396484375E-2," "]
[null,40098.1105555549,{"$f":"LOOKUP(B432,Data!$A$6:$A$1806,Data!B$6:B$1806)","v":59.981998443603516},{"$f":"LOOKUP(B432,Data!$A$6:$A$1806,Data!C$6:C$1806)","v":3738.9013671875},null,null,3090,{"$f":"(IF((C432-L$2)>0,(IF(C432<'Copy Results'!$C$3,((C432-L$2-L$5)/((L$4*L$2)-L$5)*G432*-1),(('Copy Results'!$C$3-L$2-L$5)/((L$4*L$2)-L$5)*G432*-1))),IF(C432>'Copy Results'!$C$2,((C432-L$2+L$5)/((L$4*L$2)-L$5)*G432*-1),(('Copy Results'!$C$2-L$2+L$5)/((L$4*L$2)-L$5)*G432*-1))))","v":18.541603088378906},19.747683358579799,null,null,0,3806.0189154048753,{"$f":"AVERAGE(D$79:D432)","v":3771.2620277189267},{"$f":"AVERAGE(M$79:M432)","v":3802.6778002554906},3771.0526488503479,{"$f":"AVERAGE(P$79:P432)","v":3746.8264294874575},null,null,null,null,40098.1105555549,{"$f":"LOOKUP($V432,Data!$A$6:$A$1806,Data!$B$6:$B$1806)","v":59.981998443603516},{"$f":"LOOKUP($V432,Data!$A$6:$A$1806,Data!$C$6:$C$1806)","v":3738.9013671875},{"$f":"LOOKUP($V432,Data!$A$6:$A$1806,Data!$D$6:$D$1806)","v":350},{"$f":"IF($Z$1=\"+\",LOOKUP($V432,Data!$A$6:$A$1806,Data!$E$6:$E$1806)*-1,LOOKUP($V432,Data!$A$6:$A$1806,Data!$E$6:$E$1806))","v":223.01573181152344},{"$f":"LOOKUP($V432,Data!$A$6:$A$1806,Data!$F$6:$F$1806)","v":16},null,{"$f":"LOOKUP($V432,Data!$A$6:$A$1806,Data!$H$6:$H$1806)","v":10},{"$f":"LOOKUP($V432,Data!$A$6:$A$1806,Data!$I$6:$I$1806)","v":0},{"$f":"IF(LOOKUP($V432,Data!$A$6:$A$1806,Data!$J$6:$J$1806)>0,(LOOKUP($V432,Data!$A$6:$A$1806,Data!$J$6:$J$1806)*-1),LOOKUP($V432,Data!$A$6:$A$1806,Data!$J$6:$J$1806))","v":-103},{"$f":"LOOKUP($V432,Data!$A$6:$A$1806,Data!$K$6:$K$1806)","v":7768.95},18.541603088378906,null,null,null,null,null,null,null,null,null,null,null,null,null,null,93.17431640625," ",1.8001556396484375E-2," "]
[null,40098.110578703046,{"$f":"LOOKUP(B433,Data!$A$6:$A$1806,Data!B$6:B$1806)","v":59.984001159667969},{"$f":"LOOKUP(B433,Data!$A$6:$A$1806,Data!C$6:C$1806)","v":3737.403564453125},null,null,3090,{"$f":"(IF((C433-L$2)>0,(IF(C433<'Copy Results'!$C$3,((C433-L$2-L$5)/((L$4*L$2)-L$5)*G433*-1),(('Copy Results'!$C$3-L$2-L$5)/((L$4*L$2)-L$5)*G433*-1))),IF(C433>'Copy Results'!$C$2,((C433-L$2+L$5)/((L$4*L$2)-L$5)*G433*-1),(('Copy Results'!$C$2-L$2+L$5)/((L$4*L$2)-L$5)*G433*-1))))","v":16.478805541992187},18.603576122774136,null,null,0,3804.8748081690696,{"$f":"AVERAGE(D$79:D433)","v":3771.1666517660651},{"$f":"AVERAGE(M$79:M433)","v":3802.6839890101769},3771.0526488503479,{"$f":"AVERAGE(P$79:P433)","v":3746.8948651353749},null,null,null,null,40098.110578703046,{"$f":"LOOKUP($V433,Data!$A$6:$A$1806,Data!$B$6:$B$1806)","v":59.984001159667969},{"$f":"LOOKUP($V433,Data!$A$6:$A$1806,Data!$C$6:$C$1806)","v":3737.403564453125},{"$f":"LOOKUP($V433,Data!$A$6:$A$1806,Data!$D$6:$D$1806)","v":350},{"$f":"IF($Z$1=\"+\",LOOKUP($V433,Data!$A$6:$A$1806,Data!$E$6:$E$1806)*-1,LOOKUP($V433,Data!$A$6:$A$1806,Data!$E$6:$E$1806))","v":223.01573181152344},{"$f":"LOOKUP($V433,Data!$A$6:$A$1806,Data!$F$6:$F$1806)","v":16},null,{"$f":"LOOKUP($V433,Data!$A$6:$A$1806,Data!$H$6:$H$1806)","v":10},{"$f":"LOOKUP($V433,Data!$A$6:$A$1806,Data!$I$6:$I$1806)","v":0},{"$f":"IF(LOOKUP($V433,Data!$A$6:$A$1806,Data!$J$6:$J$1806)>0,(LOOKUP($V433,Data!$A$6:$A$1806,Data!$J$6:$J$1806)*-1),LOOKUP($V433,Data!$A$6:$A$1806,Data!$J$6:$J$1806))","v":-103},{"$f":"LOOKUP($V433,Data!$A$6:$A$1806,Data!$K$6:$K$1806)","v":7769.28},16.478805541992187,null,null,null,null,null,null,null,null,null,null,null,null,null,null,91.676513671875," ",1.599884033203125E-2," "]
[null,40098.110601851193,{"$f":"LOOKUP(B434,Data!$A$6:$A$1806,Data!B$6:B$1806)","v":59.981998443603516},{"$f":"LOOKUP(B434,Data!$A$6:$A$1806,Data!C$6:C$1806)","v":3737.273193359375},null,null,3090,{"$f":"(IF((C434-L$2)>0,(IF(C434<'Copy Results'!$C$3,((C434-L$2-L$5)/((L$4*L$2)-L$5)*G434*-1),(('Copy Results'!$C$3-L$2-L$5)/((L$4*L$2)-L$5)*G434*-1))),IF(C434>'Copy Results'!$C$2,((C434-L$2+L$5)/((L$4*L$2)-L$5)*G434*-1),(('Copy Results'!$C$2-L$2+L$5)/((L$4*L$2)-L$5)*G434*-1))))","v":18.541603088378906},18.581885560735806,null,null,0,3804.8531176070314,{"$f":"AVERAGE(D$79:D434)","v":3771.0714454222261},{"$f":"AVERAGE(M$79:M434)","v":3802.690082068033},3771.0526488503479,{"$f":"AVERAGE(P$79:P434)","v":3746.9629152303464},null,null,null,null,40098.110601851193,{"$f":"LOOKUP($V434,Data!$A$6:$A$1806,Data!$B$6:$B$1806)","v":59.981998443603516},{"$f":"LOOKUP($V434,Data!$A$6:$A$1806,Data!$C$6:$C$1806)","v":3737.273193359375},{"$f":"LOOKUP($V434,Data!$A$6:$A$1806,Data!$D$6:$D$1806)","v":350},{"$f":"IF($Z$1=\"+\",LOOKUP($V434,Data!$A$6:$A$1806,Data!$E$6:$E$1806)*-1,LOOKUP($V434,Data!$A$6:$A$1806,Data!$E$6:$E$1806))","v":223.01573181152344},{"$f":"LOOKUP($V434,Data!$A$6:$A$1806,Data!$F$6:$F$1806)","v":16},null,{"$f":"LOOKUP($V434,Data!$A$6:$A$1806,Data!$H$6:$H$1806)","v":10},{"$f":"LOOKUP($V434,Data!$A$6:$A$1806,Data!$I$6:$I$1806)","v":0},{"$f":"IF(LOOKUP($V434,Data!$A$6:$A$1806,Data!$J$6:$J$1806)>0,(LOOKUP($V434,Data!$A$6:$A$1806,Data!$J$6:$J$1806)*-1),LOOKUP($V434,Data!$A$6:$A$1806,Data!$J$6:$J$1806))","v":-103},{"$f":"LOOKUP($V434,Data!$A$6:$A$1806,Data!$K$6:$K$1806)","v":7769.61},18.541603088378906,null,null,null,null,null,null,null,null,null,null,null,null,null,null,91.546142578125," ",1.8001556396484375E-2," "]
[null,40098.110624999339,{"$f":"LOOKUP(B435,Data!$A$6:$A$1806,Data!B$6:B$1806)","v":59.980998992919922},{"$f":"LOOKUP(B435,Data!$A$6:$A$1806,Data!C$6:C$1806)","v":3736.308349609375},null,null,3090,{"$f":"(IF((C435-L$2)>0,(IF(C435<'Copy Results'!$C$3,((C435-L$2-L$5)/((L$4*L$2)-L$5)*G435*-1),(('Copy Results'!$C$3-L$2-L$5)/((L$4*L$2)-L$5)*G435*-1))),IF(C435>'Copy Results'!$C$2,((C435-L$2+L$5)/((L$4*L$2)-L$5)*G435*-1),(('Copy Results'!$C$2-L$2+L$5)/((L$4*L$2)-L$5)*G435*-1))))","v":19.571037292480469},18.928088666846438,null,null,0,3805.1993207131422,{"$f":"AVERAGE(D$79:D435)","v":3770.9740698037026},{"$f":"AVERAGE(M$79:M435)","v":3802.6971107477111},3771.0526488503479,{"$f":"AVERAGE(P$79:P435)","v":3747.0305830214133},null,null,null,null,40098.110624999339,{"$f":"LOOKUP($V435,Data!$A$6:$A$1806,Data!$B$6:$B$1806)","v":59.980998992919922},{"$f":"LOOKUP($V435,Data!$A$6:$A$1806,Data!$C$6:$C$1806)","v":3736.308349609375},{"$f":"LOOKUP($V435,Data!$A$6:$A$1806,Data!$D$6:$D$1806)","v":350},{"$f":"IF($Z$1=\"+\",LOOKUP($V435,Data!$A$6:$A$1806,Data!$E$6:$E$1806)*-1,LOOKUP($V435,Data!$A$6:$A$1806,Data!$E$6:$E$1806))","v":223.01573181152344},{"$f":"LOOKUP($V435,Data!$A$6:$A$1806,Data!$F$6:$F$1806)","v":16},null,{"$f":"LOOKUP($V435,Data!$A$6:$A$1806,Data!$H$6:$H$1806)","v":10},{"$f":"LOOKUP($V435,Data!$A$6:$A$1806,Data!$I$6:$I$1806)","v":0},{"$f":"IF(LOOKUP($V435,Data!$A$6:$A$1806,Data!$J$6:$J$1806)>0,(LOOKUP($V435,Data!$A$6:$A$1806,Data!$J$6:$J$1806)*-1),LOOKUP($V435,Data!$A$6:$A$1806,Data!$J$6:$J$1806))","v":-103},{"$f":"LOOKUP($V435,Data!$A$6:$A$1806,Data!$K$6:$K$1806)","v":7769.94},19.571037292480469,null,null,null,null,null,null,null,null,null,null,null,null,null,null,90.581298828125," ",1.9001007080078125E-2," "]
[null,40098.110648147485,{"$f":"LOOKUP(B436,Data!$A$6:$A$1806,Data!B$6:B$1806)","v":59.979000091552734},{"$f":"LOOKUP(B436,Data!$A$6:$A$1806,Data!C$6:C$1806)","v":3736.27197265625},null,null,3090,{"$f":"(IF((C436-L$2)>0,(IF(C436<'Copy Results'!$C$3,((C436-L$2-L$5)/((L$4*L$2)-L$5)*G436*-1),(('Copy Results'!$C$3-L$2-L$5)/((L$4*L$2)-L$5)*G436*-1))),IF(C436>'Copy Results'!$C$2,((C436-L$2+L$5)/((L$4*L$2)-L$5)*G436*-1),(('Copy Results'!$C$2-L$2+L$5)/((L$4*L$2)-L$5)*G436*-1))))","v":21.629905700683594},19.873724628689441,null,null,0,3806.1449566749852,{"$f":"AVERAGE(D$79:D436)","v":3770.8771365714474},{"$f":"AVERAGE(M$79:M436)","v":3802.7067416022564},3771.0526488503479,{"$f":"AVERAGE(P$79:P436)","v":3747.0978717212142},null,null,null,null,40098.110648147485,{"$f":"LOOKUP($V436,Data!$A$6:$A$1806,Data!$B$6:$B$1806)","v":59.979000091552734},{"$f":"LOOKUP($V436,Data!$A$6:$A$1806,Data!$C$6:$C$1806)","v":3736.27197265625},{"$f":"LOOKUP($V436,Data!$A$6:$A$1806,Data!$D$6:$D$1806)","v":350},{"$f":"IF($Z$1=\"+\",LOOKUP($V436,Data!$A$6:$A$1806,Data!$E$6:$E$1806)*-1,LOOKUP($V436,Data!$A$6:$A$1806,Data!$E$6:$E$1806))","v":223.01573181152344},{"$f":"LOOKUP($V436,Data!$A$6:$A$1806,Data!$F$6:$F$1806)","v":16},null,{"$f":"LOOKUP($V436,Data!$A$6:$A$1806,Data!$H$6:$H$1806)","v":10},{"$f":"LOOKUP($V436,Data!$A$6:$A$1806,Data!$I$6:$I$1806)","v":0},{"$f":"IF(LOOKUP($V436,Data!$A$6:$A$1806,Data!$J$6:$J$1806)>0,(LOOKUP($V436,Data!$A$6:$A$1806,Data!$J$6:$J$1806)*-1),LOOKUP($V436,Data!$A$6:$A$1806,Data!$J$6:$J$1806))","v":-103},{"$f":"LOOKUP($V436,Data!$A$6:$A$1806,Data!$K$6:$K$1806)","v":7770.27},21.629905700683594,null,null,null,null,null,null,null,null,null,null,null,null,null,null,90.544921875," ",2.0999908447265625E-2," "]
[null,40098.110671295632,{"$f":"LOOKUP(B437,Data!$A$6:$A$1806,Data!B$6:B$1806)","v":59.979999542236328},{"$f":"LOOKUP(B437,Data!$A$6:$A$1806,Data!C$6:C$1806)","v":3735.4482421875},null,null,3090,{"$f":"(IF((C437-L$2)>0,(IF(C437<'Copy Results'!$C$3,((C437-L$2-L$5)/((L$4*L$2)-L$5)*G437*-1),(('Copy Results'!$C$3-L$2-L$5)/((L$4*L$2)-L$5)*G437*-1))),IF(C437>'Copy Results'!$C$2,((C437-L$2+L$5)/((L$4*L$2)-L$5)*G437*-1),(('Copy Results'!$C$2-L$2+L$5)/((L$4*L$2)-L$5)*G437*-1))))","v":20.600471496582031},20.128086032451847,null,null,0,3806.3993180787475,{"$f":"AVERAGE(D$79:D437)","v":3770.7784488433581},{"$f":"AVERAGE(M$79:M437)","v":3802.7170273306033},3771.0526488503479,{"$f":"AVERAGE(P$79:P437)","v":3747.1647845064908},null,null,null,null,40098.110671295632,{"$f":"LOOKUP($V437,Data!$A$6:$A$1806,Data!$B$6:$B$1806)","v":59.979999542236328},{"$f":"LOOKUP($V437,Data!$A$6:$A$1806,Data!$C$6:$C$1806)","v":3735.4482421875},{"$f":"LOOKUP($V437,Data!$A$6:$A$1806,Data!$D$6:$D$1806)","v":350},{"$f":"IF($Z$1=\"+\",LOOKUP($V437,Data!$A$6:$A$1806,Data!$E$6:$E$1806)*-1,LOOKUP($V437,Data!$A$6:$A$1806,Data!$E$6:$E$1806))","v":223.01573181152344},{"$f":"LOOKUP($V437,Data!$A$6:$A$1806,Data!$F$6:$F$1806)","v":16},null,{"$f":"LOOKUP($V437,Data!$A$6:$A$1806,Data!$H$6:$H$1806)","v":10},{"$f":"LOOKUP($V437,Data!$A$6:$A$1806,Data!$I$6:$I$1806)","v":0},{"$f":"IF(LOOKUP($V437,Data!$A$6:$A$1806,Data!$J$6:$J$1806)>0,(LOOKUP($V437,Data!$A$6:$A$1806,Data!$J$6:$J$1806)*-1),LOOKUP($V437,Data!$A$6:$A$1806,Data!$J$6:$J$1806))","v":-103},{"$f":"LOOKUP($V437,Data!$A$6:$A$1806,Data!$K$6:$K$1806)","v":7770.6},20.600471496582031,null,null,null,null,null,null,null,null,null,null,null,null,null,null,89.72119140625," ",2.0000457763671875E-2," "]
[null,40098.110694443778,{"$f":"LOOKUP(B438,Data!$A$6:$A$1806,Data!B$6:B$1806)","v":59.978000640869141},{"$f":"LOOKUP(B438,Data!$A$6:$A$1806,Data!C$6:C$1806)","v":3735.649658203125},null,null,3090,{"$f":"(IF((C438-L$2)>0,(IF(C438<'Copy Results'!$C$3,((C438-L$2-L$5)/((L$4*L$2)-L$5)*G438*-1),(('Copy Results'!$C$3-L$2-L$5)/((L$4*L$2)-L$5)*G438*-1))),IF(C438>'Copy Results'!$C$2,((C438-L$2+L$5)/((L$4*L$2)-L$5)*G438*-1),(('Copy Results'!$C$2-L$2+L$5)/((L$4*L$2)-L$5)*G438*-1))))","v":22.659339904785156},21.014024887768503,null,null,0,3807.2852569340639,{"$f":"AVERAGE(D$79:D438)","v":3770.6808688693577},{"$f":"AVERAGE(M$79:M438)","v":3802.7297168572795},3771.0526488503479,{"$f":"AVERAGE(P$79:P438)","v":3747.2313245185906},null,null,null,null,40098.110694443778,{"$f":"LOOKUP($V438,Data!$A$6:$A$1806,Data!$B$6:$B$1806)","v":59.978000640869141},{"$f":"LOOKUP($V438,Data!$A$6:$A$1806,Data!$C$6:$C$1806)","v":3735.649658203125},{"$f":"LOOKUP($V438,Data!$A$6:$A$1806,Data!$D$6:$D$1806)","v":350},{"$f":"IF($Z$1=\"+\",LOOKUP($V438,Data!$A$6:$A$1806,Data!$E$6:$E$1806)*-1,LOOKUP($V438,Data!$A$6:$A$1806,Data!$E$6:$E$1806))","v":223.01573181152344},{"$f":"LOOKUP($V438,Data!$A$6:$A$1806,Data!$F$6:$F$1806)","v":16},null,{"$f":"LOOKUP($V438,Data!$A$6:$A$1806,Data!$H$6:$H$1806)","v":10},{"$f":"LOOKUP($V438,Data!$A$6:$A$1806,Data!$I$6:$I$1806)","v":0},{"$f":"IF(LOOKUP($V438,Data!$A$6:$A$1806,Data!$J$6:$J$1806)>0,(LOOKUP($V438,Data!$A$6:$A$1806,Data!$J$6:$J$1806)*-1),LOOKUP($V438,Data!$A$6:$A$1806,Data!$J$6:$J$1806))","v":-103},{"$f":"LOOKUP($V438,Data!$A$6:$A$1806,Data!$K$6:$K$1806)","v":7770.93},22.659339904785156,null,null,null,null,null,null,null,null,null,null,null,null,null,null,89.922607421875," ",2.1999359130859375E-2," "]
[null,40098.110717591924,{"$f":"LOOKUP(B439,Data!$A$6:$A$1806,Data!B$6:B$1806)","v":59.978000640869141},{"$f":"LOOKUP(B439,Data!$A$6:$A$1806,Data!C$6:C$1806)","v":3737.54052734375},null,null,3090,{"$f":"(IF((C439-L$2)>0,(IF(C439<'Copy Results'!$C$3,((C439-L$2-L$5)/((L$4*L$2)-L$5)*G439*-1),(('Copy Results'!$C$3-L$2-L$5)/((L$4*L$2)-L$5)*G439*-1))),IF(C439>'Copy Results'!$C$2,((C439-L$2+L$5)/((L$4*L$2)-L$5)*G439*-1),(('Copy Results'!$C$2-L$2+L$5)/((L$4*L$2)-L$5)*G439*-1))))","v":22.659339904785156},21.589885143724331,null,null,0,3807.8611171900197,{"$f":"AVERAGE(D$79:D439)","v":3770.5890673692866},{"$f":"AVERAGE(M$79:M439)","v":3802.7439312626334},3771.0526488503479,{"$f":"AVERAGE(P$79:P439)","v":3747.2974948639562},null,null,null,null,40098.110717591924,{"$f":"LOOKUP($V439,Data!$A$6:$A$1806,Data!$B$6:$B$1806)","v":59.978000640869141},{"$f":"LOOKUP($V439,Data!$A$6:$A$1806,Data!$C$6:$C$1806)","v":3737.54052734375},{"$f":"LOOKUP($V439,Data!$A$6:$A$1806,Data!$D$6:$D$1806)","v":350},{"$f":"IF($Z$1=\"+\",LOOKUP($V439,Data!$A$6:$A$1806,Data!$E$6:$E$1806)*-1,LOOKUP($V439,Data!$A$6:$A$1806,Data!$E$6:$E$1806))","v":223.01573181152344},{"$f":"LOOKUP($V439,Data!$A$6:$A$1806,Data!$F$6:$F$1806)","v":16},null,{"$f":"LOOKUP($V439,Data!$A$6:$A$1806,Data!$H$6:$H$1806)","v":10},{"$f":"LOOKUP($V439,Data!$A$6:$A$1806,Data!$I$6:$I$1806)","v":0},{"$f":"IF(LOOKUP($V439,Data!$A$6:$A$1806,Data!$J$6:$J$1806)>0,(LOOKUP($V439,Data!$A$6:$A$1806,Data!$J$6:$J$1806)*-1),LOOKUP($V439,Data!$A$6:$A$1806,Data!$J$6:$J$1806))","v":-103},{"$f":"LOOKUP($V439,Data!$A$6:$A$1806,Data!$K$6:$K$1806)","v":7771.26},22.659339904785156,null,null,null,null,null,null,null,null,null,null,null,null,null,null,91.8134765625," ",2.1999359130859375E-2," "]
[null,40098.11074074007,{"$f":"LOOKUP(B440,Data!$A$6:$A$1806,Data!B$6:B$1806)","v":59.979999542236328},{"$f":"LOOKUP(B440,Data!$A$6:$A$1806,Data!C$6:C$1806)","v":3738.011962890625},null,null,3090,{"$f":"(IF((C440-L$2)>0,(IF(C440<'Copy Results'!$C$3,((C440-L$2-L$5)/((L$4*L$2)-L$5)*G440*-1),(('Copy Results'!$C$3-L$2-L$5)/((L$4*L$2)-L$5)*G440*-1))),IF(C440>'Copy Results'!$C$2,((C440-L$2+L$5)/((L$4*L$2)-L$5)*G440*-1),(('Copy Results'!$C$2-L$2+L$5)/((L$4*L$2)-L$5)*G440*-1))))","v":20.600471496582031},21.243590367224524,null,null,0,3807.5148224135201,{"$f":"AVERAGE(D$79:D440)","v":3770.4990753679645},{"$f":"AVERAGE(M$79:M440)","v":3802.7571105199559},3771.0526488503479,{"$f":"AVERAGE(P$79:P440)","v":3747.3632986146108},null,null,null,null,40098.11074074007,{"$f":"LOOKUP($V440,Data!$A$6:$A$1806,Data!$B$6:$B$1806)","v":59.979999542236328},{"$f":"LOOKUP($V440,Data!$A$6:$A$1806,Data!$C$6:$C$1806)","v":3738.011962890625},{"$f":"LOOKUP($V440,Data!$A$6:$A$1806,Data!$D$6:$D$1806)","v":350},{"$f":"IF($Z$1=\"+\",LOOKUP($V440,Data!$A$6:$A$1806,Data!$E$6:$E$1806)*-1,LOOKUP($V440,Data!$A$6:$A$1806,Data!$E$6:$E$1806))","v":223.01573181152344},{"$f":"LOOKUP($V440,Data!$A$6:$A$1806,Data!$F$6:$F$1806)","v":16},null,{"$f":"LOOKUP($V440,Data!$A$6:$A$1806,Data!$H$6:$H$1806)","v":10},{"$f":"LOOKUP($V440,Data!$A$6:$A$1806,Data!$I$6:$I$1806)","v":0},{"$f":"IF(LOOKUP($V440,Data!$A$6:$A$1806,Data!$J$6:$J$1806)>0,(LOOKUP($V440,Data!$A$6:$A$1806,Data!$J$6:$J$1806)*-1),LOOKUP($V440,Data!$A$6:$A$1806,Data!$J$6:$J$1806))","v":-103},{"$f":"LOOKUP($V440,Data!$A$6:$A$1806,Data!$K$6:$K$1806)","v":7771.59},20.600471496582031,null,null,null,null,null,null,null,null,null,null,null,null,null,null,92.284912109375," ",2.0000457763671875E-2," "]
[null,40098.110763888217,{"$f":"LOOKUP(B441,Data!$A$6:$A$1806,Data!B$6:B$1806)","v":59.980998992919922},{"$f":"LOOKUP(B441,Data!$A$6:$A$1806,Data!C$6:C$1806)","v":3736.74755859375},null,null,3090,{"$f":"(IF((C441-L$2)>0,(IF(C441<'Copy Results'!$C$3,((C441-L$2-L$5)/((L$4*L$2)-L$5)*G441*-1),(('Copy Results'!$C$3-L$2-L$5)/((L$4*L$2)-L$5)*G441*-1))),IF(C441>'Copy Results'!$C$2,((C441-L$2+L$5)/((L$4*L$2)-L$5)*G441*-1),(('Copy Results'!$C$2-L$2+L$5)/((L$4*L$2)-L$5)*G441*-1))))","v":19.571037292480469},20.658196791064107,null,null,0,3806.9294288373594,{"$f":"AVERAGE(D$79:D441)","v":3770.4060959829117},{"$f":"AVERAGE(M$79:M441)","v":3802.7686045098108},3771.0526488503479,{"$f":"AVERAGE(P$79:P441)","v":3747.4287388086318},null,null,null,null,40098.110763888217,{"$f":"LOOKUP($V441,Data!$A$6:$A$1806,Data!$B$6:$B$1806)","v":59.980998992919922},{"$f":"LOOKUP($V441,Data!$A$6:$A$1806,Data!$C$6:$C$1806)","v":3736.74755859375},{"$f":"LOOKUP($V441,Data!$A$6:$A$1806,Data!$D$6:$D$1806)","v":350},{"$f":"IF($Z$1=\"+\",LOOKUP($V441,Data!$A$6:$A$1806,Data!$E$6:$E$1806)*-1,LOOKUP($V441,Data!$A$6:$A$1806,Data!$E$6:$E$1806))","v":223.01573181152344},{"$f":"LOOKUP($V441,Data!$A$6:$A$1806,Data!$F$6:$F$1806)","v":16},null,{"$f":"LOOKUP($V441,Data!$A$6:$A$1806,Data!$H$6:$H$1806)","v":10},{"$f":"LOOKUP($V441,Data!$A$6:$A$1806,Data!$I$6:$I$1806)","v":0},{"$f":"IF(LOOKUP($V441,Data!$A$6:$A$1806,Data!$J$6:$J$1806)>0,(LOOKUP($V441,Data!$A$6:$A$1806,Data!$J$6:$J$1806)*-1),LOOKUP($V441,Data!$A$6:$A$1806,Data!$J$6:$J$1806))","v":-103},{"$f":"LOOKUP($V441,Data!$A$6:$A$1806,Data!$K$6:$K$1806)","v":7771.92},19.571037292480469,null,null,null,null,null,null,null,null,null,null,null,null,null,null,91.0205078125," ",1.9001007080078125E-2," "]
[null,40098.110787036363,{"$f":"LOOKUP(B442,Data!$A$6:$A$1806,Data!B$6:B$1806)","v":59.979999542236328},{"$f":"LOOKUP(B442,Data!$A$6:$A$1806,Data!C$6:C$1806)","v":3736.693115234375},null,null,3090,{"$f":"(IF((C442-L$2)>0,(IF(C442<'Copy Results'!$C$3,((C442-L$2-L$5)/((L$4*L$2)-L$5)*G442*-1),(('Copy Results'!$C$3-L$2-L$5)/((L$4*L$2)-L$5)*G442*-1))),IF(C442>'Copy Results'!$C$2,((C442-L$2+L$5)/((L$4*L$2)-L$5)*G442*-1),(('Copy Results'!$C$2-L$2+L$5)/((L$4*L$2)-L$5)*G442*-1))))","v":20.600471496582031},20.637992937995381,null,null,0,3806.9092249842906,{"$f":"AVERAGE(D$79:D442)","v":3770.3134779039319},{"$f":"AVERAGE(M$79:M442)","v":3802.7799798407846},3771.0526488503479,{"$f":"AVERAGE(P$79:P442)","v":3747.4938184506195},null,null,null,null,40098.110787036363,{"$f":"LOOKUP($V442,Data!$A$6:$A$1806,Data!$B$6:$B$1806)","v":59.979999542236328},{"$f":"LOOKUP($V442,Data!$A$6:$A$1806,Data!$C$6:$C$1806)","v":3736.693115234375},{"$f":"LOOKUP($V442,Data!$A$6:$A$1806,Data!$D$6:$D$1806)","v":350},{"$f":"IF($Z$1=\"+\",LOOKUP($V442,Data!$A$6:$A$1806,Data!$E$6:$E$1806)*-1,LOOKUP($V442,Data!$A$6:$A$1806,Data!$E$6:$E$1806))","v":223.01573181152344},{"$f":"LOOKUP($V442,Data!$A$6:$A$1806,Data!$F$6:$F$1806)","v":16},null,{"$f":"LOOKUP($V442,Data!$A$6:$A$1806,Data!$H$6:$H$1806)","v":10},{"$f":"LOOKUP($V442,Data!$A$6:$A$1806,Data!$I$6:$I$1806)","v":0},{"$f":"IF(LOOKUP($V442,Data!$A$6:$A$1806,Data!$J$6:$J$1806)>0,(LOOKUP($V442,Data!$A$6:$A$1806,Data!$J$6:$J$1806)*-1),LOOKUP($V442,Data!$A$6:$A$1806,Data!$J$6:$J$1806))","v":-103},{"$f":"LOOKUP($V442,Data!$A$6:$A$1806,Data!$K$6:$K$1806)","v":7772.25},20.600471496582031,null,null,null,null,null,null,null,null,null,null,null,null,null,null,90.966064453125," ",2.0000457763671875E-2," "]
[null,40098.110810184509,{"$f":"LOOKUP(B443,Data!$A$6:$A$1806,Data!B$6:B$1806)","v":59.978000640869141},{"$f":"LOOKUP(B443,Data!$A$6:$A$1806,Data!C$6:C$1806)","v":3736.0673828125},null,null,3090,{"$f":"(IF((C443-L$2)>0,(IF(C443<'Copy Results'!$C$3,((C443-L$2-L$5)/((L$4*L$2)-L$5)*G443*-1),(('Copy Results'!$C$3-L$2-L$5)/((L$4*L$2)-L$5)*G443*-1))),IF(C443>'Copy Results'!$C$2,((C443-L$2+L$5)/((L$4*L$2)-L$5)*G443*-1),(('Copy Results'!$C$2-L$2+L$5)/((L$4*L$2)-L$5)*G443*-1))))","v":22.659339904785156},21.345464376371801,null,null,0,3807.6166964226672,{"$f":"AVERAGE(D$79:D443)","v":3770.2196529858734},{"$f":"AVERAGE(M$79:M443)","v":3802.7932311190912},3771.0526488503479,{"$f":"AVERAGE(P$79:P443)","v":3747.5585405121569},null,null,null,null,40098.110810184509,{"$f":"LOOKUP($V443,Data!$A$6:$A$1806,Data!$B$6:$B$1806)","v":59.978000640869141},{"$f":"LOOKUP($V443,Data!$A$6:$A$1806,Data!$C$6:$C$1806)","v":3736.0673828125},{"$f":"LOOKUP($V443,Data!$A$6:$A$1806,Data!$D$6:$D$1806)","v":350},{"$f":"IF($Z$1=\"+\",LOOKUP($V443,Data!$A$6:$A$1806,Data!$E$6:$E$1806)*-1,LOOKUP($V443,Data!$A$6:$A$1806,Data!$E$6:$E$1806))","v":223.01573181152344},{"$f":"LOOKUP($V443,Data!$A$6:$A$1806,Data!$F$6:$F$1806)","v":16},null,{"$f":"LOOKUP($V443,Data!$A$6:$A$1806,Data!$H$6:$H$1806)","v":10},{"$f":"LOOKUP($V443,Data!$A$6:$A$1806,Data!$I$6:$I$1806)","v":0},{"$f":"IF(LOOKUP($V443,Data!$A$6:$A$1806,Data!$J$6:$J$1806)>0,(LOOKUP($V443,Data!$A$6:$A$1806,Data!$J$6:$J$1806)*-1),LOOKUP($V443,Data!$A$6:$A$1806,Data!$J$6:$J$1806))","v":-103},{"$f":"LOOKUP($V443,Data!$A$6:$A$1806,Data!$K$6:$K$1806)","v":7772.58},22.659339904785156,null,null,null,null,null,null,null,null,null,null,null,null,null,null,90.34033203125," ",2.1999359130859375E-2," "]
[null,40098.110833332656,{"$f":"LOOKUP(B444,Data!$A$6:$A$1806,Data!B$6:B$1806)","v":59.976001739501953},{"$f":"LOOKUP(B444,Data!$A$6:$A$1806,Data!C$6:C$1806)","v":3736.09423828125},null,null,3090,{"$f":"(IF((C444-L$2)>0,(IF(C444<'Copy Results'!$C$3,((C444-L$2-L$5)/((L$4*L$2)-L$5)*G444*-1),(('Copy Results'!$C$3-L$2-L$5)/((L$4*L$2)-L$5)*G444*-1))),IF(C444>'Copy Results'!$C$2,((C444-L$2+L$5)/((L$4*L$2)-L$5)*G444*-1),(('Copy Results'!$C$2-L$2+L$5)/((L$4*L$2)-L$5)*G444*-1))))","v":24.718208312988281},22.525924754187571,null,null,0,3808.7971568004832,{"$f":"AVERAGE(D$79:D444)","v":3770.1264141478823},{"$f":"AVERAGE(M$79:M444)","v":3802.8096352876196},3771.0526488503479,{"$f":"AVERAGE(P$79:P444)","v":3747.6229079322616},null,null,null,null,40098.110833332656,{"$f":"LOOKUP($V444,Data!$A$6:$A$1806,Data!$B$6:$B$1806)","v":59.976001739501953},{"$f":"LOOKUP($V444,Data!$A$6:$A$1806,Data!$C$6:$C$1806)","v":3736.09423828125},{"$f":"LOOKUP($V444,Data!$A$6:$A$1806,Data!$D$6:$D$1806)","v":350},{"$f":"IF($Z$1=\"+\",LOOKUP($V444,Data!$A$6:$A$1806,Data!$E$6:$E$1806)*-1,LOOKUP($V444,Data!$A$6:$A$1806,Data!$E$6:$E$1806))","v":223.01573181152344},{"$f":"LOOKUP($V444,Data!$A$6:$A$1806,Data!$F$6:$F$1806)","v":16},null,{"$f":"LOOKUP($V444,Data!$A$6:$A$1806,Data!$H$6:$H$1806)","v":10},{"$f":"LOOKUP($V444,Data!$A$6:$A$1806,Data!$I$6:$I$1806)","v":0},{"$f":"IF(LOOKUP($V444,Data!$A$6:$A$1806,Data!$J$6:$J$1806)>0,(LOOKUP($V444,Data!$A$6:$A$1806,Data!$J$6:$J$1806)*-1),LOOKUP($V444,Data!$A$6:$A$1806,Data!$J$6:$J$1806))","v":-103},{"$f":"LOOKUP($V444,Data!$A$6:$A$1806,Data!$K$6:$K$1806)","v":7772.91},24.718208312988281,null,null,null,null,null,null,null,null,null,null,null,null,null,null,90.3671875," ",2.3998260498046875E-2," "]
[null,40098.110856480802,{"$f":"LOOKUP(B445,Data!$A$6:$A$1806,Data!B$6:B$1806)","v":59.972000122070313},{"$f":"LOOKUP(B445,Data!$A$6:$A$1806,Data!C$6:C$1806)","v":3736.574951171875},null,null,3090,{"$f":"(IF((C445-L$2)>0,(IF(C445<'Copy Results'!$C$3,((C445-L$2-L$5)/((L$4*L$2)-L$5)*G445*-1),(('Copy Results'!$C$3-L$2-L$5)/((L$4*L$2)-L$5)*G445*-1))),IF(C445>'Copy Results'!$C$2,((C445-L$2+L$5)/((L$4*L$2)-L$5)*G445*-1),(('Copy Results'!$C$2-L$2+L$5)/((L$4*L$2)-L$5)*G445*-1))))","v":28.839874267578121},24.735807083874263,null,null,0,3811.0070391301697,{"$f":"AVERAGE(D$79:D445)","v":3770.0349932678387},{"$f":"AVERAGE(M$79:M445)","v":3802.8319715378721},3771.0526488503479,{"$f":"AVERAGE(P$79:P445)","v":3747.68692361783},null,null,null,null,40098.110856480802,{"$f":"LOOKUP($V445,Data!$A$6:$A$1806,Data!$B$6:$B$1806)","v":59.972000122070313},{"$f":"LOOKUP($V445,Data!$A$6:$A$1806,Data!$C$6:$C$1806)","v":3736.574951171875},{"$f":"LOOKUP($V445,Data!$A$6:$A$1806,Data!$D$6:$D$1806)","v":350},{"$f":"IF($Z$1=\"+\",LOOKUP($V445,Data!$A$6:$A$1806,Data!$E$6:$E$1806)*-1,LOOKUP($V445,Data!$A$6:$A$1806,Data!$E$6:$E$1806))","v":223.01573181152344},{"$f":"LOOKUP($V445,Data!$A$6:$A$1806,Data!$F$6:$F$1806)","v":16},null,{"$f":"LOOKUP($V445,Data!$A$6:$A$1806,Data!$H$6:$H$1806)","v":10},{"$f":"LOOKUP($V445,Data!$A$6:$A$1806,Data!$I$6:$I$1806)","v":0},{"$f":"IF(LOOKUP($V445,Data!$A$6:$A$1806,Data!$J$6:$J$1806)>0,(LOOKUP($V445,Data!$A$6:$A$1806,Data!$J$6:$J$1806)*-1),LOOKUP($V445,Data!$A$6:$A$1806,Data!$J$6:$J$1806))","v":-103},{"$f":"LOOKUP($V445,Data!$A$6:$A$1806,Data!$K$6:$K$1806)","v":7773.24},28.839874267578121,null,null,null,null,null,null,null,null,null,null,null,null,null,null,90.847900390625," ",2.79998779296875E-2," "]
[null,40098.110879628948,{"$f":"LOOKUP(B446,Data!$A$6:$A$1806,Data!B$6:B$1806)","v":59.971000671386719},{"$f":"LOOKUP(B446,Data!$A$6:$A$1806,Data!C$6:C$1806)","v":3738.571044921875},null,null,3090,{"$f":"(IF((C446-L$2)>0,(IF(C446<'Copy Results'!$C$3,((C446-L$2-L$5)/((L$4*L$2)-L$5)*G446*-1),(('Copy Results'!$C$3-L$2-L$5)/((L$4*L$2)-L$5)*G446*-1))),IF(C446>'Copy Results'!$C$2,((C446-L$2+L$5)/((L$4*L$2)-L$5)*G446*-1),(('Copy Results'!$C$2-L$2+L$5)/((L$4*L$2)-L$5)*G446*-1))))","v":29.869308471679688},26.532532569606161,null,null,0,3812.8037646159014,{"$f":"AVERAGE(D$79:D446)","v":3769.9494934082031},{"$f":"AVERAGE(M$79:M446)","v":3802.8590688016707},3771.0526488503479,{"$f":"AVERAGE(P$79:P446)","v":3747.7505904440764},null,null,null,null,40098.110879628948,{"$f":"LOOKUP($V446,Data!$A$6:$A$1806,Data!$B$6:$B$1806)","v":59.971000671386719},{"$f":"LOOKUP($V446,Data!$A$6:$A$1806,Data!$C$6:$C$1806)","v":3738.571044921875},{"$f":"LOOKUP($V446,Data!$A$6:$A$1806,Data!$D$6:$D$1806)","v":350},{"$f":"IF($Z$1=\"+\",LOOKUP($V446,Data!$A$6:$A$1806,Data!$E$6:$E$1806)*-1,LOOKUP($V446,Data!$A$6:$A$1806,Data!$E$6:$E$1806))","v":223.01573181152344},{"$f":"LOOKUP($V446,Data!$A$6:$A$1806,Data!$F$6:$F$1806)","v":16},null,{"$f":"LOOKUP($V446,Data!$A$6:$A$1806,Data!$H$6:$H$1806)","v":10},{"$f":"LOOKUP($V446,Data!$A$6:$A$1806,Data!$I$6:$I$1806)","v":0},{"$f":"IF(LOOKUP($V446,Data!$A$6:$A$1806,Data!$J$6:$J$1806)>0,(LOOKUP($V446,Data!$A$6:$A$1806,Data!$J$6:$J$1806)*-1),LOOKUP($V446,Data!$A$6:$A$1806,Data!$J$6:$J$1806))","v":-103},{"$f":"LOOKUP($V446,Data!$A$6:$A$1806,Data!$K$6:$K$1806)","v":7773.57},29.869308471679688,null,null,null,null,null,null,null,null,null,null,null,null,null,null,92.843994140625," ",2.899932861328125E-2," "]
[null,40098.110902777094,{"$f":"LOOKUP(B447,Data!$A$6:$A$1806,Data!B$6:B$1806)","v":59.969001770019531},{"$f":"LOOKUP(B447,Data!$A$6:$A$1806,Data!C$6:C$1806)","v":3738.874755859375},null,null,3090,{"$f":"(IF((C447-L$2)>0,(IF(C447<'Copy Results'!$C$3,((C447-L$2-L$5)/((L$4*L$2)-L$5)*G447*-1),(('Copy Results'!$C$3-L$2-L$5)/((L$4*L$2)-L$5)*G447*-1))),IF(C447>'Copy Results'!$C$2,((C447-L$2+L$5)/((L$4*L$2)-L$5)*G447*-1),(('Copy Results'!$C$2-L$2+L$5)/((L$4*L$2)-L$5)*G447*-1))))","v":31.928176879882809},28.421008078202988,null,null,0,3814.6922401244983,{"$f":"AVERAGE(D$79:D447)","v":3769.8652800273121},{"$f":"AVERAGE(M$79:M447)","v":3802.8911370166379},3771.0526488503479,{"$f":"AVERAGE(P$79:P447)","v":3747.8139112549625},null,null,null,null,40098.110902777094,{"$f":"LOOKUP($V447,Data!$A$6:$A$1806,Data!$B$6:$B$1806)","v":59.969001770019531},{"$f":"LOOKUP($V447,Data!$A$6:$A$1806,Data!$C$6:$C$1806)","v":3738.874755859375},{"$f":"LOOKUP($V447,Data!$A$6:$A$1806,Data!$D$6:$D$1806)","v":350},{"$f":"IF($Z$1=\"+\",LOOKUP($V447,Data!$A$6:$A$1806,Data!$E$6:$E$1806)*-1,LOOKUP($V447,Data!$A$6:$A$1806,Data!$E$6:$E$1806))","v":223.01573181152344},{"$f":"LOOKUP($V447,Data!$A$6:$A$1806,Data!$F$6:$F$1806)","v":16},null,{"$f":"LOOKUP($V447,Data!$A$6:$A$1806,Data!$H$6:$H$1806)","v":10},{"$f":"LOOKUP($V447,Data!$A$6:$A$1806,Data!$I$6:$I$1806)","v":0},{"$f":"IF(LOOKUP($V447,Data!$A$6:$A$1806,Data!$J$6:$J$1806)>0,(LOOKUP($V447,Data!$A$6:$A$1806,Data!$J$6:$J$1806)*-1),LOOKUP($V447,Data!$A$6:$A$1806,Data!$J$6:$J$1806))","v":-103},{"$f":"LOOKUP($V447,Data!$A$6:$A$1806,Data!$K$6:$K$1806)","v":7773.9},31.928176879882809,null,null,null,null,null,null,null,null,null,null,null,null,null,null,93.147705078125," ",3.099822998046875E-2," "]
[null,40098.110925925241,{"$f":"LOOKUP(B448,Data!$A$6:$A$1806,Data!B$6:B$1806)","v":59.9739990234375},{"$f":"LOOKUP(B448,Data!$A$6:$A$1806,Data!C$6:C$1806)","v":3738.9345703125},null,null,3090,{"$f":"(IF((C448-L$2)>0,(IF(C448<'Copy Results'!$C$3,((C448-L$2-L$5)/((L$4*L$2)-L$5)*G448*-1),(('Copy Results'!$C$3-L$2-L$5)/((L$4*L$2)-L$5)*G448*-1))),IF(C448>'Copy Results'!$C$2,((C448-L$2+L$5)/((L$4*L$2)-L$5)*G448*-1),(('Copy Results'!$C$2-L$2+L$5)/((L$4*L$2)-L$5)*G448*-1))))","v":26.781005859375},27.847007301613193,null,null,0,3814.1182393479085,{"$f":"AVERAGE(D$79:D448)","v":3769.7816835145691},{"$f":"AVERAGE(M$79:M448)","v":3802.9214805364522},3771.0526488503479,{"$f":"AVERAGE(P$79:P448)","v":3747.8768888636218},null,null,null,null,40098.110925925241,{"$f":"LOOKUP($V448,Data!$A$6:$A$1806,Data!$B$6:$B$1806)","v":59.9739990234375},{"$f":"LOOKUP($V448,Data!$A$6:$A$1806,Data!$C$6:$C$1806)","v":3738.9345703125},{"$f":"LOOKUP($V448,Data!$A$6:$A$1806,Data!$D$6:$D$1806)","v":350},{"$f":"IF($Z$1=\"+\",LOOKUP($V448,Data!$A$6:$A$1806,Data!$E$6:$E$1806)*-1,LOOKUP($V448,Data!$A$6:$A$1806,Data!$E$6:$E$1806))","v":223.01573181152344},{"$f":"LOOKUP($V448,Data!$A$6:$A$1806,Data!$F$6:$F$1806)","v":16},null,{"$f":"LOOKUP($V448,Data!$A$6:$A$1806,Data!$H$6:$H$1806)","v":10},{"$f":"LOOKUP($V448,Data!$A$6:$A$1806,Data!$I$6:$I$1806)","v":0},{"$f":"IF(LOOKUP($V448,Data!$A$6:$A$1806,Data!$J$6:$J$1806)>0,(LOOKUP($V448,Data!$A$6:$A$1806,Data!$J$6:$J$1806)*-1),LOOKUP($V448,Data!$A$6:$A$1806,Data!$J$6:$J$1806))","v":-103},{"$f":"LOOKUP($V448,Data!$A$6:$A$1806,Data!$K$6:$K$1806)","v":7774.23},26.781005859375,null,null,null,null,null,null,null,null,null,null,null,null,null,null,93.20751953125," ",2.60009765625E-2," "]
[null,40098.110949073387,{"$f":"LOOKUP(B449,Data!$A$6:$A$1806,Data!B$6:B$1806)","v":59.974998474121094},{"$f":"LOOKUP(B449,Data!$A$6:$A$1806,Data!C$6:C$1806)","v":3738.64697265625},null,null,3090,{"$f":"(IF((C449-L$2)>0,(IF(C449<'Copy Results'!$C$3,((C449-L$2-L$5)/((L$4*L$2)-L$5)*G449*-1),(('Copy Results'!$C$3-L$2-L$5)/((L$4*L$2)-L$5)*G449*-1))),IF(C449>'Copy Results'!$C$2,((C449-L$2+L$5)/((L$4*L$2)-L$5)*G449*-1),(('Copy Results'!$C$2-L$2+L$5)/((L$4*L$2)-L$5)*G449*-1))))","v":25.751571655273434},27.113604825394276,null,null,0,3813.3848368716895,{"$f":"AVERAGE(D$79:D449)","v":3769.6977624610427},{"$f":"AVERAGE(M$79:M449)","v":3802.9496836532585},3771.0526488503479,{"$f":"AVERAGE(P$79:P449)","v":3747.9395260527749},null,null,null,null,40098.110949073387,{"$f":"LOOKUP($V449,Data!$A$6:$A$1806,Data!$B$6:$B$1806)","v":59.974998474121094},{"$f":"LOOKUP($V449,Data!$A$6:$A$1806,Data!$C$6:$C$1806)","v":3738.64697265625},{"$f":"LOOKUP($V449,Data!$A$6:$A$1806,Data!$D$6:$D$1806)","v":350},{"$f":"IF($Z$1=\"+\",LOOKUP($V449,Data!$A$6:$A$1806,Data!$E$6:$E$1806)*-1,LOOKUP($V449,Data!$A$6:$A$1806,Data!$E$6:$E$1806))","v":223.01573181152344},{"$f":"LOOKUP($V449,Data!$A$6:$A$1806,Data!$F$6:$F$1806)","v":16},null,{"$f":"LOOKUP($V449,Data!$A$6:$A$1806,Data!$H$6:$H$1806)","v":10},{"$f":"LOOKUP($V449,Data!$A$6:$A$1806,Data!$I$6:$I$1806)","v":0},{"$f":"IF(LOOKUP($V449,Data!$A$6:$A$1806,Data!$J$6:$J$1806)>0,(LOOKUP($V449,Data!$A$6:$A$1806,Data!$J$6:$J$1806)*-1),LOOKUP($V449,Data!$A$6:$A$1806,Data!$J$6:$J$1806))","v":-103},{"$f":"LOOKUP($V449,Data!$A$6:$A$1806,Data!$K$6:$K$1806)","v":7774.56},25.751571655273434,null,null,null,null,null,null,null,null,null,null,null,null,null,null,92.919921875," ",2.500152587890625E-2," "]
[null,40098.110972221533,{"$f":"LOOKUP(B450,Data!$A$6:$A$1806,Data!B$6:B$1806)","v":59.976001739501953},{"$f":"LOOKUP(B450,Data!$A$6:$A$1806,Data!C$6:C$1806)","v":3737.68408203125},null,null,3090,{"$f":"(IF((C450-L$2)>0,(IF(C450<'Copy Results'!$C$3,((C450-L$2-L$5)/((L$4*L$2)-L$5)*G450*-1),(('Copy Results'!$C$3-L$2-L$5)/((L$4*L$2)-L$5)*G450*-1))),IF(C450>'Copy Results'!$C$2,((C450-L$2+L$5)/((L$4*L$2)-L$5)*G450*-1),(('Copy Results'!$C$2-L$2+L$5)/((L$4*L$2)-L$5)*G450*-1))))","v":24.718208312988281},26.275216046052179,null,null,0,3812.5464480923474,{"$f":"AVERAGE(D$79:D450)","v":3769.6117041803177},{"$f":"AVERAGE(M$79:M450)","v":3802.9754814071271},3771.0526488503479,{"$f":"AVERAGE(P$79:P450)","v":3748.0018255751402},null,null,null,null,40098.110972221533,{"$f":"LOOKUP($V450,Data!$A$6:$A$1806,Data!$B$6:$B$1806)","v":59.976001739501953},{"$f":"LOOKUP($V450,Data!$A$6:$A$1806,Data!$C$6:$C$1806)","v":3737.68408203125},{"$f":"LOOKUP($V450,Data!$A$6:$A$1806,Data!$D$6:$D$1806)","v":350},{"$f":"IF($Z$1=\"+\",LOOKUP($V450,Data!$A$6:$A$1806,Data!$E$6:$E$1806)*-1,LOOKUP($V450,Data!$A$6:$A$1806,Data!$E$6:$E$1806))","v":223.01573181152344},{"$f":"LOOKUP($V450,Data!$A$6:$A$1806,Data!$F$6:$F$1806)","v":16},null,{"$f":"LOOKUP($V450,Data!$A$6:$A$1806,Data!$H$6:$H$1806)","v":10},{"$f":"LOOKUP($V450,Data!$A$6:$A$1806,Data!$I$6:$I$1806)","v":0},{"$f":"IF(LOOKUP($V450,Data!$A$6:$A$1806,Data!$J$6:$J$1806)>0,(LOOKUP($V450,Data!$A$6:$A$1806,Data!$J$6:$J$1806)*-1),LOOKUP($V450,Data!$A$6:$A$1806,Data!$J$6:$J$1806))","v":-103},{"$f":"LOOKUP($V450,Data!$A$6:$A$1806,Data!$K$6:$K$1806)","v":7774.89},24.718208312988281,null,null,null,null,null,null,null,null,null,null,null,null,null,null,91.95703125," ",2.3998260498046875E-2," "]
[null,40098.11099536968,{"$f":"LOOKUP(B451,Data!$A$6:$A$1806,Data!B$6:B$1806)","v":59.972000122070313},{"$f":"LOOKUP(B451,Data!$A$6:$A$1806,Data!C$6:C$1806)","v":3737.382080078125},null,null,3090,{"$f":"(IF((C451-L$2)>0,(IF(C451<'Copy Results'!$C$3,((C451-L$2-L$5)/((L$4*L$2)-L$5)*G451*-1),(('Copy Results'!$C$3-L$2-L$5)/((L$4*L$2)-L$5)*G451*-1))),IF(C451>'Copy Results'!$C$2,((C451-L$2+L$5)/((L$4*L$2)-L$5)*G451*-1),(('Copy Results'!$C$2-L$2+L$5)/((L$4*L$2)-L$5)*G451*-1))))","v":28.839874267578121},27.172846423586257,null,null,0,3813.4440784698813,{"$f":"AVERAGE(D$79:D451)","v":3769.525297681384},{"$f":"AVERAGE(M$79:M451)","v":3803.0035473509952},3771.0526488503479,{"$f":"AVERAGE(P$79:P451)","v":3748.0637901538366},null,null,null,null,40098.11099536968,{"$f":"LOOKUP($V451,Data!$A$6:$A$1806,Data!$B$6:$B$1806)","v":59.972000122070313},{"$f":"LOOKUP($V451,Data!$A$6:$A$1806,Data!$C$6:$C$1806)","v":3737.382080078125},{"$f":"LOOKUP($V451,Data!$A$6:$A$1806,Data!$D$6:$D$1806)","v":350},{"$f":"IF($Z$1=\"+\",LOOKUP($V451,Data!$A$6:$A$1806,Data!$E$6:$E$1806)*-1,LOOKUP($V451,Data!$A$6:$A$1806,Data!$E$6:$E$1806))","v":223.01573181152344},{"$f":"LOOKUP($V451,Data!$A$6:$A$1806,Data!$F$6:$F$1806)","v":16},null,{"$f":"LOOKUP($V451,Data!$A$6:$A$1806,Data!$H$6:$H$1806)","v":10},{"$f":"LOOKUP($V451,Data!$A$6:$A$1806,Data!$I$6:$I$1806)","v":0},{"$f":"IF(LOOKUP($V451,Data!$A$6:$A$1806,Data!$J$6:$J$1806)>0,(LOOKUP($V451,Data!$A$6:$A$1806,Data!$J$6:$J$1806)*-1),LOOKUP($V451,Data!$A$6:$A$1806,Data!$J$6:$J$1806))","v":-103},{"$f":"LOOKUP($V451,Data!$A$6:$A$1806,Data!$K$6:$K$1806)","v":7775.22},28.839874267578121,null,null,null,null,null,null,null,null,null,null,null,null,null,null,91.655029296875," ",2.79998779296875E-2," "]
[null,40098.111018517826,{"$f":"LOOKUP(B452,Data!$A$6:$A$1806,Data!B$6:B$1806)","v":59.969001770019531},{"$f":"LOOKUP(B452,Data!$A$6:$A$1806,Data!C$6:C$1806)","v":3737.89208984375},null,null,3090,{"$f":"(IF((C452-L$2)>0,(IF(C452<'Copy Results'!$C$3,((C452-L$2-L$5)/((L$4*L$2)-L$5)*G452*-1),(('Copy Results'!$C$3-L$2-L$5)/((L$4*L$2)-L$5)*G452*-1))),IF(C452>'Copy Results'!$C$2,((C452-L$2+L$5)/((L$4*L$2)-L$5)*G452*-1),(('Copy Results'!$C$2-L$2+L$5)/((L$4*L$2)-L$5)*G452*-1))))","v":31.928176879882809},28.837212083290048,null,null,0,3815.1084441295852,{"$f":"AVERAGE(D$79:D452)","v":3769.4407169117649},{"$f":"AVERAGE(M$79:M452)","v":3803.0359133851625},3771.0526488503479,{"$f":"AVERAGE(P$79:P452)","v":3748.1254224827812},null,null,null,null,40098.111018517826,{"$f":"LOOKUP($V452,Data!$A$6:$A$1806,Data!$B$6:$B$1806)","v":59.969001770019531},{"$f":"LOOKUP($V452,Data!$A$6:$A$1806,Data!$C$6:$C$1806)","v":3737.89208984375},{"$f":"LOOKUP($V452,Data!$A$6:$A$1806,Data!$D$6:$D$1806)","v":350},{"$f":"IF($Z$1=\"+\",LOOKUP($V452,Data!$A$6:$A$1806,Data!$E$6:$E$1806)*-1,LOOKUP($V452,Data!$A$6:$A$1806,Data!$E$6:$E$1806))","v":223.01573181152344},{"$f":"LOOKUP($V452,Data!$A$6:$A$1806,Data!$F$6:$F$1806)","v":16},null,{"$f":"LOOKUP($V452,Data!$A$6:$A$1806,Data!$H$6:$H$1806)","v":10},{"$f":"LOOKUP($V452,Data!$A$6:$A$1806,Data!$I$6:$I$1806)","v":0},{"$f":"IF(LOOKUP($V452,Data!$A$6:$A$1806,Data!$J$6:$J$1806)>0,(LOOKUP($V452,Data!$A$6:$A$1806,Data!$J$6:$J$1806)*-1),LOOKUP($V452,Data!$A$6:$A$1806,Data!$J$6:$J$1806))","v":-103},{"$f":"LOOKUP($V452,Data!$A$6:$A$1806,Data!$K$6:$K$1806)","v":7775.55},31.928176879882809,null,null,null,null,null,null,null,null,null,null,null,null,null,null,92.1650390625," ",3.099822998046875E-2," "]
[null,40098.111041665972,{"$f":"LOOKUP(B453,Data!$A$6:$A$1806,Data!B$6:B$1806)","v":59.971000671386719},{"$f":"LOOKUP(B453,Data!$A$6:$A$1806,Data!C$6:C$1806)","v":3740.016845703125},null,null,3090,{"$f":"(IF((C453-L$2)>0,(IF(C453<'Copy Results'!$C$3,((C453-L$2-L$5)/((L$4*L$2)-L$5)*G453*-1),(('Copy Results'!$C$3-L$2-L$5)/((L$4*L$2)-L$5)*G453*-1))),IF(C453>'Copy Results'!$C$2,((C453-L$2+L$5)/((L$4*L$2)-L$5)*G453*-1),(('Copy Results'!$C$2-L$2+L$5)/((L$4*L$2)-L$5)*G453*-1))))","v":29.869308471679688},29.198445819226421,null,null,0,3815.4696778655216,{"$f":"AVERAGE(D$79:D453)","v":3769.3622532552085},{"$f":"AVERAGE(M$79:M453)","v":3803.0690700904433},3771.0526488503479,{"$f":"AVERAGE(P$79:P453)","v":3748.1867252270795},null,null,null,null,40098.111041665972,{"$f":"LOOKUP($V453,Data!$A$6:$A$1806,Data!$B$6:$B$1806)","v":59.971000671386719},{"$f":"LOOKUP($V453,Data!$A$6:$A$1806,Data!$C$6:$C$1806)","v":3740.016845703125},{"$f":"LOOKUP($V453,Data!$A$6:$A$1806,Data!$D$6:$D$1806)","v":350},{"$f":"IF($Z$1=\"+\",LOOKUP($V453,Data!$A$6:$A$1806,Data!$E$6:$E$1806)*-1,LOOKUP($V453,Data!$A$6:$A$1806,Data!$E$6:$E$1806))","v":223.01573181152344},{"$f":"LOOKUP($V453,Data!$A$6:$A$1806,Data!$F$6:$F$1806)","v":16},null,{"$f":"LOOKUP($V453,Data!$A$6:$A$1806,Data!$H$6:$H$1806)","v":10},{"$f":"LOOKUP($V453,Data!$A$6:$A$1806,Data!$I$6:$I$1806)","v":0},{"$f":"IF(LOOKUP($V453,Data!$A$6:$A$1806,Data!$J$6:$J$1806)>0,(LOOKUP($V453,Data!$A$6:$A$1806,Data!$J$6:$J$1806)*-1),LOOKUP($V453,Data!$A$6:$A$1806,Data!$J$6:$J$1806))","v":-103},{"$f":"LOOKUP($V453,Data!$A$6:$A$1806,Data!$K$6:$K$1806)","v":7775.88},29.869308471679688,null,null,null,null,null,null,null,null,null,null,null,null,null,null,94.289794921875," ",2.899932861328125E-2," "]
[null,40098.111064814118,{"$f":"LOOKUP(B454,Data!$A$6:$A$1806,Data!B$6:B$1806)","v":59.9739990234375},{"$f":"LOOKUP(B454,Data!$A$6:$A$1806,Data!C$6:C$1806)","v":3740.328857421875},null,null,3090,{"$f":"(IF((C454-L$2)>0,(IF(C454<'Copy Results'!$C$3,((C454-L$2-L$5)/((L$4*L$2)-L$5)*G454*-1),(('Copy Results'!$C$3-L$2-L$5)/((L$4*L$2)-L$5)*G454*-1))),IF(C454>'Copy Results'!$C$2,((C454-L$2+L$5)/((L$4*L$2)-L$5)*G454*-1),(('Copy Results'!$C$2-L$2+L$5)/((L$4*L$2)-L$5)*G454*-1))))","v":26.781005859375},28.352341833278423,null,null,0,3814.6235738795735,{"$f":"AVERAGE(D$79:D454)","v":3769.2850367769283},{"$f":"AVERAGE(M$79:M454)","v":3803.0998001537123},3771.0526488503479,{"$f":"AVERAGE(P$79:P454)","v":3748.2477010234079},null,null,null,null,40098.111064814118,{"$f":"LOOKUP($V454,Data!$A$6:$A$1806,Data!$B$6:$B$1806)","v":59.9739990234375},{"$f":"LOOKUP($V454,Data!$A$6:$A$1806,Data!$C$6:$C$1806)","v":3740.328857421875},{"$f":"LOOKUP($V454,Data!$A$6:$A$1806,Data!$D$6:$D$1806)","v":350},{"$f":"IF($Z$1=\"+\",LOOKUP($V454,Data!$A$6:$A$1806,Data!$E$6:$E$1806)*-1,LOOKUP($V454,Data!$A$6:$A$1806,Data!$E$6:$E$1806))","v":223.01573181152344},{"$f":"LOOKUP($V454,Data!$A$6:$A$1806,Data!$F$6:$F$1806)","v":16},null,{"$f":"LOOKUP($V454,Data!$A$6:$A$1806,Data!$H$6:$H$1806)","v":10},{"$f":"LOOKUP($V454,Data!$A$6:$A$1806,Data!$I$6:$I$1806)","v":0},{"$f":"IF(LOOKUP($V454,Data!$A$6:$A$1806,Data!$J$6:$J$1806)>0,(LOOKUP($V454,Data!$A$6:$A$1806,Data!$J$6:$J$1806)*-1),LOOKUP($V454,Data!$A$6:$A$1806,Data!$J$6:$J$1806))","v":-103},{"$f":"LOOKUP($V454,Data!$A$6:$A$1806,Data!$K$6:$K$1806)","v":7776.21},26.781005859375,null,null,null,null,null,null,null,null,null,null,null,null,null,null,94.601806640625," ",2.60009765625E-2," "]
[null,40098.111087962265,{"$f":"LOOKUP(B455,Data!$A$6:$A$1806,Data!B$6:B$1806)","v":59.972000122070313},{"$f":"LOOKUP(B455,Data!$A$6:$A$1806,Data!C$6:C$1806)","v":3742.052734375},null,null,3090,{"$f":"(IF((C455-L$2)>0,(IF(C455<'Copy Results'!$C$3,((C455-L$2-L$5)/((L$4*L$2)-L$5)*G455*-1),(('Copy Results'!$C$3-L$2-L$5)/((L$4*L$2)-L$5)*G455*-1))),IF(C455>'Copy Results'!$C$2,((C455-L$2+L$5)/((L$4*L$2)-L$5)*G455*-1),(('Copy Results'!$C$2-L$2+L$5)/((L$4*L$2)-L$5)*G455*-1))))","v":28.839874267578121},28.522978185283314,null,null,0,3814.7942102315783,{"$f":"AVERAGE(D$79:D455)","v":3769.2128025530506},{"$f":"AVERAGE(M$79:M455)","v":3803.1308198090915},3771.0526488503479,{"$f":"AVERAGE(P$79:P455)","v":3748.3083524803942},null,null,null,null,40098.111087962265,{"$f":"LOOKUP($V455,Data!$A$6:$A$1806,Data!$B$6:$B$1806)","v":59.972000122070313},{"$f":"LOOKUP($V455,Data!$A$6:$A$1806,Data!$C$6:$C$1806)","v":3742.052734375},{"$f":"LOOKUP($V455,Data!$A$6:$A$1806,Data!$D$6:$D$1806)","v":350},{"$f":"IF($Z$1=\"+\",LOOKUP($V455,Data!$A$6:$A$1806,Data!$E$6:$E$1806)*-1,LOOKUP($V455,Data!$A$6:$A$1806,Data!$E$6:$E$1806))","v":223.01573181152344},{"$f":"LOOKUP($V455,Data!$A$6:$A$1806,Data!$F$6:$F$1806)","v":16},null,{"$f":"LOOKUP($V455,Data!$A$6:$A$1806,Data!$H$6:$H$1806)","v":10},{"$f":"LOOKUP($V455,Data!$A$6:$A$1806,Data!$I$6:$I$1806)","v":0},{"$f":"IF(LOOKUP($V455,Data!$A$6:$A$1806,Data!$J$6:$J$1806)>0,(LOOKUP($V455,Data!$A$6:$A$1806,Data!$J$6:$J$1806)*-1),LOOKUP($V455,Data!$A$6:$A$1806,Data!$J$6:$J$1806))","v":-103},{"$f":"LOOKUP($V455,Data!$A$6:$A$1806,Data!$K$6:$K$1806)","v":7776.54},28.839874267578121,null,null,null,null,null,null,null,null,null,null,null,null,null,null,96.32568359375," ",2.79998779296875E-2," "]
[null,40098.111111110411,{"$f":"LOOKUP(B456,Data!$A$6:$A$1806,Data!B$6:B$1806)","v":59.972000122070313},{"$f":"LOOKUP(B456,Data!$A$6:$A$1806,Data!C$6:C$1806)","v":3742.423828125},null,null,3090,{"$f":"(IF((C456-L$2)>0,(IF(C456<'Copy Results'!$C$3,((C456-L$2-L$5)/((L$4*L$2)-L$5)*G456*-1),(('Copy Results'!$C$3-L$2-L$5)/((L$4*L$2)-L$5)*G456*-1))),IF(C456>'Copy Results'!$C$2,((C456-L$2+L$5)/((L$4*L$2)-L$5)*G456*-1),(('Copy Results'!$C$2-L$2+L$5)/((L$4*L$2)-L$5)*G456*-1))))","v":28.839874267578121},28.633891814086496,null,null,0,3814.9051238603815,{"$f":"AVERAGE(D$79:D456)","v":3769.1419322503307},{"$f":"AVERAGE(M$79:M456)","v":3803.161968761608},3771.0526488503479,{"$f":"AVERAGE(P$79:P456)","v":3748.3686821789879},null,null,null,null,40098.111111110411,{"$f":"LOOKUP($V456,Data!$A$6:$A$1806,Data!$B$6:$B$1806)","v":59.972000122070313},{"$f":"LOOKUP($V456,Data!$A$6:$A$1806,Data!$C$6:$C$1806)","v":3742.423828125},{"$f":"LOOKUP($V456,Data!$A$6:$A$1806,Data!$D$6:$D$1806)","v":350},{"$f":"IF($Z$1=\"+\",LOOKUP($V456,Data!$A$6:$A$1806,Data!$E$6:$E$1806)*-1,LOOKUP($V456,Data!$A$6:$A$1806,Data!$E$6:$E$1806))","v":223.01573181152344},{"$f":"LOOKUP($V456,Data!$A$6:$A$1806,Data!$F$6:$F$1806)","v":16},null,{"$f":"LOOKUP($V456,Data!$A$6:$A$1806,Data!$H$6:$H$1806)","v":10},{"$f":"LOOKUP($V456,Data!$A$6:$A$1806,Data!$I$6:$I$1806)","v":0},{"$f":"IF(LOOKUP($V456,Data!$A$6:$A$1806,Data!$J$6:$J$1806)>0,(LOOKUP($V456,Data!$A$6:$A$1806,Data!$J$6:$J$1806)*-1),LOOKUP($V456,Data!$A$6:$A$1806,Data!$J$6:$J$1806))","v":-103},{"$f":"LOOKUP($V456,Data!$A$6:$A$1806,Data!$K$6:$K$1806)","v":7776.87},28.839874267578121,null,null,null,null,null,null,null,null,null,null,null,null,null,null,96.69677734375," ",2.79998779296875E-2," "]
[null,40098.111134258557,{"$f":"LOOKUP(B457,Data!$A$6:$A$1806,Data!B$6:B$1806)","v":59.972000122070313},{"$f":"LOOKUP(B457,Data!$A$6:$A$1806,Data!C$6:C$1806)","v":3742.5244140625},null,null,3090,{"$f":"(IF((C457-L$2)>0,(IF(C457<'Copy Results'!$C$3,((C457-L$2-L$5)/((L$4*L$2)-L$5)*G457*-1),(('Copy Results'!$C$3-L$2-L$5)/((L$4*L$2)-L$5)*G457*-1))),IF(C457>'Copy Results'!$C$2,((C457-L$2+L$5)/((L$4*L$2)-L$5)*G457*-1),(('Copy Results'!$C$2-L$2+L$5)/((L$4*L$2)-L$5)*G457*-1))))","v":28.839874267578121},28.705985672808566,null,null,0,3814.9772177191035,{"$f":"AVERAGE(D$79:D457)","v":3769.0717013316294},{"$f":"AVERAGE(M$79:M457)","v":3803.1931435609681},3771.0526488503479,{"$f":"AVERAGE(P$79:P457)","v":3748.4286926728273},null,null,null,null,40098.111134258557,{"$f":"LOOKUP($V457,Data!$A$6:$A$1806,Data!$B$6:$B$1806)","v":59.972000122070313},{"$f":"LOOKUP($V457,Data!$A$6:$A$1806,Data!$C$6:$C$1806)","v":3742.5244140625},{"$f":"LOOKUP($V457,Data!$A$6:$A$1806,Data!$D$6:$D$1806)","v":350},{"$f":"IF($Z$1=\"+\",LOOKUP($V457,Data!$A$6:$A$1806,Data!$E$6:$E$1806)*-1,LOOKUP($V457,Data!$A$6:$A$1806,Data!$E$6:$E$1806))","v":223.01573181152344},{"$f":"LOOKUP($V457,Data!$A$6:$A$1806,Data!$F$6:$F$1806)","v":16},null,{"$f":"LOOKUP($V457,Data!$A$6:$A$1806,Data!$H$6:$H$1806)","v":10},{"$f":"LOOKUP($V457,Data!$A$6:$A$1806,Data!$I$6:$I$1806)","v":0},{"$f":"IF(LOOKUP($V457,Data!$A$6:$A$1806,Data!$J$6:$J$1806)>0,(LOOKUP($V457,Data!$A$6:$A$1806,Data!$J$6:$J$1806)*-1),LOOKUP($V457,Data!$A$6:$A$1806,Data!$J$6:$J$1806))","v":-103},{"$f":"LOOKUP($V457,Data!$A$6:$A$1806,Data!$K$6:$K$1806)","v":7777.2},28.839874267578121,null,null,null,null,null,null,null,null,null,null,null,null,null,null,96.79736328125," ",2.79998779296875E-2," "]
[null,40098.111157406704,{"$f":"LOOKUP(B458,Data!$A$6:$A$1806,Data!B$6:B$1806)","v":59.977001190185547},{"$f":"LOOKUP(B458,Data!$A$6:$A$1806,Data!C$6:C$1806)","v":3742.2451171875},null,null,3090,{"$f":"(IF((C458-L$2)>0,(IF(C458<'Copy Results'!$C$3,((C458-L$2-L$5)/((L$4*L$2)-L$5)*G458*-1),(('Copy Results'!$C$3-L$2-L$5)/((L$4*L$2)-L$5)*G458*-1))),IF(C458>'Copy Results'!$C$2,((C458-L$2+L$5)/((L$4*L$2)-L$5)*G458*-1),(('Copy Results'!$C$2-L$2+L$5)/((L$4*L$2)-L$5)*G458*-1))))","v":23.688774108886719},26.949961625435922,null,null,0,3813.2211936717308,{"$f":"AVERAGE(D$79:D458)","v":3769.0011050575658},{"$f":"AVERAGE(M$79:M458)","v":3803.219533166523},3771.0526488503479,{"$f":"AVERAGE(P$79:P458)","v":3748.4883864885987},null,null,null,null,40098.111157406704,{"$f":"LOOKUP($V458,Data!$A$6:$A$1806,Data!$B$6:$B$1806)","v":59.977001190185547},{"$f":"LOOKUP($V458,Data!$A$6:$A$1806,Data!$C$6:$C$1806)","v":3742.2451171875},{"$f":"LOOKUP($V458,Data!$A$6:$A$1806,Data!$D$6:$D$1806)","v":350},{"$f":"IF($Z$1=\"+\",LOOKUP($V458,Data!$A$6:$A$1806,Data!$E$6:$E$1806)*-1,LOOKUP($V458,Data!$A$6:$A$1806,Data!$E$6:$E$1806))","v":223.01573181152344},{"$f":"LOOKUP($V458,Data!$A$6:$A$1806,Data!$F$6:$F$1806)","v":16},null,{"$f":"LOOKUP($V458,Data!$A$6:$A$1806,Data!$H$6:$H$1806)","v":10},{"$f":"LOOKUP($V458,Data!$A$6:$A$1806,Data!$I$6:$I$1806)","v":0},{"$f":"IF(LOOKUP($V458,Data!$A$6:$A$1806,Data!$J$6:$J$1806)>0,(LOOKUP($V458,Data!$A$6:$A$1806,Data!$J$6:$J$1806)*-1),LOOKUP($V458,Data!$A$6:$A$1806,Data!$J$6:$J$1806))","v":-103},{"$f":"LOOKUP($V458,Data!$A$6:$A$1806,Data!$K$6:$K$1806)","v":7777.53},23.688774108886719,null,null,null,null,null,null,null,null,null,null,null,null,null,null,96.51806640625," ",2.2998809814453125E-2," "]
[null,40098.11118055485,{"$f":"LOOKUP(B459,Data!$A$6:$A$1806,Data!B$6:B$1806)","v":59.981998443603516},{"$f":"LOOKUP(B459,Data!$A$6:$A$1806,Data!C$6:C$1806)","v":3741.72314453125},null,null,3090,{"$f":"(IF((C459-L$2)>0,(IF(C459<'Copy Results'!$C$3,((C459-L$2-L$5)/((L$4*L$2)-L$5)*G459*-1),(('Copy Results'!$C$3-L$2-L$5)/((L$4*L$2)-L$5)*G459*-1))),IF(C459>'Copy Results'!$C$2,((C459-L$2+L$5)/((L$4*L$2)-L$5)*G459*-1),(('Copy Results'!$C$2-L$2+L$5)/((L$4*L$2)-L$5)*G459*-1))))","v":18.541603088378906},24.007036137465967,null,null,0,3810.2782681837607,{"$f":"AVERAGE(D$79:D459)","v":3768.9295093606465},{"$f":"AVERAGE(M$79:M459)","v":3803.2380600300853},3771.0526488503479,{"$f":"AVERAGE(P$79:P459)","v":3748.5477661263926},null,null,null,null,40098.11118055485,{"$f":"LOOKUP($V459,Data!$A$6:$A$1806,Data!$B$6:$B$1806)","v":59.981998443603516},{"$f":"LOOKUP($V459,Data!$A$6:$A$1806,Data!$C$6:$C$1806)","v":3741.72314453125},{"$f":"LOOKUP($V459,Data!$A$6:$A$1806,Data!$D$6:$D$1806)","v":350},{"$f":"IF($Z$1=\"+\",LOOKUP($V459,Data!$A$6:$A$1806,Data!$E$6:$E$1806)*-1,LOOKUP($V459,Data!$A$6:$A$1806,Data!$E$6:$E$1806))","v":223.01573181152344},{"$f":"LOOKUP($V459,Data!$A$6:$A$1806,Data!$F$6:$F$1806)","v":16},null,{"$f":"LOOKUP($V459,Data!$A$6:$A$1806,Data!$H$6:$H$1806)","v":10},{"$f":"LOOKUP($V459,Data!$A$6:$A$1806,Data!$I$6:$I$1806)","v":0},{"$f":"IF(LOOKUP($V459,Data!$A$6:$A$1806,Data!$J$6:$J$1806)>0,(LOOKUP($V459,Data!$A$6:$A$1806,Data!$J$6:$J$1806)*-1),LOOKUP($V459,Data!$A$6:$A$1806,Data!$J$6:$J$1806))","v":-103},{"$f":"LOOKUP($V459,Data!$A$6:$A$1806,Data!$K$6:$K$1806)","v":7777.86},18.541603088378906,null,null,null,null,null,null,null,null,null,null,null,null,null,null,95.99609375," ",1.8001556396484375E-2," "]
[null,40098.111203702996,{"$f":"LOOKUP(B460,Data!$A$6:$A$1806,Data!B$6:B$1806)","v":59.978000640869141},{"$f":"LOOKUP(B460,Data!$A$6:$A$1806,Data!C$6:C$1806)","v":3740.08544921875},null,null,3090,{"$f":"(IF((C460-L$2)>0,(IF(C460<'Copy Results'!$C$3,((C460-L$2-L$5)/((L$4*L$2)-L$5)*G460*-1),(('Copy Results'!$C$3-L$2-L$5)/((L$4*L$2)-L$5)*G460*-1))),IF(C460>'Copy Results'!$C$2,((C460-L$2+L$5)/((L$4*L$2)-L$5)*G460*-1),(('Copy Results'!$C$2-L$2+L$5)/((L$4*L$2)-L$5)*G460*-1))))","v":22.659339904785156},23.535342456027681,null,null,0,3809.8065745023223,{"$f":"AVERAGE(D$79:D460)","v":3768.8540013498036},{"$f":"AVERAGE(M$79:M460)","v":3803.2552550941487},3771.0526488503479,{"$f":"AVERAGE(P$79:P460)","v":3748.6068340600509},null,null,null,null,40098.111203702996,{"$f":"LOOKUP($V460,Data!$A$6:$A$1806,Data!$B$6:$B$1806)","v":59.978000640869141},{"$f":"LOOKUP($V460,Data!$A$6:$A$1806,Data!$C$6:$C$1806)","v":3740.08544921875},{"$f":"LOOKUP($V460,Data!$A$6:$A$1806,Data!$D$6:$D$1806)","v":350},{"$f":"IF($Z$1=\"+\",LOOKUP($V460,Data!$A$6:$A$1806,Data!$E$6:$E$1806)*-1,LOOKUP($V460,Data!$A$6:$A$1806,Data!$E$6:$E$1806))","v":223.01573181152344},{"$f":"LOOKUP($V460,Data!$A$6:$A$1806,Data!$F$6:$F$1806)","v":16},null,{"$f":"LOOKUP($V460,Data!$A$6:$A$1806,Data!$H$6:$H$1806)","v":10},{"$f":"LOOKUP($V460,Data!$A$6:$A$1806,Data!$I$6:$I$1806)","v":0},{"$f":"IF(LOOKUP($V460,Data!$A$6:$A$1806,Data!$J$6:$J$1806)>0,(LOOKUP($V460,Data!$A$6:$A$1806,Data!$J$6:$J$1806)*-1),LOOKUP($V460,Data!$A$6:$A$1806,Data!$J$6:$J$1806))","v":-103},{"$f":"LOOKUP($V460,Data!$A$6:$A$1806,Data!$K$6:$K$1806)","v":7778.19},22.659339904785156,null,null,null,null,null,null,null,null,null,null,null,null,null,null,94.3583984375," ",2.1999359130859375E-2," "]
[null,40098.111226851142,{"$f":"LOOKUP(B461,Data!$A$6:$A$1806,Data!B$6:B$1806)","v":59.976001739501953},{"$f":"LOOKUP(B461,Data!$A$6:$A$1806,Data!C$6:C$1806)","v":3740.629150390625},null,null,3090,{"$f":"(IF((C461-L$2)>0,(IF(C461<'Copy Results'!$C$3,((C461-L$2-L$5)/((L$4*L$2)-L$5)*G461*-1),(('Copy Results'!$C$3-L$2-L$5)/((L$4*L$2)-L$5)*G461*-1))),IF(C461>'Copy Results'!$C$2,((C461-L$2+L$5)/((L$4*L$2)-L$5)*G461*-1),(('Copy Results'!$C$2-L$2+L$5)/((L$4*L$2)-L$5)*G461*-1))))","v":24.718208312988281},23.94934550596389,null,null,0,3810.2205775522584,{"$f":"AVERAGE(D$79:D461)","v":3768.7803072219731},{"$f":"AVERAGE(M$79:M461)","v":3803.2734413146654},3771.0526488503479,{"$f":"AVERAGE(P$79:P461)","v":3748.6655927375123},null,null,null,null,40098.111226851142,{"$f":"LOOKUP($V461,Data!$A$6:$A$1806,Data!$B$6:$B$1806)","v":59.976001739501953},{"$f":"LOOKUP($V461,Data!$A$6:$A$1806,Data!$C$6:$C$1806)","v":3740.629150390625},{"$f":"LOOKUP($V461,Data!$A$6:$A$1806,Data!$D$6:$D$1806)","v":350},{"$f":"IF($Z$1=\"+\",LOOKUP($V461,Data!$A$6:$A$1806,Data!$E$6:$E$1806)*-1,LOOKUP($V461,Data!$A$6:$A$1806,Data!$E$6:$E$1806))","v":223.01573181152344},{"$f":"LOOKUP($V461,Data!$A$6:$A$1806,Data!$F$6:$F$1806)","v":16},null,{"$f":"LOOKUP($V461,Data!$A$6:$A$1806,Data!$H$6:$H$1806)","v":10},{"$f":"LOOKUP($V461,Data!$A$6:$A$1806,Data!$I$6:$I$1806)","v":0},{"$f":"IF(LOOKUP($V461,Data!$A$6:$A$1806,Data!$J$6:$J$1806)>0,(LOOKUP($V461,Data!$A$6:$A$1806,Data!$J$6:$J$1806)*-1),LOOKUP($V461,Data!$A$6:$A$1806,Data!$J$6:$J$1806))","v":-103},{"$f":"LOOKUP($V461,Data!$A$6:$A$1806,Data!$K$6:$K$1806)","v":7778.52},24.718208312988281,null,null,null,null,null,null,null,null,null,null,null,null,null,null,94.902099609375," ",2.3998260498046875E-2," "]
[null,40098.111249999289,{"$f":"LOOKUP(B462,Data!$A$6:$A$1806,Data!B$6:B$1806)","v":59.972999572753906},{"$f":"LOOKUP(B462,Data!$A$6:$A$1806,Data!C$6:C$1806)","v":3739.96435546875},null,null,3090,{"$f":"(IF((C462-L$2)>0,(IF(C462<'Copy Results'!$C$3,((C462-L$2-L$5)/((L$4*L$2)-L$5)*G462*-1),(('Copy Results'!$C$3-L$2-L$5)/((L$4*L$2)-L$5)*G462*-1))),IF(C462>'Copy Results'!$C$2,((C462-L$2+L$5)/((L$4*L$2)-L$5)*G462*-1),(('Copy Results'!$C$2-L$2+L$5)/((L$4*L$2)-L$5)*G462*-1))))","v":27.810440063476566},25.300728601093326,null,null,0,3811.5719606473876,{"$f":"AVERAGE(D$79:D462)","v":3768.7052656809487},{"$f":"AVERAGE(M$79:M462)","v":3803.2950520420945},3771.0526488503479,{"$f":"AVERAGE(P$79:P462)","v":3748.724044581149},null,null,null,null,40098.111249999289,{"$f":"LOOKUP($V462,Data!$A$6:$A$1806,Data!$B$6:$B$1806)","v":59.972999572753906},{"$f":"LOOKUP($V462,Data!$A$6:$A$1806,Data!$C$6:$C$1806)","v":3739.96435546875},{"$f":"LOOKUP($V462,Data!$A$6:$A$1806,Data!$D$6:$D$1806)","v":350},{"$f":"IF($Z$1=\"+\",LOOKUP($V462,Data!$A$6:$A$1806,Data!$E$6:$E$1806)*-1,LOOKUP($V462,Data!$A$6:$A$1806,Data!$E$6:$E$1806))","v":223.01573181152344},{"$f":"LOOKUP($V462,Data!$A$6:$A$1806,Data!$F$6:$F$1806)","v":16},null,{"$f":"LOOKUP($V462,Data!$A$6:$A$1806,Data!$H$6:$H$1806)","v":10},{"$f":"LOOKUP($V462,Data!$A$6:$A$1806,Data!$I$6:$I$1806)","v":0},{"$f":"IF(LOOKUP($V462,Data!$A$6:$A$1806,Data!$J$6:$J$1806)>0,(LOOKUP($V462,Data!$A$6:$A$1806,Data!$J$6:$J$1806)*-1),LOOKUP($V462,Data!$A$6:$A$1806,Data!$J$6:$J$1806))","v":-103},{"$f":"LOOKUP($V462,Data!$A$6:$A$1806,Data!$K$6:$K$1806)","v":7778.85},27.810440063476566,null,null,null,null,null,null,null,null,null,null,null,null,null,null,94.2373046875," ",2.700042724609375E-2," "]
[null,40098.111273147435,{"$f":"LOOKUP(B463,Data!$A$6:$A$1806,Data!B$6:B$1806)","v":59.9739990234375},{"$f":"LOOKUP(B463,Data!$A$6:$A$1806,Data!C$6:C$1806)","v":3740.775146484375},null,null,3090,{"$f":"(IF((C463-L$2)>0,(IF(C463<'Copy Results'!$C$3,((C463-L$2-L$5)/((L$4*L$2)-L$5)*G463*-1),(('Copy Results'!$C$3-L$2-L$5)/((L$4*L$2)-L$5)*G463*-1))),IF(C463>'Copy Results'!$C$2,((C463-L$2+L$5)/((L$4*L$2)-L$5)*G463*-1),(('Copy Results'!$C$2-L$2+L$5)/((L$4*L$2)-L$5)*G463*-1))))","v":26.781005859375},25.818825641491912,null,null,0,3812.0900576877862,{"$f":"AVERAGE(D$79:D463)","v":3768.6327199168018},{"$f":"AVERAGE(M$79:M463)","v":3803.317896212603},3771.0526488503479,{"$f":"AVERAGE(P$79:P463)","v":3748.7821919880994},null,null,null,null,40098.111273147435,{"$f":"LOOKUP($V463,Data!$A$6:$A$1806,Data!$B$6:$B$1806)","v":59.9739990234375},{"$f":"LOOKUP($V463,Data!$A$6:$A$1806,Data!$C$6:$C$1806)","v":3740.775146484375},{"$f":"LOOKUP($V463,Data!$A$6:$A$1806,Data!$D$6:$D$1806)","v":350},{"$f":"IF($Z$1=\"+\",LOOKUP($V463,Data!$A$6:$A$1806,Data!$E$6:$E$1806)*-1,LOOKUP($V463,Data!$A$6:$A$1806,Data!$E$6:$E$1806))","v":223.01573181152344},{"$f":"LOOKUP($V463,Data!$A$6:$A$1806,Data!$F$6:$F$1806)","v":16},null,{"$f":"LOOKUP($V463,Data!$A$6:$A$1806,Data!$H$6:$H$1806)","v":10},{"$f":"LOOKUP($V463,Data!$A$6:$A$1806,Data!$I$6:$I$1806)","v":0},{"$f":"IF(LOOKUP($V463,Data!$A$6:$A$1806,Data!$J$6:$J$1806)>0,(LOOKUP($V463,Data!$A$6:$A$1806,Data!$J$6:$J$1806)*-1),LOOKUP($V463,Data!$A$6:$A$1806,Data!$J$6:$J$1806))","v":-103},{"$f":"LOOKUP($V463,Data!$A$6:$A$1806,Data!$K$6:$K$1806)","v":7779.18},26.781005859375,null,null,null,null,null,null,null,null,null,null,null,null,null,null,95.048095703125," ",2.60009765625E-2," "]
[null,40098.111296295581,{"$f":"LOOKUP(B464,Data!$A$6:$A$1806,Data!B$6:B$1806)","v":59.977001190185547},{"$f":"LOOKUP(B464,Data!$A$6:$A$1806,Data!C$6:C$1806)","v":3742.83251953125},null,null,3090,{"$f":"(IF((C464-L$2)>0,(IF(C464<'Copy Results'!$C$3,((C464-L$2-L$5)/((L$4*L$2)-L$5)*G464*-1),(('Copy Results'!$C$3-L$2-L$5)/((L$4*L$2)-L$5)*G464*-1))),IF(C464>'Copy Results'!$C$2,((C464-L$2+L$5)/((L$4*L$2)-L$5)*G464*-1),(('Copy Results'!$C$2-L$2+L$5)/((L$4*L$2)-L$5)*G464*-1))))","v":23.688774108886719},25.073307605080096,null,null,{"$f":"IF(B464>G$3,0,(K$21*0.000023148/K$22))","v":0},{"$f":"M463+L464+(I464-I463)","v":3811.3445396513744},{"$f":"AVERAGE(D$79:D464)","v":3768.5658800194301},{"$f":"AVERAGE(M$79:M464)","v":3803.3386906256569},3771.0526488503479,{"$f":"AVERAGE(P$79:P464)","v":3748.8400373305985},null,null,null,null,40098.111296295581,{"$f":"LOOKUP($V464,Data!$A$6:$A$1806,Data!$B$6:$B$1806)","v":59.977001190185547},{"$f":"LOOKUP($V464,Data!$A$6:$A$1806,Data!$C$6:$C$1806)","v":3742.83251953125},{"$f":"LOOKUP($V464,Data!$A$6:$A$1806,Data!$D$6:$D$1806)","v":350},{"$f":"IF($Z$1=\"+\",LOOKUP($V464,Data!$A$6:$A$1806,Data!$E$6:$E$1806)*-1,LOOKUP($V464,Data!$A$6:$A$1806,Data!$E$6:$E$1806))","v":223.01573181152344},{"$f":"LOOKUP($V464,Data!$A$6:$A$1806,Data!$F$6:$F$1806)","v":16},null,{"$f":"LOOKUP($V464,Data!$A$6:$A$1806,Data!$H$6:$H$1806)","v":10},{"$f":"LOOKUP($V464,Data!$A$6:$A$1806,Data!$I$6:$I$1806)","v":0},{"$f":"IF(LOOKUP($V464,Data!$A$6:$A$1806,Data!$J$6:$J$1806)>0,(LOOKUP($V464,Data!$A$6:$A$1806,Data!$J$6:$J$1806)*-1),LOOKUP($V464,Data!$A$6:$A$1806,Data!$J$6:$J$1806))","v":-103},{"$f":"LOOKUP($V464,Data!$A$6:$A$1806,Data!$K$6:$K$1806)","v":7779.51},23.688774108886719,null,null,null,null,null,null,null,null,null,null,null,null,null,null,97.10546875," ",2.2998809814453125E-2," "]
[null,40098.111319443728,{"$f":"LOOKUP(B465,Data!$A$6:$A$1806,Data!B$6:B$1806)","v":59.977001190185547},{"$f":"LOOKUP(B465,Data!$A$6:$A$1806,Data!C$6:C$1806)","v":3741.267822265625},null,null,3090,{"$f":"(IF((C465-L$2)>0,(IF(C465<'Copy Results'!$C$3,((C465-L$2-L$5)/((L$4*L$2)-L$5)*G465*-1),(('Copy Results'!$C$3-L$2-L$5)/((L$4*L$2)-L$5)*G465*-1))),IF(C465>'Copy Results'!$C$2,((C465-L$2+L$5)/((L$4*L$2)-L$5)*G465*-1),(('Copy Results'!$C$2-L$2+L$5)/((L$4*L$2)-L$5)*G465*-1))))","v":23.688774108886719},24.588720881412414,null,null,0,3810.8599529277067,{"$f":"AVERAGE(D$79:D465)","v":3768.4953424024952},{"$f":"AVERAGE(M$79:M465)","v":3803.3581254119672},3771.0526488503479,{"$f":"AVERAGE(P$79:P465)","v":3748.8975829562974},null,null,null,null,{"$f":"V464+TIME(0,0,$B$1)","v":40098.111319443728},{"$f":"LOOKUP($V465,Data!$A$6:$A$1806,Data!$B$6:$B$1806)","v":59.977001190185547},{"$f":"LOOKUP($V465,Data!$A$6:$A$1806,Data!$C$6:$C$1806)","v":3741.267822265625},{"$f":"LOOKUP($V465,Data!$A$6:$A$1806,Data!$D$6:$D$1806)","v":350},{"$f":"IF($Z$1=\"+\",LOOKUP($V465,Data!$A$6:$A$1806,Data!$E$6:$E$1806)*-1,LOOKUP($V465,Data!$A$6:$A$1806,Data!$E$6:$E$1806))","v":223.01573181152344},{"$f":"LOOKUP($V465,Data!$A$6:$A$1806,Data!$F$6:$F$1806)","v":16},null,{"$f":"LOOKUP($V465,Data!$A$6:$A$1806,Data!$H$6:$H$1806)","v":10},{"$f":"LOOKUP($V465,Data!$A$6:$A$1806,Data!$I$6:$I$1806)","v":0},{"$f":"IF(LOOKUP($V465,Data!$A$6:$A$1806,Data!$J$6:$J$1806)>0,(LOOKUP($V465,Data!$A$6:$A$1806,Data!$J$6:$J$1806)*-1),LOOKUP($V465,Data!$A$6:$A$1806,Data!$J$6:$J$1806))","v":-103},{"$f":"LOOKUP($V465,Data!$A$6:$A$1806,Data!$K$6:$K$1806)","v":7779.84},23.688774108886719,null,null,null,null,null,null,null,null,null,null,null,null,null,null,95.540771484375," ",2.2998809814453125E-2," "]
[null,40098.111342591874,{"$f":"LOOKUP(B466,Data!$A$6:$A$1806,Data!B$6:B$1806)","v":59.978000640869141},{"$f":"LOOKUP(B466,Data!$A$6:$A$1806,Data!C$6:C$1806)","v":3739.776123046875},null,null,3090,{"$f":"(IF((C466-L$2)>0,(IF(C466<'Copy Results'!$C$3,((C466-L$2-L$5)/((L$4*L$2)-L$5)*G466*-1),(('Copy Results'!$C$3-L$2-L$5)/((L$4*L$2)-L$5)*G466*-1))),IF(C466>'Copy Results'!$C$2,((C466-L$2+L$5)/((L$4*L$2)-L$5)*G466*-1),(('Copy Results'!$C$2-L$2+L$5)/((L$4*L$2)-L$5)*G466*-1))))","v":22.659339904785156},23.913437539592874,null,null,0,3810.1846695858871,{"$f":"AVERAGE(D$79:D466)","v":3768.4213237959084},{"$f":"AVERAGE(M$79:M466)","v":3803.3757195979824},{"$f":"P465+L466","v":3771.0526488503479},{"$f":"AVERAGE(P$79:P466)","v":3748.9548311885815},null,null,null,null,40098.111342591874,{"$f":"LOOKUP($V466,Data!$A$6:$A$1806,Data!$B$6:$B$1806)","v":59.978000640869141},{"$f":"LOOKUP($V466,Data!$A$6:$A$1806,Data!$C$6:$C$1806)","v":3739.776123046875},{"$f":"LOOKUP($V466,Data!$A$6:$A$1806,Data!$D$6:$D$1806)","v":350},{"$f":"IF($Z$1=\"+\",LOOKUP($V466,Data!$A$6:$A$1806,Data!$E$6:$E$1806)*-1,LOOKUP($V466,Data!$A$6:$A$1806,Data!$E$6:$E$1806))","v":223.01573181152344},{"$f":"LOOKUP($V466,Data!$A$6:$A$1806,Data!$F$6:$F$1806)","v":16},null,{"$f":"LOOKUP($V466,Data!$A$6:$A$1806,Data!$H$6:$H$1806)","v":10},{"$f":"LOOKUP($V466,Data!$A$6:$A$1806,Data!$I$6:$I$1806)","v":0},{"$f":"IF(LOOKUP($V466,Data!$A$6:$A$1806,Data!$J$6:$J$1806)>0,(LOOKUP($V466,Data!$A$6:$A$1806,Data!$J$6:$J$1806)*-1),LOOKUP($V466,Data!$A$6:$A$1806,Data!$J$6:$J$1806))","v":-103},{"$f":"LOOKUP($V466,Data!$A$6:$A$1806,Data!$K$6:$K$1806)","v":7780.17},22.659339904785156,null,null,null,null,null,null,null,null,null,null,null,null,null,null,{"$f":"D466-F$78+L466-AD466","v":94.049072265625},{"$f":"IF(AW465=\" \",\" \",IF(L466=L465,AV466/((C466-E$78)*10),\" \"))","v":" "},2.1999359130859375E-2," "]
[null,40098.11136574002,{"$f":"LOOKUP(B467,Data!$A$6:$A$1806,Data!B$6:B$1806)","v":59.979000091552734},{"$f":"LOOKUP(B467,Data!$A$6:$A$1806,Data!C$6:C$1806)","v":3738.9658203125},null,null,3090,{"$f":"(IF((C467-L$2)>0,(IF(C467<'Copy Results'!$C$3,((C467-L$2-L$5)/((L$4*L$2)-L$5)*G467*-1),(('Copy Results'!$C$3-L$2-L$5)/((L$4*L$2)-L$5)*G467*-1))),IF(C467>'Copy Results'!$C$2,((C467-L$2+L$5)/((L$4*L$2)-L$5)*G467*-1),(('Copy Results'!$C$2-L$2+L$5)/((L$4*L$2)-L$5)*G467*-1))))","v":21.629905700683594},23.114201395974625,null,null,0,3809.385433442269,{"$f":"AVERAGE(D$79:D467)","v":3768.3456027072621},{"$f":"AVERAGE(M$79:M467)","v":3803.3911687338291},3771.0526488503479,{"$f":"AVERAGE(P$79:P467)","v":3749.0117843268845},null,null,null,null,40098.11136574002,{"$f":"LOOKUP($V467,Data!$A$6:$A$1806,Data!$B$6:$B$1806)","v":59.979000091552734},{"$f":"LOOKUP($V467,Data!$A$6:$A$1806,Data!$C$6:$C$1806)","v":3738.9658203125},{"$f":"LOOKUP($V467,Data!$A$6:$A$1806,Data!$D$6:$D$1806)","v":350},{"$f":"IF($Z$1=\"+\",LOOKUP($V467,Data!$A$6:$A$1806,Data!$E$6:$E$1806)*-1,LOOKUP($V467,Data!$A$6:$A$1806,Data!$E$6:$E$1806))","v":223.01573181152344},{"$f":"LOOKUP($V467,Data!$A$6:$A$1806,Data!$F$6:$F$1806)","v":16},null,{"$f":"LOOKUP($V467,Data!$A$6:$A$1806,Data!$H$6:$H$1806)","v":10},{"$f":"LOOKUP($V467,Data!$A$6:$A$1806,Data!$I$6:$I$1806)","v":0},{"$f":"IF(LOOKUP($V467,Data!$A$6:$A$1806,Data!$J$6:$J$1806)>0,(LOOKUP($V467,Data!$A$6:$A$1806,Data!$J$6:$J$1806)*-1),LOOKUP($V467,Data!$A$6:$A$1806,Data!$J$6:$J$1806))","v":-103},{"$f":"LOOKUP($V467,Data!$A$6:$A$1806,Data!$K$6:$K$1806)","v":7780.5},21.629905700683594,null,null,null,null,null,null,null,null,null,null,null,null,null,null,93.23876953125," ",2.0999908447265625E-2," "]
[null,40098.111388888166,{"$f":"LOOKUP(B468,Data!$A$6:$A$1806,Data!B$6:B$1806)","v":59.980998992919922},{"$f":"LOOKUP(B468,Data!$A$6:$A$1806,Data!C$6:C$1806)","v":3738.7060546875},null,null,3090,{"$f":"(IF((C468-L$2)>0,(IF(C468<'Copy Results'!$C$3,((C468-L$2-L$5)/((L$4*L$2)-L$5)*G468*-1),(('Copy Results'!$C$3-L$2-L$5)/((L$4*L$2)-L$5)*G468*-1))),IF(C468>'Copy Results'!$C$2,((C468-L$2+L$5)/((L$4*L$2)-L$5)*G468*-1),(('Copy Results'!$C$2-L$2+L$5)/((L$4*L$2)-L$5)*G468*-1))))","v":19.571037292480469},21.874093959751669,null,null,0,3808.1453260060462,{"$f":"AVERAGE(D$79:D468)","v":3768.2696038661861},{"$f":"AVERAGE(M$79:M468)","v":3803.4033588806806},3771.0526488503479,{"$f":"AVERAGE(P$79:P468)","v":3749.0684446469959},null,null,null,null,40098.111388888166,{"$f":"LOOKUP($V468,Data!$A$6:$A$1806,Data!$B$6:$B$1806)","v":59.980998992919922},{"$f":"LOOKUP($V468,Data!$A$6:$A$1806,Data!$C$6:$C$1806)","v":3738.7060546875},{"$f":"LOOKUP($V468,Data!$A$6:$A$1806,Data!$D$6:$D$1806)","v":350},{"$f":"IF($Z$1=\"+\",LOOKUP($V468,Data!$A$6:$A$1806,Data!$E$6:$E$1806)*-1,LOOKUP($V468,Data!$A$6:$A$1806,Data!$E$6:$E$1806))","v":223.01573181152344},{"$f":"LOOKUP($V468,Data!$A$6:$A$1806,Data!$F$6:$F$1806)","v":16},null,{"$f":"LOOKUP($V468,Data!$A$6:$A$1806,Data!$H$6:$H$1806)","v":10},{"$f":"LOOKUP($V468,Data!$A$6:$A$1806,Data!$I$6:$I$1806)","v":0},{"$f":"IF(LOOKUP($V468,Data!$A$6:$A$1806,Data!$J$6:$J$1806)>0,(LOOKUP($V468,Data!$A$6:$A$1806,Data!$J$6:$J$1806)*-1),LOOKUP($V468,Data!$A$6:$A$1806,Data!$J$6:$J$1806))","v":-103},{"$f":"LOOKUP($V468,Data!$A$6:$A$1806,Data!$K$6:$K$1806)","v":7780.83},19.571037292480469,null,null,null,null,null,null,null,null,null,null,null,null,null,null,92.97900390625," ",1.9001007080078125E-2," "]
[null,40098.111412036313,{"$f":"LOOKUP(B469,Data!$A$6:$A$1806,Data!B$6:B$1806)","v":59.977001190185547},{"$f":"LOOKUP(B469,Data!$A$6:$A$1806,Data!C$6:C$1806)","v":3738.878662109375},null,null,3090,{"$f":"(IF((C469-L$2)>0,(IF(C469<'Copy Results'!$C$3,((C469-L$2-L$5)/((L$4*L$2)-L$5)*G469*-1),(('Copy Results'!$C$3-L$2-L$5)/((L$4*L$2)-L$5)*G469*-1))),IF(C469>'Copy Results'!$C$2,((C469-L$2+L$5)/((L$4*L$2)-L$5)*G469*-1),(('Copy Results'!$C$2-L$2+L$5)/((L$4*L$2)-L$5)*G469*-1))))","v":23.688774108886719},22.509232011948939,null,null,0,3808.7804640582435,{"$f":"AVERAGE(D$79:D469)","v":3768.1944352171913},{"$f":"AVERAGE(M$79:M469)","v":3803.4171110678358},3771.0526488503479,{"$f":"AVERAGE(P$79:P469)","v":3749.1248144013634},null,null,null,null,40098.111412036313,{"$f":"LOOKUP($V469,Data!$A$6:$A$1806,Data!$B$6:$B$1806)","v":59.977001190185547},{"$f":"LOOKUP($V469,Data!$A$6:$A$1806,Data!$C$6:$C$1806)","v":3738.878662109375},{"$f":"LOOKUP($V469,Data!$A$6:$A$1806,Data!$D$6:$D$1806)","v":350},{"$f":"IF($Z$1=\"+\",LOOKUP($V469,Data!$A$6:$A$1806,Data!$E$6:$E$1806)*-1,LOOKUP($V469,Data!$A$6:$A$1806,Data!$E$6:$E$1806))","v":223.01573181152344},{"$f":"LOOKUP($V469,Data!$A$6:$A$1806,Data!$F$6:$F$1806)","v":16},null,{"$f":"LOOKUP($V469,Data!$A$6:$A$1806,Data!$H$6:$H$1806)","v":10},{"$f":"LOOKUP($V469,Data!$A$6:$A$1806,Data!$I$6:$I$1806)","v":0},{"$f":"IF(LOOKUP($V469,Data!$A$6:$A$1806,Data!$J$6:$J$1806)>0,(LOOKUP($V469,Data!$A$6:$A$1806,Data!$J$6:$J$1806)*-1),LOOKUP($V469,Data!$A$6:$A$1806,Data!$J$6:$J$1806))","v":-103},{"$f":"LOOKUP($V469,Data!$A$6:$A$1806,Data!$K$6:$K$1806)","v":7781.16},23.688774108886719,null,null,null,null,null,null,null,null,null,null,null,null,null,null,93.151611328125," ",2.2998809814453125E-2," "]
[null,40098.111435184459,{"$f":"LOOKUP(B470,Data!$A$6:$A$1806,Data!B$6:B$1806)","v":59.9739990234375},{"$f":"LOOKUP(B470,Data!$A$6:$A$1806,Data!C$6:C$1806)","v":3739.859619140625},null,null,3090,{"$f":"(IF((C470-L$2)>0,(IF(C470<'Copy Results'!$C$3,((C470-L$2-L$5)/((L$4*L$2)-L$5)*G470*-1),(('Copy Results'!$C$3-L$2-L$5)/((L$4*L$2)-L$5)*G470*-1))),IF(C470>'Copy Results'!$C$2,((C470-L$2+L$5)/((L$4*L$2)-L$5)*G470*-1),(('Copy Results'!$C$2-L$2+L$5)/((L$4*L$2)-L$5)*G470*-1))))","v":26.781005859375},24.00435285854806,null,null,0,3810.2755849048426,{"$f":"AVERAGE(D$79:D470)","v":3768.1221525231185},{"$f":"AVERAGE(M$79:M470)","v":3803.4346071745631},3771.0526488503479,{"$f":"AVERAGE(P$79:P470)","v":3749.180895819391},null,null,null,null,40098.111435184459,{"$f":"LOOKUP($V470,Data!$A$6:$A$1806,Data!$B$6:$B$1806)","v":59.9739990234375},{"$f":"LOOKUP($V470,Data!$A$6:$A$1806,Data!$C$6:$C$1806)","v":3739.859619140625},{"$f":"LOOKUP($V470,Data!$A$6:$A$1806,Data!$D$6:$D$1806)","v":350},{"$f":"IF($Z$1=\"+\",LOOKUP($V470,Data!$A$6:$A$1806,Data!$E$6:$E$1806)*-1,LOOKUP($V470,Data!$A$6:$A$1806,Data!$E$6:$E$1806))","v":223.01573181152344},{"$f":"LOOKUP($V470,Data!$A$6:$A$1806,Data!$F$6:$F$1806)","v":16},null,{"$f":"LOOKUP($V470,Data!$A$6:$A$1806,Data!$H$6:$H$1806)","v":10},{"$f":"LOOKUP($V470,Data!$A$6:$A$1806,Data!$I$6:$I$1806)","v":0},{"$f":"IF(LOOKUP($V470,Data!$A$6:$A$1806,Data!$J$6:$J$1806)>0,(LOOKUP($V470,Data!$A$6:$A$1806,Data!$J$6:$J$1806)*-1),LOOKUP($V470,Data!$A$6:$A$1806,Data!$J$6:$J$1806))","v":-103},{"$f":"LOOKUP($V470,Data!$A$6:$A$1806,Data!$K$6:$K$1806)","v":7781.49},26.781005859375,null,null,null,null,null,null,null,null,null,null,null,null,null,null,94.132568359375," ",2.60009765625E-2," "]
[null,40098.111458332605,{"$f":"LOOKUP(B471,Data!$A$6:$A$1806,Data!B$6:B$1806)","v":59.971000671386719},{"$f":"LOOKUP(B471,Data!$A$6:$A$1806,Data!C$6:C$1806)","v":3738.1015625},null,null,3090,{"$f":"(IF((C471-L$2)>0,(IF(C471<'Copy Results'!$C$3,((C471-L$2-L$5)/((L$4*L$2)-L$5)*G471*-1),(('Copy Results'!$C$3-L$2-L$5)/((L$4*L$2)-L$5)*G471*-1))),IF(C471>'Copy Results'!$C$2,((C471-L$2+L$5)/((L$4*L$2)-L$5)*G471*-1),(('Copy Results'!$C$2-L$2+L$5)/((L$4*L$2)-L$5)*G471*-1))))","v":29.869308471679688},26.057087323144131,null,null,0,3812.3283193694388,{"$f":"AVERAGE(D$79:D471)","v":3768.0457642533397},{"$f":"AVERAGE(M$79:M471)","v":3803.4572374854911},3771.0526488503479,{"$f":"AVERAGE(P$79:P471)","v":3749.2366911077352},null,null,null,null,40098.111458332605,{"$f":"LOOKUP($V471,Data!$A$6:$A$1806,Data!$B$6:$B$1806)","v":59.971000671386719},{"$f":"LOOKUP($V471,Data!$A$6:$A$1806,Data!$C$6:$C$1806)","v":3738.1015625},{"$f":"LOOKUP($V471,Data!$A$6:$A$1806,Data!$D$6:$D$1806)","v":350},{"$f":"IF($Z$1=\"+\",LOOKUP($V471,Data!$A$6:$A$1806,Data!$E$6:$E$1806)*-1,LOOKUP($V471,Data!$A$6:$A$1806,Data!$E$6:$E$1806))","v":223.01573181152344},{"$f":"LOOKUP($V471,Data!$A$6:$A$1806,Data!$F$6:$F$1806)","v":16},null,{"$f":"LOOKUP($V471,Data!$A$6:$A$1806,Data!$H$6:$H$1806)","v":10},{"$f":"LOOKUP($V471,Data!$A$6:$A$1806,Data!$I$6:$I$1806)","v":0},{"$f":"IF(LOOKUP($V471,Data!$A$6:$A$1806,Data!$J$6:$J$1806)>0,(LOOKUP($V471,Data!$A$6:$A$1806,Data!$J$6:$J$1806)*-1),LOOKUP($V471,Data!$A$6:$A$1806,Data!$J$6:$J$1806))","v":-103},{"$f":"LOOKUP($V471,Data!$A$6:$A$1806,Data!$K$6:$K$1806)","v":7781.82},29.869308471679688,null,null,null,null,null,null,null,null,null,null,null,null,null,null,92.37451171875," ",2.899932861328125E-2," "]
[null,40098.111481480752,{"$f":"LOOKUP(B472,Data!$A$6:$A$1806,Data!B$6:B$1806)","v":59.971000671386719},{"$f":"LOOKUP(B472,Data!$A$6:$A$1806,Data!C$6:C$1806)","v":3738.557861328125},null,null,3090,{"$f":"(IF((C472-L$2)>0,(IF(C472<'Copy Results'!$C$3,((C472-L$2-L$5)/((L$4*L$2)-L$5)*G472*-1),(('Copy Results'!$C$3-L$2-L$5)/((L$4*L$2)-L$5)*G472*-1))),IF(C472>'Copy Results'!$C$2,((C472-L$2+L$5)/((L$4*L$2)-L$5)*G472*-1),(('Copy Results'!$C$2-L$2+L$5)/((L$4*L$2)-L$5)*G472*-1))))","v":29.869308471679688},27.391364725131577,null,null,0,3813.6625967714263,{"$f":"AVERAGE(D$79:D472)","v":3767.9709218601283},{"$f":"AVERAGE(M$79:M472)","v":3803.4831394126131},3771.0526488503479,{"$f":"AVERAGE(P$79:P472)","v":3749.2922024505915},null,null,null,null,40098.111481480752,{"$f":"LOOKUP($V472,Data!$A$6:$A$1806,Data!$B$6:$B$1806)","v":59.971000671386719},{"$f":"LOOKUP($V472,Data!$A$6:$A$1806,Data!$C$6:$C$1806)","v":3738.557861328125},{"$f":"LOOKUP($V472,Data!$A$6:$A$1806,Data!$D$6:$D$1806)","v":350},{"$f":"IF($Z$1=\"+\",LOOKUP($V472,Data!$A$6:$A$1806,Data!$E$6:$E$1806)*-1,LOOKUP($V472,Data!$A$6:$A$1806,Data!$E$6:$E$1806))","v":223.01573181152344},{"$f":"LOOKUP($V472,Data!$A$6:$A$1806,Data!$F$6:$F$1806)","v":16},null,{"$f":"LOOKUP($V472,Data!$A$6:$A$1806,Data!$H$6:$H$1806)","v":10},{"$f":"LOOKUP($V472,Data!$A$6:$A$1806,Data!$I$6:$I$1806)","v":0},{"$f":"IF(LOOKUP($V472,Data!$A$6:$A$1806,Data!$J$6:$J$1806)>0,(LOOKUP($V472,Data!$A$6:$A$1806,Data!$J$6:$J$1806)*-1),LOOKUP($V472,Data!$A$6:$A$1806,Data!$J$6:$J$1806))","v":-103},{"$f":"LOOKUP($V472,Data!$A$6:$A$1806,Data!$K$6:$K$1806)","v":7782.15},29.869308471679688,null,null,null,null,null,null,null,null,null,null,null,null,null,null,92.830810546875," ",2.899932861328125E-2," "]
[null,40098.111504628898,{"$f":"LOOKUP(B473,Data!$A$6:$A$1806,Data!B$6:B$1806)","v":59.971000671386719},{"$f":"LOOKUP(B473,Data!$A$6:$A$1806,Data!C$6:C$1806)","v":3743.5068359375},null,null,3090,{"$f":"(IF((C473-L$2)>0,(IF(C473<'Copy Results'!$C$3,((C473-L$2-L$5)/((L$4*L$2)-L$5)*G473*-1),(('Copy Results'!$C$3-L$2-L$5)/((L$4*L$2)-L$5)*G473*-1))),IF(C473>'Copy Results'!$C$2,((C473-L$2+L$5)/((L$4*L$2)-L$5)*G473*-1),(('Copy Results'!$C$2-L$2+L$5)/((L$4*L$2)-L$5)*G473*-1))))","v":29.869308471679688},28.258645036423417,null,null,0,3814.529877082718,{"$f":"AVERAGE(D$79:D473)","v":3767.9089874653878},{"$f":"AVERAGE(M$79:M473)","v":3803.511105837094},3771.0526488503479,{"$f":"AVERAGE(P$79:P473)","v":3749.3474320099817},null,null,null,null,40098.111504628898,{"$f":"LOOKUP($V473,Data!$A$6:$A$1806,Data!$B$6:$B$1806)","v":59.971000671386719},{"$f":"LOOKUP($V473,Data!$A$6:$A$1806,Data!$C$6:$C$1806)","v":3743.5068359375},{"$f":"LOOKUP($V473,Data!$A$6:$A$1806,Data!$D$6:$D$1806)","v":350},{"$f":"IF($Z$1=\"+\",LOOKUP($V473,Data!$A$6:$A$1806,Data!$E$6:$E$1806)*-1,LOOKUP($V473,Data!$A$6:$A$1806,Data!$E$6:$E$1806))","v":223.01573181152344},{"$f":"LOOKUP($V473,Data!$A$6:$A$1806,Data!$F$6:$F$1806)","v":16},null,{"$f":"LOOKUP($V473,Data!$A$6:$A$1806,Data!$H$6:$H$1806)","v":10},{"$f":"LOOKUP($V473,Data!$A$6:$A$1806,Data!$I$6:$I$1806)","v":0},{"$f":"IF(LOOKUP($V473,Data!$A$6:$A$1806,Data!$J$6:$J$1806)>0,(LOOKUP($V473,Data!$A$6:$A$1806,Data!$J$6:$J$1806)*-1),LOOKUP($V473,Data!$A$6:$A$1806,Data!$J$6:$J$1806))","v":-103},{"$f":"LOOKUP($V473,Data!$A$6:$A$1806,Data!$K$6:$K$1806)","v":7782.48},29.869308471679688,null,null,null,null,null,null,null,null,null,null,null,null,null,null,97.77978515625," ",2.899932861328125E-2," "]
[null,40098.111527777044,{"$f":"LOOKUP(B474,Data!$A$6:$A$1806,Data!B$6:B$1806)","v":59.972000122070313},{"$f":"LOOKUP(B474,Data!$A$6:$A$1806,Data!C$6:C$1806)","v":3743.418701171875},null,null,3090,{"$f":"(IF((C474-L$2)>0,(IF(C474<'Copy Results'!$C$3,((C474-L$2-L$5)/((L$4*L$2)-L$5)*G474*-1),(('Copy Results'!$C$3-L$2-L$5)/((L$4*L$2)-L$5)*G474*-1))),IF(C474>'Copy Results'!$C$2,((C474-L$2+L$5)/((L$4*L$2)-L$5)*G474*-1),(('Copy Results'!$C$2-L$2+L$5)/((L$4*L$2)-L$5)*G474*-1))))","v":28.839874267578121},28.462075267327563,null,null,0,3814.7333073136224,{"$f":"AVERAGE(D$79:D474)","v":3767.8471433080808},{"$f":"AVERAGE(M$79:M474)","v":3803.5394447297117},3771.0526488503479,{"$f":"AVERAGE(P$79:P474)","v":3749.4023819260328},null,null,null,null,40098.111527777044,{"$f":"LOOKUP($V474,Data!$A$6:$A$1806,Data!$B$6:$B$1806)","v":59.972000122070313},{"$f":"LOOKUP($V474,Data!$A$6:$A$1806,Data!$C$6:$C$1806)","v":3743.418701171875},{"$f":"LOOKUP($V474,Data!$A$6:$A$1806,Data!$D$6:$D$1806)","v":350},{"$f":"IF($Z$1=\"+\",LOOKUP($V474,Data!$A$6:$A$1806,Data!$E$6:$E$1806)*-1,LOOKUP($V474,Data!$A$6:$A$1806,Data!$E$6:$E$1806))","v":223.01573181152344},{"$f":"LOOKUP($V474,Data!$A$6:$A$1806,Data!$F$6:$F$1806)","v":16},null,{"$f":"LOOKUP($V474,Data!$A$6:$A$1806,Data!$H$6:$H$1806)","v":10},{"$f":"LOOKUP($V474,Data!$A$6:$A$1806,Data!$I$6:$I$1806)","v":0},{"$f":"IF(LOOKUP($V474,Data!$A$6:$A$1806,Data!$J$6:$J$1806)>0,(LOOKUP($V474,Data!$A$6:$A$1806,Data!$J$6:$J$1806)*-1),LOOKUP($V474,Data!$A$6:$A$1806,Data!$J$6:$J$1806))","v":-103},{"$f":"LOOKUP($V474,Data!$A$6:$A$1806,Data!$K$6:$K$1806)","v":7782.81},28.839874267578121,null,null,null,null,null,null,null,null,null,null,null,null,null,null,97.691650390625," ",2.79998779296875E-2," "]
[null,40098.11155092519,{"$f":"LOOKUP(B475,Data!$A$6:$A$1806,Data!B$6:B$1806)","v":59.967998504638672},{"$f":"LOOKUP(B475,Data!$A$6:$A$1806,Data!C$6:C$1806)","v":3745.250732421875},null,null,3090,{"$f":"(IF((C475-L$2)>0,(IF(C475<'Copy Results'!$C$3,((C475-L$2-L$5)/((L$4*L$2)-L$5)*G475*-1),(('Copy Results'!$C$3-L$2-L$5)/((L$4*L$2)-L$5)*G475*-1))),IF(C475>'Copy Results'!$C$2,((C475-L$2+L$5)/((L$4*L$2)-L$5)*G475*-1),(('Copy Results'!$C$2-L$2+L$5)/((L$4*L$2)-L$5)*G475*-1))))","v":32.961540222167969},30.036888001521707,null,null,0,3816.3081200478164,{"$f":"AVERAGE(D$79:D475)","v":3767.7902253965285},{"$f":"AVERAGE(M$79:M475)","v":3803.571607639833},3771.0526488503479,{"$f":"AVERAGE(P$79:P475)","v":3749.4570543172558},null,null,null,null,40098.11155092519,{"$f":"LOOKUP($V475,Data!$A$6:$A$1806,Data!$B$6:$B$1806)","v":59.967998504638672},{"$f":"LOOKUP($V475,Data!$A$6:$A$1806,Data!$C$6:$C$1806)","v":3745.250732421875},{"$f":"LOOKUP($V475,Data!$A$6:$A$1806,Data!$D$6:$D$1806)","v":350},{"$f":"IF($Z$1=\"+\",LOOKUP($V475,Data!$A$6:$A$1806,Data!$E$6:$E$1806)*-1,LOOKUP($V475,Data!$A$6:$A$1806,Data!$E$6:$E$1806))","v":223.01573181152344},{"$f":"LOOKUP($V475,Data!$A$6:$A$1806,Data!$F$6:$F$1806)","v":16},null,{"$f":"LOOKUP($V475,Data!$A$6:$A$1806,Data!$H$6:$H$1806)","v":10},{"$f":"LOOKUP($V475,Data!$A$6:$A$1806,Data!$I$6:$I$1806)","v":0},{"$f":"IF(LOOKUP($V475,Data!$A$6:$A$1806,Data!$J$6:$J$1806)>0,(LOOKUP($V475,Data!$A$6:$A$1806,Data!$J$6:$J$1806)*-1),LOOKUP($V475,Data!$A$6:$A$1806,Data!$J$6:$J$1806))","v":-103},{"$f":"LOOKUP($V475,Data!$A$6:$A$1806,Data!$K$6:$K$1806)","v":7783.14},32.961540222167969,null,null,null,null,null,null,null,null,null,null,null,null,null,null,99.523681640625," ",3.2001495361328125E-2," "]
[null,40098.111574073337,{"$f":"LOOKUP(B476,Data!$A$6:$A$1806,Data!B$6:B$1806)","v":59.965999603271484},{"$f":"LOOKUP(B476,Data!$A$6:$A$1806,Data!C$6:C$1806)","v":3745.744140625},null,null,3090,{"$f":"(IF((C476-L$2)>0,(IF(C476<'Copy Results'!$C$3,((C476-L$2-L$5)/((L$4*L$2)-L$5)*G476*-1),(('Copy Results'!$C$3-L$2-L$5)/((L$4*L$2)-L$5)*G476*-1))),IF(C476>'Copy Results'!$C$2,((C476-L$2+L$5)/((L$4*L$2)-L$5)*G476*-1),(('Copy Results'!$C$2-L$2+L$5)/((L$4*L$2)-L$5)*G476*-1))))","v":35.020408630371094},31.781120221618991,null,null,0,3818.0523522679136,{"$f":"AVERAGE(D$79:D476)","v":3767.7348332237357},{"$f":"AVERAGE(M$79:M476)","v":3803.607991420306},3771.0526488503479,{"$f":"AVERAGE(P$79:P476)","v":3749.511451280815},null,null,null,null,40098.111574073337,{"$f":"LOOKUP($V476,Data!$A$6:$A$1806,Data!$B$6:$B$1806)","v":59.965999603271484},{"$f":"LOOKUP($V476,Data!$A$6:$A$1806,Data!$C$6:$C$1806)","v":3745.744140625},{"$f":"LOOKUP($V476,Data!$A$6:$A$1806,Data!$D$6:$D$1806)","v":350},{"$f":"IF($Z$1=\"+\",LOOKUP($V476,Data!$A$6:$A$1806,Data!$E$6:$E$1806)*-1,LOOKUP($V476,Data!$A$6:$A$1806,Data!$E$6:$E$1806))","v":223.01573181152344},{"$f":"LOOKUP($V476,Data!$A$6:$A$1806,Data!$F$6:$F$1806)","v":16},null,{"$f":"LOOKUP($V476,Data!$A$6:$A$1806,Data!$H$6:$H$1806)","v":10},{"$f":"LOOKUP($V476,Data!$A$6:$A$1806,Data!$I$6:$I$1806)","v":0},{"$f":"IF(LOOKUP($V476,Data!$A$6:$A$1806,Data!$J$6:$J$1806)>0,(LOOKUP($V476,Data!$A$6:$A$1806,Data!$J$6:$J$1806)*-1),LOOKUP($V476,Data!$A$6:$A$1806,Data!$J$6:$J$1806))","v":-103},{"$f":"LOOKUP($V476,Data!$A$6:$A$1806,Data!$K$6:$K$1806)","v":7783.47},35.020408630371094,null,null,null,null,null,null,null,null,null,null,null,null,null,null,100.01708984375," ",3.4000396728515625E-2," "]
[null,40098.111597221483,{"$f":"LOOKUP(B477,Data!$A$6:$A$1806,Data!B$6:B$1806)","v":59.965999603271484},{"$f":"LOOKUP(B477,Data!$A$6:$A$1806,Data!C$6:C$1806)","v":3747.339599609375},null,null,3090,{"$f":"(IF((C477-L$2)>0,(IF(C477<'Copy Results'!$C$3,((C477-L$2-L$5)/((L$4*L$2)-L$5)*G477*-1),(('Copy Results'!$C$3-L$2-L$5)/((L$4*L$2)-L$5)*G477*-1))),IF(C477>'Copy Results'!$C$2,((C477-L$2+L$5)/((L$4*L$2)-L$5)*G477*-1),(('Copy Results'!$C$2-L$2+L$5)/((L$4*L$2)-L$5)*G477*-1))))","v":35.020408630371094},32.914871164682225,null,null,0,3819.1861032109769,{"$f":"AVERAGE(D$79:D477)","v":3767.6837173500157},{"$f":"AVERAGE(M$79:M477)","v":3803.6470343069996},3771.0526488503479,{"$f":"AVERAGE(P$79:P477)","v":3749.5655748927984},null,null,null,null,40098.111597221483,{"$f":"LOOKUP($V477,Data!$A$6:$A$1806,Data!$B$6:$B$1806)","v":59.965999603271484},{"$f":"LOOKUP($V477,Data!$A$6:$A$1806,Data!$C$6:$C$1806)","v":3747.339599609375},{"$f":"LOOKUP($V477,Data!$A$6:$A$1806,Data!$D$6:$D$1806)","v":350},{"$f":"IF($Z$1=\"+\",LOOKUP($V477,Data!$A$6:$A$1806,Data!$E$6:$E$1806)*-1,LOOKUP($V477,Data!$A$6:$A$1806,Data!$E$6:$E$1806))","v":223.01573181152344},{"$f":"LOOKUP($V477,Data!$A$6:$A$1806,Data!$F$6:$F$1806)","v":16},null,{"$f":"LOOKUP($V477,Data!$A$6:$A$1806,Data!$H$6:$H$1806)","v":10},{"$f":"LOOKUP($V477,Data!$A$6:$A$1806,Data!$I$6:$I$1806)","v":0},{"$f":"IF(LOOKUP($V477,Data!$A$6:$A$1806,Data!$J$6:$J$1806)>0,(LOOKUP($V477,Data!$A$6:$A$1806,Data!$J$6:$J$1806)*-1),LOOKUP($V477,Data!$A$6:$A$1806,Data!$J$6:$J$1806))","v":-103},{"$f":"LOOKUP($V477,Data!$A$6:$A$1806,Data!$K$6:$K$1806)","v":7783.8},35.020408630371094,null,null,null,null,null,null,null,null,null,null,null,null,null,null,101.612548828125," ",3.4000396728515625E-2," "]
[null,40098.111620369629,{"$f":"LOOKUP(B478,Data!$A$6:$A$1806,Data!B$6:B$1806)","v":59.971000671386719},{"$f":"LOOKUP(B478,Data!$A$6:$A$1806,Data!C$6:C$1806)","v":3750.7001953125},null,null,3090,{"$f":"(IF((C478-L$2)>0,(IF(C478<'Copy Results'!$C$3,((C478-L$2-L$5)/((L$4*L$2)-L$5)*G478*-1),(('Copy Results'!$C$3-L$2-L$5)/((L$4*L$2)-L$5)*G478*-1))),IF(C478>'Copy Results'!$C$2,((C478-L$2+L$5)/((L$4*L$2)-L$5)*G478*-1),(('Copy Results'!$C$2-L$2+L$5)/((L$4*L$2)-L$5)*G478*-1))))","v":29.869308471679688},31.848924222131338,null,null,0,3818.1201562684259,{"$f":"AVERAGE(D$79:D478)","v":3767.641258544922},{"$f":"AVERAGE(M$79:M478)","v":3803.6832171119026},3771.0526488503479,{"$f":"AVERAGE(P$79:P478)","v":3749.6194272084813},null,null,null,null,40098.111620369629,{"$f":"LOOKUP($V478,Data!$A$6:$A$1806,Data!$B$6:$B$1806)","v":59.971000671386719},{"$f":"LOOKUP($V478,Data!$A$6:$A$1806,Data!$C$6:$C$1806)","v":3750.7001953125},{"$f":"LOOKUP($V478,Data!$A$6:$A$1806,Data!$D$6:$D$1806)","v":350},{"$f":"IF($Z$1=\"+\",LOOKUP($V478,Data!$A$6:$A$1806,Data!$E$6:$E$1806)*-1,LOOKUP($V478,Data!$A$6:$A$1806,Data!$E$6:$E$1806))","v":223.01573181152344},{"$f":"LOOKUP($V478,Data!$A$6:$A$1806,Data!$F$6:$F$1806)","v":16},null,{"$f":"LOOKUP($V478,Data!$A$6:$A$1806,Data!$H$6:$H$1806)","v":10},{"$f":"LOOKUP($V478,Data!$A$6:$A$1806,Data!$I$6:$I$1806)","v":0},{"$f":"IF(LOOKUP($V478,Data!$A$6:$A$1806,Data!$J$6:$J$1806)>0,(LOOKUP($V478,Data!$A$6:$A$1806,Data!$J$6:$J$1806)*-1),LOOKUP($V478,Data!$A$6:$A$1806,Data!$J$6:$J$1806))","v":-103},{"$f":"LOOKUP($V478,Data!$A$6:$A$1806,Data!$K$6:$K$1806)","v":7784.13},29.869308471679688,null,null,null,null,null,null,null,null,null,null,null,null,null,null,104.97314453125," ",2.899932861328125E-2," "]
[null,40098.111643517776,{"$f":"LOOKUP(B479,Data!$A$6:$A$1806,Data!B$6:B$1806)","v":59.972999572753906},{"$f":"LOOKUP(B479,Data!$A$6:$A$1806,Data!C$6:C$1806)","v":3749.75},null,null,3090,{"$f":"(IF((C479-L$2)>0,(IF(C479<'Copy Results'!$C$3,((C479-L$2-L$5)/((L$4*L$2)-L$5)*G479*-1),(('Copy Results'!$C$3-L$2-L$5)/((L$4*L$2)-L$5)*G479*-1))),IF(C479>'Copy Results'!$C$2,((C479-L$2+L$5)/((L$4*L$2)-L$5)*G479*-1),(('Copy Results'!$C$2-L$2+L$5)/((L$4*L$2)-L$5)*G479*-1))))","v":27.810440063476566},30.435454766602167,null,null,0,3816.7066868128968,{"$f":"AVERAGE(D$79:D479)","v":3767.5966419400715},{"$f":"AVERAGE(M$79:M479)","v":3803.7156945924539},3771.0526488503479,{"$f":"AVERAGE(P$79:P479)","v":3749.6730102625856},null,null,null,null,40098.111643517776,{"$f":"LOOKUP($V479,Data!$A$6:$A$1806,Data!$B$6:$B$1806)","v":59.972999572753906},{"$f":"LOOKUP($V479,Data!$A$6:$A$1806,Data!$C$6:$C$1806)","v":3749.75},{"$f":"LOOKUP($V479,Data!$A$6:$A$1806,Data!$D$6:$D$1806)","v":350},{"$f":"IF($Z$1=\"+\",LOOKUP($V479,Data!$A$6:$A$1806,Data!$E$6:$E$1806)*-1,LOOKUP($V479,Data!$A$6:$A$1806,Data!$E$6:$E$1806))","v":223.01573181152344},{"$f":"LOOKUP($V479,Data!$A$6:$A$1806,Data!$F$6:$F$1806)","v":16},null,{"$f":"LOOKUP($V479,Data!$A$6:$A$1806,Data!$H$6:$H$1806)","v":10},{"$f":"LOOKUP($V479,Data!$A$6:$A$1806,Data!$I$6:$I$1806)","v":0},{"$f":"IF(LOOKUP($V479,Data!$A$6:$A$1806,Data!$J$6:$J$1806)>0,(LOOKUP($V479,Data!$A$6:$A$1806,Data!$J$6:$J$1806)*-1),LOOKUP($V479,Data!$A$6:$A$1806,Data!$J$6:$J$1806))","v":-103},{"$f":"LOOKUP($V479,Data!$A$6:$A$1806,Data!$K$6:$K$1806)","v":7784.46},27.810440063476566,null,null,null,null,null,null,null,null,null,null,null,null,null,null,104.02294921875," ",2.700042724609375E-2," "]
[null,40098.111666665922,{"$f":"LOOKUP(B480,Data!$A$6:$A$1806,Data!B$6:B$1806)","v":59.972000122070313},{"$f":"LOOKUP(B480,Data!$A$6:$A$1806,Data!C$6:C$1806)","v":3746.216552734375},null,null,3090,{"$f":"(IF((C480-L$2)>0,(IF(C480<'Copy Results'!$C$3,((C480-L$2-L$5)/((L$4*L$2)-L$5)*G480*-1),(('Copy Results'!$C$3-L$2-L$5)/((L$4*L$2)-L$5)*G480*-1))),IF(C480>'Copy Results'!$C$2,((C480-L$2+L$5)/((L$4*L$2)-L$5)*G480*-1),(('Copy Results'!$C$2-L$2+L$5)/((L$4*L$2)-L$5)*G480*-1))))","v":28.839874267578121},29.877001591943753,null,null,0,3816.1482336382383,{"$f":"AVERAGE(D$79:D480)","v":3767.5434576385651},{"$f":"AVERAGE(M$79:M480)","v":3803.7466213064981},3771.0526488503479,{"$f":"AVERAGE(P$79:P480)","v":3749.7263260695372},null,null,null,null,40098.111666665922,{"$f":"LOOKUP($V480,Data!$A$6:$A$1806,Data!$B$6:$B$1806)","v":59.972000122070313},{"$f":"LOOKUP($V480,Data!$A$6:$A$1806,Data!$C$6:$C$1806)","v":3746.216552734375},{"$f":"LOOKUP($V480,Data!$A$6:$A$1806,Data!$D$6:$D$1806)","v":350},{"$f":"IF($Z$1=\"+\",LOOKUP($V480,Data!$A$6:$A$1806,Data!$E$6:$E$1806)*-1,LOOKUP($V480,Data!$A$6:$A$1806,Data!$E$6:$E$1806))","v":223.01573181152344},{"$f":"LOOKUP($V480,Data!$A$6:$A$1806,Data!$F$6:$F$1806)","v":16},null,{"$f":"LOOKUP($V480,Data!$A$6:$A$1806,Data!$H$6:$H$1806)","v":10},{"$f":"LOOKUP($V480,Data!$A$6:$A$1806,Data!$I$6:$I$1806)","v":0},{"$f":"IF(LOOKUP($V480,Data!$A$6:$A$1806,Data!$J$6:$J$1806)>0,(LOOKUP($V480,Data!$A$6:$A$1806,Data!$J$6:$J$1806)*-1),LOOKUP($V480,Data!$A$6:$A$1806,Data!$J$6:$J$1806))","v":-103},{"$f":"LOOKUP($V480,Data!$A$6:$A$1806,Data!$K$6:$K$1806)","v":7784.79},28.839874267578121,null,null,null,null,null,null,null,null,null,null,null,null,null,null,100.489501953125," ",2.79998779296875E-2," "]
[null,40098.111689814068,{"$f":"LOOKUP(B481,Data!$A$6:$A$1806,Data!B$6:B$1806)","v":59.969001770019531},{"$f":"LOOKUP(B481,Data!$A$6:$A$1806,Data!C$6:C$1806)","v":3744.6826171875},null,null,3090,{"$f":"(IF((C481-L$2)>0,(IF(C481<'Copy Results'!$C$3,((C481-L$2-L$5)/((L$4*L$2)-L$5)*G481*-1),(('Copy Results'!$C$3-L$2-L$5)/((L$4*L$2)-L$5)*G481*-1))),IF(C481>'Copy Results'!$C$2,((C481-L$2+L$5)/((L$4*L$2)-L$5)*G481*-1),(('Copy Results'!$C$2-L$2+L$5)/((L$4*L$2)-L$5)*G481*-1))))","v":31.928176879882809},30.594912942722424,null,null,0,3816.8661449890169,{"$f":"AVERAGE(D$79:D481)","v":3767.4867309873216},{"$f":"AVERAGE(M$79:M481)","v":3803.779175955834},3771.0526488503479,{"$f":"AVERAGE(P$79:P481)","v":3749.7793766237182},null,null,null,null,40098.111689814068,{"$f":"LOOKUP($V481,Data!$A$6:$A$1806,Data!$B$6:$B$1806)","v":59.969001770019531},{"$f":"LOOKUP($V481,Data!$A$6:$A$1806,Data!$C$6:$C$1806)","v":3744.6826171875},{"$f":"LOOKUP($V481,Data!$A$6:$A$1806,Data!$D$6:$D$1806)","v":350},{"$f":"IF($Z$1=\"+\",LOOKUP($V481,Data!$A$6:$A$1806,Data!$E$6:$E$1806)*-1,LOOKUP($V481,Data!$A$6:$A$1806,Data!$E$6:$E$1806))","v":223.01573181152344},{"$f":"LOOKUP($V481,Data!$A$6:$A$1806,Data!$F$6:$F$1806)","v":16},null,{"$f":"LOOKUP($V481,Data!$A$6:$A$1806,Data!$H$6:$H$1806)","v":10},{"$f":"LOOKUP($V481,Data!$A$6:$A$1806,Data!$I$6:$I$1806)","v":0},{"$f":"IF(LOOKUP($V481,Data!$A$6:$A$1806,Data!$J$6:$J$1806)>0,(LOOKUP($V481,Data!$A$6:$A$1806,Data!$J$6:$J$1806)*-1),LOOKUP($V481,Data!$A$6:$A$1806,Data!$J$6:$J$1806))","v":-103},{"$f":"LOOKUP($V481,Data!$A$6:$A$1806,Data!$K$6:$K$1806)","v":7785.12},31.928176879882809,null,null,null,null,null,null,null,null,null,null,null,null,null,null,98.95556640625," ",3.099822998046875E-2," "]
[null,40098.111712962214,{"$f":"LOOKUP(B482,Data!$A$6:$A$1806,Data!B$6:B$1806)","v":59.972000122070313},{"$f":"LOOKUP(B482,Data!$A$6:$A$1806,Data!C$6:C$1806)","v":3743.7451171875},null,null,3090,{"$f":"(IF((C482-L$2)>0,(IF(C482<'Copy Results'!$C$3,((C482-L$2-L$5)/((L$4*L$2)-L$5)*G482*-1),(('Copy Results'!$C$3-L$2-L$5)/((L$4*L$2)-L$5)*G482*-1))),IF(C482>'Copy Results'!$C$2,((C482-L$2+L$5)/((L$4*L$2)-L$5)*G482*-1),(('Copy Results'!$C$2-L$2+L$5)/((L$4*L$2)-L$5)*G482*-1))))","v":28.839874267578121},29.980649406421918,null,null,0,3816.2518814527166,{"$f":"AVERAGE(D$79:D482)","v":3767.4279646165301},{"$f":"AVERAGE(M$79:M482)","v":3803.8100489892422},3771.0526488503479,{"$f":"AVERAGE(P$79:P482)","v":3749.8321638997145},null,null,null,null,40098.111712962214,{"$f":"LOOKUP($V482,Data!$A$6:$A$1806,Data!$B$6:$B$1806)","v":59.972000122070313},{"$f":"LOOKUP($V482,Data!$A$6:$A$1806,Data!$C$6:$C$1806)","v":3743.7451171875},{"$f":"LOOKUP($V482,Data!$A$6:$A$1806,Data!$D$6:$D$1806)","v":350},{"$f":"IF($Z$1=\"+\",LOOKUP($V482,Data!$A$6:$A$1806,Data!$E$6:$E$1806)*-1,LOOKUP($V482,Data!$A$6:$A$1806,Data!$E$6:$E$1806))","v":223.01573181152344},{"$f":"LOOKUP($V482,Data!$A$6:$A$1806,Data!$F$6:$F$1806)","v":16},null,{"$f":"LOOKUP($V482,Data!$A$6:$A$1806,Data!$H$6:$H$1806)","v":10},{"$f":"LOOKUP($V482,Data!$A$6:$A$1806,Data!$I$6:$I$1806)","v":0},{"$f":"IF(LOOKUP($V482,Data!$A$6:$A$1806,Data!$J$6:$J$1806)>0,(LOOKUP($V482,Data!$A$6:$A$1806,Data!$J$6:$J$1806)*-1),LOOKUP($V482,Data!$A$6:$A$1806,Data!$J$6:$J$1806))","v":-103},{"$f":"LOOKUP($V482,Data!$A$6:$A$1806,Data!$K$6:$K$1806)","v":7785.45},28.839874267578121,null,null,null,null,null,null,null,null,null,null,null,null,null,null,98.01806640625," ",2.79998779296875E-2," "]
[null,40098.111736110361,{"$f":"LOOKUP(B483,Data!$A$6:$A$1806,Data!B$6:B$1806)","v":59.9739990234375},{"$f":"LOOKUP(B483,Data!$A$6:$A$1806,Data!C$6:C$1806)","v":3743.14892578125},null,null,3090,{"$f":"(IF((C483-L$2)>0,(IF(C483<'Copy Results'!$C$3,((C483-L$2-L$5)/((L$4*L$2)-L$5)*G483*-1),(('Copy Results'!$C$3-L$2-L$5)/((L$4*L$2)-L$5)*G483*-1))),IF(C483>'Copy Results'!$C$2,((C483-L$2+L$5)/((L$4*L$2)-L$5)*G483*-1),(('Copy Results'!$C$2-L$2+L$5)/((L$4*L$2)-L$5)*G483*-1))))","v":26.781005859375},28.860774164955497,null,null,0,3815.13200621125,{"$f":"AVERAGE(D$79:D483)","v":3767.3680163724921},{"$f":"AVERAGE(M$79:M483)","v":3803.8380044391729},3771.0526488503479,{"$f":"AVERAGE(P$79:P483)","v":3749.8846898525626},null,null,null,null,40098.111736110361,{"$f":"LOOKUP($V483,Data!$A$6:$A$1806,Data!$B$6:$B$1806)","v":59.9739990234375},{"$f":"LOOKUP($V483,Data!$A$6:$A$1806,Data!$C$6:$C$1806)","v":3743.14892578125},{"$f":"LOOKUP($V483,Data!$A$6:$A$1806,Data!$D$6:$D$1806)","v":350},{"$f":"IF($Z$1=\"+\",LOOKUP($V483,Data!$A$6:$A$1806,Data!$E$6:$E$1806)*-1,LOOKUP($V483,Data!$A$6:$A$1806,Data!$E$6:$E$1806))","v":223.01573181152344},{"$f":"LOOKUP($V483,Data!$A$6:$A$1806,Data!$F$6:$F$1806)","v":16},null,{"$f":"LOOKUP($V483,Data!$A$6:$A$1806,Data!$H$6:$H$1806)","v":10},{"$f":"LOOKUP($V483,Data!$A$6:$A$1806,Data!$I$6:$I$1806)","v":0},{"$f":"IF(LOOKUP($V483,Data!$A$6:$A$1806,Data!$J$6:$J$1806)>0,(LOOKUP($V483,Data!$A$6:$A$1806,Data!$J$6:$J$1806)*-1),LOOKUP($V483,Data!$A$6:$A$1806,Data!$J$6:$J$1806))","v":-103},{"$f":"LOOKUP($V483,Data!$A$6:$A$1806,Data!$K$6:$K$1806)","v":7785.78},26.781005859375,null,null,null,null,null,null,null,null,null,null,null,null,null,null,97.421875," ",2.60009765625E-2," "]
[null,40098.111759258507,{"$f":"LOOKUP(B484,Data!$A$6:$A$1806,Data!B$6:B$1806)","v":59.972999572753906},{"$f":"LOOKUP(B484,Data!$A$6:$A$1806,Data!C$6:C$1806)","v":3740.298583984375},null,null,3090,{"$f":"(IF((C484-L$2)>0,(IF(C484<'Copy Results'!$C$3,((C484-L$2-L$5)/((L$4*L$2)-L$5)*G484*-1),(('Copy Results'!$C$3-L$2-L$5)/((L$4*L$2)-L$5)*G484*-1))),IF(C484>'Copy Results'!$C$2,((C484-L$2+L$5)/((L$4*L$2)-L$5)*G484*-1),(('Copy Results'!$C$2-L$2+L$5)/((L$4*L$2)-L$5)*G484*-1))))","v":27.810440063476566},28.49315722943787,null,null,0,3814.7643892757324,{"$f":"AVERAGE(D$79:D484)","v":3767.3013428937038},{"$f":"AVERAGE(M$79:M484)","v":3803.8649167170956},3771.0526488503479,{"$f":"AVERAGE(P$79:P484)","v":3749.9369564179888},null,null,null,null,40098.111759258507,{"$f":"LOOKUP($V484,Data!$A$6:$A$1806,Data!$B$6:$B$1806)","v":59.972999572753906},{"$f":"LOOKUP($V484,Data!$A$6:$A$1806,Data!$C$6:$C$1806)","v":3740.298583984375},{"$f":"LOOKUP($V484,Data!$A$6:$A$1806,Data!$D$6:$D$1806)","v":350},{"$f":"IF($Z$1=\"+\",LOOKUP($V484,Data!$A$6:$A$1806,Data!$E$6:$E$1806)*-1,LOOKUP($V484,Data!$A$6:$A$1806,Data!$E$6:$E$1806))","v":223.01573181152344},{"$f":"LOOKUP($V484,Data!$A$6:$A$1806,Data!$F$6:$F$1806)","v":16},null,{"$f":"LOOKUP($V484,Data!$A$6:$A$1806,Data!$H$6:$H$1806)","v":10},{"$f":"LOOKUP($V484,Data!$A$6:$A$1806,Data!$I$6:$I$1806)","v":0},{"$f":"IF(LOOKUP($V484,Data!$A$6:$A$1806,Data!$J$6:$J$1806)>0,(LOOKUP($V484,Data!$A$6:$A$1806,Data!$J$6:$J$1806)*-1),LOOKUP($V484,Data!$A$6:$A$1806,Data!$J$6:$J$1806))","v":-103},{"$f":"LOOKUP($V484,Data!$A$6:$A$1806,Data!$K$6:$K$1806)","v":7786.11},27.810440063476566,null,null,null,null,null,null,null,null,null,null,null,null,null,null,94.571533203125," ",2.700042724609375E-2," "]
[null,40098.111782406653,{"$f":"LOOKUP(B485,Data!$A$6:$A$1806,Data!B$6:B$1806)","v":59.970001220703125},{"$f":"LOOKUP(B485,Data!$A$6:$A$1806,Data!C$6:C$1806)","v":3739.45263671875},null,null,3090,{"$f":"(IF((C485-L$2)>0,(IF(C485<'Copy Results'!$C$3,((C485-L$2-L$5)/((L$4*L$2)-L$5)*G485*-1),(('Copy Results'!$C$3-L$2-L$5)/((L$4*L$2)-L$5)*G485*-1))),IF(C485>'Copy Results'!$C$2,((C485-L$2+L$5)/((L$4*L$2)-L$5)*G485*-1),(('Copy Results'!$C$2-L$2+L$5)/((L$4*L$2)-L$5)*G485*-1))))","v":30.898742675781254},29.335112135658054,null,null,0,3815.6063441819524,{"$f":"AVERAGE(D$79:D485)","v":3767.2329185542076},{"$f":"AVERAGE(M$79:M485)","v":3803.8937654332258},3771.0526488503479,{"$f":"AVERAGE(P$79:P485)","v":3749.9889655126494},null,null,null,null,40098.111782406653,{"$f":"LOOKUP($V485,Data!$A$6:$A$1806,Data!$B$6:$B$1806)","v":59.970001220703125},{"$f":"LOOKUP($V485,Data!$A$6:$A$1806,Data!$C$6:$C$1806)","v":3739.45263671875},{"$f":"LOOKUP($V485,Data!$A$6:$A$1806,Data!$D$6:$D$1806)","v":350},{"$f":"IF($Z$1=\"+\",LOOKUP($V485,Data!$A$6:$A$1806,Data!$E$6:$E$1806)*-1,LOOKUP($V485,Data!$A$6:$A$1806,Data!$E$6:$E$1806))","v":223.01573181152344},{"$f":"LOOKUP($V485,Data!$A$6:$A$1806,Data!$F$6:$F$1806)","v":16},null,{"$f":"LOOKUP($V485,Data!$A$6:$A$1806,Data!$H$6:$H$1806)","v":10},{"$f":"LOOKUP($V485,Data!$A$6:$A$1806,Data!$I$6:$I$1806)","v":0},{"$f":"IF(LOOKUP($V485,Data!$A$6:$A$1806,Data!$J$6:$J$1806)>0,(LOOKUP($V485,Data!$A$6:$A$1806,Data!$J$6:$J$1806)*-1),LOOKUP($V485,Data!$A$6:$A$1806,Data!$J$6:$J$1806))","v":-103},{"$f":"LOOKUP($V485,Data!$A$6:$A$1806,Data!$K$6:$K$1806)","v":7786.44},30.898742675781254,null,null,null,null,null,null,null,null,null,null,null,null,null,null,93.7255859375," ",2.9998779296875E-2," "]
[null,40098.1118055548,{"$f":"LOOKUP(B486,Data!$A$6:$A$1806,Data!B$6:B$1806)","v":59.971000671386719},{"$f":"LOOKUP(B486,Data!$A$6:$A$1806,Data!C$6:C$1806)","v":3733.3759765625},null,null,3090,{"$f":"(IF((C486-L$2)>0,(IF(C486<'Copy Results'!$C$3,((C486-L$2-L$5)/((L$4*L$2)-L$5)*G486*-1),(('Copy Results'!$C$3-L$2-L$5)/((L$4*L$2)-L$5)*G486*-1))),IF(C486>'Copy Results'!$C$2,((C486-L$2+L$5)/((L$4*L$2)-L$5)*G486*-1),(('Copy Results'!$C$2-L$2+L$5)/((L$4*L$2)-L$5)*G486*-1))))","v":29.869308471679688},29.522080853265628,null,null,0,3815.7933128995601,{"$f":"AVERAGE(D$79:D486)","v":3767.1499358532474},{"$f":"AVERAGE(M$79:M486)","v":3803.9229309907414},3771.0526488503479,{"$f":"AVERAGE(P$79:P486)","v":3750.0407190343635},null,null,null,null,40098.1118055548,{"$f":"LOOKUP($V486,Data!$A$6:$A$1806,Data!$B$6:$B$1806)","v":59.971000671386719},{"$f":"LOOKUP($V486,Data!$A$6:$A$1806,Data!$C$6:$C$1806)","v":3733.3759765625},{"$f":"LOOKUP($V486,Data!$A$6:$A$1806,Data!$D$6:$D$1806)","v":350},{"$f":"IF($Z$1=\"+\",LOOKUP($V486,Data!$A$6:$A$1806,Data!$E$6:$E$1806)*-1,LOOKUP($V486,Data!$A$6:$A$1806,Data!$E$6:$E$1806))","v":223.01573181152344},{"$f":"LOOKUP($V486,Data!$A$6:$A$1806,Data!$F$6:$F$1806)","v":16},null,{"$f":"LOOKUP($V486,Data!$A$6:$A$1806,Data!$H$6:$H$1806)","v":10},{"$f":"LOOKUP($V486,Data!$A$6:$A$1806,Data!$I$6:$I$1806)","v":0},{"$f":"IF(LOOKUP($V486,Data!$A$6:$A$1806,Data!$J$6:$J$1806)>0,(LOOKUP($V486,Data!$A$6:$A$1806,Data!$J$6:$J$1806)*-1),LOOKUP($V486,Data!$A$6:$A$1806,Data!$J$6:$J$1806))","v":-103},{"$f":"LOOKUP($V486,Data!$A$6:$A$1806,Data!$K$6:$K$1806)","v":7786.77},29.869308471679688,null,null,null,null,null,null,null,null,null,null,null,null,null,null,87.64892578125," ",2.899932861328125E-2," "]
[null,40098.111828702946,{"$f":"LOOKUP(B487,Data!$A$6:$A$1806,Data!B$6:B$1806)","v":59.9739990234375},{"$f":"LOOKUP(B487,Data!$A$6:$A$1806,Data!C$6:C$1806)","v":3731.82958984375},null,null,3090,{"$f":"(IF((C487-L$2)>0,(IF(C487<'Copy Results'!$C$3,((C487-L$2-L$5)/((L$4*L$2)-L$5)*G487*-1),(('Copy Results'!$C$3-L$2-L$5)/((L$4*L$2)-L$5)*G487*-1))),IF(C487>'Copy Results'!$C$2,((C487-L$2+L$5)/((L$4*L$2)-L$5)*G487*-1),(('Copy Results'!$C$2-L$2+L$5)/((L$4*L$2)-L$5)*G487*-1))))","v":26.781005859375},28.562704605403908,null,null,0,3814.8339366516984,{"$f":"AVERAGE(D$79:D487)","v":3767.0635780390435},{"$f":"AVERAGE(M$79:M487)","v":3803.9496082661958},3771.0526488503479,{"$f":"AVERAGE(P$79:P487)","v":3750.0922188623435},null,null,null,null,40098.111828702946,{"$f":"LOOKUP($V487,Data!$A$6:$A$1806,Data!$B$6:$B$1806)","v":59.9739990234375},{"$f":"LOOKUP($V487,Data!$A$6:$A$1806,Data!$C$6:$C$1806)","v":3731.82958984375},{"$f":"LOOKUP($V487,Data!$A$6:$A$1806,Data!$D$6:$D$1806)","v":350},{"$f":"IF($Z$1=\"+\",LOOKUP($V487,Data!$A$6:$A$1806,Data!$E$6:$E$1806)*-1,LOOKUP($V487,Data!$A$6:$A$1806,Data!$E$6:$E$1806))","v":223.01573181152344},{"$f":"LOOKUP($V487,Data!$A$6:$A$1806,Data!$F$6:$F$1806)","v":16},null,{"$f":"LOOKUP($V487,Data!$A$6:$A$1806,Data!$H$6:$H$1806)","v":10},{"$f":"LOOKUP($V487,Data!$A$6:$A$1806,Data!$I$6:$I$1806)","v":0},{"$f":"IF(LOOKUP($V487,Data!$A$6:$A$1806,Data!$J$6:$J$1806)>0,(LOOKUP($V487,Data!$A$6:$A$1806,Data!$J$6:$J$1806)*-1),LOOKUP($V487,Data!$A$6:$A$1806,Data!$J$6:$J$1806))","v":-103},{"$f":"LOOKUP($V487,Data!$A$6:$A$1806,Data!$K$6:$K$1806)","v":7787.1},26.781005859375,null,null,null,null,null,null,null,null,null,null,null,null,null,null,86.1025390625," ",2.60009765625E-2," "]
[null,40098.111851851092,{"$f":"LOOKUP(B488,Data!$A$6:$A$1806,Data!B$6:B$1806)","v":59.981998443603516},{"$f":"LOOKUP(B488,Data!$A$6:$A$1806,Data!C$6:C$1806)","v":3737.58251953125},null,null,3090,{"$f":"(IF((C488-L$2)>0,(IF(C488<'Copy Results'!$C$3,((C488-L$2-L$5)/((L$4*L$2)-L$5)*G488*-1),(('Copy Results'!$C$3-L$2-L$5)/((L$4*L$2)-L$5)*G488*-1))),IF(C488>'Copy Results'!$C$2,((C488-L$2+L$5)/((L$4*L$2)-L$5)*G488*-1),(('Copy Results'!$C$2-L$2+L$5)/((L$4*L$2)-L$5)*G488*-1))))","v":18.541603088378906},25.055319074445158,null,null,0,3811.3265511207396,{"$f":"AVERAGE(D$79:D488)","v":3766.9916730182927},{"$f":"AVERAGE(M$79:M488)","v":3803.9676008097435},3771.0526488503479,{"$f":"AVERAGE(P$79:P488)","v":3750.1434668574243},null,null,null,null,40098.111851851092,{"$f":"LOOKUP($V488,Data!$A$6:$A$1806,Data!$B$6:$B$1806)","v":59.981998443603516},{"$f":"LOOKUP($V488,Data!$A$6:$A$1806,Data!$C$6:$C$1806)","v":3737.58251953125},{"$f":"LOOKUP($V488,Data!$A$6:$A$1806,Data!$D$6:$D$1806)","v":350},{"$f":"IF($Z$1=\"+\",LOOKUP($V488,Data!$A$6:$A$1806,Data!$E$6:$E$1806)*-1,LOOKUP($V488,Data!$A$6:$A$1806,Data!$E$6:$E$1806))","v":223.01573181152344},{"$f":"LOOKUP($V488,Data!$A$6:$A$1806,Data!$F$6:$F$1806)","v":16},null,{"$f":"LOOKUP($V488,Data!$A$6:$A$1806,Data!$H$6:$H$1806)","v":10},{"$f":"LOOKUP($V488,Data!$A$6:$A$1806,Data!$I$6:$I$1806)","v":0},{"$f":"IF(LOOKUP($V488,Data!$A$6:$A$1806,Data!$J$6:$J$1806)>0,(LOOKUP($V488,Data!$A$6:$A$1806,Data!$J$6:$J$1806)*-1),LOOKUP($V488,Data!$A$6:$A$1806,Data!$J$6:$J$1806))","v":-103},{"$f":"LOOKUP($V488,Data!$A$6:$A$1806,Data!$K$6:$K$1806)","v":7787.43},18.541603088378906,null,null,null,null,null,null,null,null,null,null,null,null,null,null,91.85546875," ",1.8001556396484375E-2," "]
[null,40098.111874999238,{"$f":"LOOKUP(B489,Data!$A$6:$A$1806,Data!B$6:B$1806)","v":59.985000610351563},{"$f":"LOOKUP(B489,Data!$A$6:$A$1806,Data!C$6:C$1806)","v":3736.2294921875},null,null,3090,{"$f":"(IF((C489-L$2)>0,(IF(C489<'Copy Results'!$C$3,((C489-L$2-L$5)/((L$4*L$2)-L$5)*G489*-1),(('Copy Results'!$C$3-L$2-L$5)/((L$4*L$2)-L$5)*G489*-1))),IF(C489>'Copy Results'!$C$2,((C489-L$2+L$5)/((L$4*L$2)-L$5)*G489*-1),(('Copy Results'!$C$2-L$2+L$5)/((L$4*L$2)-L$5)*G489*-1))))","v":15.449371337890627},21.693237366651072,null,null,0,3807.9644694129456,{"$f":"AVERAGE(D$79:D489)","v":3766.9168258629866},{"$f":"AVERAGE(M$79:M489)","v":3803.9773255508708},3771.0526488503479,{"$f":"AVERAGE(P$79:P489)","v":3750.1944648622848},null,null,null,null,40098.111874999238,{"$f":"LOOKUP($V489,Data!$A$6:$A$1806,Data!$B$6:$B$1806)","v":59.985000610351563},{"$f":"LOOKUP($V489,Data!$A$6:$A$1806,Data!$C$6:$C$1806)","v":3736.2294921875},{"$f":"LOOKUP($V489,Data!$A$6:$A$1806,Data!$D$6:$D$1806)","v":350},{"$f":"IF($Z$1=\"+\",LOOKUP($V489,Data!$A$6:$A$1806,Data!$E$6:$E$1806)*-1,LOOKUP($V489,Data!$A$6:$A$1806,Data!$E$6:$E$1806))","v":223.01573181152344},{"$f":"LOOKUP($V489,Data!$A$6:$A$1806,Data!$F$6:$F$1806)","v":16},null,{"$f":"LOOKUP($V489,Data!$A$6:$A$1806,Data!$H$6:$H$1806)","v":10},{"$f":"LOOKUP($V489,Data!$A$6:$A$1806,Data!$I$6:$I$1806)","v":0},{"$f":"IF(LOOKUP($V489,Data!$A$6:$A$1806,Data!$J$6:$J$1806)>0,(LOOKUP($V489,Data!$A$6:$A$1806,Data!$J$6:$J$1806)*-1),LOOKUP($V489,Data!$A$6:$A$1806,Data!$J$6:$J$1806))","v":-103},{"$f":"LOOKUP($V489,Data!$A$6:$A$1806,Data!$K$6:$K$1806)","v":7787.76},15.449371337890627,null,null,null,null,null,null,null,null,null,null,null,null,null,null,90.50244140625," ",1.49993896484375E-2," "]
[null,40098.111898147385,{"$f":"LOOKUP(B490,Data!$A$6:$A$1806,Data!B$6:B$1806)","v":59.985000610351563},{"$f":"LOOKUP(B490,Data!$A$6:$A$1806,Data!C$6:C$1806)","v":3734.896728515625},null,null,3090,{"$f":"(IF((C490-L$2)>0,(IF(C490<'Copy Results'!$C$3,((C490-L$2-L$5)/((L$4*L$2)-L$5)*G490*-1),(('Copy Results'!$C$3-L$2-L$5)/((L$4*L$2)-L$5)*G490*-1))),IF(C490>'Copy Results'!$C$2,((C490-L$2+L$5)/((L$4*L$2)-L$5)*G490*-1),(('Copy Results'!$C$2-L$2+L$5)/((L$4*L$2)-L$5)*G490*-1))))","v":15.449371337890627},19.507884256584916,null,null,0,3805.7791163028796,{"$f":"AVERAGE(D$79:D490)","v":3766.8391071801047},{"$f":"AVERAGE(M$79:M490)","v":3803.9816988293951},3771.0526488503479,{"$f":"AVERAGE(P$79:P490)","v":3750.2452147016716},null,null,null,null,40098.111898147385,{"$f":"LOOKUP($V490,Data!$A$6:$A$1806,Data!$B$6:$B$1806)","v":59.985000610351563},{"$f":"LOOKUP($V490,Data!$A$6:$A$1806,Data!$C$6:$C$1806)","v":3734.896728515625},{"$f":"LOOKUP($V490,Data!$A$6:$A$1806,Data!$D$6:$D$1806)","v":350},{"$f":"IF($Z$1=\"+\",LOOKUP($V490,Data!$A$6:$A$1806,Data!$E$6:$E$1806)*-1,LOOKUP($V490,Data!$A$6:$A$1806,Data!$E$6:$E$1806))","v":223.01573181152344},{"$f":"LOOKUP($V490,Data!$A$6:$A$1806,Data!$F$6:$F$1806)","v":16},null,{"$f":"LOOKUP($V490,Data!$A$6:$A$1806,Data!$H$6:$H$1806)","v":10},{"$f":"LOOKUP($V490,Data!$A$6:$A$1806,Data!$I$6:$I$1806)","v":0},{"$f":"IF(LOOKUP($V490,Data!$A$6:$A$1806,Data!$J$6:$J$1806)>0,(LOOKUP($V490,Data!$A$6:$A$1806,Data!$J$6:$J$1806)*-1),LOOKUP($V490,Data!$A$6:$A$1806,Data!$J$6:$J$1806))","v":-103},{"$f":"LOOKUP($V490,Data!$A$6:$A$1806,Data!$K$6:$K$1806)","v":7788.09},15.449371337890627,null,null,null,null,null,null,null,null,null,null,null,null,null,null,89.169677734375," ",1.49993896484375E-2," "]
[null,40098.111921295531,{"$f":"LOOKUP(B491,Data!$A$6:$A$1806,Data!B$6:B$1806)","v":59.985000610351563},{"$f":"LOOKUP(B491,Data!$A$6:$A$1806,Data!C$6:C$1806)","v":3733.433837890625},null,null,3090,{"$f":"(IF((C491-L$2)>0,(IF(C491<'Copy Results'!$C$3,((C491-L$2-L$5)/((L$4*L$2)-L$5)*G491*-1),(('Copy Results'!$C$3-L$2-L$5)/((L$4*L$2)-L$5)*G491*-1))),IF(C491>'Copy Results'!$C$2,((C491-L$2+L$5)/((L$4*L$2)-L$5)*G491*-1),(('Copy Results'!$C$2-L$2+L$5)/((L$4*L$2)-L$5)*G491*-1))))","v":15.449371337890627},{"$f":"L$13*H491+(1-L$13)*I490","v":18.087404735041915},null,null,0,3804.3586367813368,{"$f":"AVERAGE(D$79:D491)","v":3766.7582227508324},{"$f":"AVERAGE(M$79:M491)","v":3803.9826115120877},3771.0526488503479,{"$f":"AVERAGE(P$79:P491)","v":3750.2957181826146},null,null,null,null,40098.111921295531,{"$f":"LOOKUP($V491,Data!$A$6:$A$1806,Data!$B$6:$B$1806)","v":59.985000610351563},{"$f":"LOOKUP($V491,Data!$A$6:$A$1806,Data!$C$6:$C$1806)","v":3733.433837890625},{"$f":"LOOKUP($V491,Data!$A$6:$A$1806,Data!$D$6:$D$1806)","v":350},{"$f":"IF($Z$1=\"+\",LOOKUP($V491,Data!$A$6:$A$1806,Data!$E$6:$E$1806)*-1,LOOKUP($V491,Data!$A$6:$A$1806,Data!$E$6:$E$1806))","v":223.01573181152344},{"$f":"LOOKUP($V491,Data!$A$6:$A$1806,Data!$F$6:$F$1806)","v":16},null,{"$f":"LOOKUP($V491,Data!$A$6:$A$1806,Data!$H$6:$H$1806)","v":10},{"$f":"LOOKUP($V491,Data!$A$6:$A$1806,Data!$I$6:$I$1806)","v":0},{"$f":"IF(LOOKUP($V491,Data!$A$6:$A$1806,Data!$J$6:$J$1806)>0,(LOOKUP($V491,Data!$A$6:$A$1806,Data!$J$6:$J$1806)*-1),LOOKUP($V491,Data!$A$6:$A$1806,Data!$J$6:$J$1806))","v":-103},{"$f":"LOOKUP($V491,Data!$A$6:$A$1806,Data!$K$6:$K$1806)","v":7788.42},15.449371337890627,null,null,null,null,null,null,null,null,null,null,null,null,null,null,87.706787109375," ",1.49993896484375E-2," "]
[null,40098.111944443677,{"$f":"LOOKUP(B492,Data!$A$6:$A$1806,Data!B$6:B$1806)","v":59.98699951171875},{"$f":"LOOKUP(B492,Data!$A$6:$A$1806,Data!C$6:C$1806)","v":3733.115234375},null,null,{"$f":"AE492*-M$4*10","v":3090},{"$f":"(IF((C492-L$2)>0,(IF(C492<'Copy Results'!$C$3,((C492-L$2-L$5)/((L$4*L$2)-L$5)*G492*-1),(('Copy Results'!$C$3-L$2-L$5)/((L$4*L$2)-L$5)*G492*-1))),IF(C492>'Copy Results'!$C$2,((C492-L$2+L$5)/((L$4*L$2)-L$5)*G492*-1),(('Copy Results'!$C$2-L$2+L$5)/((L$4*L$2)-L$5)*G492*-1))))","v":13.3905029296875},16.44348910316787,null,null,0,3802.714721149463,{"$f":"AVERAGE(D$79:D492)","v":3766.676959493886},{"$f":"AVERAGE(M$79:M492)","v":3803.9795489749799},3771.0526488503479,{"$f":"AVERAGE(P$79:P492)","v":3750.3459770946429},null,null,null,null,40098.111944443677,{"$f":"LOOKUP($V492,Data!$A$6:$A$1806,Data!$B$6:$B$1806)","v":59.98699951171875},{"$f":"LOOKUP($V492,Data!$A$6:$A$1806,Data!$C$6:$C$1806)","v":3733.115234375},{"$f":"LOOKUP($V492,Data!$A$6:$A$1806,Data!$D$6:$D$1806)","v":350},{"$f":"IF($Z$1=\"+\",LOOKUP($V492,Data!$A$6:$A$1806,Data!$E$6:$E$1806)*-1,LOOKUP($V492,Data!$A$6:$A$1806,Data!$E$6:$E$1806))","v":223.01573181152344},{"$f":"LOOKUP($V492,Data!$A$6:$A$1806,Data!$F$6:$F$1806)","v":16},null,{"$f":"LOOKUP($V492,Data!$A$6:$A$1806,Data!$H$6:$H$1806)","v":10},{"$f":"LOOKUP($V492,Data!$A$6:$A$1806,Data!$I$6:$I$1806)","v":0},{"$f":"IF(LOOKUP($V492,Data!$A$6:$A$1806,Data!$J$6:$J$1806)>0,(LOOKUP($V492,Data!$A$6:$A$1806,Data!$J$6:$J$1806)*-1),LOOKUP($V492,Data!$A$6:$A$1806,Data!$J$6:$J$1806))","v":-103},{"$f":"LOOKUP($V492,Data!$A$6:$A$1806,Data!$K$6:$K$1806)","v":7788.75},{"$f":"(IF((W492-$L$2)>0,((W492-$L$2-$L$5)/(($L$4*$L$2)-$L$5)*G492*-1),((W492-$L$2+$L$5)/(($L$4*$L$2)-$L$5)*G492*-1)))","v":13.3905029296875},null,null,null,null,null,null,null,null,null,null,null,null,null,null,87.38818359375," ",{"$f":"ABS(C492-60)","v":1.300048828125E-2},{"$f":"IF(AX492>0.036,AE492,\" \")","v":" "}]
[null,40098.111967591823,{"$f":"LOOKUP(B493,Data!$A$6:$A$1806,Data!B$6:B$1806)","v":59.988998413085937},{"$f":"LOOKUP(B493,Data!$A$6:$A$1806,Data!C$6:C$1806)","v":3730.509765625},null,null,3090,{"$f":"(IF((C493-L$2)>0,(IF(C493<'Copy Results'!$C$3,((C493-L$2-L$5)/((L$4*L$2)-L$5)*G493*-1),(('Copy Results'!$C$3-L$2-L$5)/((L$4*L$2)-L$5)*G493*-1))),IF(C493>'Copy Results'!$C$2,((C493-L$2+L$5)/((L$4*L$2)-L$5)*G493*-1),(('Copy Results'!$C$2-L$2+L$5)/((L$4*L$2)-L$5)*G493*-1))))","v":11.331634521484375},14.654339999578648,null,null,0,3800.9255720458737,{"$f":"AVERAGE(D$79:D493)","v":3766.5898096291417},{"$f":"AVERAGE(M$79:M493)","v":3803.9721899944279},3771.0526488503479,{"$f":"AVERAGE(P$79:P493)","v":3750.3959932099947},null,null,null,null,40098.111967591823,{"$f":"LOOKUP($V493,Data!$A$6:$A$1806,Data!$B$6:$B$1806)","v":59.988998413085937},{"$f":"LOOKUP($V493,Data!$A$6:$A$1806,Data!$C$6:$C$1806)","v":3730.509765625},{"$f":"LOOKUP($V493,Data!$A$6:$A$1806,Data!$D$6:$D$1806)","v":350},{"$f":"IF($Z$1=\"+\",LOOKUP($V493,Data!$A$6:$A$1806,Data!$E$6:$E$1806)*-1,LOOKUP($V493,Data!$A$6:$A$1806,Data!$E$6:$E$1806))","v":223.01573181152344},{"$f":"LOOKUP($V493,Data!$A$6:$A$1806,Data!$F$6:$F$1806)","v":16},null,{"$f":"LOOKUP($V493,Data!$A$6:$A$1806,Data!$H$6:$H$1806)","v":10},{"$f":"LOOKUP($V493,Data!$A$6:$A$1806,Data!$I$6:$I$1806)","v":0},{"$f":"IF(LOOKUP($V493,Data!$A$6:$A$1806,Data!$J$6:$J$1806)>0,(LOOKUP($V493,Data!$A$6:$A$1806,Data!$J$6:$J$1806)*-1),LOOKUP($V493,Data!$A$6:$A$1806,Data!$J$6:$J$1806))","v":-103},{"$f":"LOOKUP($V493,Data!$A$6:$A$1806,Data!$K$6:$K$1806)","v":7789.08},11.331634521484375,null,null,null,null,null,null,null,null,null,null,null,null,null,null,84.78271484375," ",1.10015869140625E-2," "]
[null,{"$f":"B493+TIME(0,0,$B$1)","v":40098.11199073997},{"$f":"LOOKUP(B494,Data!$A$6:$A$1806,Data!B$6:B$1806)","v":59.988998413085937},{"$f":"LOOKUP(B494,Data!$A$6:$A$1806,Data!C$6:C$1806)","v":3729.18017578125},null,null,3090,{"$f":"(IF((C494-L$2)>0,(IF(C494<'Copy Results'!$C$3,((C494-L$2-L$5)/((L$4*L$2)-L$5)*G494*-1),(('Copy Results'!$C$3-L$2-L$5)/((L$4*L$2)-L$5)*G494*-1))),IF(C494>'Copy Results'!$C$2,((C494-L$2+L$5)/((L$4*L$2)-L$5)*G494*-1),(('Copy Results'!$C$2-L$2+L$5)/((L$4*L$2)-L$5)*G494*-1))))","v":11.331634521484375},13.491393082245652,null,null,0,3799.7626251285405,{"$f":"AVERAGE(D$79:D494)","v":3766.4998826246997},{"$f":"AVERAGE(M$79:M494)","v":3803.9620708481157},3771.0526488503479,{"$f":"AVERAGE(P$79:P494)","v":3750.4457682838265},null,null,null,null,40098.11199073997,{"$f":"LOOKUP($V494,Data!$A$6:$A$1806,Data!$B$6:$B$1806)","v":59.988998413085937},{"$f":"LOOKUP($V494,Data!$A$6:$A$1806,Data!$C$6:$C$1806)","v":3729.18017578125},{"$f":"LOOKUP($V494,Data!$A$6:$A$1806,Data!$D$6:$D$1806)","v":350},{"$f":"IF($Z$1=\"+\",LOOKUP($V494,Data!$A$6:$A$1806,Data!$E$6:$E$1806)*-1,LOOKUP($V494,Data!$A$6:$A$1806,Data!$E$6:$E$1806))","v":223.01573181152344},{"$f":"LOOKUP($V494,Data!$A$6:$A$1806,Data!$F$6:$F$1806)","v":16},null,{"$f":"LOOKUP($V494,Data!$A$6:$A$1806,Data!$H$6:$H$1806)","v":10},{"$f":"LOOKUP($V494,Data!$A$6:$A$1806,Data!$I$6:$I$1806)","v":0},{"$f":"IF(LOOKUP($V494,Data!$A$6:$A$1806,Data!$J$6:$J$1806)>0,(LOOKUP($V494,Data!$A$6:$A$1806,Data!$J$6:$J$1806)*-1),LOOKUP($V494,Data!$A$6:$A$1806,Data!$J$6:$J$1806))","v":-103},{"$f":"LOOKUP($V494,Data!$A$6:$A$1806,Data!$K$6:$K$1806)","v":7789.41},11.331634521484375,null,null,null,null,null,null,null,null,null,null,null,null,null,null,83.453125," ",1.10015869140625E-2," "]
[null,40098.112013888116,{"$f":"LOOKUP(B495,Data!$A$6:$A$1806,Data!B$6:B$1806)","v":59.986000061035156},{"$f":"LOOKUP(B495,Data!$A$6:$A$1806,Data!C$6:C$1806)","v":3725.458740234375},null,null,3090,{"$f":"(IF((C495-L$2)>0,(IF(C495<'Copy Results'!$C$3,((C495-L$2-L$5)/((L$4*L$2)-L$5)*G495*-1),(('Copy Results'!$C$3-L$2-L$5)/((L$4*L$2)-L$5)*G495*-1))),IF(C495>'Copy Results'!$C$2,((C495-L$2+L$5)/((L$4*L$2)-L$5)*G495*-1),(('Copy Results'!$C$2-L$2+L$5)/((L$4*L$2)-L$5)*G495*-1))))","v":14.419937133789061},13.816383500285845,null,null,0,3800.0876155465808,{"$f":"AVERAGE(D$79:D495)","v":3766.4014626189673},{"$f":"AVERAGE(M$79:M495)","v":3803.9527795883996},3771.0526488503479,{"$f":"AVERAGE(P$79:P495)","v":3750.4953040544187},null,null,null,null,40098.112013888116,{"$f":"LOOKUP($V495,Data!$A$6:$A$1806,Data!$B$6:$B$1806)","v":59.986000061035156},{"$f":"LOOKUP($V495,Data!$A$6:$A$1806,Data!$C$6:$C$1806)","v":3725.458740234375},{"$f":"LOOKUP($V495,Data!$A$6:$A$1806,Data!$D$6:$D$1806)","v":350},{"$f":"IF($Z$1=\"+\",LOOKUP($V495,Data!$A$6:$A$1806,Data!$E$6:$E$1806)*-1,LOOKUP($V495,Data!$A$6:$A$1806,Data!$E$6:$E$1806))","v":223.01573181152344},{"$f":"LOOKUP($V495,Data!$A$6:$A$1806,Data!$F$6:$F$1806)","v":16},null,{"$f":"LOOKUP($V495,Data!$A$6:$A$1806,Data!$H$6:$H$1806)","v":10},{"$f":"LOOKUP($V495,Data!$A$6:$A$1806,Data!$I$6:$I$1806)","v":0},{"$f":"IF(LOOKUP($V495,Data!$A$6:$A$1806,Data!$J$6:$J$1806)>0,(LOOKUP($V495,Data!$A$6:$A$1806,Data!$J$6:$J$1806)*-1),LOOKUP($V495,Data!$A$6:$A$1806,Data!$J$6:$J$1806))","v":-103},{"$f":"LOOKUP($V495,Data!$A$6:$A$1806,Data!$K$6:$K$1806)","v":7789.74},14.419937133789061,null,null,null,null,null,null,null,null,null,null,null,null,null,null,79.731689453125," ",1.399993896484375E-2," "]
[null,40098.112037036262,{"$f":"LOOKUP(B496,Data!$A$6:$A$1806,Data!B$6:B$1806)","v":59.98699951171875},{"$f":"LOOKUP(B496,Data!$A$6:$A$1806,Data!C$6:C$1806)","v":3724.78466796875},null,null,3090,{"$f":"(IF((C496-L$2)>0,(IF(C496<'Copy Results'!$C$3,((C496-L$2-L$5)/((L$4*L$2)-L$5)*G496*-1),(('Copy Results'!$C$3-L$2-L$5)/((L$4*L$2)-L$5)*G496*-1))),IF(C496>'Copy Results'!$C$2,((C496-L$2+L$5)/((L$4*L$2)-L$5)*G496*-1),(('Copy Results'!$C$2-L$2+L$5)/((L$4*L$2)-L$5)*G496*-1))))","v":13.3905029296875},13.667325300576424,null,null,0,3799.9385573468712,{"$f":"AVERAGE(D$79:D496)","v":3766.3019009092777},{"$f":"AVERAGE(M$79:M496)","v":3803.9431761859078},3771.0526488503479,{"$f":"AVERAGE(P$79:P496)","v":3750.5446022433775},null,null,null,null,40098.112037036262,{"$f":"LOOKUP($V496,Data!$A$6:$A$1806,Data!$B$6:$B$1806)","v":59.98699951171875},{"$f":"LOOKUP($V496,Data!$A$6:$A$1806,Data!$C$6:$C$1806)","v":3724.78466796875},{"$f":"LOOKUP($V496,Data!$A$6:$A$1806,Data!$D$6:$D$1806)","v":350},{"$f":"IF($Z$1=\"+\",LOOKUP($V496,Data!$A$6:$A$1806,Data!$E$6:$E$1806)*-1,LOOKUP($V496,Data!$A$6:$A$1806,Data!$E$6:$E$1806))","v":223.01573181152344},{"$f":"LOOKUP($V496,Data!$A$6:$A$1806,Data!$F$6:$F$1806)","v":16},null,{"$f":"LOOKUP($V496,Data!$A$6:$A$1806,Data!$H$6:$H$1806)","v":10},{"$f":"LOOKUP($V496,Data!$A$6:$A$1806,Data!$I$6:$I$1806)","v":0},{"$f":"IF(LOOKUP($V496,Data!$A$6:$A$1806,Data!$J$6:$J$1806)>0,(LOOKUP($V496,Data!$A$6:$A$1806,Data!$J$6:$J$1806)*-1),LOOKUP($V496,Data!$A$6:$A$1806,Data!$J$6:$J$1806))","v":-103},{"$f":"LOOKUP($V496,Data!$A$6:$A$1806,Data!$K$6:$K$1806)","v":7790.07},13.3905029296875,null,null,null,null,null,null,null,null,null,null,null,null,null,null,79.0576171875," ",1.300048828125E-2," "]
[null,40098.112060184409,{"$f":"LOOKUP(B497,Data!$A$6:$A$1806,Data!B$6:B$1806)","v":59.990001678466797},{"$f":"LOOKUP(B497,Data!$A$6:$A$1806,Data!C$6:C$1806)","v":3720.10791015625},null,null,3090,{"$f":"(IF((C497-L$2)>0,(IF(C497<'Copy Results'!$C$3,((C497-L$2-L$5)/((L$4*L$2)-L$5)*G497*-1),(('Copy Results'!$C$3-L$2-L$5)/((L$4*L$2)-L$5)*G497*-1))),IF(C497>'Copy Results'!$C$2,((C497-L$2+L$5)/((L$4*L$2)-L$5)*G497*-1),(('Copy Results'!$C$2-L$2+L$5)/((L$4*L$2)-L$5)*G497*-1))))","v":10.298271179199219},12.488156358094402,null,null,0,3798.759388404389,{"$f":"AVERAGE(D$79:D497)","v":3766.191652721323},{"$f":"AVERAGE(M$79:M497)","v":3803.9308043773599},3771.0526488503479,{"$f":"AVERAGE(P$79:P497)","v":3750.5936645558345},null,null,null,null,40098.112060184409,{"$f":"LOOKUP($V497,Data!$A$6:$A$1806,Data!$B$6:$B$1806)","v":59.990001678466797},{"$f":"LOOKUP($V497,Data!$A$6:$A$1806,Data!$C$6:$C$1806)","v":3720.10791015625},{"$f":"LOOKUP($V497,Data!$A$6:$A$1806,Data!$D$6:$D$1806)","v":350},{"$f":"IF($Z$1=\"+\",LOOKUP($V497,Data!$A$6:$A$1806,Data!$E$6:$E$1806)*-1,LOOKUP($V497,Data!$A$6:$A$1806,Data!$E$6:$E$1806))","v":223.01573181152344},{"$f":"LOOKUP($V497,Data!$A$6:$A$1806,Data!$F$6:$F$1806)","v":16},null,{"$f":"LOOKUP($V497,Data!$A$6:$A$1806,Data!$H$6:$H$1806)","v":10},{"$f":"LOOKUP($V497,Data!$A$6:$A$1806,Data!$I$6:$I$1806)","v":0},{"$f":"IF(LOOKUP($V497,Data!$A$6:$A$1806,Data!$J$6:$J$1806)>0,(LOOKUP($V497,Data!$A$6:$A$1806,Data!$J$6:$J$1806)*-1),LOOKUP($V497,Data!$A$6:$A$1806,Data!$J$6:$J$1806))","v":-103},{"$f":"LOOKUP($V497,Data!$A$6:$A$1806,Data!$K$6:$K$1806)","v":7790.4},10.298271179199219,null,null,null,null,null,null,null,null,null,null,null,null,null,null,74.380859375," ",9.998321533203125E-3," "]
[null,40098.112083332555,{"$f":"LOOKUP(B498,Data!$A$6:$A$1806,Data!B$6:B$1806)","v":59.993999481201172},{"$f":"LOOKUP(B498,Data!$A$6:$A$1806,Data!C$6:C$1806)","v":3720.938232421875},null,null,3090,{"$f":"(IF((C498-L$2)>0,(IF(C498<'Copy Results'!$C$3,((C498-L$2-L$5)/((L$4*L$2)-L$5)*G498*-1),(('Copy Results'!$C$3-L$2-L$5)/((L$4*L$2)-L$5)*G498*-1))),IF(C498>'Copy Results'!$C$2,((C498-L$2+L$5)/((L$4*L$2)-L$5)*G498*-1),(('Copy Results'!$C$2-L$2+L$5)/((L$4*L$2)-L$5)*G498*-1))))","v":6.1805343627929696},10.2804886597389,null,null,0,3796.5517207060334,{"$f":"AVERAGE(D$79:D498)","v":3766.083906482515},{"$f":"AVERAGE(M$79:M498)","v":3803.9132351305234},3771.0526488503479,{"$f":"AVERAGE(P$79:P498)","v":3750.6424926806421},null,null,null,null,40098.112083332555,{"$f":"LOOKUP($V498,Data!$A$6:$A$1806,Data!$B$6:$B$1806)","v":59.993999481201172},{"$f":"LOOKUP($V498,Data!$A$6:$A$1806,Data!$C$6:$C$1806)","v":3720.938232421875},{"$f":"LOOKUP($V498,Data!$A$6:$A$1806,Data!$D$6:$D$1806)","v":350},{"$f":"IF($Z$1=\"+\",LOOKUP($V498,Data!$A$6:$A$1806,Data!$E$6:$E$1806)*-1,LOOKUP($V498,Data!$A$6:$A$1806,Data!$E$6:$E$1806))","v":223.01573181152344},{"$f":"LOOKUP($V498,Data!$A$6:$A$1806,Data!$F$6:$F$1806)","v":16},null,{"$f":"LOOKUP($V498,Data!$A$6:$A$1806,Data!$H$6:$H$1806)","v":10},{"$f":"LOOKUP($V498,Data!$A$6:$A$1806,Data!$I$6:$I$1806)","v":0},{"$f":"IF(LOOKUP($V498,Data!$A$6:$A$1806,Data!$J$6:$J$1806)>0,(LOOKUP($V498,Data!$A$6:$A$1806,Data!$J$6:$J$1806)*-1),LOOKUP($V498,Data!$A$6:$A$1806,Data!$J$6:$J$1806))","v":-103},{"$f":"LOOKUP($V498,Data!$A$6:$A$1806,Data!$K$6:$K$1806)","v":7790.73},6.1805343627929696,null,null,null,null,null,null,null,null,null,null,null,null,null,null,75.211181640625," ",6.000518798828125E-3," "]
[null,40098.112106480701,{"$f":"LOOKUP(B499,Data!$A$6:$A$1806,Data!B$6:B$1806)","v":59.995998382568359},{"$f":"LOOKUP(B499,Data!$A$6:$A$1806,Data!C$6:C$1806)","v":3725.661376953125},null,null,3090,{"$f":"(IF((C499-L$2)>0,(IF(C499<'Copy Results'!$C$3,((C499-L$2-L$5)/((L$4*L$2)-L$5)*G499*-1),(('Copy Results'!$C$3-L$2-L$5)/((L$4*L$2)-L$5)*G499*-1))),IF(C499>'Copy Results'!$C$2,((C499-L$2+L$5)/((L$4*L$2)-L$5)*G499*-1),(('Copy Results'!$C$2-L$2+L$5)/((L$4*L$2)-L$5)*G499*-1))))","v":4.1216659545898437},8.1249007129367303,null,null,0,3794.396132759231,{"$f":"AVERAGE(D$79:D499)","v":3765.9878909729437},{"$f":"AVERAGE(M$79:M499)","v":3803.8906291866488},3771.0526488503479,{"$f":"AVERAGE(P$79:P499)","v":3750.6910882905695},null,null,null,null,40098.112106480701,{"$f":"LOOKUP($V499,Data!$A$6:$A$1806,Data!$B$6:$B$1806)","v":59.995998382568359},{"$f":"LOOKUP($V499,Data!$A$6:$A$1806,Data!$C$6:$C$1806)","v":3725.661376953125},{"$f":"LOOKUP($V499,Data!$A$6:$A$1806,Data!$D$6:$D$1806)","v":350},{"$f":"IF($Z$1=\"+\",LOOKUP($V499,Data!$A$6:$A$1806,Data!$E$6:$E$1806)*-1,LOOKUP($V499,Data!$A$6:$A$1806,Data!$E$6:$E$1806))","v":223.01573181152344},{"$f":"LOOKUP($V499,Data!$A$6:$A$1806,Data!$F$6:$F$1806)","v":16},null,{"$f":"LOOKUP($V499,Data!$A$6:$A$1806,Data!$H$6:$H$1806)","v":10},{"$f":"LOOKUP($V499,Data!$A$6:$A$1806,Data!$I$6:$I$1806)","v":0},{"$f":"IF(LOOKUP($V499,Data!$A$6:$A$1806,Data!$J$6:$J$1806)>0,(LOOKUP($V499,Data!$A$6:$A$1806,Data!$J$6:$J$1806)*-1),LOOKUP($V499,Data!$A$6:$A$1806,Data!$J$6:$J$1806))","v":-103},{"$f":"LOOKUP($V499,Data!$A$6:$A$1806,Data!$K$6:$K$1806)","v":7791.06},4.1216659545898437,null,null,null,null,null,null,null,null,null,null,null,null,null,null,79.934326171875," ",4.001617431640625E-3," "]
[null,40098.112129628847,{"$f":"LOOKUP(B500,Data!$A$6:$A$1806,Data!B$6:B$1806)","v":60.000999450683594},{"$f":"LOOKUP(B500,Data!$A$6:$A$1806,Data!C$6:C$1806)","v":3725.6767578125},null,null,3090,{"$f":"(IF((C500-L$2)>0,(IF(C500<'Copy Results'!$C$3,((C500-L$2-L$5)/((L$4*L$2)-L$5)*G500*-1),(('Copy Results'!$C$3-L$2-L$5)/((L$4*L$2)-L$5)*G500*-1))),IF(C500>'Copy Results'!$C$2,((C500-L$2+L$5)/((L$4*L$2)-L$5)*G500*-1),(('Copy Results'!$C$2-L$2+L$5)/((L$4*L$2)-L$5)*G500*-1))))","v":-1.0294342041015625},4.9208834919733278,null,null,0,3791.1921155382674,{"$f":"AVERAGE(D$79:D500)","v":3765.8923669607152},{"$f":"AVERAGE(M$79:M500)","v":3803.8605379220794},3771.0526488503479,{"$f":"AVERAGE(P$79:P500)","v":3750.7394530424931},null,null,null,null,40098.112129628847,{"$f":"LOOKUP($V500,Data!$A$6:$A$1806,Data!$B$6:$B$1806)","v":60.000999450683594},{"$f":"LOOKUP($V500,Data!$A$6:$A$1806,Data!$C$6:$C$1806)","v":3725.6767578125},{"$f":"LOOKUP($V500,Data!$A$6:$A$1806,Data!$D$6:$D$1806)","v":350},{"$f":"IF($Z$1=\"+\",LOOKUP($V500,Data!$A$6:$A$1806,Data!$E$6:$E$1806)*-1,LOOKUP($V500,Data!$A$6:$A$1806,Data!$E$6:$E$1806))","v":223.01573181152344},{"$f":"LOOKUP($V500,Data!$A$6:$A$1806,Data!$F$6:$F$1806)","v":16},null,{"$f":"LOOKUP($V500,Data!$A$6:$A$1806,Data!$H$6:$H$1806)","v":10},{"$f":"LOOKUP($V500,Data!$A$6:$A$1806,Data!$I$6:$I$1806)","v":0},{"$f":"IF(LOOKUP($V500,Data!$A$6:$A$1806,Data!$J$6:$J$1806)>0,(LOOKUP($V500,Data!$A$6:$A$1806,Data!$J$6:$J$1806)*-1),LOOKUP($V500,Data!$A$6:$A$1806,Data!$J$6:$J$1806))","v":-103},{"$f":"LOOKUP($V500,Data!$A$6:$A$1806,Data!$K$6:$K$1806)","v":7791.39},-1.0294342041015625,null,null,null,null,null,null,null,null,null,null,null,null,null,null,79.94970703125," ",9.9945068359375E-4," "]
[null,40098.112152776994,{"$f":"LOOKUP(B501,Data!$A$6:$A$1806,Data!B$6:B$1806)","v":60.002998352050781},{"$f":"LOOKUP(B501,Data!$A$6:$A$1806,Data!C$6:C$1806)","v":3727.754150390625},null,null,3090,{"$f":"(IF((C501-L$2)>0,(IF(C501<'Copy Results'!$C$3,((C501-L$2-L$5)/((L$4*L$2)-L$5)*G501*-1),(('Copy Results'!$C$3-L$2-L$5)/((L$4*L$2)-L$5)*G501*-1))),IF(C501>'Copy Results'!$C$2,((C501-L$2+L$5)/((L$4*L$2)-L$5)*G501*-1),(('Copy Results'!$C$2-L$2+L$5)/((L$4*L$2)-L$5)*G501*-1))))","v":-3.0883026123046875},2.1176683554760225,null,null,0,3788.3889004017701,{"$f":"AVERAGE(D$79:D501)","v":3765.8022056922282},{"$f":"AVERAGE(M$79:M501)","v":3803.8239619468541},3771.0526488503479,{"$f":"AVERAGE(P$79:P501)","v":3750.7875885775825},null,null,null,null,40098.112152776994,{"$f":"LOOKUP($V501,Data!$A$6:$A$1806,Data!$B$6:$B$1806)","v":60.002998352050781},{"$f":"LOOKUP($V501,Data!$A$6:$A$1806,Data!$C$6:$C$1806)","v":3727.754150390625},{"$f":"LOOKUP($V501,Data!$A$6:$A$1806,Data!$D$6:$D$1806)","v":350},{"$f":"IF($Z$1=\"+\",LOOKUP($V501,Data!$A$6:$A$1806,Data!$E$6:$E$1806)*-1,LOOKUP($V501,Data!$A$6:$A$1806,Data!$E$6:$E$1806))","v":223.01573181152344},{"$f":"LOOKUP($V501,Data!$A$6:$A$1806,Data!$F$6:$F$1806)","v":16},null,{"$f":"LOOKUP($V501,Data!$A$6:$A$1806,Data!$H$6:$H$1806)","v":10},{"$f":"LOOKUP($V501,Data!$A$6:$A$1806,Data!$I$6:$I$1806)","v":0},{"$f":"IF(LOOKUP($V501,Data!$A$6:$A$1806,Data!$J$6:$J$1806)>0,(LOOKUP($V501,Data!$A$6:$A$1806,Data!$J$6:$J$1806)*-1),LOOKUP($V501,Data!$A$6:$A$1806,Data!$J$6:$J$1806))","v":-103},{"$f":"LOOKUP($V501,Data!$A$6:$A$1806,Data!$K$6:$K$1806)","v":7791.72},-3.0883026123046875,null,null,null,null,null,null,null,null,null,null,null,null,null,null,82.027099609375," ",2.99835205078125E-3," "]
[null,40098.11217592514,{"$f":"LOOKUP(B502,Data!$A$6:$A$1806,Data!B$6:B$1806)","v":60.004001617431641},{"$f":"LOOKUP(B502,Data!$A$6:$A$1806,Data!C$6:C$1806)","v":3727.82470703125},null,null,3090,{"$f":"(IF((C502-L$2)>0,(IF(C502<'Copy Results'!$C$3,((C502-L$2-L$5)/((L$4*L$2)-L$5)*G502*-1),(('Copy Results'!$C$3-L$2-L$5)/((L$4*L$2)-L$5)*G502*-1))),IF(C502>'Copy Results'!$C$2,((C502-L$2+L$5)/((L$4*L$2)-L$5)*G502*-1),(('Copy Results'!$C$2-L$2+L$5)/((L$4*L$2)-L$5)*G502*-1))))","v":-4.1216659545898437},-6.6098653047030664E-2,null,null,0,3786.2051333932473,{"$f":"AVERAGE(D$79:D502)","v":3765.7126361199144},{"$f":"AVERAGE(M$79:M502)","v":3803.7824081059257},3771.0526488503479,{"$f":"AVERAGE(P$79:P502)","v":3750.8354965214894},null,null,null,null,40098.11217592514,{"$f":"LOOKUP($V502,Data!$A$6:$A$1806,Data!$B$6:$B$1806)","v":60.004001617431641},{"$f":"LOOKUP($V502,Data!$A$6:$A$1806,Data!$C$6:$C$1806)","v":3727.82470703125},{"$f":"LOOKUP($V502,Data!$A$6:$A$1806,Data!$D$6:$D$1806)","v":350},{"$f":"IF($Z$1=\"+\",LOOKUP($V502,Data!$A$6:$A$1806,Data!$E$6:$E$1806)*-1,LOOKUP($V502,Data!$A$6:$A$1806,Data!$E$6:$E$1806))","v":223.01573181152344},{"$f":"LOOKUP($V502,Data!$A$6:$A$1806,Data!$F$6:$F$1806)","v":16},null,{"$f":"LOOKUP($V502,Data!$A$6:$A$1806,Data!$H$6:$H$1806)","v":10},{"$f":"LOOKUP($V502,Data!$A$6:$A$1806,Data!$I$6:$I$1806)","v":0},{"$f":"IF(LOOKUP($V502,Data!$A$6:$A$1806,Data!$J$6:$J$1806)>0,(LOOKUP($V502,Data!$A$6:$A$1806,Data!$J$6:$J$1806)*-1),LOOKUP($V502,Data!$A$6:$A$1806,Data!$J$6:$J$1806))","v":-103},{"$f":"LOOKUP($V502,Data!$A$6:$A$1806,Data!$K$6:$K$1806)","v":7792.05},-4.1216659545898437,null,null,null,null,null,null,null,null,null,null,null,null,null,null,82.09765625," ",4.001617431640625E-3," "]
[null,40098.112199073286,{"$f":"LOOKUP(B503,Data!$A$6:$A$1806,Data!B$6:B$1806)","v":60.006000518798828},{"$f":"LOOKUP(B503,Data!$A$6:$A$1806,Data!C$6:C$1806)","v":3727.683349609375},null,null,3090,{"$f":"(IF((C503-L$2)>0,(IF(C503<'Copy Results'!$C$3,((C503-L$2-L$5)/((L$4*L$2)-L$5)*G503*-1),(('Copy Results'!$C$3-L$2-L$5)/((L$4*L$2)-L$5)*G503*-1))),IF(C503>'Copy Results'!$C$2,((C503-L$2+L$5)/((L$4*L$2)-L$5)*G503*-1),(('Copy Results'!$C$2-L$2+L$5)/((L$4*L$2)-L$5)*G503*-1))))","v":-6.1805343627929696},-2.2061511514581089,null,null,0,3784.0650808948362,{"$f":"AVERAGE(D$79:D503)","v":3765.6231554457722},{"$f":"AVERAGE(M$79:M503)","v":3803.7360143948408},3771.0526488503479,{"$f":"AVERAGE(P$79:P503)","v":3750.8831784845288},null,null,null,null,40098.112199073286,{"$f":"LOOKUP($V503,Data!$A$6:$A$1806,Data!$B$6:$B$1806)","v":60.006000518798828},{"$f":"LOOKUP($V503,Data!$A$6:$A$1806,Data!$C$6:$C$1806)","v":3727.683349609375},{"$f":"LOOKUP($V503,Data!$A$6:$A$1806,Data!$D$6:$D$1806)","v":350},{"$f":"IF($Z$1=\"+\",LOOKUP($V503,Data!$A$6:$A$1806,Data!$E$6:$E$1806)*-1,LOOKUP($V503,Data!$A$6:$A$1806,Data!$E$6:$E$1806))","v":223.01573181152344},{"$f":"LOOKUP($V503,Data!$A$6:$A$1806,Data!$F$6:$F$1806)","v":16},null,{"$f":"LOOKUP($V503,Data!$A$6:$A$1806,Data!$H$6:$H$1806)","v":10},{"$f":"LOOKUP($V503,Data!$A$6:$A$1806,Data!$I$6:$I$1806)","v":0},{"$f":"IF(LOOKUP($V503,Data!$A$6:$A$1806,Data!$J$6:$J$1806)>0,(LOOKUP($V503,Data!$A$6:$A$1806,Data!$J$6:$J$1806)*-1),LOOKUP($V503,Data!$A$6:$A$1806,Data!$J$6:$J$1806))","v":-103},{"$f":"LOOKUP($V503,Data!$A$6:$A$1806,Data!$K$6:$K$1806)","v":7792.38},-6.1805343627929696,null,null,null,null,null,null,null,null,null,null,null,null,null,null,81.956298828125," ",6.000518798828125E-3," "]
[null,40098.112222221433,{"$f":"LOOKUP(B504,Data!$A$6:$A$1806,Data!B$6:B$1806)","v":60.012001037597656},{"$f":"LOOKUP(B504,Data!$A$6:$A$1806,Data!C$6:C$1806)","v":3727.2314453125},null,null,3090,{"$f":"(IF((C504-L$2)>0,(IF(C504<'Copy Results'!$C$3,((C504-L$2-L$5)/((L$4*L$2)-L$5)*G504*-1),(('Copy Results'!$C$3-L$2-L$5)/((L$4*L$2)-L$5)*G504*-1))),IF(C504>'Copy Results'!$C$2,((C504-L$2+L$5)/((L$4*L$2)-L$5)*G504*-1),(('Copy Results'!$C$2-L$2+L$5)/((L$4*L$2)-L$5)*G504*-1))))","v":-12.361068725585939},-5.7603723024028488,null,null,0,3780.5108597438916,{"$f":"AVERAGE(D$79:D504)","v":3765.5330340604828},{"$f":"AVERAGE(M$79:M504)","v":3803.6814952524678},3771.0526488503479,{"$f":"AVERAGE(P$79:P504)","v":3750.9306360618602},null,null,null,null,40098.112222221433,{"$f":"LOOKUP($V504,Data!$A$6:$A$1806,Data!$B$6:$B$1806)","v":60.012001037597656},{"$f":"LOOKUP($V504,Data!$A$6:$A$1806,Data!$C$6:$C$1806)","v":3727.2314453125},{"$f":"LOOKUP($V504,Data!$A$6:$A$1806,Data!$D$6:$D$1806)","v":350},{"$f":"IF($Z$1=\"+\",LOOKUP($V504,Data!$A$6:$A$1806,Data!$E$6:$E$1806)*-1,LOOKUP($V504,Data!$A$6:$A$1806,Data!$E$6:$E$1806))","v":223.01573181152344},{"$f":"LOOKUP($V504,Data!$A$6:$A$1806,Data!$F$6:$F$1806)","v":16},null,{"$f":"LOOKUP($V504,Data!$A$6:$A$1806,Data!$H$6:$H$1806)","v":10},{"$f":"LOOKUP($V504,Data!$A$6:$A$1806,Data!$I$6:$I$1806)","v":0},{"$f":"IF(LOOKUP($V504,Data!$A$6:$A$1806,Data!$J$6:$J$1806)>0,(LOOKUP($V504,Data!$A$6:$A$1806,Data!$J$6:$J$1806)*-1),LOOKUP($V504,Data!$A$6:$A$1806,Data!$J$6:$J$1806))","v":-103},{"$f":"LOOKUP($V504,Data!$A$6:$A$1806,Data!$K$6:$K$1806)","v":7792.71},-12.361068725585939,null,null,null,null,null,null,null,null,null,null,null,null,null,null,81.50439453125," ",1.200103759765625E-2," "]
[null,40098.112245369579,{"$f":"LOOKUP(B505,Data!$A$6:$A$1806,Data!B$6:B$1806)","v":60.013999938964844},{"$f":"LOOKUP(B505,Data!$A$6:$A$1806,Data!C$6:C$1806)","v":3725.01220703125},null,null,3090,{"$f":"(IF((C505-L$2)>0,(IF(C505<'Copy Results'!$C$3,((C505-L$2-L$5)/((L$4*L$2)-L$5)*G505*-1),(('Copy Results'!$C$3-L$2-L$5)/((L$4*L$2)-L$5)*G505*-1))),IF(C505>'Copy Results'!$C$2,((C505-L$2+L$5)/((L$4*L$2)-L$5)*G505*-1),(('Copy Results'!$C$2-L$2+L$5)/((L$4*L$2)-L$5)*G505*-1))))","v":-14.419937133789061},-8.7912199933880224,null,null,0,3777.4800120529067,{"$f":"AVERAGE(D$79:D505)","v":3765.4381375100629},{"$f":"AVERAGE(M$79:M505)","v":3803.620133465115},3771.0526488503479,{"$f":"AVERAGE(P$79:P505)","v":3750.9778708336639},null,null,null,null,40098.112245369579,{"$f":"LOOKUP($V505,Data!$A$6:$A$1806,Data!$B$6:$B$1806)","v":60.013999938964844},{"$f":"LOOKUP($V505,Data!$A$6:$A$1806,Data!$C$6:$C$1806)","v":3725.01220703125},{"$f":"LOOKUP($V505,Data!$A$6:$A$1806,Data!$D$6:$D$1806)","v":350},{"$f":"IF($Z$1=\"+\",LOOKUP($V505,Data!$A$6:$A$1806,Data!$E$6:$E$1806)*-1,LOOKUP($V505,Data!$A$6:$A$1806,Data!$E$6:$E$1806))","v":223.01573181152344},{"$f":"LOOKUP($V505,Data!$A$6:$A$1806,Data!$F$6:$F$1806)","v":16},null,{"$f":"LOOKUP($V505,Data!$A$6:$A$1806,Data!$H$6:$H$1806)","v":10},{"$f":"LOOKUP($V505,Data!$A$6:$A$1806,Data!$I$6:$I$1806)","v":0},{"$f":"IF(LOOKUP($V505,Data!$A$6:$A$1806,Data!$J$6:$J$1806)>0,(LOOKUP($V505,Data!$A$6:$A$1806,Data!$J$6:$J$1806)*-1),LOOKUP($V505,Data!$A$6:$A$1806,Data!$J$6:$J$1806))","v":-103},{"$f":"LOOKUP($V505,Data!$A$6:$A$1806,Data!$K$6:$K$1806)","v":7793.04},-14.419937133789061,null,null,null,null,null,null,null,null,null,null,null,null,null,null,79.28515625," ",1.399993896484375E-2," "]
[null,40098.112268517725,{"$f":"LOOKUP(B506,Data!$A$6:$A$1806,Data!B$6:B$1806)","v":60.019001007080078},{"$f":"LOOKUP(B506,Data!$A$6:$A$1806,Data!C$6:C$1806)","v":3726.4462890625},null,null,3090,{"$f":"(IF((C506-L$2)>0,(IF(C506<'Copy Results'!$C$3,((C506-L$2-L$5)/((L$4*L$2)-L$5)*G506*-1),(('Copy Results'!$C$3-L$2-L$5)/((L$4*L$2)-L$5)*G506*-1))),IF(C506>'Copy Results'!$C$2,((C506-L$2+L$5)/((L$4*L$2)-L$5)*G506*-1),(('Copy Results'!$C$2-L$2+L$5)/((L$4*L$2)-L$5)*G506*-1))))","v":-19.571037292480469},-12.564156048070378,null,null,0,3773.7070759982244,{"$f":"AVERAGE(D$79:D506)","v":3765.3470350604189},{"$f":"AVERAGE(M$79:M506)","v":3803.5502431439309},3771.0526488503479,{"$f":"AVERAGE(P$79:P506)","v":3751.0248843653185},null,null,null,null,40098.112268517725,{"$f":"LOOKUP($V506,Data!$A$6:$A$1806,Data!$B$6:$B$1806)","v":60.019001007080078},{"$f":"LOOKUP($V506,Data!$A$6:$A$1806,Data!$C$6:$C$1806)","v":3726.4462890625},{"$f":"LOOKUP($V506,Data!$A$6:$A$1806,Data!$D$6:$D$1806)","v":350},{"$f":"IF($Z$1=\"+\",LOOKUP($V506,Data!$A$6:$A$1806,Data!$E$6:$E$1806)*-1,LOOKUP($V506,Data!$A$6:$A$1806,Data!$E$6:$E$1806))","v":223.01573181152344},{"$f":"LOOKUP($V506,Data!$A$6:$A$1806,Data!$F$6:$F$1806)","v":16},null,{"$f":"LOOKUP($V506,Data!$A$6:$A$1806,Data!$H$6:$H$1806)","v":10},{"$f":"LOOKUP($V506,Data!$A$6:$A$1806,Data!$I$6:$I$1806)","v":0},{"$f":"IF(LOOKUP($V506,Data!$A$6:$A$1806,Data!$J$6:$J$1806)>0,(LOOKUP($V506,Data!$A$6:$A$1806,Data!$J$6:$J$1806)*-1),LOOKUP($V506,Data!$A$6:$A$1806,Data!$J$6:$J$1806))","v":-103},{"$f":"LOOKUP($V506,Data!$A$6:$A$1806,Data!$K$6:$K$1806)","v":7793.37},-19.571037292480469,null,null,null,null,null,null,null,null,null,null,null,null,null,null,80.71923828125," ",1.9001007080078125E-2," "]
[null,40098.112291665871,{"$f":"LOOKUP(B507,Data!$A$6:$A$1806,Data!B$6:B$1806)","v":60.020999908447266},{"$f":"LOOKUP(B507,Data!$A$6:$A$1806,Data!C$6:C$1806)","v":3726.015625},null,null,3090,{"$f":"(IF((C507-L$2)>0,(IF(C507<'Copy Results'!$C$3,((C507-L$2-L$5)/((L$4*L$2)-L$5)*G507*-1),(('Copy Results'!$C$3-L$2-L$5)/((L$4*L$2)-L$5)*G507*-1))),IF(C507>'Copy Results'!$C$2,((C507-L$2+L$5)/((L$4*L$2)-L$5)*G507*-1),(('Copy Results'!$C$2-L$2+L$5)/((L$4*L$2)-L$5)*G507*-1))))","v":-21.629905700683594},-15.737168426485002,null,null,0,3770.5340636198098,{"$f":"AVERAGE(D$79:D507)","v":3765.2553534518865},{"$f":"AVERAGE(M$79:M507)","v":3803.4732823524992},3771.0526488503479,{"$f":"AVERAGE(P$79:P507)","v":3751.0716782075729},null,null,null,null,40098.112291665871,{"$f":"LOOKUP($V507,Data!$A$6:$A$1806,Data!$B$6:$B$1806)","v":60.020999908447266},{"$f":"LOOKUP($V507,Data!$A$6:$A$1806,Data!$C$6:$C$1806)","v":3726.015625},{"$f":"LOOKUP($V507,Data!$A$6:$A$1806,Data!$D$6:$D$1806)","v":350},{"$f":"IF($Z$1=\"+\",LOOKUP($V507,Data!$A$6:$A$1806,Data!$E$6:$E$1806)*-1,LOOKUP($V507,Data!$A$6:$A$1806,Data!$E$6:$E$1806))","v":223.01573181152344},{"$f":"LOOKUP($V507,Data!$A$6:$A$1806,Data!$F$6:$F$1806)","v":16},null,{"$f":"LOOKUP($V507,Data!$A$6:$A$1806,Data!$H$6:$H$1806)","v":10},{"$f":"LOOKUP($V507,Data!$A$6:$A$1806,Data!$I$6:$I$1806)","v":0},{"$f":"IF(LOOKUP($V507,Data!$A$6:$A$1806,Data!$J$6:$J$1806)>0,(LOOKUP($V507,Data!$A$6:$A$1806,Data!$J$6:$J$1806)*-1),LOOKUP($V507,Data!$A$6:$A$1806,Data!$J$6:$J$1806))","v":-103},{"$f":"LOOKUP($V507,Data!$A$6:$A$1806,Data!$K$6:$K$1806)","v":7793.7},-21.629905700683594,null,null,null,null,null,null,null,null,null,null,null,null,null,null,80.28857421875," ",2.0999908447265625E-2," "]
[null,40098.112314814018,{"$f":"LOOKUP(B508,Data!$A$6:$A$1806,Data!B$6:B$1806)","v":60.025001525878906},{"$f":"LOOKUP(B508,Data!$A$6:$A$1806,Data!C$6:C$1806)","v":3719.123046875},null,null,3090,{"$f":"(IF((C508-L$2)>0,(IF(C508<'Copy Results'!$C$3,((C508-L$2-L$5)/((L$4*L$2)-L$5)*G508*-1),(('Copy Results'!$C$3-L$2-L$5)/((L$4*L$2)-L$5)*G508*-1))),IF(C508>'Copy Results'!$C$2,((C508-L$2+L$5)/((L$4*L$2)-L$5)*G508*-1),(('Copy Results'!$C$2-L$2+L$5)/((L$4*L$2)-L$5)*G508*-1))))","v":-25.751571655273434},-19.242209556560951,null,null,0,3767.029022489734,{"$f":"AVERAGE(D$79:D508)","v":3765.1480690179869},{"$f":"AVERAGE(M$79:M508)","v":3803.3885282597948},3771.0526488503479,{"$f":"AVERAGE(P$79:P508)","v":3751.1182538967169},null,null,null,null,40098.112314814018,{"$f":"LOOKUP($V508,Data!$A$6:$A$1806,Data!$B$6:$B$1806)","v":60.025001525878906},{"$f":"LOOKUP($V508,Data!$A$6:$A$1806,Data!$C$6:$C$1806)","v":3719.123046875},{"$f":"LOOKUP($V508,Data!$A$6:$A$1806,Data!$D$6:$D$1806)","v":350},{"$f":"IF($Z$1=\"+\",LOOKUP($V508,Data!$A$6:$A$1806,Data!$E$6:$E$1806)*-1,LOOKUP($V508,Data!$A$6:$A$1806,Data!$E$6:$E$1806))","v":223.01573181152344},{"$f":"LOOKUP($V508,Data!$A$6:$A$1806,Data!$F$6:$F$1806)","v":16},null,{"$f":"LOOKUP($V508,Data!$A$6:$A$1806,Data!$H$6:$H$1806)","v":10},{"$f":"LOOKUP($V508,Data!$A$6:$A$1806,Data!$I$6:$I$1806)","v":0},{"$f":"IF(LOOKUP($V508,Data!$A$6:$A$1806,Data!$J$6:$J$1806)>0,(LOOKUP($V508,Data!$A$6:$A$1806,Data!$J$6:$J$1806)*-1),LOOKUP($V508,Data!$A$6:$A$1806,Data!$J$6:$J$1806))","v":-103},{"$f":"LOOKUP($V508,Data!$A$6:$A$1806,Data!$K$6:$K$1806)","v":7794.03},-25.751571655273434,null,null,null,null,null,null,null,null,null,null,null,null,null,null,73.39599609375," ",2.500152587890625E-2," "]
[null,40098.112337962164,{"$f":"LOOKUP(B509,Data!$A$6:$A$1806,Data!B$6:B$1806)","v":60.0260009765625},{"$f":"LOOKUP(B509,Data!$A$6:$A$1806,Data!C$6:C$1806)","v":3716.37451171875},null,null,3090,{"$f":"(IF((C509-L$2)>0,(IF(C509<'Copy Results'!$C$3,((C509-L$2-L$5)/((L$4*L$2)-L$5)*G509*-1),(('Copy Results'!$C$3-L$2-L$5)/((L$4*L$2)-L$5)*G509*-1))),IF(C509>'Copy Results'!$C$2,((C509-L$2+L$5)/((L$4*L$2)-L$5)*G509*-1),(('Copy Results'!$C$2-L$2+L$5)/((L$4*L$2)-L$5)*G509*-1))))","v":-26.781005859375},-21.88078826254587,null,null,0,3764.3904437837491,{"$f":"AVERAGE(D$79:D509)","v":3765.0349053119562},{"$f":"AVERAGE(M$79:M509)","v":3803.298045465187},3771.0526488503479,{"$f":"AVERAGE(P$79:P509)","v":3751.1646129547485},null,null,null,null,40098.112337962164,{"$f":"LOOKUP($V509,Data!$A$6:$A$1806,Data!$B$6:$B$1806)","v":60.0260009765625},{"$f":"LOOKUP($V509,Data!$A$6:$A$1806,Data!$C$6:$C$1806)","v":3716.37451171875},{"$f":"LOOKUP($V509,Data!$A$6:$A$1806,Data!$D$6:$D$1806)","v":350},{"$f":"IF($Z$1=\"+\",LOOKUP($V509,Data!$A$6:$A$1806,Data!$E$6:$E$1806)*-1,LOOKUP($V509,Data!$A$6:$A$1806,Data!$E$6:$E$1806))","v":223.01573181152344},{"$f":"LOOKUP($V509,Data!$A$6:$A$1806,Data!$F$6:$F$1806)","v":16},null,{"$f":"LOOKUP($V509,Data!$A$6:$A$1806,Data!$H$6:$H$1806)","v":10},{"$f":"LOOKUP($V509,Data!$A$6:$A$1806,Data!$I$6:$I$1806)","v":0},{"$f":"IF(LOOKUP($V509,Data!$A$6:$A$1806,Data!$J$6:$J$1806)>0,(LOOKUP($V509,Data!$A$6:$A$1806,Data!$J$6:$J$1806)*-1),LOOKUP($V509,Data!$A$6:$A$1806,Data!$J$6:$J$1806))","v":-103},{"$f":"LOOKUP($V509,Data!$A$6:$A$1806,Data!$K$6:$K$1806)","v":7794.36},-26.781005859375,null,null,null,null,null,null,null,null,null,null,null,null,null,null,70.6474609375," ",2.60009765625E-2," "]
[null,40098.11236111031,{"$f":"LOOKUP(B510,Data!$A$6:$A$1806,Data!B$6:B$1806)","v":60.027000427246094},{"$f":"LOOKUP(B510,Data!$A$6:$A$1806,Data!C$6:C$1806)","v":3717.33251953125},null,null,3090,{"$f":"(IF((C510-L$2)>0,(IF(C510<'Copy Results'!$C$3,((C510-L$2-L$5)/((L$4*L$2)-L$5)*G510*-1),(('Copy Results'!$C$3-L$2-L$5)/((L$4*L$2)-L$5)*G510*-1))),IF(C510>'Copy Results'!$C$2,((C510-L$2+L$5)/((L$4*L$2)-L$5)*G510*-1),(('Copy Results'!$C$2-L$2+L$5)/((L$4*L$2)-L$5)*G510*-1))))","v":-27.810440063476566},-23.956166392871612,null,null,0,3762.3150656534235,{"$f":"AVERAGE(D$79:D510)","v":3764.9244831226492},{"$f":"AVERAGE(M$79:M510)","v":3803.2031774563634},3771.0526488503479,{"$f":"AVERAGE(P$79:P510)","v":3751.2107568895408},null,null,null,null,40098.11236111031,{"$f":"LOOKUP($V510,Data!$A$6:$A$1806,Data!$B$6:$B$1806)","v":60.027000427246094},{"$f":"LOOKUP($V510,Data!$A$6:$A$1806,Data!$C$6:$C$1806)","v":3717.33251953125},{"$f":"LOOKUP($V510,Data!$A$6:$A$1806,Data!$D$6:$D$1806)","v":350},{"$f":"IF($Z$1=\"+\",LOOKUP($V510,Data!$A$6:$A$1806,Data!$E$6:$E$1806)*-1,LOOKUP($V510,Data!$A$6:$A$1806,Data!$E$6:$E$1806))","v":223.01573181152344},{"$f":"LOOKUP($V510,Data!$A$6:$A$1806,Data!$F$6:$F$1806)","v":16},null,{"$f":"LOOKUP($V510,Data!$A$6:$A$1806,Data!$H$6:$H$1806)","v":10},{"$f":"LOOKUP($V510,Data!$A$6:$A$1806,Data!$I$6:$I$1806)","v":0},{"$f":"IF(LOOKUP($V510,Data!$A$6:$A$1806,Data!$J$6:$J$1806)>0,(LOOKUP($V510,Data!$A$6:$A$1806,Data!$J$6:$J$1806)*-1),LOOKUP($V510,Data!$A$6:$A$1806,Data!$J$6:$J$1806))","v":-103},{"$f":"LOOKUP($V510,Data!$A$6:$A$1806,Data!$K$6:$K$1806)","v":7794.69},-27.810440063476566,null,null,null,null,null,null,null,null,null,null,null,null,null,null,71.60546875," ",2.700042724609375E-2," "]
[null,40098.112384258457,{"$f":"LOOKUP(B511,Data!$A$6:$A$1806,Data!B$6:B$1806)","v":60.028999328613281},{"$f":"LOOKUP(B511,Data!$A$6:$A$1806,Data!C$6:C$1806)","v":3717.559814453125},null,null,3090,{"$f":"(IF((C511-L$2)>0,(IF(C511<'Copy Results'!$C$3,((C511-L$2-L$5)/((L$4*L$2)-L$5)*G511*-1),(('Copy Results'!$C$3-L$2-L$5)/((L$4*L$2)-L$5)*G511*-1))),IF(C511>'Copy Results'!$C$2,((C511-L$2+L$5)/((L$4*L$2)-L$5)*G511*-1),(('Copy Results'!$C$2-L$2+L$5)/((L$4*L$2)-L$5)*G511*-1))))","v":-29.869308471679688},-26.025766120454438,null,null,0,3760.2454659258406,{"$f":"AVERAGE(D$79:D511)","v":3764.8150958970841},{"$f":"AVERAGE(M$79:M511)","v":3803.1039679609121},3771.0526488503479,{"$f":"AVERAGE(P$79:P511)","v":3751.2566871950053},null,null,null,null,40098.112384258457,{"$f":"LOOKUP($V511,Data!$A$6:$A$1806,Data!$B$6:$B$1806)","v":60.028999328613281},{"$f":"LOOKUP($V511,Data!$A$6:$A$1806,Data!$C$6:$C$1806)","v":3717.559814453125},{"$f":"LOOKUP($V511,Data!$A$6:$A$1806,Data!$D$6:$D$1806)","v":350},{"$f":"IF($Z$1=\"+\",LOOKUP($V511,Data!$A$6:$A$1806,Data!$E$6:$E$1806)*-1,LOOKUP($V511,Data!$A$6:$A$1806,Data!$E$6:$E$1806))","v":223.01573181152344},{"$f":"LOOKUP($V511,Data!$A$6:$A$1806,Data!$F$6:$F$1806)","v":16},null,{"$f":"LOOKUP($V511,Data!$A$6:$A$1806,Data!$H$6:$H$1806)","v":10},{"$f":"LOOKUP($V511,Data!$A$6:$A$1806,Data!$I$6:$I$1806)","v":0},{"$f":"IF(LOOKUP($V511,Data!$A$6:$A$1806,Data!$J$6:$J$1806)>0,(LOOKUP($V511,Data!$A$6:$A$1806,Data!$J$6:$J$1806)*-1),LOOKUP($V511,Data!$A$6:$A$1806,Data!$J$6:$J$1806))","v":-103},{"$f":"LOOKUP($V511,Data!$A$6:$A$1806,Data!$K$6:$K$1806)","v":7795.02},-29.869308471679688,null,null,null,null,null,null,null,null,null,null,null,null,null,null,71.832763671875," ",2.899932861328125E-2," "]
[null,40098.112407406603,{"$f":"LOOKUP(B512,Data!$A$6:$A$1806,Data!B$6:B$1806)","v":60.028999328613281},{"$f":"LOOKUP(B512,Data!$A$6:$A$1806,Data!C$6:C$1806)","v":3717.14208984375},null,null,3090,{"$f":"(IF((C512-L$2)>0,(IF(C512<'Copy Results'!$C$3,((C512-L$2-L$5)/((L$4*L$2)-L$5)*G512*-1),(('Copy Results'!$C$3-L$2-L$5)/((L$4*L$2)-L$5)*G512*-1))),IF(C512>'Copy Results'!$C$2,((C512-L$2+L$5)/((L$4*L$2)-L$5)*G512*-1),(('Copy Results'!$C$2-L$2+L$5)/((L$4*L$2)-L$5)*G512*-1))))","v":-29.869308471679688},-27.371005943383278,null,null,0,3758.9002261029118,{"$f":"AVERAGE(D$79:D512)","v":3764.7052502610168},{"$f":"AVERAGE(M$79:M512)","v":3803.0021160211472},3771.0526488503479,{"$f":"AVERAGE(P$79:P512)","v":3751.3024053512531},null,null,null,null,40098.112407406603,{"$f":"LOOKUP($V512,Data!$A$6:$A$1806,Data!$B$6:$B$1806)","v":60.028999328613281},{"$f":"LOOKUP($V512,Data!$A$6:$A$1806,Data!$C$6:$C$1806)","v":3717.14208984375},{"$f":"LOOKUP($V512,Data!$A$6:$A$1806,Data!$D$6:$D$1806)","v":350},{"$f":"IF($Z$1=\"+\",LOOKUP($V512,Data!$A$6:$A$1806,Data!$E$6:$E$1806)*-1,LOOKUP($V512,Data!$A$6:$A$1806,Data!$E$6:$E$1806))","v":223.01573181152344},{"$f":"LOOKUP($V512,Data!$A$6:$A$1806,Data!$F$6:$F$1806)","v":16},null,{"$f":"LOOKUP($V512,Data!$A$6:$A$1806,Data!$H$6:$H$1806)","v":10},{"$f":"LOOKUP($V512,Data!$A$6:$A$1806,Data!$I$6:$I$1806)","v":0},{"$f":"IF(LOOKUP($V512,Data!$A$6:$A$1806,Data!$J$6:$J$1806)>0,(LOOKUP($V512,Data!$A$6:$A$1806,Data!$J$6:$J$1806)*-1),LOOKUP($V512,Data!$A$6:$A$1806,Data!$J$6:$J$1806))","v":-103},{"$f":"LOOKUP($V512,Data!$A$6:$A$1806,Data!$K$6:$K$1806)","v":7795.35},-29.869308471679688,null,null,null,null,null,null,null,null,null,null,null,null,null,null,71.4150390625," ",2.899932861328125E-2," "]
[null,40098.112430554749,{"$f":"LOOKUP(B513,Data!$A$6:$A$1806,Data!B$6:B$1806)","v":60.036998748779297},{"$f":"LOOKUP(B513,Data!$A$6:$A$1806,Data!C$6:C$1806)","v":3715.166015625},null,null,3090,{"$f":"(IF((C513-L$2)>0,(IF(C513<'Copy Results'!$C$3,((C513-L$2-L$5)/((L$4*L$2)-L$5)*G513*-1),(('Copy Results'!$C$3-L$2-L$5)/((L$4*L$2)-L$5)*G513*-1))),IF(C513>'Copy Results'!$C$2,((C513-L$2+L$5)/((L$4*L$2)-L$5)*G513*-1),(('Copy Results'!$C$2-L$2+L$5)/((L$4*L$2)-L$5)*G513*-1))))","v":-38.108711242675781},-31.129202798135655,null,null,0,3755.1420292481594,{"$f":"AVERAGE(D$79:D513)","v":3764.5913669630027},{"$f":"AVERAGE(M$79:M513)","v":3802.8920928331631},3771.0526488503479,{"$f":"AVERAGE(P$79:P513)","v":3751.3479128247527},null,null,null,null,40098.112430554749,{"$f":"LOOKUP($V513,Data!$A$6:$A$1806,Data!$B$6:$B$1806)","v":60.036998748779297},{"$f":"LOOKUP($V513,Data!$A$6:$A$1806,Data!$C$6:$C$1806)","v":3715.166015625},{"$f":"LOOKUP($V513,Data!$A$6:$A$1806,Data!$D$6:$D$1806)","v":350},{"$f":"IF($Z$1=\"+\",LOOKUP($V513,Data!$A$6:$A$1806,Data!$E$6:$E$1806)*-1,LOOKUP($V513,Data!$A$6:$A$1806,Data!$E$6:$E$1806))","v":223.01573181152344},{"$f":"LOOKUP($V513,Data!$A$6:$A$1806,Data!$F$6:$F$1806)","v":16},null,{"$f":"LOOKUP($V513,Data!$A$6:$A$1806,Data!$H$6:$H$1806)","v":10},{"$f":"LOOKUP($V513,Data!$A$6:$A$1806,Data!$I$6:$I$1806)","v":0},{"$f":"IF(LOOKUP($V513,Data!$A$6:$A$1806,Data!$J$6:$J$1806)>0,(LOOKUP($V513,Data!$A$6:$A$1806,Data!$J$6:$J$1806)*-1),LOOKUP($V513,Data!$A$6:$A$1806,Data!$J$6:$J$1806))","v":-103},{"$f":"LOOKUP($V513,Data!$A$6:$A$1806,Data!$K$6:$K$1806)","v":7795.68},-38.108711242675781,null,null,null,null,null,null,null,null,null,null,null,null,null,null,69.43896484375," ",3.6998748779296875E-2,-103]
[null,40098.112453702895,{"$f":"LOOKUP(B514,Data!$A$6:$A$1806,Data!B$6:B$1806)","v":60.035999298095703},{"$f":"LOOKUP(B514,Data!$A$6:$A$1806,Data!C$6:C$1806)","v":3713.6318359375},null,null,3090,{"$f":"(IF((C514-L$2)>0,(IF(C514<'Copy Results'!$C$3,((C514-L$2-L$5)/((L$4*L$2)-L$5)*G514*-1),(('Copy Results'!$C$3-L$2-L$5)/((L$4*L$2)-L$5)*G514*-1))),IF(C514>'Copy Results'!$C$2,((C514-L$2+L$5)/((L$4*L$2)-L$5)*G514*-1),(('Copy Results'!$C$2-L$2+L$5)/((L$4*L$2)-L$5)*G514*-1))))","v":-37.079277038574219},-33.211728782289157,null,null,0,3753.0595032640058,{"$f":"AVERAGE(D$79:D514)","v":3764.4744873046875},{"$f":"AVERAGE(M$79:M514)","v":3802.7777979029588},3771.0526488503479,{"$f":"AVERAGE(P$79:P514)","v":3751.3932110684896},null,null,null,null,40098.112453702895,{"$f":"LOOKUP($V514,Data!$A$6:$A$1806,Data!$B$6:$B$1806)","v":60.035999298095703},{"$f":"LOOKUP($V514,Data!$A$6:$A$1806,Data!$C$6:$C$1806)","v":3713.6318359375},{"$f":"LOOKUP($V514,Data!$A$6:$A$1806,Data!$D$6:$D$1806)","v":350},{"$f":"IF($Z$1=\"+\",LOOKUP($V514,Data!$A$6:$A$1806,Data!$E$6:$E$1806)*-1,LOOKUP($V514,Data!$A$6:$A$1806,Data!$E$6:$E$1806))","v":223.01573181152344},{"$f":"LOOKUP($V514,Data!$A$6:$A$1806,Data!$F$6:$F$1806)","v":16},null,{"$f":"LOOKUP($V514,Data!$A$6:$A$1806,Data!$H$6:$H$1806)","v":10},{"$f":"LOOKUP($V514,Data!$A$6:$A$1806,Data!$I$6:$I$1806)","v":0},{"$f":"IF(LOOKUP($V514,Data!$A$6:$A$1806,Data!$J$6:$J$1806)>0,(LOOKUP($V514,Data!$A$6:$A$1806,Data!$J$6:$J$1806)*-1),LOOKUP($V514,Data!$A$6:$A$1806,Data!$J$6:$J$1806))","v":-103},{"$f":"LOOKUP($V514,Data!$A$6:$A$1806,Data!$K$6:$K$1806)","v":7796.01},-37.079277038574219,null,null,null,null,null,null,null,null,null,null,null,null,null,null,67.90478515625," ",3.5999298095703125E-2," "]
[null,40098.112476851042,{"$f":"LOOKUP(B515,Data!$A$6:$A$1806,Data!B$6:B$1806)","v":60.036998748779297},{"$f":"LOOKUP(B515,Data!$A$6:$A$1806,Data!C$6:C$1806)","v":3710.283447265625},null,null,3090,{"$f":"(IF((C515-L$2)>0,(IF(C515<'Copy Results'!$C$3,((C515-L$2-L$5)/((L$4*L$2)-L$5)*G515*-1),(('Copy Results'!$C$3-L$2-L$5)/((L$4*L$2)-L$5)*G515*-1))),IF(C515>'Copy Results'!$C$2,((C515-L$2+L$5)/((L$4*L$2)-L$5)*G515*-1),(('Copy Results'!$C$2-L$2+L$5)/((L$4*L$2)-L$5)*G515*-1))))","v":-38.108711242675781},-34.925672643424477,null,null,0,3751.3455594028705,{"$f":"AVERAGE(D$79:D515)","v":3764.3504803480764},{"$f":"AVERAGE(M$79:M515)","v":3802.6601039933475},3771.0526488503479,{"$f":"AVERAGE(P$79:P515)","v":3751.4383015221174},null,null,null,null,40098.112476851042,{"$f":"LOOKUP($V515,Data!$A$6:$A$1806,Data!$B$6:$B$1806)","v":60.036998748779297},{"$f":"LOOKUP($V515,Data!$A$6:$A$1806,Data!$C$6:$C$1806)","v":3710.283447265625},{"$f":"LOOKUP($V515,Data!$A$6:$A$1806,Data!$D$6:$D$1806)","v":350},{"$f":"IF($Z$1=\"+\",LOOKUP($V515,Data!$A$6:$A$1806,Data!$E$6:$E$1806)*-1,LOOKUP($V515,Data!$A$6:$A$1806,Data!$E$6:$E$1806))","v":223.01573181152344},{"$f":"LOOKUP($V515,Data!$A$6:$A$1806,Data!$F$6:$F$1806)","v":16},null,{"$f":"LOOKUP($V515,Data!$A$6:$A$1806,Data!$H$6:$H$1806)","v":10},{"$f":"LOOKUP($V515,Data!$A$6:$A$1806,Data!$I$6:$I$1806)","v":0},{"$f":"IF(LOOKUP($V515,Data!$A$6:$A$1806,Data!$J$6:$J$1806)>0,(LOOKUP($V515,Data!$A$6:$A$1806,Data!$J$6:$J$1806)*-1),LOOKUP($V515,Data!$A$6:$A$1806,Data!$J$6:$J$1806))","v":-103},{"$f":"LOOKUP($V515,Data!$A$6:$A$1806,Data!$K$6:$K$1806)","v":7796.34},-38.108711242675781,null,null,null,null,null,null,null,null,null,null,null,null,null,null,64.556396484375," ",3.6998748779296875E-2,-103]
[null,40098.112499999188,{"$f":"LOOKUP(B516,Data!$A$6:$A$1806,Data!B$6:B$1806)","v":60.036998748779297},{"$f":"LOOKUP(B516,Data!$A$6:$A$1806,Data!C$6:C$1806)","v":3710.15771484375},null,null,3090,{"$f":"(IF((C516-L$2)>0,(IF(C516<'Copy Results'!$C$3,((C516-L$2-L$5)/((L$4*L$2)-L$5)*G516*-1),(('Copy Results'!$C$3-L$2-L$5)/((L$4*L$2)-L$5)*G516*-1))),IF(C516>'Copy Results'!$C$2,((C516-L$2+L$5)/((L$4*L$2)-L$5)*G516*-1),(('Copy Results'!$C$2-L$2+L$5)/((L$4*L$2)-L$5)*G516*-1))))","v":-38.108711242675781},-36.039736153162437,null,null,0,3750.2314958931324,{"$f":"AVERAGE(D$79:D516)","v":3764.2267525729521},{"$f":"AVERAGE(M$79:M516)","v":3802.5404039748537},3771.0526488503479,{"$f":"AVERAGE(P$79:P516)","v":3751.4831856121132},null,null,null,null,40098.112499999188,{"$f":"LOOKUP($V516,Data!$A$6:$A$1806,Data!$B$6:$B$1806)","v":60.036998748779297},{"$f":"LOOKUP($V516,Data!$A$6:$A$1806,Data!$C$6:$C$1806)","v":3710.15771484375},{"$f":"LOOKUP($V516,Data!$A$6:$A$1806,Data!$D$6:$D$1806)","v":350},{"$f":"IF($Z$1=\"+\",LOOKUP($V516,Data!$A$6:$A$1806,Data!$E$6:$E$1806)*-1,LOOKUP($V516,Data!$A$6:$A$1806,Data!$E$6:$E$1806))","v":223.01573181152344},{"$f":"LOOKUP($V516,Data!$A$6:$A$1806,Data!$F$6:$F$1806)","v":16},null,{"$f":"LOOKUP($V516,Data!$A$6:$A$1806,Data!$H$6:$H$1806)","v":10},{"$f":"LOOKUP($V516,Data!$A$6:$A$1806,Data!$I$6:$I$1806)","v":0},{"$f":"IF(LOOKUP($V516,Data!$A$6:$A$1806,Data!$J$6:$J$1806)>0,(LOOKUP($V516,Data!$A$6:$A$1806,Data!$J$6:$J$1806)*-1),LOOKUP($V516,Data!$A$6:$A$1806,Data!$J$6:$J$1806))","v":-103},{"$f":"LOOKUP($V516,Data!$A$6:$A$1806,Data!$K$6:$K$1806)","v":7796.67},-38.108711242675781,null,null,null,null,null,null,null,null,null,null,null,null,null,null,64.4306640625," ",3.6998748779296875E-2,-103]
[null,40098.112523147334,{"$f":"LOOKUP(B517,Data!$A$6:$A$1806,Data!B$6:B$1806)","v":60.035999298095703},{"$f":"LOOKUP(B517,Data!$A$6:$A$1806,Data!C$6:C$1806)","v":3699.355712890625},null,null,3090,{"$f":"(IF((C517-L$2)>0,(IF(C517<'Copy Results'!$C$3,((C517-L$2-L$5)/((L$4*L$2)-L$5)*G517*-1),(('Copy Results'!$C$3-L$2-L$5)/((L$4*L$2)-L$5)*G517*-1))),IF(C517>'Copy Results'!$C$2,((C517-L$2+L$5)/((L$4*L$2)-L$5)*G517*-1),(('Copy Results'!$C$2-L$2+L$5)/((L$4*L$2)-L$5)*G517*-1))))","v":-37.079277038574219},-36.403575463056562,null,null,0,3749.8676565832384,{"$f":"AVERAGE(D$79:D517)","v":3764.0789825508969},{"$f":"AVERAGE(M$79:M517)","v":3802.4204204956018},3771.0526488503479,{"$f":"AVERAGE(P$79:P517)","v":3751.5278647519262},null,null,null,null,40098.112523147334,{"$f":"LOOKUP($V517,Data!$A$6:$A$1806,Data!$B$6:$B$1806)","v":60.035999298095703},{"$f":"LOOKUP($V517,Data!$A$6:$A$1806,Data!$C$6:$C$1806)","v":3699.355712890625},{"$f":"LOOKUP($V517,Data!$A$6:$A$1806,Data!$D$6:$D$1806)","v":350},{"$f":"IF($Z$1=\"+\",LOOKUP($V517,Data!$A$6:$A$1806,Data!$E$6:$E$1806)*-1,LOOKUP($V517,Data!$A$6:$A$1806,Data!$E$6:$E$1806))","v":223.01573181152344},{"$f":"LOOKUP($V517,Data!$A$6:$A$1806,Data!$F$6:$F$1806)","v":16},null,{"$f":"LOOKUP($V517,Data!$A$6:$A$1806,Data!$H$6:$H$1806)","v":10},{"$f":"LOOKUP($V517,Data!$A$6:$A$1806,Data!$I$6:$I$1806)","v":0},{"$f":"IF(LOOKUP($V517,Data!$A$6:$A$1806,Data!$J$6:$J$1806)>0,(LOOKUP($V517,Data!$A$6:$A$1806,Data!$J$6:$J$1806)*-1),LOOKUP($V517,Data!$A$6:$A$1806,Data!$J$6:$J$1806))","v":-103},{"$f":"LOOKUP($V517,Data!$A$6:$A$1806,Data!$K$6:$K$1806)","v":7797},-37.079277038574219,null,null,null,null,null,null,null,null,null,null,null,null,null,null,53.628662109375," ",3.5999298095703125E-2," "]
[null,40098.112546295481,{"$f":"LOOKUP(B518,Data!$A$6:$A$1806,Data!B$6:B$1806)","v":60.041000366210938},{"$f":"LOOKUP(B518,Data!$A$6:$A$1806,Data!C$6:C$1806)","v":3698.591064453125},null,null,3090,{"$f":"(IF((C518-L$2)>0,(IF(C518<'Copy Results'!$C$3,((C518-L$2-L$5)/((L$4*L$2)-L$5)*G518*-1),(('Copy Results'!$C$3-L$2-L$5)/((L$4*L$2)-L$5)*G518*-1))),IF(C518>'Copy Results'!$C$2,((C518-L$2+L$5)/((L$4*L$2)-L$5)*G518*-1),(('Copy Results'!$C$2-L$2+L$5)/((L$4*L$2)-L$5)*G518*-1))))","v":-42.230377197265625},-38.44295607002973,null,null,0,3747.8282759762651,{"$f":"AVERAGE(D$79:D518)","v":3763.9301463734018},{"$f":"AVERAGE(M$79:M518)","v":3802.2963474398757},3771.0526488503479,{"$f":"AVERAGE(P$79:P518)","v":3751.5723403421275},null,null,null,null,40098.112546295481,{"$f":"LOOKUP($V518,Data!$A$6:$A$1806,Data!$B$6:$B$1806)","v":60.041000366210938},{"$f":"LOOKUP($V518,Data!$A$6:$A$1806,Data!$C$6:$C$1806)","v":3698.591064453125},{"$f":"LOOKUP($V518,Data!$A$6:$A$1806,Data!$D$6:$D$1806)","v":350},{"$f":"IF($Z$1=\"+\",LOOKUP($V518,Data!$A$6:$A$1806,Data!$E$6:$E$1806)*-1,LOOKUP($V518,Data!$A$6:$A$1806,Data!$E$6:$E$1806))","v":223.01573181152344},{"$f":"LOOKUP($V518,Data!$A$6:$A$1806,Data!$F$6:$F$1806)","v":16},null,{"$f":"LOOKUP($V518,Data!$A$6:$A$1806,Data!$H$6:$H$1806)","v":10},{"$f":"LOOKUP($V518,Data!$A$6:$A$1806,Data!$I$6:$I$1806)","v":0},{"$f":"IF(LOOKUP($V518,Data!$A$6:$A$1806,Data!$J$6:$J$1806)>0,(LOOKUP($V518,Data!$A$6:$A$1806,Data!$J$6:$J$1806)*-1),LOOKUP($V518,Data!$A$6:$A$1806,Data!$J$6:$J$1806))","v":-103},{"$f":"LOOKUP($V518,Data!$A$6:$A$1806,Data!$K$6:$K$1806)","v":7797.33},-42.230377197265625,null,null,null,null,null,null,null,null,null,null,null,null,null,null,52.864013671875," ",4.10003662109375E-2,-103]
[null,40098.112569443627,{"$f":"LOOKUP(B519,Data!$A$6:$A$1806,Data!B$6:B$1806)","v":60.042999267578125},{"$f":"LOOKUP(B519,Data!$A$6:$A$1806,Data!C$6:C$1806)","v":3704.59130859375},null,null,3090,{"$f":"(IF((C519-L$2)>0,(IF(C519<'Copy Results'!$C$3,((C519-L$2-L$5)/((L$4*L$2)-L$5)*G519*-1),(('Copy Results'!$C$3-L$2-L$5)/((L$4*L$2)-L$5)*G519*-1))),IF(C519>'Copy Results'!$C$2,((C519-L$2+L$5)/((L$4*L$2)-L$5)*G519*-1),(('Copy Results'!$C$2-L$2+L$5)/((L$4*L$2)-L$5)*G519*-1))))","v":-44.28924560546875},-40.489157407433389,null,null,0,3745.7820746388616,{"$f":"AVERAGE(D$79:D519)","v":3763.795591185693},{"$f":"AVERAGE(M$79:M519)","v":3802.1681971614157},3771.0526488503479,{"$f":"AVERAGE(P$79:P519)","v":3751.616613770555},null,null,null,null,40098.112569443627,{"$f":"LOOKUP($V519,Data!$A$6:$A$1806,Data!$B$6:$B$1806)","v":60.042999267578125},{"$f":"LOOKUP($V519,Data!$A$6:$A$1806,Data!$C$6:$C$1806)","v":3704.59130859375},{"$f":"LOOKUP($V519,Data!$A$6:$A$1806,Data!$D$6:$D$1806)","v":350},{"$f":"IF($Z$1=\"+\",LOOKUP($V519,Data!$A$6:$A$1806,Data!$E$6:$E$1806)*-1,LOOKUP($V519,Data!$A$6:$A$1806,Data!$E$6:$E$1806))","v":223.01573181152344},{"$f":"LOOKUP($V519,Data!$A$6:$A$1806,Data!$F$6:$F$1806)","v":16},null,{"$f":"LOOKUP($V519,Data!$A$6:$A$1806,Data!$H$6:$H$1806)","v":10},{"$f":"LOOKUP($V519,Data!$A$6:$A$1806,Data!$I$6:$I$1806)","v":0},{"$f":"IF(LOOKUP($V519,Data!$A$6:$A$1806,Data!$J$6:$J$1806)>0,(LOOKUP($V519,Data!$A$6:$A$1806,Data!$J$6:$J$1806)*-1),LOOKUP($V519,Data!$A$6:$A$1806,Data!$J$6:$J$1806))","v":-103},{"$f":"LOOKUP($V519,Data!$A$6:$A$1806,Data!$K$6:$K$1806)","v":7797.66},-44.28924560546875,null,null,null,null,null,null,null,null,null,null,null,null,null,null,58.8642578125," ",4.2999267578125E-2,-103]
[null,40098.112592591773,{"$f":"LOOKUP(B520,Data!$A$6:$A$1806,Data!B$6:B$1806)","v":60.043998718261719},{"$f":"LOOKUP(B520,Data!$A$6:$A$1806,Data!C$6:C$1806)","v":3703.275390625},null,null,3090,{"$f":"(IF((C520-L$2)>0,(IF(C520<'Copy Results'!$C$3,((C520-L$2-L$5)/((L$4*L$2)-L$5)*G520*-1),(('Copy Results'!$C$3-L$2-L$5)/((L$4*L$2)-L$5)*G520*-1))),IF(C520>'Copy Results'!$C$2,((C520-L$2+L$5)/((L$4*L$2)-L$5)*G520*-1),(('Copy Results'!$C$2-L$2+L$5)/((L$4*L$2)-L$5)*G520*-1))))","v":-45.318679809570313},-42.17949024818131,null,null,0,3744.0917417981136,{"$f":"AVERAGE(D$79:D520)","v":3763.6586676550128},{"$f":"AVERAGE(M$79:M520)","v":3802.0368024660238},3771.0526488503479,{"$f":"AVERAGE(P$79:P520)","v":3751.6606864124592},null,null,null,null,40098.112592591773,{"$f":"LOOKUP($V520,Data!$A$6:$A$1806,Data!$B$6:$B$1806)","v":60.043998718261719},{"$f":"LOOKUP($V520,Data!$A$6:$A$1806,Data!$C$6:$C$1806)","v":3703.275390625},{"$f":"LOOKUP($V520,Data!$A$6:$A$1806,Data!$D$6:$D$1806)","v":350},{"$f":"IF($Z$1=\"+\",LOOKUP($V520,Data!$A$6:$A$1806,Data!$E$6:$E$1806)*-1,LOOKUP($V520,Data!$A$6:$A$1806,Data!$E$6:$E$1806))","v":223.01573181152344},{"$f":"LOOKUP($V520,Data!$A$6:$A$1806,Data!$F$6:$F$1806)","v":16},null,{"$f":"LOOKUP($V520,Data!$A$6:$A$1806,Data!$H$6:$H$1806)","v":10},{"$f":"LOOKUP($V520,Data!$A$6:$A$1806,Data!$I$6:$I$1806)","v":0},{"$f":"IF(LOOKUP($V520,Data!$A$6:$A$1806,Data!$J$6:$J$1806)>0,(LOOKUP($V520,Data!$A$6:$A$1806,Data!$J$6:$J$1806)*-1),LOOKUP($V520,Data!$A$6:$A$1806,Data!$J$6:$J$1806))","v":-103},{"$f":"LOOKUP($V520,Data!$A$6:$A$1806,Data!$K$6:$K$1806)","v":7797.99},-45.318679809570313,null,null,null,null,null,null,null,null,null,null,null,null,null,null,57.54833984375," ",4.399871826171875E-2,-103]
[null,40098.112615739919,{"$f":"LOOKUP(B521,Data!$A$6:$A$1806,Data!B$6:B$1806)","v":60.042999267578125},{"$f":"LOOKUP(B521,Data!$A$6:$A$1806,Data!C$6:C$1806)","v":3702.482421875},null,null,3090,{"$f":"(IF((C521-L$2)>0,(IF(C521<'Copy Results'!$C$3,((C521-L$2-L$5)/((L$4*L$2)-L$5)*G521*-1),(('Copy Results'!$C$3-L$2-L$5)/((L$4*L$2)-L$5)*G521*-1))),IF(C521>'Copy Results'!$C$2,((C521-L$2+L$5)/((L$4*L$2)-L$5)*G521*-1),(('Copy Results'!$C$2-L$2+L$5)/((L$4*L$2)-L$5)*G521*-1))))","v":-44.28924560546875},-42.917904623231912,null,null,0,3743.3533274230631,{"$f":"AVERAGE(D$79:D521)","v":3763.5205722920782},{"$f":"AVERAGE(M$79:M521)","v":3801.904334125069},3771.0526488503479,{"$f":"AVERAGE(P$79:P521)","v":3751.7045596306443},null,null,null,null,40098.112615739919,{"$f":"LOOKUP($V521,Data!$A$6:$A$1806,Data!$B$6:$B$1806)","v":60.042999267578125},{"$f":"LOOKUP($V521,Data!$A$6:$A$1806,Data!$C$6:$C$1806)","v":3702.482421875},{"$f":"LOOKUP($V521,Data!$A$6:$A$1806,Data!$D$6:$D$1806)","v":350},{"$f":"IF($Z$1=\"+\",LOOKUP($V521,Data!$A$6:$A$1806,Data!$E$6:$E$1806)*-1,LOOKUP($V521,Data!$A$6:$A$1806,Data!$E$6:$E$1806))","v":223.01573181152344},{"$f":"LOOKUP($V521,Data!$A$6:$A$1806,Data!$F$6:$F$1806)","v":16},null,{"$f":"LOOKUP($V521,Data!$A$6:$A$1806,Data!$H$6:$H$1806)","v":10},{"$f":"LOOKUP($V521,Data!$A$6:$A$1806,Data!$I$6:$I$1806)","v":0},{"$f":"IF(LOOKUP($V521,Data!$A$6:$A$1806,Data!$J$6:$J$1806)>0,(LOOKUP($V521,Data!$A$6:$A$1806,Data!$J$6:$J$1806)*-1),LOOKUP($V521,Data!$A$6:$A$1806,Data!$J$6:$J$1806))","v":-103},{"$f":"LOOKUP($V521,Data!$A$6:$A$1806,Data!$K$6:$K$1806)","v":7798.32},-44.28924560546875,null,null,null,null,null,null,null,null,null,null,null,null,null,null,56.75537109375," ",4.2999267578125E-2,-103]
[null,40098.112638888066,{"$f":"LOOKUP(B522,Data!$A$6:$A$1806,Data!B$6:B$1806)","v":60.046001434326172},{"$f":"LOOKUP(B522,Data!$A$6:$A$1806,Data!C$6:C$1806)","v":3701.31640625},null,null,3090,{"$f":"(IF((C522-L$2)>0,(IF(C522<'Copy Results'!$C$3,((C522-L$2-L$5)/((L$4*L$2)-L$5)*G522*-1),(('Copy Results'!$C$3-L$2-L$5)/((L$4*L$2)-L$5)*G522*-1))),IF(C522>'Copy Results'!$C$2,((C522-L$2+L$5)/((L$4*L$2)-L$5)*G522*-1),(('Copy Results'!$C$2-L$2+L$5)/((L$4*L$2)-L$5)*G522*-1))))","v":-47.381477355957031},-44.480155079685701,null,null,0,3741.7910769666091,{"$f":"AVERAGE(D$79:D522)","v":3763.3804728190103},{"$f":"AVERAGE(M$79:M522)","v":3801.7689439062437},3771.0526488503479,{"$f":"AVERAGE(P$79:P522)","v":3751.7482347756095},null,null,null,null,40098.112638888066,{"$f":"LOOKUP($V522,Data!$A$6:$A$1806,Data!$B$6:$B$1806)","v":60.046001434326172},{"$f":"LOOKUP($V522,Data!$A$6:$A$1806,Data!$C$6:$C$1806)","v":3701.31640625},{"$f":"LOOKUP($V522,Data!$A$6:$A$1806,Data!$D$6:$D$1806)","v":350},{"$f":"IF($Z$1=\"+\",LOOKUP($V522,Data!$A$6:$A$1806,Data!$E$6:$E$1806)*-1,LOOKUP($V522,Data!$A$6:$A$1806,Data!$E$6:$E$1806))","v":223.01573181152344},{"$f":"LOOKUP($V522,Data!$A$6:$A$1806,Data!$F$6:$F$1806)","v":16},null,{"$f":"LOOKUP($V522,Data!$A$6:$A$1806,Data!$H$6:$H$1806)","v":10},{"$f":"LOOKUP($V522,Data!$A$6:$A$1806,Data!$I$6:$I$1806)","v":0},{"$f":"IF(LOOKUP($V522,Data!$A$6:$A$1806,Data!$J$6:$J$1806)>0,(LOOKUP($V522,Data!$A$6:$A$1806,Data!$J$6:$J$1806)*-1),LOOKUP($V522,Data!$A$6:$A$1806,Data!$J$6:$J$1806))","v":-103},{"$f":"LOOKUP($V522,Data!$A$6:$A$1806,Data!$K$6:$K$1806)","v":7798.65},-47.381477355957031,null,null,null,null,null,null,null,null,null,null,null,null,null,null,55.58935546875," ",4.6001434326171875E-2,-103]
[null,40098.112662036212,{"$f":"LOOKUP(B523,Data!$A$6:$A$1806,Data!B$6:B$1806)","v":60.048000335693359},{"$f":"LOOKUP(B523,Data!$A$6:$A$1806,Data!C$6:C$1806)","v":3700.825927734375},null,null,3090,{"$f":"(IF((C523-L$2)>0,(IF(C523<'Copy Results'!$C$3,((C523-L$2-L$5)/((L$4*L$2)-L$5)*G523*-1),(('Copy Results'!$C$3-L$2-L$5)/((L$4*L$2)-L$5)*G523*-1))),IF(C523>'Copy Results'!$C$2,((C523-L$2+L$5)/((L$4*L$2)-L$5)*G523*-1),(('Copy Results'!$C$2-L$2+L$5)/((L$4*L$2)-L$5)*G523*-1))))","v":-49.440345764160149},-46.216221819251757,null,null,0,3740.0550102270431,{"$f":"AVERAGE(D$79:D523)","v":3763.2399008075845},{"$f":"AVERAGE(M$79:M523)","v":3801.6302609092118},3771.0526488503479,{"$f":"AVERAGE(P$79:P523)","v":3751.7917131856875},null,null,null,null,40098.112662036212,{"$f":"LOOKUP($V523,Data!$A$6:$A$1806,Data!$B$6:$B$1806)","v":60.048000335693359},{"$f":"LOOKUP($V523,Data!$A$6:$A$1806,Data!$C$6:$C$1806)","v":3700.825927734375},{"$f":"LOOKUP($V523,Data!$A$6:$A$1806,Data!$D$6:$D$1806)","v":350},{"$f":"IF($Z$1=\"+\",LOOKUP($V523,Data!$A$6:$A$1806,Data!$E$6:$E$1806)*-1,LOOKUP($V523,Data!$A$6:$A$1806,Data!$E$6:$E$1806))","v":223.01573181152344},{"$f":"LOOKUP($V523,Data!$A$6:$A$1806,Data!$F$6:$F$1806)","v":16},null,{"$f":"LOOKUP($V523,Data!$A$6:$A$1806,Data!$H$6:$H$1806)","v":10},{"$f":"LOOKUP($V523,Data!$A$6:$A$1806,Data!$I$6:$I$1806)","v":0},{"$f":"IF(LOOKUP($V523,Data!$A$6:$A$1806,Data!$J$6:$J$1806)>0,(LOOKUP($V523,Data!$A$6:$A$1806,Data!$J$6:$J$1806)*-1),LOOKUP($V523,Data!$A$6:$A$1806,Data!$J$6:$J$1806))","v":-103},{"$f":"LOOKUP($V523,Data!$A$6:$A$1806,Data!$K$6:$K$1806)","v":7798.98},-49.440345764160149,null,null,null,null,null,null,null,null,null,null,null,null,null,null,55.098876953125," ",4.8000335693359375E-2,-103]
[null,40098.112685184358,{"$f":"LOOKUP(B524,Data!$A$6:$A$1806,Data!B$6:B$1806)","v":60.046001434326172},{"$f":"LOOKUP(B524,Data!$A$6:$A$1806,Data!C$6:C$1806)","v":3699.528564453125},null,null,3090,{"$f":"(IF((C524-L$2)>0,(IF(C524<'Copy Results'!$C$3,((C524-L$2-L$5)/((L$4*L$2)-L$5)*G524*-1),(('Copy Results'!$C$3-L$2-L$5)/((L$4*L$2)-L$5)*G524*-1))),IF(C524>'Copy Results'!$C$2,((C524-L$2+L$5)/((L$4*L$2)-L$5)*G524*-1),(('Copy Results'!$C$2-L$2+L$5)/((L$4*L$2)-L$5)*G524*-1))))","v":-47.381477355957031},-46.624061257098603,null,null,0,3739.6471707891965,{"$f":"AVERAGE(D$79:D524)","v":3763.0970502776418},{"$f":"AVERAGE(M$79:M524)","v":3801.4912853708261},3771.0526488503479,{"$f":"AVERAGE(P$79:P524)","v":3751.8349961871809},null,null,null,null,40098.112685184358,{"$f":"LOOKUP($V524,Data!$A$6:$A$1806,Data!$B$6:$B$1806)","v":60.046001434326172},{"$f":"LOOKUP($V524,Data!$A$6:$A$1806,Data!$C$6:$C$1806)","v":3699.528564453125},{"$f":"LOOKUP($V524,Data!$A$6:$A$1806,Data!$D$6:$D$1806)","v":350},{"$f":"IF($Z$1=\"+\",LOOKUP($V524,Data!$A$6:$A$1806,Data!$E$6:$E$1806)*-1,LOOKUP($V524,Data!$A$6:$A$1806,Data!$E$6:$E$1806))","v":223.01573181152344},{"$f":"LOOKUP($V524,Data!$A$6:$A$1806,Data!$F$6:$F$1806)","v":16},null,{"$f":"LOOKUP($V524,Data!$A$6:$A$1806,Data!$H$6:$H$1806)","v":10},{"$f":"LOOKUP($V524,Data!$A$6:$A$1806,Data!$I$6:$I$1806)","v":0},{"$f":"IF(LOOKUP($V524,Data!$A$6:$A$1806,Data!$J$6:$J$1806)>0,(LOOKUP($V524,Data!$A$6:$A$1806,Data!$J$6:$J$1806)*-1),LOOKUP($V524,Data!$A$6:$A$1806,Data!$J$6:$J$1806))","v":-103},{"$f":"LOOKUP($V524,Data!$A$6:$A$1806,Data!$K$6:$K$1806)","v":7799.31},-47.381477355957031,null,null,null,null,null,null,null,null,null,null,null,null,null,null,53.801513671875," ",4.6001434326171875E-2,-103]
[null,40098.112708332505,{"$f":"LOOKUP(B525,Data!$A$6:$A$1806,Data!B$6:B$1806)","v":60.046001434326172},{"$f":"LOOKUP(B525,Data!$A$6:$A$1806,Data!C$6:C$1806)","v":3699.72607421875},null,null,3090,{"$f":"(IF((C525-L$2)>0,(IF(C525<'Copy Results'!$C$3,((C525-L$2-L$5)/((L$4*L$2)-L$5)*G525*-1),(('Copy Results'!$C$3-L$2-L$5)/((L$4*L$2)-L$5)*G525*-1))),IF(C525>'Copy Results'!$C$2,((C525-L$2+L$5)/((L$4*L$2)-L$5)*G525*-1),(('Copy Results'!$C$2-L$2+L$5)/((L$4*L$2)-L$5)*G525*-1))))","v":-47.381477355957031},-46.889156891699052,null,null,0,3739.3820751545959,{"$f":"AVERAGE(D$79:D525)","v":3762.9552807562568},{"$f":"AVERAGE(M$79:M525)","v":3801.3523385918193},3771.0526488503479,{"$f":"AVERAGE(P$79:P525)","v":3751.8780850944972},null,null,null,null,40098.112708332505,{"$f":"LOOKUP($V525,Data!$A$6:$A$1806,Data!$B$6:$B$1806)","v":60.046001434326172},{"$f":"LOOKUP($V525,Data!$A$6:$A$1806,Data!$C$6:$C$1806)","v":3699.72607421875},{"$f":"LOOKUP($V525,Data!$A$6:$A$1806,Data!$D$6:$D$1806)","v":350},{"$f":"IF($Z$1=\"+\",LOOKUP($V525,Data!$A$6:$A$1806,Data!$E$6:$E$1806)*-1,LOOKUP($V525,Data!$A$6:$A$1806,Data!$E$6:$E$1806))","v":223.01573181152344},{"$f":"LOOKUP($V525,Data!$A$6:$A$1806,Data!$F$6:$F$1806)","v":16},null,{"$f":"LOOKUP($V525,Data!$A$6:$A$1806,Data!$H$6:$H$1806)","v":10},{"$f":"LOOKUP($V525,Data!$A$6:$A$1806,Data!$I$6:$I$1806)","v":0},{"$f":"IF(LOOKUP($V525,Data!$A$6:$A$1806,Data!$J$6:$J$1806)>0,(LOOKUP($V525,Data!$A$6:$A$1806,Data!$J$6:$J$1806)*-1),LOOKUP($V525,Data!$A$6:$A$1806,Data!$J$6:$J$1806))","v":-103},{"$f":"LOOKUP($V525,Data!$A$6:$A$1806,Data!$K$6:$K$1806)","v":7799.64},-47.381477355957031,null,null,null,null,null,null,null,null,null,null,null,null,null,null,53.9990234375," ",4.6001434326171875E-2,-103]
[null,40098.112731480651,{"$f":"LOOKUP(B526,Data!$A$6:$A$1806,Data!B$6:B$1806)","v":60.042999267578125},{"$f":"LOOKUP(B526,Data!$A$6:$A$1806,Data!C$6:C$1806)","v":3690.099609375},null,null,3090,{"$f":"(IF((C526-L$2)>0,(IF(C526<'Copy Results'!$C$3,((C526-L$2-L$5)/((L$4*L$2)-L$5)*G526*-1),(('Copy Results'!$C$3-L$2-L$5)/((L$4*L$2)-L$5)*G526*-1))),IF(C526>'Copy Results'!$C$2,((C526-L$2+L$5)/((L$4*L$2)-L$5)*G526*-1),(('Copy Results'!$C$2-L$2+L$5)/((L$4*L$2)-L$5)*G526*-1))))","v":-44.28924560546875},-45.979187941518447,null,null,0,3740.2920441047763,{"$f":"AVERAGE(D$79:D526)","v":3762.7926564897812},{"$f":"AVERAGE(M$79:M526)","v":3801.2160432916248},3771.0526488503479,{"$f":"AVERAGE(P$79:P526)","v":3751.9209812102818},null,null,null,null,40098.112731480651,{"$f":"LOOKUP($V526,Data!$A$6:$A$1806,Data!$B$6:$B$1806)","v":60.042999267578125},{"$f":"LOOKUP($V526,Data!$A$6:$A$1806,Data!$C$6:$C$1806)","v":3690.099609375},{"$f":"LOOKUP($V526,Data!$A$6:$A$1806,Data!$D$6:$D$1806)","v":350},{"$f":"IF($Z$1=\"+\",LOOKUP($V526,Data!$A$6:$A$1806,Data!$E$6:$E$1806)*-1,LOOKUP($V526,Data!$A$6:$A$1806,Data!$E$6:$E$1806))","v":223.01573181152344},{"$f":"LOOKUP($V526,Data!$A$6:$A$1806,Data!$F$6:$F$1806)","v":16},null,{"$f":"LOOKUP($V526,Data!$A$6:$A$1806,Data!$H$6:$H$1806)","v":10},{"$f":"LOOKUP($V526,Data!$A$6:$A$1806,Data!$I$6:$I$1806)","v":0},{"$f":"IF(LOOKUP($V526,Data!$A$6:$A$1806,Data!$J$6:$J$1806)>0,(LOOKUP($V526,Data!$A$6:$A$1806,Data!$J$6:$J$1806)*-1),LOOKUP($V526,Data!$A$6:$A$1806,Data!$J$6:$J$1806))","v":-103},{"$f":"LOOKUP($V526,Data!$A$6:$A$1806,Data!$K$6:$K$1806)","v":7799.97},-44.28924560546875,null,null,null,null,null,null,null,null,null,null,null,null,null,null,44.37255859375," ",4.2999267578125E-2,-103]
[null,40098.112754628797,{"$f":"LOOKUP(B527,Data!$A$6:$A$1806,Data!B$6:B$1806)","v":60.042999267578125},{"$f":"LOOKUP(B527,Data!$A$6:$A$1806,Data!C$6:C$1806)","v":3690.477294921875},null,null,3090,{"$f":"(IF((C527-L$2)>0,(IF(C527<'Copy Results'!$C$3,((C527-L$2-L$5)/((L$4*L$2)-L$5)*G527*-1),(('Copy Results'!$C$3-L$2-L$5)/((L$4*L$2)-L$5)*G527*-1))),IF(C527>'Copy Results'!$C$2,((C527-L$2+L$5)/((L$4*L$2)-L$5)*G527*-1),(('Copy Results'!$C$2-L$2+L$5)/((L$4*L$2)-L$5)*G527*-1))))","v":-44.28924560546875},-45.387708123901049,null,null,0,3740.8835239223936,{"$f":"AVERAGE(D$79:D527)","v":3762.6315977780482},{"$f":"AVERAGE(M$79:M527)","v":3801.0816724244328},3771.0526488503479,{"$f":"AVERAGE(P$79:P527)","v":3751.9636858255499},null,null,null,null,40098.112754628797,{"$f":"LOOKUP($V527,Data!$A$6:$A$1806,Data!$B$6:$B$1806)","v":60.042999267578125},{"$f":"LOOKUP($V527,Data!$A$6:$A$1806,Data!$C$6:$C$1806)","v":3690.477294921875},{"$f":"LOOKUP($V527,Data!$A$6:$A$1806,Data!$D$6:$D$1806)","v":350},{"$f":"IF($Z$1=\"+\",LOOKUP($V527,Data!$A$6:$A$1806,Data!$E$6:$E$1806)*-1,LOOKUP($V527,Data!$A$6:$A$1806,Data!$E$6:$E$1806))","v":223.01573181152344},{"$f":"LOOKUP($V527,Data!$A$6:$A$1806,Data!$F$6:$F$1806)","v":16},null,{"$f":"LOOKUP($V527,Data!$A$6:$A$1806,Data!$H$6:$H$1806)","v":10},{"$f":"LOOKUP($V527,Data!$A$6:$A$1806,Data!$I$6:$I$1806)","v":0},{"$f":"IF(LOOKUP($V527,Data!$A$6:$A$1806,Data!$J$6:$J$1806)>0,(LOOKUP($V527,Data!$A$6:$A$1806,Data!$J$6:$J$1806)*-1),LOOKUP($V527,Data!$A$6:$A$1806,Data!$J$6:$J$1806))","v":-103},{"$f":"LOOKUP($V527,Data!$A$6:$A$1806,Data!$K$6:$K$1806)","v":7800.3},-44.28924560546875,null,null,null,null,null,null,null,null,null,null,null,null,null,null,44.750244140625," ",4.2999267578125E-2,-103]
[null,40098.112777776943,{"$f":"LOOKUP(B528,Data!$A$6:$A$1806,Data!B$6:B$1806)","v":60.043998718261719},{"$f":"LOOKUP(B528,Data!$A$6:$A$1806,Data!C$6:C$1806)","v":3696.864501953125},null,null,3090,{"$f":"(IF((C528-L$2)>0,(IF(C528<'Copy Results'!$C$3,((C528-L$2-L$5)/((L$4*L$2)-L$5)*G528*-1),(('Copy Results'!$C$3-L$2-L$5)/((L$4*L$2)-L$5)*G528*-1))),IF(C528>'Copy Results'!$C$2,((C528-L$2+L$5)/((L$4*L$2)-L$5)*G528*-1),(('Copy Results'!$C$2-L$2+L$5)/((L$4*L$2)-L$5)*G528*-1))))","v":-45.318679809570313},-45.363548213885288,null,null,{"$f":"IF(B528>G$3,0,(K$21*0.000023148/K$22))","v":0},{"$f":"M527+L528+(I528-I527)","v":3740.9076838324095},{"$f":"AVERAGE(D$79:D528)","v":3762.4854486762151},{"$f":"AVERAGE(M$79:M528)","v":3800.9479524497838},3771.0526488503479,{"$f":"AVERAGE(P$79:P528)","v":3752.0062002198142},null,null,null,null,40098.112777776943,{"$f":"LOOKUP($V528,Data!$A$6:$A$1806,Data!$B$6:$B$1806)","v":60.043998718261719},{"$f":"LOOKUP($V528,Data!$A$6:$A$1806,Data!$C$6:$C$1806)","v":3696.864501953125},{"$f":"LOOKUP($V528,Data!$A$6:$A$1806,Data!$D$6:$D$1806)","v":350},{"$f":"IF($Z$1=\"+\",LOOKUP($V528,Data!$A$6:$A$1806,Data!$E$6:$E$1806)*-1,LOOKUP($V528,Data!$A$6:$A$1806,Data!$E$6:$E$1806))","v":223.01573181152344},{"$f":"LOOKUP($V528,Data!$A$6:$A$1806,Data!$F$6:$F$1806)","v":16},null,{"$f":"LOOKUP($V528,Data!$A$6:$A$1806,Data!$H$6:$H$1806)","v":10},{"$f":"LOOKUP($V528,Data!$A$6:$A$1806,Data!$I$6:$I$1806)","v":0},{"$f":"IF(LOOKUP($V528,Data!$A$6:$A$1806,Data!$J$6:$J$1806)>0,(LOOKUP($V528,Data!$A$6:$A$1806,Data!$J$6:$J$1806)*-1),LOOKUP($V528,Data!$A$6:$A$1806,Data!$J$6:$J$1806))","v":-103},{"$f":"LOOKUP($V528,Data!$A$6:$A$1806,Data!$K$6:$K$1806)","v":7800.63},-45.318679809570313,null,null,null,null,null,null,null,null,null,null,null,null,null,null,51.137451171875," ",4.399871826171875E-2,-103]
[null,40098.11280092509,{"$f":"LOOKUP(B529,Data!$A$6:$A$1806,Data!B$6:B$1806)","v":60.042999267578125},{"$f":"LOOKUP(B529,Data!$A$6:$A$1806,Data!C$6:C$1806)","v":3696.877197265625},null,null,3090,{"$f":"(IF((C529-L$2)>0,(IF(C529<'Copy Results'!$C$3,((C529-L$2-L$5)/((L$4*L$2)-L$5)*G529*-1),(('Copy Results'!$C$3-L$2-L$5)/((L$4*L$2)-L$5)*G529*-1))),IF(C529>'Copy Results'!$C$2,((C529-L$2+L$5)/((L$4*L$2)-L$5)*G529*-1),(('Copy Results'!$C$2-L$2+L$5)/((L$4*L$2)-L$5)*G529*-1))))","v":-44.28924560546875},-44.987542300939502,null,null,0,3741.2836897453553,{"$f":"AVERAGE(D$79:D529)","v":3762.3399758349501},{"$f":"AVERAGE(M$79:M529)","v":3800.815659184364},3771.0526488503479,{"$f":"AVERAGE(P$79:P529)","v":3752.0485256612151},null,null,null,null,{"$f":"V528+TIME(0,0,$B$1)","v":40098.11280092509},{"$f":"LOOKUP($V529,Data!$A$6:$A$1806,Data!$B$6:$B$1806)","v":60.042999267578125},{"$f":"LOOKUP($V529,Data!$A$6:$A$1806,Data!$C$6:$C$1806)","v":3696.877197265625},{"$f":"LOOKUP($V529,Data!$A$6:$A$1806,Data!$D$6:$D$1806)","v":350},{"$f":"IF($Z$1=\"+\",LOOKUP($V529,Data!$A$6:$A$1806,Data!$E$6:$E$1806)*-1,LOOKUP($V529,Data!$A$6:$A$1806,Data!$E$6:$E$1806))","v":223.01573181152344},{"$f":"LOOKUP($V529,Data!$A$6:$A$1806,Data!$F$6:$F$1806)","v":16},null,{"$f":"LOOKUP($V529,Data!$A$6:$A$1806,Data!$H$6:$H$1806)","v":10},{"$f":"LOOKUP($V529,Data!$A$6:$A$1806,Data!$I$6:$I$1806)","v":0},{"$f":"IF(LOOKUP($V529,Data!$A$6:$A$1806,Data!$J$6:$J$1806)>0,(LOOKUP($V529,Data!$A$6:$A$1806,Data!$J$6:$J$1806)*-1),LOOKUP($V529,Data!$A$6:$A$1806,Data!$J$6:$J$1806))","v":-103},{"$f":"LOOKUP($V529,Data!$A$6:$A$1806,Data!$K$6:$K$1806)","v":7800.96},-44.28924560546875,null,null,null,null,null,null,null,null,null,null,null,null,null,null,51.150146484375," ",4.2999267578125E-2,-103]

{"sheet":"Graph 20 to 52s","index":3,"n_rows":37,"n_cols":17,"rows_kept":37,"cut":false,"hidden":false,"merged":[]}
[]
[null,null,null,null,null,null,null,null,null,null,null,null,null,null,null,null,"# of rows to shift T(0)"]
[null,null,null,null,null,null,null,null,null,null,null,null,null,null,null,null,1]
[null,null,null,null,null,null,null,null,null,null,null,null,null,null,null,null,"A zero value aligns the data to the hightest Frequency change value."]
[null,null,null,null,null,null,null,null,null,null,null,null,null,null,null,null,"Usually the event begins one or two data scans earlier than this scan."]
[]
[null,null,null,null,null,null,null,null,null,null,null,null,null,null,null,null,"Increasing this value shifts graph data to the right."]
[null,null,null,null,null,null,null,null,null,null,null,null,null,null,null,null,"Decreasing this value shifts graph data to the left."]
[]
[]
[]
[]
[]
[]
[]
[null,null,null,null,null,null,null,null,null,null,null,null,null,null,null,"Note:  The P.U. Performance values indicate performance as a P.U. value of BA Bias setting."]
[null,null,null,null,null,null,null,null,null,null,null,null,null,null,null,"For BAs that utilize a variable Bias, the Bias average during T(+20) to T(+52) is used."]
[null,null,null,null,null,null,null,null,null,null,null,null,null,null,null,"P.U. values above 1.0 indicate that the Bias setting was below measured Frequency Response."]
[null,null,null,null,null,null,null,null,null,null,null,null,null,null,null,"P.U. values below 1.0 indicate that the Bias setting was above measured Frequency Response."]
[]
[]
[]
[]
[]
[]
[]
[]
[]
[]
[]
[]
[]
[null,null,null,null,null,null,null,"T(0)"]
[]
[null,null,null,null,null,null,null,"First change in frequency of the event should occur here on the vertical grid line."]
[null,null,null,null,null,null,null,"It is important that the pre-event frequency average to NOT contain frequency data of the event, \"Average Frequency\" trend to the left of center of the graph."]
[null,null,null,null,null,null,null,"To shift the data on the graph left or right, adjust the value in cell Q3 highlighted in yellow above."]

{"sheet":"Sustained Graph","index":4,"n_rows":0,"n_cols":0,"rows_kept":0,"cut":false,"hidden":false,"merged":[]}

{"sheet":"Bias Graph","index":5,"n_rows":0,"n_cols":0,"rows_kept":0,"cut":false,"hidden":false,"merged":[]}

{"sheet":"Form 1 Summary Data","index":6,"n_rows":7,"n_cols":44,"rows_kept":7,"cut":false,"hidden":false,"merged":[]}
[null,null,null,null,null,null,"Value A Data",null,"BA Performance",null,null,null,null,null,null,null,null,"Value B","20 to 52 second Average Period Evaluation",null,null,null,null,null,null,null,null,null,null,null,null,null,"Frequency Response Initiative - Additional Primary Frequency Response Evaluation Points"]
[null,null,null,null,null,null,null,null,"JOU","Non-",null,null,"Transferred","Contingent",null,null,null,null,null,"JOU","Non-",null,null,"Transferred","Contingent",null,null,null,null,null,null,"Average","Unadjusted","Unadjusted","Unadjusted","Unadjusted","Unadjusted","Adjusted","Adjusted","Adjusted","Adjusted","Adjusted"]
["Date","A Value","FPointA","A Value","t(0) Time","C Value",null,"Net","Dynamic","Conforming","Pumped","Not","Frequency","BA","BA","BA","Bias",null,"Net","Dynamic","Conforming","Pumped","Not","Frequency","BA","Initial","Initial","Sustained","BA","BA","Bias","Bias While","PFR","PFR","PFR","PFR","PFR","PFR","PFR","PFR","PFR","PFR"]
[null,"Time","Hz","Hz",null,"Hz",null,"Actual","Schedules","Load","Hydro","Used","Response","Lost Generation","Bias","Load","Setting",null,"Actual","Schedules","Load","Hydro","Used","Response","Lost Generation","Performance","Performance","Performance","Bias","Load","Setting","Hz > +/-0.036","Performance","Performance","Performance","Performance","Performance","Performance","Performance","Performance","Performance","Performance","Maximum","Minimum"]
[null,null,null,null,null,null,"Frequency","Interchange","Imp(-) Exp (+)","Load (-)","Load (-) Gen (+)",null,"Rec (-) Del (+)","Load (-) Gen (+)","Setting",null,"EPFR","Frequency","Interchange","Imp(-) Exp (+)","Load (-)","Load (-) Gen (+)",null,"Rec (-) Del (+)","Load (-) Gen (+)","Adjusted","Unadjusted",null,"Setting",null,"EPFR","Hz","@ T(+46)","@ T(+76)","@ T(+106)","@ T(+136)","@ T(+166)","@ T(+46)","@ T(+76)","@ T(+106)","@ T(+136)","@ T(+166)","Bias Setting","Bias Setting"]
[null,null,null,null,null,null,"Hz","MW","MW","MW","MW",null,"MW","MW","MW/0.1 Hz","MW","MW","Hz","MW","MW","MW","MW",null,"MW","MW","P.U.","P.U.","P.U.","MW/0.1 Hz","MW","MW","MW/0.1 Hz","P.U.","P.U.","P.U.","P.U.","P.U.","P.U.","P.U.","P.U.","P.U.","P.U.","MW/0.1 Hz","MW/0.1 Hz"]
[{"$f":"Evaluation!AN2","v":"2009-10-12T02:27:26"},{"$f":"Evaluation!G2","v":40098.102384259262},{"$f":"Evaluation!S2","v":60.03900146484375},{"$f":"Evaluation!S3","v":60.042125225067139},{"$f":"Evaluation!G2","v":40098.102384259262},{"$f":"Evaluation!S4","v":59.83599853515625},{"$f":"Evaluation!AN4","v":60.042125225067139},{"$f":"Evaluation!AN7","v":3645.72705078125},{"$f":"Evaluation!AN15","v":350},{"$f":"Evaluation!AN16","v":165.33587837219238},{"$f":"Evaluation!AN17","v":0},{"$f":"Evaluation!AN18","v":0},{"$f":"Evaluation!AN19","v":-4.2125225067138672},{"$f":"Evaluation!AN20","v":15},{"$f":"Evaluation!AS15","v":-103},{"$f":"Evaluation!AS23","v":7651.3049999999994},{"$f":"Evaluation!AS17","v":-43.388981819152832},{"$f":"Evaluation!AN5","v":59.889117745792163},{"$f":"Evaluation!AN8","v":3803.3545065487133},{"$f":"Evaluation!AN23","v":335},{"$f":"Evaluation!AN16","v":165.33587837219238},{"$f":"Evaluation!AN25","v":6.3529411764705879},{"$f":"Evaluation!AN26","v":0},{"$f":"Evaluation!AN27","v":11.088225420783715},{"$f":"Evaluation!AN28","v":0},{"$f":"Evaluation!AN34","v":0.7435510039171136},{"$f":"Evaluation!AN33","v":1.0001887852014986},{"$f":"Evaluation!$K$33","v":0.75800637504050095},{"$f":"Evaluation!AS16","v":-103},{"$f":"Evaluation!AS24","v":7632},{"$f":"Evaluation!AS18","v":114.20872183407226},{"$f":"Evaluation!AS30","v":-103},{"$f":"Evaluation!$AV7","v":1.399064802751727},{"$f":"Evaluation!$AV8","v":1.2926969451757533},{"$f":"Evaluation!$AV9","v":1.5816489795214557},{"$f":"Evaluation!$AV10","v":1.5714952174657872},{"$f":"Evaluation!$AV11","v":1.8492129033454883},{"$f":"Evaluation!$BB7","v":0.85648281583407959},{"$f":"Evaluation!$BB8","v":0.80792207035342967},{"$f":"Evaluation!$BB9","v":0.82859094893913299},{"$f":"Evaluation!$BB10","v":0.63287844873670041},{"$f":"Evaluation!$BB11","v":0.68930855043301387},{"$f":"MAX(Data!$J6:$J1838)","v":-103},{"$f":"MIN(Data!$J6:$J1838)","v":-103}]

{"sheet":"Instructions","index":7,"n_rows":47,"n_cols":2,"rows_kept":47,"cut":false,"hidden":false,"merged":[]}
["Steps","To be completed for each event evaluated."]
[1,"Set-up Data collection in exact same order as the \"Data\" sheet of this work book.  Data should be in this order:"]
[null,"Column A: Date and Time in this format, mm/dd/yy HH:MM:SS"]
[null,"Column B: Frequency Hz"]
[null,"Column C: Net Actual Interchange"]
[null,"Column D: Joint Owned Unit dynamic schedule"]
[null,"Column E: Non Conforming Load"]
[null,"Column F: Pumped Hydro"]
[null,"Column G: Not Used"]
[null,"Column H: Transferred Frequency Response"]
[null,"Column I: Contingent BA Lost load or generation"]
[null,"Column J: BA Bias Setting"]
[null,"Column K: BA Load"]
[]
[2,"Note: Columns D, E, F and H are optional data.  If you choose not to use these, leave the columns blank.  Do not delete the columns.  Use the sign (+/-) convention defined in FRS Form 1."]
[3,"Data compression must be turned off for each data point.  Quality data will give you quality results in the evaluation."]
[4,"Data must start a minimum of two (2) minutes before the event begins and includes a minimum of 15 minutes after the beginning of the event with up to 60 minutes of data."]
[null,"Be sure the \"Data\" worksheet is clear of any old data.  Collect the same total minutes of data for each event evaluated to minimize your effort and time."]
[null,"If using PI historian as your data source, use \"PasteSpecial/Values\" to enter data into the spreadsheet.  Do not include historian data collection formulas in the data."]
[5,"Verify that the \"Auto\" Event Detection selected the correct event.  Verify time and delta Hz by comparing time of event and delta Hz on the graph on the \"Copy Results\" worksheet."]
[null,"If the wrong event was selected, in cell \"E4\" of this worksheet select \"Manual\" and manually select the beginning and ending row numbers of the desired event and enter these in cells \"E5\" and \"E6\".  Only rarely should you have to use the \"Manual\" process."]
[]
[6,"Once data is in place in the \"Data\" worksheet, confirm the Auto selection of the beginning of the event by observing the \"Graph 20 to 52s\" worksheet.  Adjust the selection if necessary."]
[null,"To make an adjustment, change the value in cell \"Q3\" on the \"Graph 20 to 52s\" worksheet.  Usually a 0, 1 or 2 will achive the correct alignment of T(0)."]
[]
[7,"If the correct row is selected, the \"Graph 20 to 52s\" worksheet will indicate the first change in frequency (red trend) of the event on the center vertical grid line of the graph."]
[]
[8,"The end of the event will be Auto selected based on the frequency value in cell \"N2\" on the Data worksheet.  This will be the frequency at the beginning of the event or 60 Hz, whichever is lower. (for low Hz events)"]
[null,"This value controls the end of the \"Sustained Frequency Response\" evaluation period."]
[null,"Primary Frequency Response should be sustained during the event recovery period.  This evaluation determines how well you achieved this goal."]
[9,"Use the \"Copy Form 2 data for Pasting into Form 1\" button provided on the \"Copy Results\" worksheet (Cells B21 through B28) to copy the evaluation and event specific data for the \"FRS Form 1\" of this field trial.  This data is summarized"]
[null,"in the correct order on worksheet \"Form 1 Summary Data\"."]
[10,"Use PasteSpecial/Values and paste the copied data into FRS Form 1 on the appropriate event row.  Be sure to use the latest version of Form 1, currently Form 1.9."]
[11,"Save this Form 2 using the file name convention on the \"Copy Results\" worksheet.  The complete file name is in bold in cell B38.  Return all completed Form 2s with your Form 1 to NERC."]
[]
[]
[]
["Steps","To be completed the first time you use Form 2 for your BA."]
["A","Enter the Balancing Authority name as you want it to appear on the graphs in cell \"B1\" of the \"Copy Results\" worksheet.  For example: \"NYISO\"."]
[]
["B","For informational and educational purposes, a \"Sustained\" performance evaluation is provided in the \"Evaluation\" worksheet and in the \"Sustained\" Graph.  This evaluation uses a Time Constant (TC) to model the frequency response of your BA."]
[null,"The time constant is located in cell \"L13\" of the \"Evaluation\" spreadsheet and should be edited for the types of generators in your BA.  Presently this time constant is set at 0.35.  "]
[null,"The higher the value of the time constant, the faster the delivery of frequency response is expected.  Setting the TC to 1.0 effectively turns off the delay and instantaneous frequency response will be modeled.  Do not set higher than 1.0."]
[null,"This time constant is only used in the \"Sustained\" evaluation and is not used for the Field Trial evaluation of performance to the FRO."]
[null,"A typical setting for this time constant is 0.08 to 0.15 for hydro units, 0.10 to 0.20 for large steam turbines and 0.20 to 0.40 for combustion turbines.  "]
[null,"By observing the slope of your \"Interchange Actual\" on the \"Sustained\" Graph, adjust the time constant until the initial slope of the \"Target\" is similar to the slope of the NAI data."]
[null,"When set appropriately, the \"Target\" trend on the \"Sustained\" graph will model what the Net Actua Interchange should have done during the event recovery period based on your Bias setting during the event."]

{"sheet":"Adj Graph JOU","index":8,"n_rows":0,"n_cols":0,"rows_kept":0,"cut":false,"hidden":false,"merged":[]}

{"sheet":"Adj Graph NCL","index":9,"n_rows":0,"n_cols":0,"rows_kept":0,"cut":false,"hidden":false,"merged":[]}

{"sheet":"Adj Graph PmpHyd","index":10,"n_rows":0,"n_cols":0,"rows_kept":0,"cut":false,"hidden":false,"merged":[]}

{"sheet":"Adj Graph Spare","index":11,"n_rows":0,"n_cols":0,"rows_kept":0,"cut":false,"hidden":false,"merged":[]}

{"sheet":"Adj Graph MWper0.1Hz","index":12,"n_rows":0,"n_cols":0,"rows_kept":0,"cut":false,"hidden":false,"merged":[]}

{"sheet":"Adj Graph ContingentBA","index":13,"n_rows":0,"n_cols":0,"rows_kept":0,"cut":false,"hidden":false,"merged":[]}

{"sheet":"BA LoadDampening","index":14,"n_rows":0,"n_cols":0,"rows_kept":0,"cut":false,"hidden":false,"merged":[]}

{"sheet":"BA BiasSetting","index":15,"n_rows":0,"n_cols":0,"rows_kept":0,"cut":false,"hidden":false,"merged":[]}